{"text_format":"1","workbook":"xlsx","n_sheets":10,"sheets":["初期設定","男子選手","記録入力","男子申込","データ貼付","データ完成","追加登録選手","計算①","学校番号","CSV"],"not_rendered":{"charts":0,"images":1,"macros":1,"external_links":0,"defined_names":1,"comments":1,"pivot_tables":0},"unopened":[],"bounds":{"document_bytes":16777216,"sheet_cells":100000,"rows_first":2000,"rows_last":500,"rows_between":2000,"halvings":0,"cell_chars":16384,"cell_head_chars":4096},"cells_cut":0,"cells_raw":0,"read":"whole","date_system":"1900"}

{"sheet":"初期設定","index":0,"n_rows":40,"n_cols":8,"rows_kept":40,"cut":false,"hidden":false,"merged":[[0,6,0,13],[17,0,37,0],[8,2,8,4],[1,2,1,4],[3,2,3,4],[4,2,4,4],[5,2,5,4],[6,2,6,4],[7,2,7,4]]}
[null,null,"初期設定シート",null,null,null,"まず学校番号を入力してください"]
[null,"学校名",{"$f":"IFERROR(VLOOKUP(初期設定!C4,学校番号!A3:B50,2,FALSE),\"\")","v":""}]
[null,"略称",{"$f":"IFERROR(VLOOKUP(初期設定!C4,学校番号!A3:D50,4,FALSE),\"\")","v":""},null,null,null,null,"①初期設定シートに必要事項を入力（セルが赤色）"]
[null,"学校番号",null,null,null,null,null,"②男子選手シートに選手情報を入力（ＣＳＶ読み込み）"]
[null,"郵便番号",{"$f":"IFERROR(VLOOKUP($C$4,学校番号!$A$3:$G$50,5,FALSE),\"\")","v":""},null,null,null,null,"③記録入力シートに各種目出場者データを入力（登録番号、記録）"]
[null,"電話番号",{"$f":"IFERROR(VLOOKUP($C$4,学校番号!$A$3:$G$50,7,FALSE),\"\")","v":""},null,null,null,null,"④記録入力シート一覧表ボタンをクリック"]
[null,"住所",{"$f":"IFERROR(VLOOKUP($C$4,学校番号!$A$3:$G$50,6,FALSE),\"\")","v":""},null,null,null,null,"⑤一覧表を印刷"]
[null,"学校長氏名"]
[null,"顧問氏名"]
[null,"推薦審判員","名前","年齢","資格"]
[null,"    〃",null,null,null,null,null,"申し込み人数はここで入力してください"]
[null,"    〃"]
[null,"    〃",null,null,null,null,null,"このファイルと出力されたCSVファイルをtandf@iciita.comに送信してください"]
[null,"    〃",null,null,null,null,null,"ファイル名は学校番号・学校略称・性別でお願いします　　例）4136川西北陵男子"]
[null,"申込人数","申込人数","1年","2年","合計"]
[null,null,"男　子 (人)",null,null,{"$f":"SUM(D16:E16)","v":0}]
[null,null,"女　子 (人)",null,null,{"$f":"SUM(D17:E17)","v":0}]
["男　　　　　　　　　子",null,"合　計 (人)",{"$f":"D16+D17","v":0},{"$f":"E16+E17","v":0},{"$f":"SUM(F16:F17)","v":0}]
[null,"種目コード","種目","T-F-C","高体連ｺｰﾄﾞ","種目"]
[null,"00200","100m","01T",{"$f":"B20","v":"00200"},{"$f":"C20","v":"100m"}]
[null,"00300","200m","01T",{"$f":"B21","v":"00300"},"200m"]
[null,"00500","400m","01T","00500","400m"]
[null,"00600","800m","01T","00600","800m"]
[null,"00800","1500m","01T","00800","1500m"]
[null,"01100","5000m","01T","01100","5000m"]
[null,"03300","110mJH","01T","03300","110mJH"]
[null,"03700","400mH","01T","03700","400mH"]
[null,"05300","3000SC","01T","05300","3000SC"]
[null,"06100","5000mW","01T","06100","5000mW"]
[null,"60100","4x100R","01T","60100","4x100R"]
[null,"60300","4x400R","01T","60300","4x400R"]
[null,"07100","走高跳","02F","07100","走高跳"]
[null,"07200","棒高跳","02F","07200","棒高跳"]
[null,"07300","走幅跳","02F","07300","走幅跳"]
[null,"07400","三段跳","02F","07400","三段跳"]
[null,"08200","砲丸投","02F","08200","砲丸投"]
[null,"08700","円盤投","02F","08700","円盤投"]
[null,"09100","ﾊﾝﾏ-投","02F","09100","ﾊﾝﾏ-投"]
[null,"09200","やり投","02F","09200","やり投"]
[null,"21000","８種競技","03C","21000","８種競技"]

{"sheet":"男子選手","index":1,"n_rows":107,"n_cols":16,"rows_kept":107,"cut":false,"hidden":false,"merged":[]}
[]
[]
[]
[null,"登録番号","名前","ﾌﾘｶﾞﾅ","学年","所属",null,null,"登録番号","姓","名","姓（フリガナ）","名（フリガナ）","学年",null,"このシートに表示されていない選手は、「追加登録選手」シートに入力して下さい"]
[null,{"$f":"IFERROR(VALUE(SUBSTITUTE(I5,\"\"\"\",\"\")),\"\")","v":1},{"$f":"IFERROR(J5&VLOOKUP(5-LEN(J5)-LEN(K5),$C$104:$D$107,2,TRUE)&K5,\"\")","v":"　　　"},{"$f":"IFERROR(ASC(L5)&\" \"&ASC(M5),\"\")","v":" "},{"$f":"IFERROR(RIGHT(N5,1),\"\")","v":""},{"$f":"VLOOKUP(初期設定!$C$4,学校番号!$A$3:$D$50,4,FALSE)","v":{"$error":"#N/A"}},{"$f":"IF(B5=\"\",\"\",C5&\"(\"&E5&\")\")","v":"　　　()"},null,{"$f":"MOD(初期設定!$C$4,100)*100+ROW(男子選手!B1)","v":1},{"$f":"IFERROR(VLOOKUP($I5,追加登録選手!$A$1:$F$1000,COLUMN(男子選手!B1),FALSE),\"\")","v":""},{"$f":"IFERROR(VLOOKUP($I5,追加登録選手!$A$1:$F$1000,COLUMN(男子選手!C1),FALSE),\"\")","v":""},{"$f":"IFERROR(VLOOKUP($I5,追加登録選手!$A$1:$F$1000,COLUMN(男子選手!D1),FALSE),\"\")","v":""},{"$f":"IFERROR(VLOOKUP($I5,追加登録選手!$A$1:$F$1000,COLUMN(男子選手!E1),FALSE),\"\")","v":""},{"$f":"IFERROR(VLOOKUP($I5,追加登録選手!$A$1:$F$1000,COLUMN(男子選手!F1),FALSE),\"\")","v":""}]
[null,{"$f":"IFERROR(VALUE(SUBSTITUTE(I6,\"\"\"\",\"\")),\"\")","v":2},{"$f":"IFERROR(J6&VLOOKUP(5-LEN(J6)-LEN(K6),$C$104:$D$107,2,TRUE)&K6,\"\")","v":"　　　"},{"$f":"IFERROR(ASC(L6)&\" \"&ASC(M6),\"\")","v":" "},{"$f":"IFERROR(RIGHT(N6,1),\"\")","v":""},{"$f":"VLOOKUP(初期設定!$C$4,学校番号!$A$3:$D$50,4,FALSE)","v":{"$error":"#N/A"}},{"$f":"IF(B6=\"\",\"\",C6&\"(\"&E6&\")\")","v":"　　　()"},null,{"$f":"MOD(初期設定!$C$4,100)*100+ROW(男子選手!B2)","v":2},{"$f":"IFERROR(VLOOKUP($I6,追加登録選手!$A$1:$F$1000,COLUMN(男子選手!B2),FALSE),\"\")","v":""},{"$f":"IFERROR(VLOOKUP($I6,追加登録選手!$A$1:$F$1000,COLUMN(男子選手!C2),FALSE),\"\")","v":""},{"$f":"IFERROR(VLOOKUP($I6,追加登録選手!$A$1:$F$1000,COLUMN(男子選手!D2),FALSE),\"\")","v":""},{"$f":"IFERROR(VLOOKUP($I6,追加登録選手!$A$1:$F$1000,COLUMN(男子選手!E2),FALSE),\"\")","v":""},{"$f":"IFERROR(VLOOKUP($I6,追加登録選手!$A$1:$F$1000,COLUMN(男子選手!F2),FALSE),\"\")","v":""}]
[null,3,"　　　"," ","",{"$f":"VLOOKUP(初期設定!$C$4,学校番号!$A$3:$D$50,4,FALSE)","v":{"$error":"#N/A"}},"　　　()",null,{"$f":"MOD(初期設定!$C$4,100)*100+ROW(男子選手!B3)","v":3},{"$f":"IFERROR(VLOOKUP($I7,追加登録選手!$A$1:$F$1000,COLUMN(男子選手!B3),FALSE),\"\")","v":""},{"$f":"IFERROR(VLOOKUP($I7,追加登録選手!$A$1:$F$1000,COLUMN(男子選手!C3),FALSE),\"\")","v":""},{"$f":"IFERROR(VLOOKUP($I7,追加登録選手!$A$1:$F$1000,COLUMN(男子選手!D3),FALSE),\"\")","v":""},{"$f":"IFERROR(VLOOKUP($I7,追加登録選手!$A$1:$F$1000,COLUMN(男子選手!E3),FALSE),\"\")","v":""},{"$f":"IFERROR(VLOOKUP($I7,追加登録選手!$A$1:$F$1000,COLUMN(男子選手!F3),FALSE),\"\")","v":""}]
[null,4,"　　　"," ","",{"$f":"VLOOKUP(初期設定!$C$4,学校番号!$A$3:$D$50,4,FALSE)","v":{"$error":"#N/A"}},"　　　()",null,{"$f":"MOD(初期設定!$C$4,100)*100+ROW(男子選手!B4)","v":4},{"$f":"IFERROR(VLOOKUP($I8,追加登録選手!$A$1:$F$1000,COLUMN(男子選手!B4),FALSE),\"\")","v":""},{"$f":"IFERROR(VLOOKUP($I8,追加登録選手!$A$1:$F$1000,COLUMN(男子選手!C4),FALSE),\"\")","v":""},{"$f":"IFERROR(VLOOKUP($I8,追加登録選手!$A$1:$F$1000,COLUMN(男子選手!D4),FALSE),\"\")","v":""},{"$f":"IFERROR(VLOOKUP($I8,追加登録選手!$A$1:$F$1000,COLUMN(男子選手!E4),FALSE),\"\")","v":""},{"$f":"IFERROR(VLOOKUP($I8,追加登録選手!$A$1:$F$1000,COLUMN(男子選手!F4),FALSE),\"\")","v":""}]
[null,5,"　　　"," ","",{"$f":"VLOOKUP(初期設定!$C$4,学校番号!$A$3:$D$50,4,FALSE)","v":{"$error":"#N/A"}},"　　　()",null,{"$f":"MOD(初期設定!$C$4,100)*100+ROW(男子選手!B5)","v":5},{"$f":"IFERROR(VLOOKUP($I9,追加登録選手!$A$1:$F$1000,COLUMN(男子選手!B5),FALSE),\"\")","v":""},{"$f":"IFERROR(VLOOKUP($I9,追加登録選手!$A$1:$F$1000,COLUMN(男子選手!C5),FALSE),\"\")","v":""},{"$f":"IFERROR(VLOOKUP($I9,追加登録選手!$A$1:$F$1000,COLUMN(男子選手!D5),FALSE),\"\")","v":""},{"$f":"IFERROR(VLOOKUP($I9,追加登録選手!$A$1:$F$1000,COLUMN(男子選手!E5),FALSE),\"\")","v":""},{"$f":"IFERROR(VLOOKUP($I9,追加登録選手!$A$1:$F$1000,COLUMN(男子選手!F5),FALSE),\"\")","v":""}]
[null,6,"　　　"," ","",{"$f":"VLOOKUP(初期設定!$C$4,学校番号!$A$3:$D$50,4,FALSE)","v":{"$error":"#N/A"}},"　　　()",null,{"$f":"MOD(初期設定!$C$4,100)*100+ROW(男子選手!B6)","v":6},{"$f":"IFERROR(VLOOKUP($I10,追加登録選手!$A$1:$F$1000,COLUMN(男子選手!B6),FALSE),\"\")","v":""},{"$f":"IFERROR(VLOOKUP($I10,追加登録選手!$A$1:$F$1000,COLUMN(男子選手!C6),FALSE),\"\")","v":""},{"$f":"IFERROR(VLOOKUP($I10,追加登録選手!$A$1:$F$1000,COLUMN(男子選手!D6),FALSE),\"\")","v":""},{"$f":"IFERROR(VLOOKUP($I10,追加登録選手!$A$1:$F$1000,COLUMN(男子選手!E6),FALSE),\"\")","v":""},{"$f":"IFERROR(VLOOKUP($I10,追加登録選手!$A$1:$F$1000,COLUMN(男子選手!F6),FALSE),\"\")","v":""}]
[null,7,{"$f":"IFERROR(J11&VLOOKUP(5-LEN(J11)-LEN(K11),$C$104:$D$107,2,TRUE)&K11,\"\")","v":"　　　"}," ","",{"$f":"VLOOKUP(初期設定!$C$4,学校番号!$A$3:$D$50,4,FALSE)","v":{"$error":"#N/A"}},"　　　()",null,{"$f":"MOD(初期設定!$C$4,100)*100+ROW(男子選手!B7)","v":7},{"$f":"IFERROR(VLOOKUP($I11,追加登録選手!$A$1:$F$1000,COLUMN(男子選手!B7),FALSE),\"\")","v":""},{"$f":"IFERROR(VLOOKUP($I11,追加登録選手!$A$1:$F$1000,COLUMN(男子選手!C7),FALSE),\"\")","v":""},{"$f":"IFERROR(VLOOKUP($I11,追加登録選手!$A$1:$F$1000,COLUMN(男子選手!D7),FALSE),\"\")","v":""},{"$f":"IFERROR(VLOOKUP($I11,追加登録選手!$A$1:$F$1000,COLUMN(男子選手!E7),FALSE),\"\")","v":""},{"$f":"IFERROR(VLOOKUP($I11,追加登録選手!$A$1:$F$1000,COLUMN(男子選手!F7),FALSE),\"\")","v":""}]
[null,8,"　　　"," ","",{"$f":"VLOOKUP(初期設定!$C$4,学校番号!$A$3:$D$50,4,FALSE)","v":{"$error":"#N/A"}},"　　　()",null,{"$f":"MOD(初期設定!$C$4,100)*100+ROW(男子選手!B8)","v":8},{"$f":"IFERROR(VLOOKUP($I12,追加登録選手!$A$1:$F$1000,COLUMN(男子選手!B8),FALSE),\"\")","v":""},{"$f":"IFERROR(VLOOKUP($I12,追加登録選手!$A$1:$F$1000,COLUMN(男子選手!C8),FALSE),\"\")","v":""},{"$f":"IFERROR(VLOOKUP($I12,追加登録選手!$A$1:$F$1000,COLUMN(男子選手!D8),FALSE),\"\")","v":""},{"$f":"IFERROR(VLOOKUP($I12,追加登録選手!$A$1:$F$1000,COLUMN(男子選手!E8),FALSE),\"\")","v":""},{"$f":"IFERROR(VLOOKUP($I12,追加登録選手!$A$1:$F$1000,COLUMN(男子選手!F8),FALSE),\"\")","v":""}]
[null,9,"　　　"," ","",{"$f":"VLOOKUP(初期設定!$C$4,学校番号!$A$3:$D$50,4,FALSE)","v":{"$error":"#N/A"}},"　　　()",null,{"$f":"MOD(初期設定!$C$4,100)*100+ROW(男子選手!B9)","v":9},{"$f":"IFERROR(VLOOKUP($I13,追加登録選手!$A$1:$F$1000,COLUMN(男子選手!B9),FALSE),\"\")","v":""},{"$f":"IFERROR(VLOOKUP($I13,追加登録選手!$A$1:$F$1000,COLUMN(男子選手!C9),FALSE),\"\")","v":""},{"$f":"IFERROR(VLOOKUP($I13,追加登録選手!$A$1:$F$1000,COLUMN(男子選手!D9),FALSE),\"\")","v":""},{"$f":"IFERROR(VLOOKUP($I13,追加登録選手!$A$1:$F$1000,COLUMN(男子選手!E9),FALSE),\"\")","v":""},{"$f":"IFERROR(VLOOKUP($I13,追加登録選手!$A$1:$F$1000,COLUMN(男子選手!F9),FALSE),\"\")","v":""}]
[null,10,"　　　"," ","",{"$f":"VLOOKUP(初期設定!$C$4,学校番号!$A$3:$D$50,4,FALSE)","v":{"$error":"#N/A"}},"　　　()",null,{"$f":"MOD(初期設定!$C$4,100)*100+ROW(男子選手!B10)","v":10},{"$f":"IFERROR(VLOOKUP($I14,追加登録選手!$A$1:$F$1000,COLUMN(男子選手!B10),FALSE),\"\")","v":""},{"$f":"IFERROR(VLOOKUP($I14,追加登録選手!$A$1:$F$1000,COLUMN(男子選手!C10),FALSE),\"\")","v":""},{"$f":"IFERROR(VLOOKUP($I14,追加登録選手!$A$1:$F$1000,COLUMN(男子選手!D10),FALSE),\"\")","v":""},{"$f":"IFERROR(VLOOKUP($I14,追加登録選手!$A$1:$F$1000,COLUMN(男子選手!E10),FALSE),\"\")","v":""},{"$f":"IFERROR(VLOOKUP($I14,追加登録選手!$A$1:$F$1000,COLUMN(男子選手!F10),FALSE),\"\")","v":""}]
[null,11,"　　　",{"$f":"IFERROR(ASC(L15)&\" \"&ASC(M15),\"\")","v":" "},"",{"$f":"VLOOKUP(初期設定!$C$4,学校番号!$A$3:$D$50,4,FALSE)","v":{"$error":"#N/A"}},"　　　()",null,{"$f":"MOD(初期設定!$C$4,100)*100+ROW(男子選手!B11)","v":11},{"$f":"IFERROR(VLOOKUP($I15,追加登録選手!$A$1:$F$1000,COLUMN(男子選手!B11),FALSE),\"\")","v":""},{"$f":"IFERROR(VLOOKUP($I15,追加登録選手!$A$1:$F$1000,COLUMN(男子選手!C11),FALSE),\"\")","v":""},{"$f":"IFERROR(VLOOKUP($I15,追加登録選手!$A$1:$F$1000,COLUMN(男子選手!D11),FALSE),\"\")","v":""},{"$f":"IFERROR(VLOOKUP($I15,追加登録選手!$A$1:$F$1000,COLUMN(男子選手!E11),FALSE),\"\")","v":""},{"$f":"IFERROR(VLOOKUP($I15,追加登録選手!$A$1:$F$1000,COLUMN(男子選手!F11),FALSE),\"\")","v":""}]
[null,12,"　　　"," ","",{"$f":"VLOOKUP(初期設定!$C$4,学校番号!$A$3:$D$50,4,FALSE)","v":{"$error":"#N/A"}},"　　　()",null,{"$f":"MOD(初期設定!$C$4,100)*100+ROW(男子選手!B12)","v":12},{"$f":"IFERROR(VLOOKUP($I16,追加登録選手!$A$1:$F$1000,COLUMN(男子選手!B12),FALSE),\"\")","v":""},{"$f":"IFERROR(VLOOKUP($I16,追加登録選手!$A$1:$F$1000,COLUMN(男子選手!C12),FALSE),\"\")","v":""},{"$f":"IFERROR(VLOOKUP($I16,追加登録選手!$A$1:$F$1000,COLUMN(男子選手!D12),FALSE),\"\")","v":""},{"$f":"IFERROR(VLOOKUP($I16,追加登録選手!$A$1:$F$1000,COLUMN(男子選手!E12),FALSE),\"\")","v":""},{"$f":"IFERROR(VLOOKUP($I16,追加登録選手!$A$1:$F$1000,COLUMN(男子選手!F12),FALSE),\"\")","v":""}]
[null,13,"　　　"," ","",{"$f":"VLOOKUP(初期設定!$C$4,学校番号!$A$3:$D$50,4,FALSE)","v":{"$error":"#N/A"}},"　　　()",null,{"$f":"MOD(初期設定!$C$4,100)*100+ROW(男子選手!B13)","v":13},{"$f":"IFERROR(VLOOKUP($I17,追加登録選手!$A$1:$F$1000,COLUMN(男子選手!B13),FALSE),\"\")","v":""},{"$f":"IFERROR(VLOOKUP($I17,追加登録選手!$A$1:$F$1000,COLUMN(男子選手!C13),FALSE),\"\")","v":""},{"$f":"IFERROR(VLOOKUP($I17,追加登録選手!$A$1:$F$1000,COLUMN(男子選手!D13),FALSE),\"\")","v":""},{"$f":"IFERROR(VLOOKUP($I17,追加登録選手!$A$1:$F$1000,COLUMN(男子選手!E13),FALSE),\"\")","v":""},{"$f":"IFERROR(VLOOKUP($I17,追加登録選手!$A$1:$F$1000,COLUMN(男子選手!F13),FALSE),\"\")","v":""}]
[null,14,"　　　"," ",{"$f":"IFERROR(RIGHT(N18,1),\"\")","v":""},{"$f":"VLOOKUP(初期設定!$C$4,学校番号!$A$3:$D$50,4,FALSE)","v":{"$error":"#N/A"}},"　　　()",null,{"$f":"MOD(初期設定!$C$4,100)*100+ROW(男子選手!B14)","v":14},{"$f":"IFERROR(VLOOKUP($I18,追加登録選手!$A$1:$F$1000,COLUMN(男子選手!B14),FALSE),\"\")","v":""},{"$f":"IFERROR(VLOOKUP($I18,追加登録選手!$A$1:$F$1000,COLUMN(男子選手!C14),FALSE),\"\")","v":""},{"$f":"IFERROR(VLOOKUP($I18,追加登録選手!$A$1:$F$1000,COLUMN(男子選手!D14),FALSE),\"\")","v":""},{"$f":"IFERROR(VLOOKUP($I18,追加登録選手!$A$1:$F$1000,COLUMN(男子選手!E14),FALSE),\"\")","v":""},{"$f":"IFERROR(VLOOKUP($I18,追加登録選手!$A$1:$F$1000,COLUMN(男子選手!F14),FALSE),\"\")","v":""}]
[null,15,"　　　"," ","",{"$f":"VLOOKUP(初期設定!$C$4,学校番号!$A$3:$D$50,4,FALSE)","v":{"$error":"#N/A"}},"　　　()",null,{"$f":"MOD(初期設定!$C$4,100)*100+ROW(男子選手!B15)","v":15},{"$f":"IFERROR(VLOOKUP($I19,追加登録選手!$A$1:$F$1000,COLUMN(男子選手!B15),FALSE),\"\")","v":""},{"$f":"IFERROR(VLOOKUP($I19,追加登録選手!$A$1:$F$1000,COLUMN(男子選手!C15),FALSE),\"\")","v":""},{"$f":"IFERROR(VLOOKUP($I19,追加登録選手!$A$1:$F$1000,COLUMN(男子選手!D15),FALSE),\"\")","v":""},{"$f":"IFERROR(VLOOKUP($I19,追加登録選手!$A$1:$F$1000,COLUMN(男子選手!E15),FALSE),\"\")","v":""},{"$f":"IFERROR(VLOOKUP($I19,追加登録選手!$A$1:$F$1000,COLUMN(男子選手!F15),FALSE),\"\")","v":""}]
[null,16,"　　　"," ","",{"$f":"VLOOKUP(初期設定!$C$4,学校番号!$A$3:$D$50,4,FALSE)","v":{"$error":"#N/A"}},"　　　()",null,{"$f":"MOD(初期設定!$C$4,100)*100+ROW(男子選手!B16)","v":16},{"$f":"IFERROR(VLOOKUP($I20,追加登録選手!$A$1:$F$1000,COLUMN(男子選手!B16),FALSE),\"\")","v":""},{"$f":"IFERROR(VLOOKUP($I20,追加登録選手!$A$1:$F$1000,COLUMN(男子選手!C16),FALSE),\"\")","v":""},{"$f":"IFERROR(VLOOKUP($I20,追加登録選手!$A$1:$F$1000,COLUMN(男子選手!D16),FALSE),\"\")","v":""},{"$f":"IFERROR(VLOOKUP($I20,追加登録選手!$A$1:$F$1000,COLUMN(男子選手!E16),FALSE),\"\")","v":""},{"$f":"IFERROR(VLOOKUP($I20,追加登録選手!$A$1:$F$1000,COLUMN(男子選手!F16),FALSE),\"\")","v":""}]
[null,17,"　　　"," ","",{"$f":"VLOOKUP(初期設定!$C$4,学校番号!$A$3:$D$50,4,FALSE)","v":{"$error":"#N/A"}},"　　　()",null,{"$f":"MOD(初期設定!$C$4,100)*100+ROW(男子選手!B17)","v":17},{"$f":"IFERROR(VLOOKUP($I21,追加登録選手!$A$1:$F$1000,COLUMN(男子選手!B17),FALSE),\"\")","v":""},{"$f":"IFERROR(VLOOKUP($I21,追加登録選手!$A$1:$F$1000,COLUMN(男子選手!C17),FALSE),\"\")","v":""},{"$f":"IFERROR(VLOOKUP($I21,追加登録選手!$A$1:$F$1000,COLUMN(男子選手!D17),FALSE),\"\")","v":""},{"$f":"IFERROR(VLOOKUP($I21,追加登録選手!$A$1:$F$1000,COLUMN(男子選手!E17),FALSE),\"\")","v":""},{"$f":"IFERROR(VLOOKUP($I21,追加登録選手!$A$1:$F$1000,COLUMN(男子選手!F17),FALSE),\"\")","v":""}]
[null,18,"　　　"," ","",{"$f":"VLOOKUP(初期設定!$C$4,学校番号!$A$3:$D$50,4,FALSE)","v":{"$error":"#N/A"}},"　　　()",null,{"$f":"MOD(初期設定!$C$4,100)*100+ROW(男子選手!B18)","v":18},{"$f":"IFERROR(VLOOKUP($I22,追加登録選手!$A$1:$F$1000,COLUMN(男子選手!B18),FALSE),\"\")","v":""},{"$f":"IFERROR(VLOOKUP($I22,追加登録選手!$A$1:$F$1000,COLUMN(男子選手!C18),FALSE),\"\")","v":""},{"$f":"IFERROR(VLOOKUP($I22,追加登録選手!$A$1:$F$1000,COLUMN(男子選手!D18),FALSE),\"\")","v":""},{"$f":"IFERROR(VLOOKUP($I22,追加登録選手!$A$1:$F$1000,COLUMN(男子選手!E18),FALSE),\"\")","v":""},{"$f":"IFERROR(VLOOKUP($I22,追加登録選手!$A$1:$F$1000,COLUMN(男子選手!F18),FALSE),\"\")","v":""}]
[null,19,"　　　"," ","",{"$f":"VLOOKUP(初期設定!$C$4,学校番号!$A$3:$D$50,4,FALSE)","v":{"$error":"#N/A"}},"　　　()",null,{"$f":"MOD(初期設定!$C$4,100)*100+ROW(男子選手!B19)","v":19},{"$f":"IFERROR(VLOOKUP($I23,追加登録選手!$A$1:$F$1000,COLUMN(男子選手!B19),FALSE),\"\")","v":""},{"$f":"IFERROR(VLOOKUP($I23,追加登録選手!$A$1:$F$1000,COLUMN(男子選手!C19),FALSE),\"\")","v":""},{"$f":"IFERROR(VLOOKUP($I23,追加登録選手!$A$1:$F$1000,COLUMN(男子選手!D19),FALSE),\"\")","v":""},{"$f":"IFERROR(VLOOKUP($I23,追加登録選手!$A$1:$F$1000,COLUMN(男子選手!E19),FALSE),\"\")","v":""},{"$f":"IFERROR(VLOOKUP($I23,追加登録選手!$A$1:$F$1000,COLUMN(男子選手!F19),FALSE),\"\")","v":""}]
[null,20,"　　　"," ","",{"$f":"VLOOKUP(初期設定!$C$4,学校番号!$A$3:$D$50,4,FALSE)","v":{"$error":"#N/A"}},"　　　()",null,{"$f":"MOD(初期設定!$C$4,100)*100+ROW(男子選手!B20)","v":20},{"$f":"IFERROR(VLOOKUP($I24,追加登録選手!$A$1:$F$1000,COLUMN(男子選手!B20),FALSE),\"\")","v":""},{"$f":"IFERROR(VLOOKUP($I24,追加登録選手!$A$1:$F$1000,COLUMN(男子選手!C20),FALSE),\"\")","v":""},{"$f":"IFERROR(VLOOKUP($I24,追加登録選手!$A$1:$F$1000,COLUMN(男子選手!D20),FALSE),\"\")","v":""},{"$f":"IFERROR(VLOOKUP($I24,追加登録選手!$A$1:$F$1000,COLUMN(男子選手!E20),FALSE),\"\")","v":""},{"$f":"IFERROR(VLOOKUP($I24,追加登録選手!$A$1:$F$1000,COLUMN(男子選手!F20),FALSE),\"\")","v":""}]
[null,21,"　　　"," ","",{"$f":"VLOOKUP(初期設定!$C$4,学校番号!$A$3:$D$50,4,FALSE)","v":{"$error":"#N/A"}},"　　　()",null,{"$f":"MOD(初期設定!$C$4,100)*100+ROW(男子選手!B21)","v":21},{"$f":"IFERROR(VLOOKUP($I25,追加登録選手!$A$1:$F$1000,COLUMN(男子選手!B21),FALSE),\"\")","v":""},{"$f":"IFERROR(VLOOKUP($I25,追加登録選手!$A$1:$F$1000,COLUMN(男子選手!C21),FALSE),\"\")","v":""},{"$f":"IFERROR(VLOOKUP($I25,追加登録選手!$A$1:$F$1000,COLUMN(男子選手!D21),FALSE),\"\")","v":""},{"$f":"IFERROR(VLOOKUP($I25,追加登録選手!$A$1:$F$1000,COLUMN(男子選手!E21),FALSE),\"\")","v":""},{"$f":"IFERROR(VLOOKUP($I25,追加登録選手!$A$1:$F$1000,COLUMN(男子選手!F21),FALSE),\"\")","v":""}]
[null,22,"　　　"," ","",{"$f":"VLOOKUP(初期設定!$C$4,学校番号!$A$3:$D$50,4,FALSE)","v":{"$error":"#N/A"}},"　　　()",null,{"$f":"MOD(初期設定!$C$4,100)*100+ROW(男子選手!B22)","v":22},{"$f":"IFERROR(VLOOKUP($I26,追加登録選手!$A$1:$F$1000,COLUMN(男子選手!B22),FALSE),\"\")","v":""},{"$f":"IFERROR(VLOOKUP($I26,追加登録選手!$A$1:$F$1000,COLUMN(男子選手!C22),FALSE),\"\")","v":""},{"$f":"IFERROR(VLOOKUP($I26,追加登録選手!$A$1:$F$1000,COLUMN(男子選手!D22),FALSE),\"\")","v":""},{"$f":"IFERROR(VLOOKUP($I26,追加登録選手!$A$1:$F$1000,COLUMN(男子選手!E22),FALSE),\"\")","v":""},{"$f":"IFERROR(VLOOKUP($I26,追加登録選手!$A$1:$F$1000,COLUMN(男子選手!F22),FALSE),\"\")","v":""}]
[null,23,"　　　"," ","",{"$f":"VLOOKUP(初期設定!$C$4,学校番号!$A$3:$D$50,4,FALSE)","v":{"$error":"#N/A"}},"　　　()",null,{"$f":"MOD(初期設定!$C$4,100)*100+ROW(男子選手!B23)","v":23},{"$f":"IFERROR(VLOOKUP($I27,追加登録選手!$A$1:$F$1000,COLUMN(男子選手!B23),FALSE),\"\")","v":""},{"$f":"IFERROR(VLOOKUP($I27,追加登録選手!$A$1:$F$1000,COLUMN(男子選手!C23),FALSE),\"\")","v":""},{"$f":"IFERROR(VLOOKUP($I27,追加登録選手!$A$1:$F$1000,COLUMN(男子選手!D23),FALSE),\"\")","v":""},{"$f":"IFERROR(VLOOKUP($I27,追加登録選手!$A$1:$F$1000,COLUMN(男子選手!E23),FALSE),\"\")","v":""},{"$f":"IFERROR(VLOOKUP($I27,追加登録選手!$A$1:$F$1000,COLUMN(男子選手!F23),FALSE),\"\")","v":""}]
[null,24,"　　　"," ","",{"$f":"VLOOKUP(初期設定!$C$4,学校番号!$A$3:$D$50,4,FALSE)","v":{"$error":"#N/A"}},"　　　()",null,{"$f":"MOD(初期設定!$C$4,100)*100+ROW(男子選手!B24)","v":24},{"$f":"IFERROR(VLOOKUP($I28,追加登録選手!$A$1:$F$1000,COLUMN(男子選手!B24),FALSE),\"\")","v":""},{"$f":"IFERROR(VLOOKUP($I28,追加登録選手!$A$1:$F$1000,COLUMN(男子選手!C24),FALSE),\"\")","v":""},{"$f":"IFERROR(VLOOKUP($I28,追加登録選手!$A$1:$F$1000,COLUMN(男子選手!D24),FALSE),\"\")","v":""},{"$f":"IFERROR(VLOOKUP($I28,追加登録選手!$A$1:$F$1000,COLUMN(男子選手!E24),FALSE),\"\")","v":""},{"$f":"IFERROR(VLOOKUP($I28,追加登録選手!$A$1:$F$1000,COLUMN(男子選手!F24),FALSE),\"\")","v":""}]
[null,25,"　　　"," ","",{"$f":"VLOOKUP(初期設定!$C$4,学校番号!$A$3:$D$50,4,FALSE)","v":{"$error":"#N/A"}},"　　　()",null,{"$f":"MOD(初期設定!$C$4,100)*100+ROW(男子選手!B25)","v":25},{"$f":"IFERROR(VLOOKUP($I29,追加登録選手!$A$1:$F$1000,COLUMN(男子選手!B25),FALSE),\"\")","v":""},{"$f":"IFERROR(VLOOKUP($I29,追加登録選手!$A$1:$F$1000,COLUMN(男子選手!C25),FALSE),\"\")","v":""},{"$f":"IFERROR(VLOOKUP($I29,追加登録選手!$A$1:$F$1000,COLUMN(男子選手!D25),FALSE),\"\")","v":""},{"$f":"IFERROR(VLOOKUP($I29,追加登録選手!$A$1:$F$1000,COLUMN(男子選手!E25),FALSE),\"\")","v":""},{"$f":"IFERROR(VLOOKUP($I29,追加登録選手!$A$1:$F$1000,COLUMN(男子選手!F25),FALSE),\"\")","v":""}]
[null,26,"　　　"," ","",{"$f":"VLOOKUP(初期設定!$C$4,学校番号!$A$3:$D$50,4,FALSE)","v":{"$error":"#N/A"}},"　　　()",null,{"$f":"MOD(初期設定!$C$4,100)*100+ROW(男子選手!B26)","v":26},{"$f":"IFERROR(VLOOKUP($I30,追加登録選手!$A$1:$F$1000,COLUMN(男子選手!B26),FALSE),\"\")","v":""},{"$f":"IFERROR(VLOOKUP($I30,追加登録選手!$A$1:$F$1000,COLUMN(男子選手!C26),FALSE),\"\")","v":""},{"$f":"IFERROR(VLOOKUP($I30,追加登録選手!$A$1:$F$1000,COLUMN(男子選手!D26),FALSE),\"\")","v":""},{"$f":"IFERROR(VLOOKUP($I30,追加登録選手!$A$1:$F$1000,COLUMN(男子選手!E26),FALSE),\"\")","v":""},{"$f":"IFERROR(VLOOKUP($I30,追加登録選手!$A$1:$F$1000,COLUMN(男子選手!F26),FALSE),\"\")","v":""}]
[null,27,"　　　"," ","",{"$f":"VLOOKUP(初期設定!$C$4,学校番号!$A$3:$D$50,4,FALSE)","v":{"$error":"#N/A"}},"　　　()",null,{"$f":"MOD(初期設定!$C$4,100)*100+ROW(男子選手!B27)","v":27},{"$f":"IFERROR(VLOOKUP($I31,追加登録選手!$A$1:$F$1000,COLUMN(男子選手!B27),FALSE),\"\")","v":""},{"$f":"IFERROR(VLOOKUP($I31,追加登録選手!$A$1:$F$1000,COLUMN(男子選手!C27),FALSE),\"\")","v":""},{"$f":"IFERROR(VLOOKUP($I31,追加登録選手!$A$1:$F$1000,COLUMN(男子選手!D27),FALSE),\"\")","v":""},{"$f":"IFERROR(VLOOKUP($I31,追加登録選手!$A$1:$F$1000,COLUMN(男子選手!E27),FALSE),\"\")","v":""},{"$f":"IFERROR(VLOOKUP($I31,追加登録選手!$A$1:$F$1000,COLUMN(男子選手!F27),FALSE),\"\")","v":""}]
[null,28,"　　　"," ","",{"$f":"VLOOKUP(初期設定!$C$4,学校番号!$A$3:$D$50,4,FALSE)","v":{"$error":"#N/A"}},"　　　()",null,{"$f":"MOD(初期設定!$C$4,100)*100+ROW(男子選手!B28)","v":28},{"$f":"IFERROR(VLOOKUP($I32,追加登録選手!$A$1:$F$1000,COLUMN(男子選手!B28),FALSE),\"\")","v":""},{"$f":"IFERROR(VLOOKUP($I32,追加登録選手!$A$1:$F$1000,COLUMN(男子選手!C28),FALSE),\"\")","v":""},{"$f":"IFERROR(VLOOKUP($I32,追加登録選手!$A$1:$F$1000,COLUMN(男子選手!D28),FALSE),\"\")","v":""},{"$f":"IFERROR(VLOOKUP($I32,追加登録選手!$A$1:$F$1000,COLUMN(男子選手!E28),FALSE),\"\")","v":""},{"$f":"IFERROR(VLOOKUP($I32,追加登録選手!$A$1:$F$1000,COLUMN(男子選手!F28),FALSE),\"\")","v":""}]
[null,29,"　　　"," ","",{"$f":"VLOOKUP(初期設定!$C$4,学校番号!$A$3:$D$50,4,FALSE)","v":{"$error":"#N/A"}},"　　　()",null,{"$f":"MOD(初期設定!$C$4,100)*100+ROW(男子選手!B29)","v":29},{"$f":"IFERROR(VLOOKUP($I33,追加登録選手!$A$1:$F$1000,COLUMN(男子選手!B29),FALSE),\"\")","v":""},{"$f":"IFERROR(VLOOKUP($I33,追加登録選手!$A$1:$F$1000,COLUMN(男子選手!C29),FALSE),\"\")","v":""},{"$f":"IFERROR(VLOOKUP($I33,追加登録選手!$A$1:$F$1000,COLUMN(男子選手!D29),FALSE),\"\")","v":""},{"$f":"IFERROR(VLOOKUP($I33,追加登録選手!$A$1:$F$1000,COLUMN(男子選手!E29),FALSE),\"\")","v":""},{"$f":"IFERROR(VLOOKUP($I33,追加登録選手!$A$1:$F$1000,COLUMN(男子選手!F29),FALSE),\"\")","v":""}]
[null,30,"　　　"," ","",{"$f":"VLOOKUP(初期設定!$C$4,学校番号!$A$3:$D$50,4,FALSE)","v":{"$error":"#N/A"}},"　　　()",null,{"$f":"MOD(初期設定!$C$4,100)*100+ROW(男子選手!B30)","v":30},{"$f":"IFERROR(VLOOKUP($I34,追加登録選手!$A$1:$F$1000,COLUMN(男子選手!B30),FALSE),\"\")","v":""},{"$f":"IFERROR(VLOOKUP($I34,追加登録選手!$A$1:$F$1000,COLUMN(男子選手!C30),FALSE),\"\")","v":""},{"$f":"IFERROR(VLOOKUP($I34,追加登録選手!$A$1:$F$1000,COLUMN(男子選手!D30),FALSE),\"\")","v":""},{"$f":"IFERROR(VLOOKUP($I34,追加登録選手!$A$1:$F$1000,COLUMN(男子選手!E30),FALSE),\"\")","v":""},{"$f":"IFERROR(VLOOKUP($I34,追加登録選手!$A$1:$F$1000,COLUMN(男子選手!F30),FALSE),\"\")","v":""}]
[null,31,"　　　"," ","",{"$f":"VLOOKUP(初期設定!$C$4,学校番号!$A$3:$D$50,4,FALSE)","v":{"$error":"#N/A"}},"　　　()",null,{"$f":"MOD(初期設定!$C$4,100)*100+ROW(男子選手!B31)","v":31},{"$f":"IFERROR(VLOOKUP($I35,追加登録選手!$A$1:$F$1000,COLUMN(男子選手!B31),FALSE),\"\")","v":""},{"$f":"IFERROR(VLOOKUP($I35,追加登録選手!$A$1:$F$1000,COLUMN(男子選手!C31),FALSE),\"\")","v":""},{"$f":"IFERROR(VLOOKUP($I35,追加登録選手!$A$1:$F$1000,COLUMN(男子選手!D31),FALSE),\"\")","v":""},{"$f":"IFERROR(VLOOKUP($I35,追加登録選手!$A$1:$F$1000,COLUMN(男子選手!E31),FALSE),\"\")","v":""},{"$f":"IFERROR(VLOOKUP($I35,追加登録選手!$A$1:$F$1000,COLUMN(男子選手!F31),FALSE),\"\")","v":""}]
[null,32,"　　　"," ","",{"$f":"VLOOKUP(初期設定!$C$4,学校番号!$A$3:$D$50,4,FALSE)","v":{"$error":"#N/A"}},"　　　()",null,{"$f":"MOD(初期設定!$C$4,100)*100+ROW(男子選手!B32)","v":32},{"$f":"IFERROR(VLOOKUP($I36,追加登録選手!$A$1:$F$1000,COLUMN(男子選手!B32),FALSE),\"\")","v":""},{"$f":"IFERROR(VLOOKUP($I36,追加登録選手!$A$1:$F$1000,COLUMN(男子選手!C32),FALSE),\"\")","v":""},{"$f":"IFERROR(VLOOKUP($I36,追加登録選手!$A$1:$F$1000,COLUMN(男子選手!D32),FALSE),\"\")","v":""},{"$f":"IFERROR(VLOOKUP($I36,追加登録選手!$A$1:$F$1000,COLUMN(男子選手!E32),FALSE),\"\")","v":""},{"$f":"IFERROR(VLOOKUP($I36,追加登録選手!$A$1:$F$1000,COLUMN(男子選手!F32),FALSE),\"\")","v":""}]
[null,33,"　　　"," ","",{"$f":"VLOOKUP(初期設定!$C$4,学校番号!$A$3:$D$50,4,FALSE)","v":{"$error":"#N/A"}},"　　　()",null,{"$f":"MOD(初期設定!$C$4,100)*100+ROW(男子選手!B33)","v":33},{"$f":"IFERROR(VLOOKUP($I37,追加登録選手!$A$1:$F$1000,COLUMN(男子選手!B33),FALSE),\"\")","v":""},{"$f":"IFERROR(VLOOKUP($I37,追加登録選手!$A$1:$F$1000,COLUMN(男子選手!C33),FALSE),\"\")","v":""},{"$f":"IFERROR(VLOOKUP($I37,追加登録選手!$A$1:$F$1000,COLUMN(男子選手!D33),FALSE),\"\")","v":""},{"$f":"IFERROR(VLOOKUP($I37,追加登録選手!$A$1:$F$1000,COLUMN(男子選手!E33),FALSE),\"\")","v":""},{"$f":"IFERROR(VLOOKUP($I37,追加登録選手!$A$1:$F$1000,COLUMN(男子選手!F33),FALSE),\"\")","v":""}]
[null,34,"　　　"," ","",{"$f":"VLOOKUP(初期設定!$C$4,学校番号!$A$3:$D$50,4,FALSE)","v":{"$error":"#N/A"}},"　　　()",null,{"$f":"MOD(初期設定!$C$4,100)*100+ROW(男子選手!B34)","v":34},{"$f":"IFERROR(VLOOKUP($I38,追加登録選手!$A$1:$F$1000,COLUMN(男子選手!B34),FALSE),\"\")","v":""},{"$f":"IFERROR(VLOOKUP($I38,追加登録選手!$A$1:$F$1000,COLUMN(男子選手!C34),FALSE),\"\")","v":""},{"$f":"IFERROR(VLOOKUP($I38,追加登録選手!$A$1:$F$1000,COLUMN(男子選手!D34),FALSE),\"\")","v":""},{"$f":"IFERROR(VLOOKUP($I38,追加登録選手!$A$1:$F$1000,COLUMN(男子選手!E34),FALSE),\"\")","v":""},{"$f":"IFERROR(VLOOKUP($I38,追加登録選手!$A$1:$F$1000,COLUMN(男子選手!F34),FALSE),\"\")","v":""}]
[null,35,"　　　"," ","",{"$f":"VLOOKUP(初期設定!$C$4,学校番号!$A$3:$D$50,4,FALSE)","v":{"$error":"#N/A"}},"　　　()",null,{"$f":"MOD(初期設定!$C$4,100)*100+ROW(男子選手!B35)","v":35},{"$f":"IFERROR(VLOOKUP($I39,追加登録選手!$A$1:$F$1000,COLUMN(男子選手!B35),FALSE),\"\")","v":""},{"$f":"IFERROR(VLOOKUP($I39,追加登録選手!$A$1:$F$1000,COLUMN(男子選手!C35),FALSE),\"\")","v":""},{"$f":"IFERROR(VLOOKUP($I39,追加登録選手!$A$1:$F$1000,COLUMN(男子選手!D35),FALSE),\"\")","v":""},{"$f":"IFERROR(VLOOKUP($I39,追加登録選手!$A$1:$F$1000,COLUMN(男子選手!E35),FALSE),\"\")","v":""},{"$f":"IFERROR(VLOOKUP($I39,追加登録選手!$A$1:$F$1000,COLUMN(男子選手!F35),FALSE),\"\")","v":""}]
[null,36,"　　　"," ","",{"$f":"VLOOKUP(初期設定!$C$4,学校番号!$A$3:$D$50,4,FALSE)","v":{"$error":"#N/A"}},"　　　()",null,{"$f":"MOD(初期設定!$C$4,100)*100+ROW(男子選手!B36)","v":36},{"$f":"IFERROR(VLOOKUP($I40,追加登録選手!$A$1:$F$1000,COLUMN(男子選手!B36),FALSE),\"\")","v":""},{"$f":"IFERROR(VLOOKUP($I40,追加登録選手!$A$1:$F$1000,COLUMN(男子選手!C36),FALSE),\"\")","v":""},{"$f":"IFERROR(VLOOKUP($I40,追加登録選手!$A$1:$F$1000,COLUMN(男子選手!D36),FALSE),\"\")","v":""},{"$f":"IFERROR(VLOOKUP($I40,追加登録選手!$A$1:$F$1000,COLUMN(男子選手!E36),FALSE),\"\")","v":""},{"$f":"IFERROR(VLOOKUP($I40,追加登録選手!$A$1:$F$1000,COLUMN(男子選手!F36),FALSE),\"\")","v":""}]
[null,37,"　　　"," ","",{"$f":"VLOOKUP(初期設定!$C$4,学校番号!$A$3:$D$50,4,FALSE)","v":{"$error":"#N/A"}},"　　　()",null,{"$f":"MOD(初期設定!$C$4,100)*100+ROW(男子選手!B37)","v":37},{"$f":"IFERROR(VLOOKUP($I41,追加登録選手!$A$1:$F$1000,COLUMN(男子選手!B37),FALSE),\"\")","v":""},{"$f":"IFERROR(VLOOKUP($I41,追加登録選手!$A$1:$F$1000,COLUMN(男子選手!C37),FALSE),\"\")","v":""},{"$f":"IFERROR(VLOOKUP($I41,追加登録選手!$A$1:$F$1000,COLUMN(男子選手!D37),FALSE),\"\")","v":""},{"$f":"IFERROR(VLOOKUP($I41,追加登録選手!$A$1:$F$1000,COLUMN(男子選手!E37),FALSE),\"\")","v":""},{"$f":"IFERROR(VLOOKUP($I41,追加登録選手!$A$1:$F$1000,COLUMN(男子選手!F37),FALSE),\"\")","v":""}]
[null,38,"　　　"," ","",{"$f":"VLOOKUP(初期設定!$C$4,学校番号!$A$3:$D$50,4,FALSE)","v":{"$error":"#N/A"}},"　　　()",null,{"$f":"MOD(初期設定!$C$4,100)*100+ROW(男子選手!B38)","v":38},{"$f":"IFERROR(VLOOKUP($I42,追加登録選手!$A$1:$F$1000,COLUMN(男子選手!B38),FALSE),\"\")","v":""},{"$f":"IFERROR(VLOOKUP($I42,追加登録選手!$A$1:$F$1000,COLUMN(男子選手!C38),FALSE),\"\")","v":""},{"$f":"IFERROR(VLOOKUP($I42,追加登録選手!$A$1:$F$1000,COLUMN(男子選手!D38),FALSE),\"\")","v":""},{"$f":"IFERROR(VLOOKUP($I42,追加登録選手!$A$1:$F$1000,COLUMN(男子選手!E38),FALSE),\"\")","v":""},{"$f":"IFERROR(VLOOKUP($I42,追加登録選手!$A$1:$F$1000,COLUMN(男子選手!F38),FALSE),\"\")","v":""}]
[null,39,"　　　"," ","",{"$f":"VLOOKUP(初期設定!$C$4,学校番号!$A$3:$D$50,4,FALSE)","v":{"$error":"#N/A"}},"　　　()",null,{"$f":"MOD(初期設定!$C$4,100)*100+ROW(男子選手!B39)","v":39},{"$f":"IFERROR(VLOOKUP($I43,追加登録選手!$A$1:$F$1000,COLUMN(男子選手!B39),FALSE),\"\")","v":""},{"$f":"IFERROR(VLOOKUP($I43,追加登録選手!$A$1:$F$1000,COLUMN(男子選手!C39),FALSE),\"\")","v":""},{"$f":"IFERROR(VLOOKUP($I43,追加登録選手!$A$1:$F$1000,COLUMN(男子選手!D39),FALSE),\"\")","v":""},{"$f":"IFERROR(VLOOKUP($I43,追加登録選手!$A$1:$F$1000,COLUMN(男子選手!E39),FALSE),\"\")","v":""},{"$f":"IFERROR(VLOOKUP($I43,追加登録選手!$A$1:$F$1000,COLUMN(男子選手!F39),FALSE),\"\")","v":""}]
[null,40,"　　　"," ","",{"$f":"VLOOKUP(初期設定!$C$4,学校番号!$A$3:$D$50,4,FALSE)","v":{"$error":"#N/A"}},"　　　()",null,{"$f":"MOD(初期設定!$C$4,100)*100+ROW(男子選手!B40)","v":40},{"$f":"IFERROR(VLOOKUP($I44,追加登録選手!$A$1:$F$1000,COLUMN(男子選手!B40),FALSE),\"\")","v":""},{"$f":"IFERROR(VLOOKUP($I44,追加登録選手!$A$1:$F$1000,COLUMN(男子選手!C40),FALSE),\"\")","v":""},{"$f":"IFERROR(VLOOKUP($I44,追加登録選手!$A$1:$F$1000,COLUMN(男子選手!D40),FALSE),\"\")","v":""},{"$f":"IFERROR(VLOOKUP($I44,追加登録選手!$A$1:$F$1000,COLUMN(男子選手!E40),FALSE),\"\")","v":""},{"$f":"IFERROR(VLOOKUP($I44,追加登録選手!$A$1:$F$1000,COLUMN(男子選手!F40),FALSE),\"\")","v":""}]
[null,41,"　　　"," ","",{"$f":"VLOOKUP(初期設定!$C$4,学校番号!$A$3:$D$50,4,FALSE)","v":{"$error":"#N/A"}},"　　　()",null,{"$f":"MOD(初期設定!$C$4,100)*100+ROW(男子選手!B41)","v":41},{"$f":"IFERROR(VLOOKUP($I45,追加登録選手!$A$1:$F$1000,COLUMN(男子選手!B41),FALSE),\"\")","v":""},{"$f":"IFERROR(VLOOKUP($I45,追加登録選手!$A$1:$F$1000,COLUMN(男子選手!C41),FALSE),\"\")","v":""},{"$f":"IFERROR(VLOOKUP($I45,追加登録選手!$A$1:$F$1000,COLUMN(男子選手!D41),FALSE),\"\")","v":""},{"$f":"IFERROR(VLOOKUP($I45,追加登録選手!$A$1:$F$1000,COLUMN(男子選手!E41),FALSE),\"\")","v":""},{"$f":"IFERROR(VLOOKUP($I45,追加登録選手!$A$1:$F$1000,COLUMN(男子選手!F41),FALSE),\"\")","v":""}]
[null,42,"　　　"," ","",{"$f":"VLOOKUP(初期設定!$C$4,学校番号!$A$3:$D$50,4,FALSE)","v":{"$error":"#N/A"}},"　　　()",null,{"$f":"MOD(初期設定!$C$4,100)*100+ROW(男子選手!B42)","v":42},{"$f":"IFERROR(VLOOKUP($I46,追加登録選手!$A$1:$F$1000,COLUMN(男子選手!B42),FALSE),\"\")","v":""},{"$f":"IFERROR(VLOOKUP($I46,追加登録選手!$A$1:$F$1000,COLUMN(男子選手!C42),FALSE),\"\")","v":""},{"$f":"IFERROR(VLOOKUP($I46,追加登録選手!$A$1:$F$1000,COLUMN(男子選手!D42),FALSE),\"\")","v":""},{"$f":"IFERROR(VLOOKUP($I46,追加登録選手!$A$1:$F$1000,COLUMN(男子選手!E42),FALSE),\"\")","v":""},{"$f":"IFERROR(VLOOKUP($I46,追加登録選手!$A$1:$F$1000,COLUMN(男子選手!F42),FALSE),\"\")","v":""}]
[null,43,"　　　"," ","",{"$f":"VLOOKUP(初期設定!$C$4,学校番号!$A$3:$D$50,4,FALSE)","v":{"$error":"#N/A"}},"　　　()",null,{"$f":"MOD(初期設定!$C$4,100)*100+ROW(男子選手!B43)","v":43},{"$f":"IFERROR(VLOOKUP($I47,追加登録選手!$A$1:$F$1000,COLUMN(男子選手!B43),FALSE),\"\")","v":""},{"$f":"IFERROR(VLOOKUP($I47,追加登録選手!$A$1:$F$1000,COLUMN(男子選手!C43),FALSE),\"\")","v":""},{"$f":"IFERROR(VLOOKUP($I47,追加登録選手!$A$1:$F$1000,COLUMN(男子選手!D43),FALSE),\"\")","v":""},{"$f":"IFERROR(VLOOKUP($I47,追加登録選手!$A$1:$F$1000,COLUMN(男子選手!E43),FALSE),\"\")","v":""},{"$f":"IFERROR(VLOOKUP($I47,追加登録選手!$A$1:$F$1000,COLUMN(男子選手!F43),FALSE),\"\")","v":""}]
[null,44,"　　　"," ","",{"$f":"VLOOKUP(初期設定!$C$4,学校番号!$A$3:$D$50,4,FALSE)","v":{"$error":"#N/A"}},"　　　()",null,{"$f":"MOD(初期設定!$C$4,100)*100+ROW(男子選手!B44)","v":44},{"$f":"IFERROR(VLOOKUP($I48,追加登録選手!$A$1:$F$1000,COLUMN(男子選手!B44),FALSE),\"\")","v":""},{"$f":"IFERROR(VLOOKUP($I48,追加登録選手!$A$1:$F$1000,COLUMN(男子選手!C44),FALSE),\"\")","v":""},{"$f":"IFERROR(VLOOKUP($I48,追加登録選手!$A$1:$F$1000,COLUMN(男子選手!D44),FALSE),\"\")","v":""},{"$f":"IFERROR(VLOOKUP($I48,追加登録選手!$A$1:$F$1000,COLUMN(男子選手!E44),FALSE),\"\")","v":""},{"$f":"IFERROR(VLOOKUP($I48,追加登録選手!$A$1:$F$1000,COLUMN(男子選手!F44),FALSE),\"\")","v":""}]
[null,45,"　　　"," ","",{"$f":"VLOOKUP(初期設定!$C$4,学校番号!$A$3:$D$50,4,FALSE)","v":{"$error":"#N/A"}},"　　　()",null,{"$f":"MOD(初期設定!$C$4,100)*100+ROW(男子選手!B45)","v":45},{"$f":"IFERROR(VLOOKUP($I49,追加登録選手!$A$1:$F$1000,COLUMN(男子選手!B45),FALSE),\"\")","v":""},{"$f":"IFERROR(VLOOKUP($I49,追加登録選手!$A$1:$F$1000,COLUMN(男子選手!C45),FALSE),\"\")","v":""},{"$f":"IFERROR(VLOOKUP($I49,追加登録選手!$A$1:$F$1000,COLUMN(男子選手!D45),FALSE),\"\")","v":""},{"$f":"IFERROR(VLOOKUP($I49,追加登録選手!$A$1:$F$1000,COLUMN(男子選手!E45),FALSE),\"\")","v":""},{"$f":"IFERROR(VLOOKUP($I49,追加登録選手!$A$1:$F$1000,COLUMN(男子選手!F45),FALSE),\"\")","v":""}]
[null,46,"　　　"," ","",{"$f":"VLOOKUP(初期設定!$C$4,学校番号!$A$3:$D$50,4,FALSE)","v":{"$error":"#N/A"}},"　　　()",null,{"$f":"MOD(初期設定!$C$4,100)*100+ROW(男子選手!B46)","v":46},{"$f":"IFERROR(VLOOKUP($I50,追加登録選手!$A$1:$F$1000,COLUMN(男子選手!B46),FALSE),\"\")","v":""},{"$f":"IFERROR(VLOOKUP($I50,追加登録選手!$A$1:$F$1000,COLUMN(男子選手!C46),FALSE),\"\")","v":""},{"$f":"IFERROR(VLOOKUP($I50,追加登録選手!$A$1:$F$1000,COLUMN(男子選手!D46),FALSE),\"\")","v":""},{"$f":"IFERROR(VLOOKUP($I50,追加登録選手!$A$1:$F$1000,COLUMN(男子選手!E46),FALSE),\"\")","v":""},{"$f":"IFERROR(VLOOKUP($I50,追加登録選手!$A$1:$F$1000,COLUMN(男子選手!F46),FALSE),\"\")","v":""}]
[null,47,"　　　"," ","",{"$f":"VLOOKUP(初期設定!$C$4,学校番号!$A$3:$D$50,4,FALSE)","v":{"$error":"#N/A"}},"　　　()",null,{"$f":"MOD(初期設定!$C$4,100)*100+ROW(男子選手!B47)","v":47},{"$f":"IFERROR(VLOOKUP($I51,追加登録選手!$A$1:$F$1000,COLUMN(男子選手!B47),FALSE),\"\")","v":""},{"$f":"IFERROR(VLOOKUP($I51,追加登録選手!$A$1:$F$1000,COLUMN(男子選手!C47),FALSE),\"\")","v":""},{"$f":"IFERROR(VLOOKUP($I51,追加登録選手!$A$1:$F$1000,COLUMN(男子選手!D47),FALSE),\"\")","v":""},{"$f":"IFERROR(VLOOKUP($I51,追加登録選手!$A$1:$F$1000,COLUMN(男子選手!E47),FALSE),\"\")","v":""},{"$f":"IFERROR(VLOOKUP($I51,追加登録選手!$A$1:$F$1000,COLUMN(男子選手!F47),FALSE),\"\")","v":""}]
[null,48,"　　　"," ","",{"$f":"VLOOKUP(初期設定!$C$4,学校番号!$A$3:$D$50,4,FALSE)","v":{"$error":"#N/A"}},"　　　()",null,{"$f":"MOD(初期設定!$C$4,100)*100+ROW(男子選手!B48)","v":48},{"$f":"IFERROR(VLOOKUP($I52,追加登録選手!$A$1:$F$1000,COLUMN(男子選手!B48),FALSE),\"\")","v":""},{"$f":"IFERROR(VLOOKUP($I52,追加登録選手!$A$1:$F$1000,COLUMN(男子選手!C48),FALSE),\"\")","v":""},{"$f":"IFERROR(VLOOKUP($I52,追加登録選手!$A$1:$F$1000,COLUMN(男子選手!D48),FALSE),\"\")","v":""},{"$f":"IFERROR(VLOOKUP($I52,追加登録選手!$A$1:$F$1000,COLUMN(男子選手!E48),FALSE),\"\")","v":""},{"$f":"IFERROR(VLOOKUP($I52,追加登録選手!$A$1:$F$1000,COLUMN(男子選手!F48),FALSE),\"\")","v":""}]
[null,49,"　　　"," ","",{"$f":"VLOOKUP(初期設定!$C$4,学校番号!$A$3:$D$50,4,FALSE)","v":{"$error":"#N/A"}},"　　　()",null,{"$f":"MOD(初期設定!$C$4,100)*100+ROW(男子選手!B49)","v":49},{"$f":"IFERROR(VLOOKUP($I53,追加登録選手!$A$1:$F$1000,COLUMN(男子選手!B49),FALSE),\"\")","v":""},{"$f":"IFERROR(VLOOKUP($I53,追加登録選手!$A$1:$F$1000,COLUMN(男子選手!C49),FALSE),\"\")","v":""},{"$f":"IFERROR(VLOOKUP($I53,追加登録選手!$A$1:$F$1000,COLUMN(男子選手!D49),FALSE),\"\")","v":""},{"$f":"IFERROR(VLOOKUP($I53,追加登録選手!$A$1:$F$1000,COLUMN(男子選手!E49),FALSE),\"\")","v":""},{"$f":"IFERROR(VLOOKUP($I53,追加登録選手!$A$1:$F$1000,COLUMN(男子選手!F49),FALSE),\"\")","v":""}]
[null,50,"　　　"," ","",{"$f":"VLOOKUP(初期設定!$C$4,学校番号!$A$3:$D$50,4,FALSE)","v":{"$error":"#N/A"}},"　　　()",null,{"$f":"MOD(初期設定!$C$4,100)*100+ROW(男子選手!B50)","v":50},{"$f":"IFERROR(VLOOKUP($I54,追加登録選手!$A$1:$F$1000,COLUMN(男子選手!B50),FALSE),\"\")","v":""},{"$f":"IFERROR(VLOOKUP($I54,追加登録選手!$A$1:$F$1000,COLUMN(男子選手!C50),FALSE),\"\")","v":""},{"$f":"IFERROR(VLOOKUP($I54,追加登録選手!$A$1:$F$1000,COLUMN(男子選手!D50),FALSE),\"\")","v":""},{"$f":"IFERROR(VLOOKUP($I54,追加登録選手!$A$1:$F$1000,COLUMN(男子選手!E50),FALSE),\"\")","v":""},{"$f":"IFERROR(VLOOKUP($I54,追加登録選手!$A$1:$F$1000,COLUMN(男子選手!F50),FALSE),\"\")","v":""}]
[null,51,"　　　"," ","",{"$f":"VLOOKUP(初期設定!$C$4,学校番号!$A$3:$D$50,4,FALSE)","v":{"$error":"#N/A"}},"　　　()",null,{"$f":"MOD(初期設定!$C$4,100)*100+ROW(男子選手!B51)","v":51},{"$f":"IFERROR(VLOOKUP($I55,追加登録選手!$A$1:$F$1000,COLUMN(男子選手!B51),FALSE),\"\")","v":""},{"$f":"IFERROR(VLOOKUP($I55,追加登録選手!$A$1:$F$1000,COLUMN(男子選手!C51),FALSE),\"\")","v":""},{"$f":"IFERROR(VLOOKUP($I55,追加登録選手!$A$1:$F$1000,COLUMN(男子選手!D51),FALSE),\"\")","v":""},{"$f":"IFERROR(VLOOKUP($I55,追加登録選手!$A$1:$F$1000,COLUMN(男子選手!E51),FALSE),\"\")","v":""},{"$f":"IFERROR(VLOOKUP($I55,追加登録選手!$A$1:$F$1000,COLUMN(男子選手!F51),FALSE),\"\")","v":""}]
[null,52,"　　　"," ","",{"$f":"VLOOKUP(初期設定!$C$4,学校番号!$A$3:$D$50,4,FALSE)","v":{"$error":"#N/A"}},"　　　()",null,{"$f":"MOD(初期設定!$C$4,100)*100+ROW(男子選手!B52)","v":52},{"$f":"IFERROR(VLOOKUP($I56,追加登録選手!$A$1:$F$1000,COLUMN(男子選手!B52),FALSE),\"\")","v":""},{"$f":"IFERROR(VLOOKUP($I56,追加登録選手!$A$1:$F$1000,COLUMN(男子選手!C52),FALSE),\"\")","v":""},{"$f":"IFERROR(VLOOKUP($I56,追加登録選手!$A$1:$F$1000,COLUMN(男子選手!D52),FALSE),\"\")","v":""},{"$f":"IFERROR(VLOOKUP($I56,追加登録選手!$A$1:$F$1000,COLUMN(男子選手!E52),FALSE),\"\")","v":""},{"$f":"IFERROR(VLOOKUP($I56,追加登録選手!$A$1:$F$1000,COLUMN(男子選手!F52),FALSE),\"\")","v":""}]
[null,53,"　　　"," ","",{"$f":"VLOOKUP(初期設定!$C$4,学校番号!$A$3:$D$50,4,FALSE)","v":{"$error":"#N/A"}},"　　　()",null,{"$f":"MOD(初期設定!$C$4,100)*100+ROW(男子選手!B53)","v":53},{"$f":"IFERROR(VLOOKUP($I57,追加登録選手!$A$1:$F$1000,COLUMN(男子選手!B53),FALSE),\"\")","v":""},{"$f":"IFERROR(VLOOKUP($I57,追加登録選手!$A$1:$F$1000,COLUMN(男子選手!C53),FALSE),\"\")","v":""},{"$f":"IFERROR(VLOOKUP($I57,追加登録選手!$A$1:$F$1000,COLUMN(男子選手!D53),FALSE),\"\")","v":""},{"$f":"IFERROR(VLOOKUP($I57,追加登録選手!$A$1:$F$1000,COLUMN(男子選手!E53),FALSE),\"\")","v":""},{"$f":"IFERROR(VLOOKUP($I57,追加登録選手!$A$1:$F$1000,COLUMN(男子選手!F53),FALSE),\"\")","v":""}]
[null,54,"　　　"," ","",{"$f":"VLOOKUP(初期設定!$C$4,学校番号!$A$3:$D$50,4,FALSE)","v":{"$error":"#N/A"}},"　　　()",null,{"$f":"MOD(初期設定!$C$4,100)*100+ROW(男子選手!B54)","v":54},{"$f":"IFERROR(VLOOKUP($I58,追加登録選手!$A$1:$F$1000,COLUMN(男子選手!B54),FALSE),\"\")","v":""},{"$f":"IFERROR(VLOOKUP($I58,追加登録選手!$A$1:$F$1000,COLUMN(男子選手!C54),FALSE),\"\")","v":""},{"$f":"IFERROR(VLOOKUP($I58,追加登録選手!$A$1:$F$1000,COLUMN(男子選手!D54),FALSE),\"\")","v":""},{"$f":"IFERROR(VLOOKUP($I58,追加登録選手!$A$1:$F$1000,COLUMN(男子選手!E54),FALSE),\"\")","v":""},{"$f":"IFERROR(VLOOKUP($I58,追加登録選手!$A$1:$F$1000,COLUMN(男子選手!F54),FALSE),\"\")","v":""}]
[null,55,"　　　"," ","",{"$f":"VLOOKUP(初期設定!$C$4,学校番号!$A$3:$D$50,4,FALSE)","v":{"$error":"#N/A"}},"　　　()",null,{"$f":"MOD(初期設定!$C$4,100)*100+ROW(男子選手!B55)","v":55},{"$f":"IFERROR(VLOOKUP($I59,追加登録選手!$A$1:$F$1000,COLUMN(男子選手!B55),FALSE),\"\")","v":""},{"$f":"IFERROR(VLOOKUP($I59,追加登録選手!$A$1:$F$1000,COLUMN(男子選手!C55),FALSE),\"\")","v":""},{"$f":"IFERROR(VLOOKUP($I59,追加登録選手!$A$1:$F$1000,COLUMN(男子選手!D55),FALSE),\"\")","v":""},{"$f":"IFERROR(VLOOKUP($I59,追加登録選手!$A$1:$F$1000,COLUMN(男子選手!E55),FALSE),\"\")","v":""},{"$f":"IFERROR(VLOOKUP($I59,追加登録選手!$A$1:$F$1000,COLUMN(男子選手!F55),FALSE),\"\")","v":""}]
[null,56,"　　　"," ","",{"$f":"VLOOKUP(初期設定!$C$4,学校番号!$A$3:$D$50,4,FALSE)","v":{"$error":"#N/A"}},"　　　()",null,{"$f":"MOD(初期設定!$C$4,100)*100+ROW(男子選手!B56)","v":56},{"$f":"IFERROR(VLOOKUP($I60,追加登録選手!$A$1:$F$1000,COLUMN(男子選手!B56),FALSE),\"\")","v":""},{"$f":"IFERROR(VLOOKUP($I60,追加登録選手!$A$1:$F$1000,COLUMN(男子選手!C56),FALSE),\"\")","v":""},{"$f":"IFERROR(VLOOKUP($I60,追加登録選手!$A$1:$F$1000,COLUMN(男子選手!D56),FALSE),\"\")","v":""},{"$f":"IFERROR(VLOOKUP($I60,追加登録選手!$A$1:$F$1000,COLUMN(男子選手!E56),FALSE),\"\")","v":""},{"$f":"IFERROR(VLOOKUP($I60,追加登録選手!$A$1:$F$1000,COLUMN(男子選手!F56),FALSE),\"\")","v":""}]
[null,57,"　　　"," ","",{"$f":"VLOOKUP(初期設定!$C$4,学校番号!$A$3:$D$50,4,FALSE)","v":{"$error":"#N/A"}},"　　　()",null,{"$f":"MOD(初期設定!$C$4,100)*100+ROW(男子選手!B57)","v":57},{"$f":"IFERROR(VLOOKUP($I61,追加登録選手!$A$1:$F$1000,COLUMN(男子選手!B57),FALSE),\"\")","v":""},{"$f":"IFERROR(VLOOKUP($I61,追加登録選手!$A$1:$F$1000,COLUMN(男子選手!C57),FALSE),\"\")","v":""},{"$f":"IFERROR(VLOOKUP($I61,追加登録選手!$A$1:$F$1000,COLUMN(男子選手!D57),FALSE),\"\")","v":""},{"$f":"IFERROR(VLOOKUP($I61,追加登録選手!$A$1:$F$1000,COLUMN(男子選手!E57),FALSE),\"\")","v":""},{"$f":"IFERROR(VLOOKUP($I61,追加登録選手!$A$1:$F$1000,COLUMN(男子選手!F57),FALSE),\"\")","v":""}]
[null,58,"　　　"," ","",{"$f":"VLOOKUP(初期設定!$C$4,学校番号!$A$3:$D$50,4,FALSE)","v":{"$error":"#N/A"}},"　　　()",null,{"$f":"MOD(初期設定!$C$4,100)*100+ROW(男子選手!B58)","v":58},{"$f":"IFERROR(VLOOKUP($I62,追加登録選手!$A$1:$F$1000,COLUMN(男子選手!B58),FALSE),\"\")","v":""},{"$f":"IFERROR(VLOOKUP($I62,追加登録選手!$A$1:$F$1000,COLUMN(男子選手!C58),FALSE),\"\")","v":""},{"$f":"IFERROR(VLOOKUP($I62,追加登録選手!$A$1:$F$1000,COLUMN(男子選手!D58),FALSE),\"\")","v":""},{"$f":"IFERROR(VLOOKUP($I62,追加登録選手!$A$1:$F$1000,COLUMN(男子選手!E58),FALSE),\"\")","v":""},{"$f":"IFERROR(VLOOKUP($I62,追加登録選手!$A$1:$F$1000,COLUMN(男子選手!F58),FALSE),\"\")","v":""}]
[null,59,"　　　"," ","",{"$f":"VLOOKUP(初期設定!$C$4,学校番号!$A$3:$D$50,4,FALSE)","v":{"$error":"#N/A"}},"　　　()",null,{"$f":"MOD(初期設定!$C$4,100)*100+ROW(男子選手!B59)","v":59},{"$f":"IFERROR(VLOOKUP($I63,追加登録選手!$A$1:$F$1000,COLUMN(男子選手!B59),FALSE),\"\")","v":""},{"$f":"IFERROR(VLOOKUP($I63,追加登録選手!$A$1:$F$1000,COLUMN(男子選手!C59),FALSE),\"\")","v":""},{"$f":"IFERROR(VLOOKUP($I63,追加登録選手!$A$1:$F$1000,COLUMN(男子選手!D59),FALSE),\"\")","v":""},{"$f":"IFERROR(VLOOKUP($I63,追加登録選手!$A$1:$F$1000,COLUMN(男子選手!E59),FALSE),\"\")","v":""},{"$f":"IFERROR(VLOOKUP($I63,追加登録選手!$A$1:$F$1000,COLUMN(男子選手!F59),FALSE),\"\")","v":""}]
[null,60,"　　　"," ","",{"$f":"VLOOKUP(初期設定!$C$4,学校番号!$A$3:$D$50,4,FALSE)","v":{"$error":"#N/A"}},"　　　()",null,{"$f":"MOD(初期設定!$C$4,100)*100+ROW(男子選手!B60)","v":60},{"$f":"IFERROR(VLOOKUP($I64,追加登録選手!$A$1:$F$1000,COLUMN(男子選手!B60),FALSE),\"\")","v":""},{"$f":"IFERROR(VLOOKUP($I64,追加登録選手!$A$1:$F$1000,COLUMN(男子選手!C60),FALSE),\"\")","v":""},{"$f":"IFERROR(VLOOKUP($I64,追加登録選手!$A$1:$F$1000,COLUMN(男子選手!D60),FALSE),\"\")","v":""},{"$f":"IFERROR(VLOOKUP($I64,追加登録選手!$A$1:$F$1000,COLUMN(男子選手!E60),FALSE),\"\")","v":""},{"$f":"IFERROR(VLOOKUP($I64,追加登録選手!$A$1:$F$1000,COLUMN(男子選手!F60),FALSE),\"\")","v":""}]
[null,61,"　　　"," ","",{"$f":"VLOOKUP(初期設定!$C$4,学校番号!$A$3:$D$50,4,FALSE)","v":{"$error":"#N/A"}},"　　　()",null,{"$f":"MOD(初期設定!$C$4,100)*100+ROW(男子選手!B61)","v":61},{"$f":"IFERROR(VLOOKUP($I65,追加登録選手!$A$1:$F$1000,COLUMN(男子選手!B61),FALSE),\"\")","v":""},{"$f":"IFERROR(VLOOKUP($I65,追加登録選手!$A$1:$F$1000,COLUMN(男子選手!C61),FALSE),\"\")","v":""},{"$f":"IFERROR(VLOOKUP($I65,追加登録選手!$A$1:$F$1000,COLUMN(男子選手!D61),FALSE),\"\")","v":""},{"$f":"IFERROR(VLOOKUP($I65,追加登録選手!$A$1:$F$1000,COLUMN(男子選手!E61),FALSE),\"\")","v":""},{"$f":"IFERROR(VLOOKUP($I65,追加登録選手!$A$1:$F$1000,COLUMN(男子選手!F61),FALSE),\"\")","v":""}]
[null,62,"　　　"," ","",{"$f":"VLOOKUP(初期設定!$C$4,学校番号!$A$3:$D$50,4,FALSE)","v":{"$error":"#N/A"}},"　　　()",null,{"$f":"MOD(初期設定!$C$4,100)*100+ROW(男子選手!B62)","v":62},{"$f":"IFERROR(VLOOKUP($I66,追加登録選手!$A$1:$F$1000,COLUMN(男子選手!B62),FALSE),\"\")","v":""},{"$f":"IFERROR(VLOOKUP($I66,追加登録選手!$A$1:$F$1000,COLUMN(男子選手!C62),FALSE),\"\")","v":""},{"$f":"IFERROR(VLOOKUP($I66,追加登録選手!$A$1:$F$1000,COLUMN(男子選手!D62),FALSE),\"\")","v":""},{"$f":"IFERROR(VLOOKUP($I66,追加登録選手!$A$1:$F$1000,COLUMN(男子選手!E62),FALSE),\"\")","v":""},{"$f":"IFERROR(VLOOKUP($I66,追加登録選手!$A$1:$F$1000,COLUMN(男子選手!F62),FALSE),\"\")","v":""}]
[null,63,"　　　"," ","",{"$f":"VLOOKUP(初期設定!$C$4,学校番号!$A$3:$D$50,4,FALSE)","v":{"$error":"#N/A"}},"　　　()",null,{"$f":"MOD(初期設定!$C$4,100)*100+ROW(男子選手!B63)","v":63},{"$f":"IFERROR(VLOOKUP($I67,追加登録選手!$A$1:$F$1000,COLUMN(男子選手!B63),FALSE),\"\")","v":""},{"$f":"IFERROR(VLOOKUP($I67,追加登録選手!$A$1:$F$1000,COLUMN(男子選手!C63),FALSE),\"\")","v":""},{"$f":"IFERROR(VLOOKUP($I67,追加登録選手!$A$1:$F$1000,COLUMN(男子選手!D63),FALSE),\"\")","v":""},{"$f":"IFERROR(VLOOKUP($I67,追加登録選手!$A$1:$F$1000,COLUMN(男子選手!E63),FALSE),\"\")","v":""},{"$f":"IFERROR(VLOOKUP($I67,追加登録選手!$A$1:$F$1000,COLUMN(男子選手!F63),FALSE),\"\")","v":""}]
[null,64,"　　　"," ","",{"$f":"VLOOKUP(初期設定!$C$4,学校番号!$A$3:$D$50,4,FALSE)","v":{"$error":"#N/A"}},"　　　()",null,{"$f":"MOD(初期設定!$C$4,100)*100+ROW(男子選手!B64)","v":64},{"$f":"IFERROR(VLOOKUP($I68,追加登録選手!$A$1:$F$1000,COLUMN(男子選手!B64),FALSE),\"\")","v":""},{"$f":"IFERROR(VLOOKUP($I68,追加登録選手!$A$1:$F$1000,COLUMN(男子選手!C64),FALSE),\"\")","v":""},{"$f":"IFERROR(VLOOKUP($I68,追加登録選手!$A$1:$F$1000,COLUMN(男子選手!D64),FALSE),\"\")","v":""},{"$f":"IFERROR(VLOOKUP($I68,追加登録選手!$A$1:$F$1000,COLUMN(男子選手!E64),FALSE),\"\")","v":""},{"$f":"IFERROR(VLOOKUP($I68,追加登録選手!$A$1:$F$1000,COLUMN(男子選手!F64),FALSE),\"\")","v":""}]
[null,65,"　　　"," ","",{"$f":"VLOOKUP(初期設定!$C$4,学校番号!$A$3:$D$50,4,FALSE)","v":{"$error":"#N/A"}},"　　　()",null,{"$f":"MOD(初期設定!$C$4,100)*100+ROW(男子選手!B65)","v":65},{"$f":"IFERROR(VLOOKUP($I69,追加登録選手!$A$1:$F$1000,COLUMN(男子選手!B65),FALSE),\"\")","v":""},{"$f":"IFERROR(VLOOKUP($I69,追加登録選手!$A$1:$F$1000,COLUMN(男子選手!C65),FALSE),\"\")","v":""},{"$f":"IFERROR(VLOOKUP($I69,追加登録選手!$A$1:$F$1000,COLUMN(男子選手!D65),FALSE),\"\")","v":""},{"$f":"IFERROR(VLOOKUP($I69,追加登録選手!$A$1:$F$1000,COLUMN(男子選手!E65),FALSE),\"\")","v":""},{"$f":"IFERROR(VLOOKUP($I69,追加登録選手!$A$1:$F$1000,COLUMN(男子選手!F65),FALSE),\"\")","v":""}]
[null,{"$f":"IFERROR(VALUE(SUBSTITUTE(I70,\"\"\"\",\"\")),\"\")","v":66},{"$f":"IFERROR(J70&VLOOKUP(5-LEN(J70)-LEN(K70),$C$104:$D$107,2,TRUE)&K70,\"\")","v":"　　　"},{"$f":"IFERROR(ASC(L70)&\" \"&ASC(M70),\"\")","v":" "},{"$f":"IFERROR(RIGHT(N70,1),\"\")","v":""},{"$f":"VLOOKUP(初期設定!$C$4,学校番号!$A$3:$D$50,4,FALSE)","v":{"$error":"#N/A"}},{"$f":"IF(B70=\"\",\"\",C70&\"(\"&E70&\")\")","v":"　　　()"},null,{"$f":"MOD(初期設定!$C$4,100)*100+ROW(男子選手!B66)","v":66},{"$f":"IFERROR(VLOOKUP($I70,追加登録選手!$A$1:$F$1000,COLUMN(男子選手!B66),FALSE),\"\")","v":""},{"$f":"IFERROR(VLOOKUP($I70,追加登録選手!$A$1:$F$1000,COLUMN(男子選手!C66),FALSE),\"\")","v":""},{"$f":"IFERROR(VLOOKUP($I70,追加登録選手!$A$1:$F$1000,COLUMN(男子選手!D66),FALSE),\"\")","v":""},{"$f":"IFERROR(VLOOKUP($I70,追加登録選手!$A$1:$F$1000,COLUMN(男子選手!E66),FALSE),\"\")","v":""},{"$f":"IFERROR(VLOOKUP($I70,追加登録選手!$A$1:$F$1000,COLUMN(男子選手!F66),FALSE),\"\")","v":""}]
[null,67,"　　　"," ","",{"$f":"VLOOKUP(初期設定!$C$4,学校番号!$A$3:$D$50,4,FALSE)","v":{"$error":"#N/A"}},"　　　()",null,{"$f":"MOD(初期設定!$C$4,100)*100+ROW(男子選手!B67)","v":67},{"$f":"IFERROR(VLOOKUP($I71,追加登録選手!$A$1:$F$1000,COLUMN(男子選手!B67),FALSE),\"\")","v":""},{"$f":"IFERROR(VLOOKUP($I71,追加登録選手!$A$1:$F$1000,COLUMN(男子選手!C67),FALSE),\"\")","v":""},{"$f":"IFERROR(VLOOKUP($I71,追加登録選手!$A$1:$F$1000,COLUMN(男子選手!D67),FALSE),\"\")","v":""},{"$f":"IFERROR(VLOOKUP($I71,追加登録選手!$A$1:$F$1000,COLUMN(男子選手!E67),FALSE),\"\")","v":""},{"$f":"IFERROR(VLOOKUP($I71,追加登録選手!$A$1:$F$1000,COLUMN(男子選手!F67),FALSE),\"\")","v":""}]
[null,68,"　　　"," ","",{"$f":"VLOOKUP(初期設定!$C$4,学校番号!$A$3:$D$50,4,FALSE)","v":{"$error":"#N/A"}},"　　　()",null,{"$f":"MOD(初期設定!$C$4,100)*100+ROW(男子選手!B68)","v":68},{"$f":"IFERROR(VLOOKUP($I72,追加登録選手!$A$1:$F$1000,COLUMN(男子選手!B68),FALSE),\"\")","v":""},{"$f":"IFERROR(VLOOKUP($I72,追加登録選手!$A$1:$F$1000,COLUMN(男子選手!C68),FALSE),\"\")","v":""},{"$f":"IFERROR(VLOOKUP($I72,追加登録選手!$A$1:$F$1000,COLUMN(男子選手!D68),FALSE),\"\")","v":""},{"$f":"IFERROR(VLOOKUP($I72,追加登録選手!$A$1:$F$1000,COLUMN(男子選手!E68),FALSE),\"\")","v":""},{"$f":"IFERROR(VLOOKUP($I72,追加登録選手!$A$1:$F$1000,COLUMN(男子選手!F68),FALSE),\"\")","v":""}]
[null,69,"　　　"," ","",{"$f":"VLOOKUP(初期設定!$C$4,学校番号!$A$3:$D$50,4,FALSE)","v":{"$error":"#N/A"}},"　　　()",null,{"$f":"MOD(初期設定!$C$4,100)*100+ROW(男子選手!B69)","v":69},{"$f":"IFERROR(VLOOKUP($I73,追加登録選手!$A$1:$F$1000,COLUMN(男子選手!B69),FALSE),\"\")","v":""},{"$f":"IFERROR(VLOOKUP($I73,追加登録選手!$A$1:$F$1000,COLUMN(男子選手!C69),FALSE),\"\")","v":""},{"$f":"IFERROR(VLOOKUP($I73,追加登録選手!$A$1:$F$1000,COLUMN(男子選手!D69),FALSE),\"\")","v":""},{"$f":"IFERROR(VLOOKUP($I73,追加登録選手!$A$1:$F$1000,COLUMN(男子選手!E69),FALSE),\"\")","v":""},{"$f":"IFERROR(VLOOKUP($I73,追加登録選手!$A$1:$F$1000,COLUMN(男子選手!F69),FALSE),\"\")","v":""}]
[null,70,"　　　"," ","",{"$f":"VLOOKUP(初期設定!$C$4,学校番号!$A$3:$D$50,4,FALSE)","v":{"$error":"#N/A"}},"　　　()",null,{"$f":"MOD(初期設定!$C$4,100)*100+ROW(男子選手!B70)","v":70},{"$f":"IFERROR(VLOOKUP($I74,追加登録選手!$A$1:$F$1000,COLUMN(男子選手!B70),FALSE),\"\")","v":""},{"$f":"IFERROR(VLOOKUP($I74,追加登録選手!$A$1:$F$1000,COLUMN(男子選手!C70),FALSE),\"\")","v":""},{"$f":"IFERROR(VLOOKUP($I74,追加登録選手!$A$1:$F$1000,COLUMN(男子選手!D70),FALSE),\"\")","v":""},{"$f":"IFERROR(VLOOKUP($I74,追加登録選手!$A$1:$F$1000,COLUMN(男子選手!E70),FALSE),\"\")","v":""},{"$f":"IFERROR(VLOOKUP($I74,追加登録選手!$A$1:$F$1000,COLUMN(男子選手!F70),FALSE),\"\")","v":""}]
[null,71,"　　　"," ","",{"$f":"VLOOKUP(初期設定!$C$4,学校番号!$A$3:$D$50,4,FALSE)","v":{"$error":"#N/A"}},"　　　()",null,{"$f":"MOD(初期設定!$C$4,100)*100+ROW(男子選手!B71)","v":71},{"$f":"IFERROR(VLOOKUP($I75,追加登録選手!$A$1:$F$1000,COLUMN(男子選手!B71),FALSE),\"\")","v":""},{"$f":"IFERROR(VLOOKUP($I75,追加登録選手!$A$1:$F$1000,COLUMN(男子選手!C71),FALSE),\"\")","v":""},{"$f":"IFERROR(VLOOKUP($I75,追加登録選手!$A$1:$F$1000,COLUMN(男子選手!D71),FALSE),\"\")","v":""},{"$f":"IFERROR(VLOOKUP($I75,追加登録選手!$A$1:$F$1000,COLUMN(男子選手!E71),FALSE),\"\")","v":""},{"$f":"IFERROR(VLOOKUP($I75,追加登録選手!$A$1:$F$1000,COLUMN(男子選手!F71),FALSE),\"\")","v":""}]
[null,72,"　　　"," ","",{"$f":"VLOOKUP(初期設定!$C$4,学校番号!$A$3:$D$50,4,FALSE)","v":{"$error":"#N/A"}},"　　　()",null,{"$f":"MOD(初期設定!$C$4,100)*100+ROW(男子選手!B72)","v":72},{"$f":"IFERROR(VLOOKUP($I76,追加登録選手!$A$1:$F$1000,COLUMN(男子選手!B72),FALSE),\"\")","v":""},{"$f":"IFERROR(VLOOKUP($I76,追加登録選手!$A$1:$F$1000,COLUMN(男子選手!C72),FALSE),\"\")","v":""},{"$f":"IFERROR(VLOOKUP($I76,追加登録選手!$A$1:$F$1000,COLUMN(男子選手!D72),FALSE),\"\")","v":""},{"$f":"IFERROR(VLOOKUP($I76,追加登録選手!$A$1:$F$1000,COLUMN(男子選手!E72),FALSE),\"\")","v":""},{"$f":"IFERROR(VLOOKUP($I76,追加登録選手!$A$1:$F$1000,COLUMN(男子選手!F72),FALSE),\"\")","v":""}]
[null,73,"　　　"," ","",{"$f":"VLOOKUP(初期設定!$C$4,学校番号!$A$3:$D$50,4,FALSE)","v":{"$error":"#N/A"}},"　　　()",null,{"$f":"MOD(初期設定!$C$4,100)*100+ROW(男子選手!B73)","v":73},{"$f":"IFERROR(VLOOKUP($I77,追加登録選手!$A$1:$F$1000,COLUMN(男子選手!B73),FALSE),\"\")","v":""},{"$f":"IFERROR(VLOOKUP($I77,追加登録選手!$A$1:$F$1000,COLUMN(男子選手!C73),FALSE),\"\")","v":""},{"$f":"IFERROR(VLOOKUP($I77,追加登録選手!$A$1:$F$1000,COLUMN(男子選手!D73),FALSE),\"\")","v":""},{"$f":"IFERROR(VLOOKUP($I77,追加登録選手!$A$1:$F$1000,COLUMN(男子選手!E73),FALSE),\"\")","v":""},{"$f":"IFERROR(VLOOKUP($I77,追加登録選手!$A$1:$F$1000,COLUMN(男子選手!F73),FALSE),\"\")","v":""}]
[null,74,"　　　"," ","",{"$f":"VLOOKUP(初期設定!$C$4,学校番号!$A$3:$D$50,4,FALSE)","v":{"$error":"#N/A"}},"　　　()",null,{"$f":"MOD(初期設定!$C$4,100)*100+ROW(男子選手!B74)","v":74},{"$f":"IFERROR(VLOOKUP($I78,追加登録選手!$A$1:$F$1000,COLUMN(男子選手!B74),FALSE),\"\")","v":""},{"$f":"IFERROR(VLOOKUP($I78,追加登録選手!$A$1:$F$1000,COLUMN(男子選手!C74),FALSE),\"\")","v":""},{"$f":"IFERROR(VLOOKUP($I78,追加登録選手!$A$1:$F$1000,COLUMN(男子選手!D74),FALSE),\"\")","v":""},{"$f":"IFERROR(VLOOKUP($I78,追加登録選手!$A$1:$F$1000,COLUMN(男子選手!E74),FALSE),\"\")","v":""},{"$f":"IFERROR(VLOOKUP($I78,追加登録選手!$A$1:$F$1000,COLUMN(男子選手!F74),FALSE),\"\")","v":""}]
[null,75,"　　　"," ","",{"$f":"VLOOKUP(初期設定!$C$4,学校番号!$A$3:$D$50,4,FALSE)","v":{"$error":"#N/A"}},"　　　()",null,{"$f":"MOD(初期設定!$C$4,100)*100+ROW(男子選手!B75)","v":75},{"$f":"IFERROR(VLOOKUP($I79,追加登録選手!$A$1:$F$1000,COLUMN(男子選手!B75),FALSE),\"\")","v":""},{"$f":"IFERROR(VLOOKUP($I79,追加登録選手!$A$1:$F$1000,COLUMN(男子選手!C75),FALSE),\"\")","v":""},{"$f":"IFERROR(VLOOKUP($I79,追加登録選手!$A$1:$F$1000,COLUMN(男子選手!D75),FALSE),\"\")","v":""},{"$f":"IFERROR(VLOOKUP($I79,追加登録選手!$A$1:$F$1000,COLUMN(男子選手!E75),FALSE),\"\")","v":""},{"$f":"IFERROR(VLOOKUP($I79,追加登録選手!$A$1:$F$1000,COLUMN(男子選手!F75),FALSE),\"\")","v":""}]
[null,76,"　　　"," ","",{"$f":"VLOOKUP(初期設定!$C$4,学校番号!$A$3:$D$50,4,FALSE)","v":{"$error":"#N/A"}},"　　　()",null,{"$f":"MOD(初期設定!$C$4,100)*100+ROW(男子選手!B76)","v":76},{"$f":"IFERROR(VLOOKUP($I80,追加登録選手!$A$1:$F$1000,COLUMN(男子選手!B76),FALSE),\"\")","v":""},{"$f":"IFERROR(VLOOKUP($I80,追加登録選手!$A$1:$F$1000,COLUMN(男子選手!C76),FALSE),\"\")","v":""},{"$f":"IFERROR(VLOOKUP($I80,追加登録選手!$A$1:$F$1000,COLUMN(男子選手!D76),FALSE),\"\")","v":""},{"$f":"IFERROR(VLOOKUP($I80,追加登録選手!$A$1:$F$1000,COLUMN(男子選手!E76),FALSE),\"\")","v":""},{"$f":"IFERROR(VLOOKUP($I80,追加登録選手!$A$1:$F$1000,COLUMN(男子選手!F76),FALSE),\"\")","v":""}]
[null,77,"　　　"," ","",{"$f":"VLOOKUP(初期設定!$C$4,学校番号!$A$3:$D$50,4,FALSE)","v":{"$error":"#N/A"}},"　　　()",null,{"$f":"MOD(初期設定!$C$4,100)*100+ROW(男子選手!B77)","v":77},{"$f":"IFERROR(VLOOKUP($I81,追加登録選手!$A$1:$F$1000,COLUMN(男子選手!B77),FALSE),\"\")","v":""},{"$f":"IFERROR(VLOOKUP($I81,追加登録選手!$A$1:$F$1000,COLUMN(男子選手!C77),FALSE),\"\")","v":""},{"$f":"IFERROR(VLOOKUP($I81,追加登録選手!$A$1:$F$1000,COLUMN(男子選手!D77),FALSE),\"\")","v":""},{"$f":"IFERROR(VLOOKUP($I81,追加登録選手!$A$1:$F$1000,COLUMN(男子選手!E77),FALSE),\"\")","v":""},{"$f":"IFERROR(VLOOKUP($I81,追加登録選手!$A$1:$F$1000,COLUMN(男子選手!F77),FALSE),\"\")","v":""}]
[null,78,"　　　"," ","",{"$f":"VLOOKUP(初期設定!$C$4,学校番号!$A$3:$D$50,4,FALSE)","v":{"$error":"#N/A"}},"　　　()",null,{"$f":"MOD(初期設定!$C$4,100)*100+ROW(男子選手!B78)","v":78},{"$f":"IFERROR(VLOOKUP($I82,追加登録選手!$A$1:$F$1000,COLUMN(男子選手!B78),FALSE),\"\")","v":""},{"$f":"IFERROR(VLOOKUP($I82,追加登録選手!$A$1:$F$1000,COLUMN(男子選手!C78),FALSE),\"\")","v":""},{"$f":"IFERROR(VLOOKUP($I82,追加登録選手!$A$1:$F$1000,COLUMN(男子選手!D78),FALSE),\"\")","v":""},{"$f":"IFERROR(VLOOKUP($I82,追加登録選手!$A$1:$F$1000,COLUMN(男子選手!E78),FALSE),\"\")","v":""},{"$f":"IFERROR(VLOOKUP($I82,追加登録選手!$A$1:$F$1000,COLUMN(男子選手!F78),FALSE),\"\")","v":""}]
[null,79,"　　　"," ","",{"$f":"VLOOKUP(初期設定!$C$4,学校番号!$A$3:$D$50,4,FALSE)","v":{"$error":"#N/A"}},"　　　()",null,{"$f":"MOD(初期設定!$C$4,100)*100+ROW(男子選手!B79)","v":79},{"$f":"IFERROR(VLOOKUP($I83,追加登録選手!$A$1:$F$1000,COLUMN(男子選手!B79),FALSE),\"\")","v":""},{"$f":"IFERROR(VLOOKUP($I83,追加登録選手!$A$1:$F$1000,COLUMN(男子選手!C79),FALSE),\"\")","v":""},{"$f":"IFERROR(VLOOKUP($I83,追加登録選手!$A$1:$F$1000,COLUMN(男子選手!D79),FALSE),\"\")","v":""},{"$f":"IFERROR(VLOOKUP($I83,追加登録選手!$A$1:$F$1000,COLUMN(男子選手!E79),FALSE),\"\")","v":""},{"$f":"IFERROR(VLOOKUP($I83,追加登録選手!$A$1:$F$1000,COLUMN(男子選手!F79),FALSE),\"\")","v":""}]
[null,80,"　　　"," ","",{"$f":"VLOOKUP(初期設定!$C$4,学校番号!$A$3:$D$50,4,FALSE)","v":{"$error":"#N/A"}},"　　　()",null,{"$f":"MOD(初期設定!$C$4,100)*100+ROW(男子選手!B80)","v":80},{"$f":"IFERROR(VLOOKUP($I84,追加登録選手!$A$1:$F$1000,COLUMN(男子選手!B80),FALSE),\"\")","v":""},{"$f":"IFERROR(VLOOKUP($I84,追加登録選手!$A$1:$F$1000,COLUMN(男子選手!C80),FALSE),\"\")","v":""},{"$f":"IFERROR(VLOOKUP($I84,追加登録選手!$A$1:$F$1000,COLUMN(男子選手!D80),FALSE),\"\")","v":""},{"$f":"IFERROR(VLOOKUP($I84,追加登録選手!$A$1:$F$1000,COLUMN(男子選手!E80),FALSE),\"\")","v":""},{"$f":"IFERROR(VLOOKUP($I84,追加登録選手!$A$1:$F$1000,COLUMN(男子選手!F80),FALSE),\"\")","v":""}]
[null,81,"　　　"," ","",{"$f":"VLOOKUP(初期設定!$C$4,学校番号!$A$3:$D$50,4,FALSE)","v":{"$error":"#N/A"}},"　　　()",null,{"$f":"MOD(初期設定!$C$4,100)*100+ROW(男子選手!B81)","v":81},{"$f":"IFERROR(VLOOKUP($I85,追加登録選手!$A$1:$F$1000,COLUMN(男子選手!B81),FALSE),\"\")","v":""},{"$f":"IFERROR(VLOOKUP($I85,追加登録選手!$A$1:$F$1000,COLUMN(男子選手!C81),FALSE),\"\")","v":""},{"$f":"IFERROR(VLOOKUP($I85,追加登録選手!$A$1:$F$1000,COLUMN(男子選手!D81),FALSE),\"\")","v":""},{"$f":"IFERROR(VLOOKUP($I85,追加登録選手!$A$1:$F$1000,COLUMN(男子選手!E81),FALSE),\"\")","v":""},{"$f":"IFERROR(VLOOKUP($I85,追加登録選手!$A$1:$F$1000,COLUMN(男子選手!F81),FALSE),\"\")","v":""}]
[null,82,"　　　"," ","",{"$f":"VLOOKUP(初期設定!$C$4,学校番号!$A$3:$D$50,4,FALSE)","v":{"$error":"#N/A"}},"　　　()",null,{"$f":"MOD(初期設定!$C$4,100)*100+ROW(男子選手!B82)","v":82},{"$f":"IFERROR(VLOOKUP($I86,追加登録選手!$A$1:$F$1000,COLUMN(男子選手!B82),FALSE),\"\")","v":""},{"$f":"IFERROR(VLOOKUP($I86,追加登録選手!$A$1:$F$1000,COLUMN(男子選手!C82),FALSE),\"\")","v":""},{"$f":"IFERROR(VLOOKUP($I86,追加登録選手!$A$1:$F$1000,COLUMN(男子選手!D82),FALSE),\"\")","v":""},{"$f":"IFERROR(VLOOKUP($I86,追加登録選手!$A$1:$F$1000,COLUMN(男子選手!E82),FALSE),\"\")","v":""},{"$f":"IFERROR(VLOOKUP($I86,追加登録選手!$A$1:$F$1000,COLUMN(男子選手!F82),FALSE),\"\")","v":""}]
[null,83,"　　　"," ","",{"$f":"VLOOKUP(初期設定!$C$4,学校番号!$A$3:$D$50,4,FALSE)","v":{"$error":"#N/A"}},"　　　()",null,{"$f":"MOD(初期設定!$C$4,100)*100+ROW(男子選手!B83)","v":83},{"$f":"IFERROR(VLOOKUP($I87,追加登録選手!$A$1:$F$1000,COLUMN(男子選手!B83),FALSE),\"\")","v":""},{"$f":"IFERROR(VLOOKUP($I87,追加登録選手!$A$1:$F$1000,COLUMN(男子選手!C83),FALSE),\"\")","v":""},{"$f":"IFERROR(VLOOKUP($I87,追加登録選手!$A$1:$F$1000,COLUMN(男子選手!D83),FALSE),\"\")","v":""},{"$f":"IFERROR(VLOOKUP($I87,追加登録選手!$A$1:$F$1000,COLUMN(男子選手!E83),FALSE),\"\")","v":""},{"$f":"IFERROR(VLOOKUP($I87,追加登録選手!$A$1:$F$1000,COLUMN(男子選手!F83),FALSE),\"\")","v":""}]
[null,84,"　　　"," ","",{"$f":"VLOOKUP(初期設定!$C$4,学校番号!$A$3:$D$50,4,FALSE)","v":{"$error":"#N/A"}},"　　　()",null,{"$f":"MOD(初期設定!$C$4,100)*100+ROW(男子選手!B84)","v":84},{"$f":"IFERROR(VLOOKUP($I88,追加登録選手!$A$1:$F$1000,COLUMN(男子選手!B84),FALSE),\"\")","v":""},{"$f":"IFERROR(VLOOKUP($I88,追加登録選手!$A$1:$F$1000,COLUMN(男子選手!C84),FALSE),\"\")","v":""},{"$f":"IFERROR(VLOOKUP($I88,追加登録選手!$A$1:$F$1000,COLUMN(男子選手!D84),FALSE),\"\")","v":""},{"$f":"IFERROR(VLOOKUP($I88,追加登録選手!$A$1:$F$1000,COLUMN(男子選手!E84),FALSE),\"\")","v":""},{"$f":"IFERROR(VLOOKUP($I88,追加登録選手!$A$1:$F$1000,COLUMN(男子選手!F84),FALSE),\"\")","v":""}]
[null,85,"　　　"," ","",{"$f":"VLOOKUP(初期設定!$C$4,学校番号!$A$3:$D$50,4,FALSE)","v":{"$error":"#N/A"}},"　　　()",null,{"$f":"MOD(初期設定!$C$4,100)*100+ROW(男子選手!B85)","v":85},{"$f":"IFERROR(VLOOKUP($I89,追加登録選手!$A$1:$F$1000,COLUMN(男子選手!B85),FALSE),\"\")","v":""},{"$f":"IFERROR(VLOOKUP($I89,追加登録選手!$A$1:$F$1000,COLUMN(男子選手!C85),FALSE),\"\")","v":""},{"$f":"IFERROR(VLOOKUP($I89,追加登録選手!$A$1:$F$1000,COLUMN(男子選手!D85),FALSE),\"\")","v":""},{"$f":"IFERROR(VLOOKUP($I89,追加登録選手!$A$1:$F$1000,COLUMN(男子選手!E85),FALSE),\"\")","v":""},{"$f":"IFERROR(VLOOKUP($I89,追加登録選手!$A$1:$F$1000,COLUMN(男子選手!F85),FALSE),\"\")","v":""}]
[null,86,"　　　"," ","",{"$f":"VLOOKUP(初期設定!$C$4,学校番号!$A$3:$D$50,4,FALSE)","v":{"$error":"#N/A"}},"　　　()",null,{"$f":"MOD(初期設定!$C$4,100)*100+ROW(男子選手!B86)","v":86},{"$f":"IFERROR(VLOOKUP($I90,追加登録選手!$A$1:$F$1000,COLUMN(男子選手!B86),FALSE),\"\")","v":""},{"$f":"IFERROR(VLOOKUP($I90,追加登録選手!$A$1:$F$1000,COLUMN(男子選手!C86),FALSE),\"\")","v":""},{"$f":"IFERROR(VLOOKUP($I90,追加登録選手!$A$1:$F$1000,COLUMN(男子選手!D86),FALSE),\"\")","v":""},{"$f":"IFERROR(VLOOKUP($I90,追加登録選手!$A$1:$F$1000,COLUMN(男子選手!E86),FALSE),\"\")","v":""},{"$f":"IFERROR(VLOOKUP($I90,追加登録選手!$A$1:$F$1000,COLUMN(男子選手!F86),FALSE),\"\")","v":""}]
[null,87,"　　　"," ","",{"$f":"VLOOKUP(初期設定!$C$4,学校番号!$A$3:$D$50,4,FALSE)","v":{"$error":"#N/A"}},"　　　()",null,{"$f":"MOD(初期設定!$C$4,100)*100+ROW(男子選手!B87)","v":87},{"$f":"IFERROR(VLOOKUP($I91,追加登録選手!$A$1:$F$1000,COLUMN(男子選手!B87),FALSE),\"\")","v":""},{"$f":"IFERROR(VLOOKUP($I91,追加登録選手!$A$1:$F$1000,COLUMN(男子選手!C87),FALSE),\"\")","v":""},{"$f":"IFERROR(VLOOKUP($I91,追加登録選手!$A$1:$F$1000,COLUMN(男子選手!D87),FALSE),\"\")","v":""},{"$f":"IFERROR(VLOOKUP($I91,追加登録選手!$A$1:$F$1000,COLUMN(男子選手!E87),FALSE),\"\")","v":""},{"$f":"IFERROR(VLOOKUP($I91,追加登録選手!$A$1:$F$1000,COLUMN(男子選手!F87),FALSE),\"\")","v":""}]
[null,88,"　　　"," ","",{"$f":"VLOOKUP(初期設定!$C$4,学校番号!$A$3:$D$50,4,FALSE)","v":{"$error":"#N/A"}},"　　　()",null,{"$f":"MOD(初期設定!$C$4,100)*100+ROW(男子選手!B88)","v":88},{"$f":"IFERROR(VLOOKUP($I92,追加登録選手!$A$1:$F$1000,COLUMN(男子選手!B88),FALSE),\"\")","v":""},{"$f":"IFERROR(VLOOKUP($I92,追加登録選手!$A$1:$F$1000,COLUMN(男子選手!C88),FALSE),\"\")","v":""},{"$f":"IFERROR(VLOOKUP($I92,追加登録選手!$A$1:$F$1000,COLUMN(男子選手!D88),FALSE),\"\")","v":""},{"$f":"IFERROR(VLOOKUP($I92,追加登録選手!$A$1:$F$1000,COLUMN(男子選手!E88),FALSE),\"\")","v":""},{"$f":"IFERROR(VLOOKUP($I92,追加登録選手!$A$1:$F$1000,COLUMN(男子選手!F88),FALSE),\"\")","v":""}]
[null,89,"　　　"," ","",{"$f":"VLOOKUP(初期設定!$C$4,学校番号!$A$3:$D$50,4,FALSE)","v":{"$error":"#N/A"}},"　　　()",null,{"$f":"MOD(初期設定!$C$4,100)*100+ROW(男子選手!B89)","v":89},{"$f":"IFERROR(VLOOKUP($I93,追加登録選手!$A$1:$F$1000,COLUMN(男子選手!B89),FALSE),\"\")","v":""},{"$f":"IFERROR(VLOOKUP($I93,追加登録選手!$A$1:$F$1000,COLUMN(男子選手!C89),FALSE),\"\")","v":""},{"$f":"IFERROR(VLOOKUP($I93,追加登録選手!$A$1:$F$1000,COLUMN(男子選手!D89),FALSE),\"\")","v":""},{"$f":"IFERROR(VLOOKUP($I93,追加登録選手!$A$1:$F$1000,COLUMN(男子選手!E89),FALSE),\"\")","v":""},{"$f":"IFERROR(VLOOKUP($I93,追加登録選手!$A$1:$F$1000,COLUMN(男子選手!F89),FALSE),\"\")","v":""}]
[null,90,"　　　"," ","",{"$f":"VLOOKUP(初期設定!$C$4,学校番号!$A$3:$D$50,4,FALSE)","v":{"$error":"#N/A"}},"　　　()",null,{"$f":"MOD(初期設定!$C$4,100)*100+ROW(男子選手!B90)","v":90},{"$f":"IFERROR(VLOOKUP($I94,追加登録選手!$A$1:$F$1000,COLUMN(男子選手!B90),FALSE),\"\")","v":""},{"$f":"IFERROR(VLOOKUP($I94,追加登録選手!$A$1:$F$1000,COLUMN(男子選手!C90),FALSE),\"\")","v":""},{"$f":"IFERROR(VLOOKUP($I94,追加登録選手!$A$1:$F$1000,COLUMN(男子選手!D90),FALSE),\"\")","v":""},{"$f":"IFERROR(VLOOKUP($I94,追加登録選手!$A$1:$F$1000,COLUMN(男子選手!E90),FALSE),\"\")","v":""},{"$f":"IFERROR(VLOOKUP($I94,追加登録選手!$A$1:$F$1000,COLUMN(男子選手!F90),FALSE),\"\")","v":""}]
[null,91,"　　　"," ","",{"$f":"VLOOKUP(初期設定!$C$4,学校番号!$A$3:$D$50,4,FALSE)","v":{"$error":"#N/A"}},"　　　()",null,{"$f":"MOD(初期設定!$C$4,100)*100+ROW(男子選手!B91)","v":91},{"$f":"IFERROR(VLOOKUP($I95,追加登録選手!$A$1:$F$1000,COLUMN(男子選手!B91),FALSE),\"\")","v":""},{"$f":"IFERROR(VLOOKUP($I95,追加登録選手!$A$1:$F$1000,COLUMN(男子選手!C91),FALSE),\"\")","v":""},{"$f":"IFERROR(VLOOKUP($I95,追加登録選手!$A$1:$F$1000,COLUMN(男子選手!D91),FALSE),\"\")","v":""},{"$f":"IFERROR(VLOOKUP($I95,追加登録選手!$A$1:$F$1000,COLUMN(男子選手!E91),FALSE),\"\")","v":""},{"$f":"IFERROR(VLOOKUP($I95,追加登録選手!$A$1:$F$1000,COLUMN(男子選手!F91),FALSE),\"\")","v":""}]
[null,92,"　　　"," ","",{"$f":"VLOOKUP(初期設定!$C$4,学校番号!$A$3:$D$50,4,FALSE)","v":{"$error":"#N/A"}},"　　　()",null,{"$f":"MOD(初期設定!$C$4,100)*100+ROW(男子選手!B92)","v":92},{"$f":"IFERROR(VLOOKUP($I96,追加登録選手!$A$1:$F$1000,COLUMN(男子選手!B92),FALSE),\"\")","v":""},{"$f":"IFERROR(VLOOKUP($I96,追加登録選手!$A$1:$F$1000,COLUMN(男子選手!C92),FALSE),\"\")","v":""},{"$f":"IFERROR(VLOOKUP($I96,追加登録選手!$A$1:$F$1000,COLUMN(男子選手!D92),FALSE),\"\")","v":""},{"$f":"IFERROR(VLOOKUP($I96,追加登録選手!$A$1:$F$1000,COLUMN(男子選手!E92),FALSE),\"\")","v":""},{"$f":"IFERROR(VLOOKUP($I96,追加登録選手!$A$1:$F$1000,COLUMN(男子選手!F92),FALSE),\"\")","v":""}]
[null,93,"　　　"," ","",{"$f":"VLOOKUP(初期設定!$C$4,学校番号!$A$3:$D$50,4,FALSE)","v":{"$error":"#N/A"}},"　　　()",null,{"$f":"MOD(初期設定!$C$4,100)*100+ROW(男子選手!B93)","v":93},{"$f":"IFERROR(VLOOKUP($I97,追加登録選手!$A$1:$F$1000,COLUMN(男子選手!B93),FALSE),\"\")","v":""},{"$f":"IFERROR(VLOOKUP($I97,追加登録選手!$A$1:$F$1000,COLUMN(男子選手!C93),FALSE),\"\")","v":""},{"$f":"IFERROR(VLOOKUP($I97,追加登録選手!$A$1:$F$1000,COLUMN(男子選手!D93),FALSE),\"\")","v":""},{"$f":"IFERROR(VLOOKUP($I97,追加登録選手!$A$1:$F$1000,COLUMN(男子選手!E93),FALSE),\"\")","v":""},{"$f":"IFERROR(VLOOKUP($I97,追加登録選手!$A$1:$F$1000,COLUMN(男子選手!F93),FALSE),\"\")","v":""}]
[null,94,"　　　"," ","",{"$f":"VLOOKUP(初期設定!$C$4,学校番号!$A$3:$D$50,4,FALSE)","v":{"$error":"#N/A"}},"　　　()",null,{"$f":"MOD(初期設定!$C$4,100)*100+ROW(男子選手!B94)","v":94},{"$f":"IFERROR(VLOOKUP($I98,追加登録選手!$A$1:$F$1000,COLUMN(男子選手!B94),FALSE),\"\")","v":""},{"$f":"IFERROR(VLOOKUP($I98,追加登録選手!$A$1:$F$1000,COLUMN(男子選手!C94),FALSE),\"\")","v":""},{"$f":"IFERROR(VLOOKUP($I98,追加登録選手!$A$1:$F$1000,COLUMN(男子選手!D94),FALSE),\"\")","v":""},{"$f":"IFERROR(VLOOKUP($I98,追加登録選手!$A$1:$F$1000,COLUMN(男子選手!E94),FALSE),\"\")","v":""},{"$f":"IFERROR(VLOOKUP($I98,追加登録選手!$A$1:$F$1000,COLUMN(男子選手!F94),FALSE),\"\")","v":""}]
[null,95,"　　　"," ","",{"$f":"VLOOKUP(初期設定!$C$4,学校番号!$A$3:$D$50,4,FALSE)","v":{"$error":"#N/A"}},"　　　()",null,{"$f":"MOD(初期設定!$C$4,100)*100+ROW(男子選手!B95)","v":95},{"$f":"IFERROR(VLOOKUP($I99,追加登録選手!$A$1:$F$1000,COLUMN(男子選手!B95),FALSE),\"\")","v":""},{"$f":"IFERROR(VLOOKUP($I99,追加登録選手!$A$1:$F$1000,COLUMN(男子選手!C95),FALSE),\"\")","v":""},{"$f":"IFERROR(VLOOKUP($I99,追加登録選手!$A$1:$F$1000,COLUMN(男子選手!D95),FALSE),\"\")","v":""},{"$f":"IFERROR(VLOOKUP($I99,追加登録選手!$A$1:$F$1000,COLUMN(男子選手!E95),FALSE),\"\")","v":""},{"$f":"IFERROR(VLOOKUP($I99,追加登録選手!$A$1:$F$1000,COLUMN(男子選手!F95),FALSE),\"\")","v":""}]
[null,96,"　　　"," ","",{"$f":"VLOOKUP(初期設定!$C$4,学校番号!$A$3:$D$50,4,FALSE)","v":{"$error":"#N/A"}},"　　　()",null,{"$f":"MOD(初期設定!$C$4,100)*100+ROW(男子選手!B96)","v":96},{"$f":"IFERROR(VLOOKUP($I100,追加登録選手!$A$1:$F$1000,COLUMN(男子選手!B96),FALSE),\"\")","v":""},{"$f":"IFERROR(VLOOKUP($I100,追加登録選手!$A$1:$F$1000,COLUMN(男子選手!C96),FALSE),\"\")","v":""},{"$f":"IFERROR(VLOOKUP($I100,追加登録選手!$A$1:$F$1000,COLUMN(男子選手!D96),FALSE),\"\")","v":""},{"$f":"IFERROR(VLOOKUP($I100,追加登録選手!$A$1:$F$1000,COLUMN(男子選手!E96),FALSE),\"\")","v":""},{"$f":"IFERROR(VLOOKUP($I100,追加登録選手!$A$1:$F$1000,COLUMN(男子選手!F96),FALSE),\"\")","v":""}]
[null,97,"　　　"," ","",{"$f":"VLOOKUP(初期設定!$C$4,学校番号!$A$3:$D$50,4,FALSE)","v":{"$error":"#N/A"}},"　　　()",null,{"$f":"MOD(初期設定!$C$4,100)*100+ROW(男子選手!B97)","v":97},{"$f":"IFERROR(VLOOKUP($I101,追加登録選手!$A$1:$F$1000,COLUMN(男子選手!B97),FALSE),\"\")","v":""},{"$f":"IFERROR(VLOOKUP($I101,追加登録選手!$A$1:$F$1000,COLUMN(男子選手!C97),FALSE),\"\")","v":""},{"$f":"IFERROR(VLOOKUP($I101,追加登録選手!$A$1:$F$1000,COLUMN(男子選手!D97),FALSE),\"\")","v":""},{"$f":"IFERROR(VLOOKUP($I101,追加登録選手!$A$1:$F$1000,COLUMN(男子選手!E97),FALSE),\"\")","v":""},{"$f":"IFERROR(VLOOKUP($I101,追加登録選手!$A$1:$F$1000,COLUMN(男子選手!F97),FALSE),\"\")","v":""}]
[null,98,"　　　"," ","",{"$f":"VLOOKUP(初期設定!$C$4,学校番号!$A$3:$D$50,4,FALSE)","v":{"$error":"#N/A"}},"　　　()",null,{"$f":"MOD(初期設定!$C$4,100)*100+ROW(男子選手!B98)","v":98},{"$f":"IFERROR(VLOOKUP($I102,追加登録選手!$A$1:$F$1000,COLUMN(男子選手!B98),FALSE),\"\")","v":""},{"$f":"IFERROR(VLOOKUP($I102,追加登録選手!$A$1:$F$1000,COLUMN(男子選手!C98),FALSE),\"\")","v":""},{"$f":"IFERROR(VLOOKUP($I102,追加登録選手!$A$1:$F$1000,COLUMN(男子選手!D98),FALSE),\"\")","v":""},{"$f":"IFERROR(VLOOKUP($I102,追加登録選手!$A$1:$F$1000,COLUMN(男子選手!E98),FALSE),\"\")","v":""},{"$f":"IFERROR(VLOOKUP($I102,追加登録選手!$A$1:$F$1000,COLUMN(男子選手!F98),FALSE),\"\")","v":""}]
[null,99,"　　　"," ","",{"$f":"VLOOKUP(初期設定!$C$4,学校番号!$A$3:$D$50,4,FALSE)","v":{"$error":"#N/A"}},"　　　()",null,{"$f":"MOD(初期設定!$C$4,100)*100+ROW(男子選手!B99)","v":99},{"$f":"IFERROR(VLOOKUP($I103,追加登録選手!$A$1:$F$1000,COLUMN(男子選手!B99),FALSE),\"\")","v":""},{"$f":"IFERROR(VLOOKUP($I103,追加登録選手!$A$1:$F$1000,COLUMN(男子選手!C99),FALSE),\"\")","v":""},{"$f":"IFERROR(VLOOKUP($I103,追加登録選手!$A$1:$F$1000,COLUMN(男子選手!D99),FALSE),\"\")","v":""},{"$f":"IFERROR(VLOOKUP($I103,追加登録選手!$A$1:$F$1000,COLUMN(男子選手!E99),FALSE),\"\")","v":""},{"$f":"IFERROR(VLOOKUP($I103,追加登録選手!$A$1:$F$1000,COLUMN(男子選手!F99),FALSE),\"\")","v":""}]
[null,null,-20]
[null,null,1,"　"]
[null,null,2,"　　"]
[null,null,3,"　　　"]

{"sheet":"記録入力","index":2,"n_rows":87,"n_cols":16,"rows_kept":87,"cut":false,"hidden":false,"merged":[[1,14,2,14],[1,0,2,0],[1,13,2,13],[1,1,2,1],[1,2,2,2],[1,3,2,3],[1,4,2,4],[1,8,2,8],[1,9,2,9],[1,10,2,10],[1,11,2,11],[1,12,2,12]]}
[2,null,3,4,7,8,9,10,12,14,15,16,17,20]
["種目\nコード","学年","種    目","TFC","No","分","秒","1/100","記録","No","氏名","学校名","学校番号",null,"性別"]
[null,null,null,null,null,null,"m","cm"]
["00200","1",{"$f":"VLOOKUP(A4,初期設定!$B$20:$F$40,2,0)","v":"100m"},{"$f":"VLOOKUP(A4,初期設定!$B$20:$F$40,3,0)","v":"01T"},null,null,null,null,{"$f":"IF(AND(F4=\"\",G4=\"\",H4=\"\"),\"\",IF(D4=\"01T\",IF(F4=\"\",G4&\"\"\"\"&H4,F4&\"'\"&G4&\"\"\"\"&H4),IF(D4=\"02F\",G4&\"m\"&H4,H4&\"点\")))","v":""},{"$f":"IF(E4=\"\",\"\",E4)","v":""},{"$f":"IF(ISERROR(VLOOKUP(E4,男子選手!$B$5:$G$195,6,FALSE)),\"\",VLOOKUP(E4,男子選手!$B$5:$G$195,6,FALSE))","v":""},{"$f":"IFERROR(VLOOKUP(E4,男子選手!$B$5:$F$103,5,FALSE),\"\")","v":""},{"$f":"IF(K4=\"\",\"\",初期設定!$C$4)","v":""},{"$f":"CONCATENATE(F4,G4,H4)","v":""},{"$f":"IF(K4=\"\",\"\",\"男\")","v":""},{"$f":"IF(K4=\"\",\"\",IF(MID(K4,LEN(K4)-1,1)=B4,\"OK\",\"学年間違い\"))","v":""}]
["00200","1",{"$f":"VLOOKUP(A5,初期設定!$B$20:$F$40,2,0)","v":"100m"},{"$f":"VLOOKUP(A5,初期設定!$B$20:$F$40,3,0)","v":"01T"},null,null,null,null,"",{"$f":"IF(E5=\"\",\"\",E5)","v":""},{"$f":"IF(ISERROR(VLOOKUP(E5,男子選手!$B$5:$G$195,6,FALSE)),\"\",VLOOKUP(E5,男子選手!$B$5:$G$195,6,FALSE))","v":""},{"$f":"IFERROR(VLOOKUP(E5,男子選手!$B$5:$F$103,5,FALSE),\"\")","v":""},{"$f":"IF(K5=\"\",\"\",初期設定!$C$4)","v":""},{"$f":"CONCATENATE(F5,G5,H5)","v":""},{"$f":"IF(K5=\"\",\"\",\"男\")","v":""},{"$f":"IF(K5=\"\",\"\",IF(MID(K5,LEN(K5)-1,1)=B5,\"OK\",\"学年間違い\"))","v":""}]
["00200","2",{"$f":"VLOOKUP(A6,初期設定!$B$20:$F$40,2,0)","v":"100m"},{"$f":"VLOOKUP(A6,初期設定!$B$20:$F$40,3,0)","v":"01T"},null,null,null,null,{"$f":"IF(AND(F6=\"\",G6=\"\",H6=\"\"),\"\",IF(D6=\"01T\",IF(F6=\"\",G6&\"\"\"\"&H6,F6&\"'\"&G6&\"\"\"\"&H6),IF(D6=\"02F\",G6&\"m\"&H6,H6&\"点\")))","v":""},"",{"$f":"IF(ISERROR(VLOOKUP(E6,男子選手!$B$5:$G$195,6,FALSE)),\"\",VLOOKUP(E6,男子選手!$B$5:$G$195,6,FALSE))","v":""},{"$f":"IFERROR(VLOOKUP(E6,男子選手!$B$5:$F$103,5,FALSE),\"\")","v":""},{"$f":"IF(K6=\"\",\"\",初期設定!$C$4)","v":""},{"$f":"CONCATENATE(F6,G6,H6)","v":""},"",""]
["00200","2",{"$f":"VLOOKUP(A7,初期設定!$B$20:$F$40,2,0)","v":"100m"},{"$f":"VLOOKUP(A7,初期設定!$B$20:$F$40,3,0)","v":"01T"},null,null,null,null,{"$f":"IF(AND(F7=\"\",G7=\"\",H7=\"\"),\"\",IF(D7=\"01T\",IF(F7=\"\",G7&\"\"\"\"&H7,F7&\"'\"&G7&\"\"\"\"&H7),IF(D7=\"02F\",G7&\"m\"&H7,H7&\"点\")))","v":""},{"$f":"IF(E7=\"\",\"\",E7)","v":""},{"$f":"IF(ISERROR(VLOOKUP(E7,男子選手!$B$5:$G$195,6,FALSE)),\"\",VLOOKUP(E7,男子選手!$B$5:$G$195,6,FALSE))","v":""},{"$f":"IFERROR(VLOOKUP(E7,男子選手!$B$5:$F$103,5,FALSE),\"\")","v":""},{"$f":"IF(K7=\"\",\"\",初期設定!$C$4)","v":""},"","",""]
["00300","1",{"$f":"VLOOKUP(A8,初期設定!$B$20:$F$40,2,0)","v":"200m"},{"$f":"VLOOKUP(A8,初期設定!$B$20:$F$40,3,0)","v":"01T"},null,null,null,null,"","",{"$f":"IF(ISERROR(VLOOKUP(E8,男子選手!$B$5:$G$195,6,FALSE)),\"\",VLOOKUP(E8,男子選手!$B$5:$G$195,6,FALSE))","v":""},{"$f":"IFERROR(VLOOKUP(E8,男子選手!$B$5:$F$103,5,FALSE),\"\")","v":""},{"$f":"IF(K8=\"\",\"\",初期設定!$C$4)","v":""},"","",""]
["00300","1",{"$f":"VLOOKUP(A9,初期設定!$B$20:$F$40,2,0)","v":"200m"},{"$f":"VLOOKUP(A9,初期設定!$B$20:$F$40,3,0)","v":"01T"},null,null,null,null,"","",{"$f":"IF(ISERROR(VLOOKUP(E9,男子選手!$B$5:$G$195,6,FALSE)),\"\",VLOOKUP(E9,男子選手!$B$5:$G$195,6,FALSE))","v":""},{"$f":"IFERROR(VLOOKUP(E9,男子選手!$B$5:$F$103,5,FALSE),\"\")","v":""},{"$f":"IF(K9=\"\",\"\",初期設定!$C$4)","v":""},"","",""]
["00300","2",{"$f":"VLOOKUP(A10,初期設定!$B$20:$F$40,2,0)","v":"200m"},{"$f":"VLOOKUP(A10,初期設定!$B$20:$F$40,3,0)","v":"01T"},null,null,null,null,"","",{"$f":"IF(ISERROR(VLOOKUP(E10,男子選手!$B$5:$G$195,6,FALSE)),\"\",VLOOKUP(E10,男子選手!$B$5:$G$195,6,FALSE))","v":""},{"$f":"IFERROR(VLOOKUP(E10,男子選手!$B$5:$F$103,5,FALSE),\"\")","v":""},{"$f":"IF(K10=\"\",\"\",初期設定!$C$4)","v":""},"","",""]
["00300","2",{"$f":"VLOOKUP(A11,初期設定!$B$20:$F$40,2,0)","v":"200m"},{"$f":"VLOOKUP(A11,初期設定!$B$20:$F$40,3,0)","v":"01T"},null,null,null,null,{"$f":"IF(AND(F11=\"\",G11=\"\",H11=\"\"),\"\",IF(D11=\"01T\",IF(F11=\"\",G11&\"\"\"\"&H11,F11&\"'\"&G11&\"\"\"\"&H11),IF(D11=\"02F\",G11&\"m\"&H11,H11&\"点\")))","v":""},{"$f":"IF(E11=\"\",\"\",E11)","v":""},{"$f":"IF(ISERROR(VLOOKUP(E11,男子選手!$B$5:$G$195,6,FALSE)),\"\",VLOOKUP(E11,男子選手!$B$5:$G$195,6,FALSE))","v":""},{"$f":"IFERROR(VLOOKUP(E11,男子選手!$B$5:$F$103,5,FALSE),\"\")","v":""},{"$f":"IF(K11=\"\",\"\",初期設定!$C$4)","v":""},{"$f":"CONCATENATE(F11,G11,H11)","v":""},"",""]
["00500","1",{"$f":"VLOOKUP(A12,初期設定!$B$20:$F$40,2,0)","v":"400m"},{"$f":"VLOOKUP(A12,初期設定!$B$20:$F$40,3,0)","v":"01T"},null,null,null,null,"","",{"$f":"IF(ISERROR(VLOOKUP(E12,男子選手!$B$5:$G$195,6,FALSE)),\"\",VLOOKUP(E12,男子選手!$B$5:$G$195,6,FALSE))","v":""},{"$f":"IFERROR(VLOOKUP(E12,男子選手!$B$5:$F$103,5,FALSE),\"\")","v":""},{"$f":"IF(K12=\"\",\"\",初期設定!$C$4)","v":""},"","",""]
["00500","1",{"$f":"VLOOKUP(A13,初期設定!$B$20:$F$40,2,0)","v":"400m"},{"$f":"VLOOKUP(A13,初期設定!$B$20:$F$40,3,0)","v":"01T"},null,null,null,null,"","",{"$f":"IF(ISERROR(VLOOKUP(E13,男子選手!$B$5:$G$195,6,FALSE)),\"\",VLOOKUP(E13,男子選手!$B$5:$G$195,6,FALSE))","v":""},{"$f":"IFERROR(VLOOKUP(E13,男子選手!$B$5:$F$103,5,FALSE),\"\")","v":""},{"$f":"IF(K13=\"\",\"\",初期設定!$C$4)","v":""},"","",""]
["00500","2",{"$f":"VLOOKUP(A14,初期設定!$B$20:$F$40,2,0)","v":"400m"},{"$f":"VLOOKUP(A14,初期設定!$B$20:$F$40,3,0)","v":"01T"},null,null,null,null,"","",{"$f":"IF(ISERROR(VLOOKUP(E14,男子選手!$B$5:$G$195,6,FALSE)),\"\",VLOOKUP(E14,男子選手!$B$5:$G$195,6,FALSE))","v":""},{"$f":"IFERROR(VLOOKUP(E14,男子選手!$B$5:$F$103,5,FALSE),\"\")","v":""},{"$f":"IF(K14=\"\",\"\",初期設定!$C$4)","v":""},"","",""]
["00500","2",{"$f":"VLOOKUP(A15,初期設定!$B$20:$F$40,2,0)","v":"400m"},{"$f":"VLOOKUP(A15,初期設定!$B$20:$F$40,3,0)","v":"01T"},null,null,null,null,{"$f":"IF(AND(F15=\"\",G15=\"\",H15=\"\"),\"\",IF(D15=\"01T\",IF(F15=\"\",G15&\"\"\"\"&H15,F15&\"'\"&G15&\"\"\"\"&H15),IF(D15=\"02F\",G15&\"m\"&H15,H15&\"点\")))","v":""},{"$f":"IF(E15=\"\",\"\",E15)","v":""},{"$f":"IF(ISERROR(VLOOKUP(E15,男子選手!$B$5:$G$195,6,FALSE)),\"\",VLOOKUP(E15,男子選手!$B$5:$G$195,6,FALSE))","v":""},{"$f":"IFERROR(VLOOKUP(E15,男子選手!$B$5:$F$103,5,FALSE),\"\")","v":""},{"$f":"IF(K15=\"\",\"\",初期設定!$C$4)","v":""},"","",""]
["00600","1",{"$f":"VLOOKUP(A16,初期設定!$B$20:$F$40,2,0)","v":"800m"},{"$f":"VLOOKUP(A16,初期設定!$B$20:$F$40,3,0)","v":"01T"},null,null,null,null,"","",{"$f":"IF(ISERROR(VLOOKUP(E16,男子選手!$B$5:$G$195,6,FALSE)),\"\",VLOOKUP(E16,男子選手!$B$5:$G$195,6,FALSE))","v":""},{"$f":"IFERROR(VLOOKUP(E16,男子選手!$B$5:$F$103,5,FALSE),\"\")","v":""},{"$f":"IF(K16=\"\",\"\",初期設定!$C$4)","v":""},"","",""]
["00600","1",{"$f":"VLOOKUP(A17,初期設定!$B$20:$F$40,2,0)","v":"800m"},{"$f":"VLOOKUP(A17,初期設定!$B$20:$F$40,3,0)","v":"01T"},null,null,null,null,"","",{"$f":"IF(ISERROR(VLOOKUP(E17,男子選手!$B$5:$G$195,6,FALSE)),\"\",VLOOKUP(E17,男子選手!$B$5:$G$195,6,FALSE))","v":""},{"$f":"IFERROR(VLOOKUP(E17,男子選手!$B$5:$F$103,5,FALSE),\"\")","v":""},{"$f":"IF(K17=\"\",\"\",初期設定!$C$4)","v":""},"","",""]
["00600","2",{"$f":"VLOOKUP(A18,初期設定!$B$20:$F$40,2,0)","v":"800m"},{"$f":"VLOOKUP(A18,初期設定!$B$20:$F$40,3,0)","v":"01T"},null,null,null,null,"","",{"$f":"IF(ISERROR(VLOOKUP(E18,男子選手!$B$5:$G$195,6,FALSE)),\"\",VLOOKUP(E18,男子選手!$B$5:$G$195,6,FALSE))","v":""},{"$f":"IFERROR(VLOOKUP(E18,男子選手!$B$5:$F$103,5,FALSE),\"\")","v":""},{"$f":"IF(K18=\"\",\"\",初期設定!$C$4)","v":""},"","",""]
["00600","2",{"$f":"VLOOKUP(A19,初期設定!$B$20:$F$40,2,0)","v":"800m"},{"$f":"VLOOKUP(A19,初期設定!$B$20:$F$40,3,0)","v":"01T"},null,null,null,null,{"$f":"IF(AND(F19=\"\",G19=\"\",H19=\"\"),\"\",IF(D19=\"01T\",IF(F19=\"\",G19&\"\"\"\"&H19,F19&\"'\"&G19&\"\"\"\"&H19),IF(D19=\"02F\",G19&\"m\"&H19,H19&\"点\")))","v":""},{"$f":"IF(E19=\"\",\"\",E19)","v":""},{"$f":"IF(ISERROR(VLOOKUP(E19,男子選手!$B$5:$G$195,6,FALSE)),\"\",VLOOKUP(E19,男子選手!$B$5:$G$195,6,FALSE))","v":""},{"$f":"IFERROR(VLOOKUP(E19,男子選手!$B$5:$F$103,5,FALSE),\"\")","v":""},{"$f":"IF(K19=\"\",\"\",初期設定!$C$4)","v":""},"","",""]
["00800","1",{"$f":"VLOOKUP(A20,初期設定!$B$20:$F$40,2,0)","v":"1500m"},{"$f":"VLOOKUP(A20,初期設定!$B$20:$F$40,3,0)","v":"01T"},null,null,null,null,"","",{"$f":"IF(ISERROR(VLOOKUP(E20,男子選手!$B$5:$G$195,6,FALSE)),\"\",VLOOKUP(E20,男子選手!$B$5:$G$195,6,FALSE))","v":""},{"$f":"IFERROR(VLOOKUP(E20,男子選手!$B$5:$F$103,5,FALSE),\"\")","v":""},{"$f":"IF(K20=\"\",\"\",初期設定!$C$4)","v":""},"","",""]
["00800","1",{"$f":"VLOOKUP(A21,初期設定!$B$20:$F$40,2,0)","v":"1500m"},{"$f":"VLOOKUP(A21,初期設定!$B$20:$F$40,3,0)","v":"01T"},null,null,null,null,"","",{"$f":"IF(ISERROR(VLOOKUP(E21,男子選手!$B$5:$G$195,6,FALSE)),\"\",VLOOKUP(E21,男子選手!$B$5:$G$195,6,FALSE))","v":""},{"$f":"IFERROR(VLOOKUP(E21,男子選手!$B$5:$F$103,5,FALSE),\"\")","v":""},{"$f":"IF(K21=\"\",\"\",初期設定!$C$4)","v":""},"","",""]
["00800","2",{"$f":"VLOOKUP(A22,初期設定!$B$20:$F$40,2,0)","v":"1500m"},{"$f":"VLOOKUP(A22,初期設定!$B$20:$F$40,3,0)","v":"01T"},null,null,null,null,"","",{"$f":"IF(ISERROR(VLOOKUP(E22,男子選手!$B$5:$G$195,6,FALSE)),\"\",VLOOKUP(E22,男子選手!$B$5:$G$195,6,FALSE))","v":""},{"$f":"IFERROR(VLOOKUP(E22,男子選手!$B$5:$F$103,5,FALSE),\"\")","v":""},{"$f":"IF(K22=\"\",\"\",初期設定!$C$4)","v":""},"","",""]
["00800","2",{"$f":"VLOOKUP(A23,初期設定!$B$20:$F$40,2,0)","v":"1500m"},{"$f":"VLOOKUP(A23,初期設定!$B$20:$F$40,3,0)","v":"01T"},null,null,null,null,{"$f":"IF(AND(F23=\"\",G23=\"\",H23=\"\"),\"\",IF(D23=\"01T\",IF(F23=\"\",G23&\"\"\"\"&H23,F23&\"'\"&G23&\"\"\"\"&H23),IF(D23=\"02F\",G23&\"m\"&H23,H23&\"点\")))","v":""},{"$f":"IF(E23=\"\",\"\",E23)","v":""},{"$f":"IF(ISERROR(VLOOKUP(E23,男子選手!$B$5:$G$195,6,FALSE)),\"\",VLOOKUP(E23,男子選手!$B$5:$G$195,6,FALSE))","v":""},{"$f":"IFERROR(VLOOKUP(E23,男子選手!$B$5:$F$103,5,FALSE),\"\")","v":""},{"$f":"IF(K23=\"\",\"\",初期設定!$C$4)","v":""},"","",""]
["01100","1",{"$f":"VLOOKUP(A24,初期設定!$B$20:$F$40,2,0)","v":"5000m"},{"$f":"VLOOKUP(A24,初期設定!$B$20:$F$40,3,0)","v":"01T"},null,null,null,null,"","",{"$f":"IF(ISERROR(VLOOKUP(E24,男子選手!$B$5:$G$195,6,FALSE)),\"\",VLOOKUP(E24,男子選手!$B$5:$G$195,6,FALSE))","v":""},{"$f":"IFERROR(VLOOKUP(E24,男子選手!$B$5:$F$103,5,FALSE),\"\")","v":""},{"$f":"IF(K24=\"\",\"\",初期設定!$C$4)","v":""},"","",""]
["01100","1",{"$f":"VLOOKUP(A25,初期設定!$B$20:$F$40,2,0)","v":"5000m"},{"$f":"VLOOKUP(A25,初期設定!$B$20:$F$40,3,0)","v":"01T"},null,null,null,null,"","",{"$f":"IF(ISERROR(VLOOKUP(E25,男子選手!$B$5:$G$195,6,FALSE)),\"\",VLOOKUP(E25,男子選手!$B$5:$G$195,6,FALSE))","v":""},{"$f":"IFERROR(VLOOKUP(E25,男子選手!$B$5:$F$103,5,FALSE),\"\")","v":""},{"$f":"IF(K25=\"\",\"\",初期設定!$C$4)","v":""},"","",""]
["01100","2",{"$f":"VLOOKUP(A26,初期設定!$B$20:$F$40,2,0)","v":"5000m"},{"$f":"VLOOKUP(A26,初期設定!$B$20:$F$40,3,0)","v":"01T"},null,null,null,null,"","",{"$f":"IF(ISERROR(VLOOKUP(E26,男子選手!$B$5:$G$195,6,FALSE)),\"\",VLOOKUP(E26,男子選手!$B$5:$G$195,6,FALSE))","v":""},{"$f":"IFERROR(VLOOKUP(E26,男子選手!$B$5:$F$103,5,FALSE),\"\")","v":""},{"$f":"IF(K26=\"\",\"\",初期設定!$C$4)","v":""},"","",""]
["01100","2",{"$f":"VLOOKUP(A27,初期設定!$B$20:$F$40,2,0)","v":"5000m"},{"$f":"VLOOKUP(A27,初期設定!$B$20:$F$40,3,0)","v":"01T"},null,null,null,null,{"$f":"IF(AND(F27=\"\",G27=\"\",H27=\"\"),\"\",IF(D27=\"01T\",IF(F27=\"\",G27&\"\"\"\"&H27,F27&\"'\"&G27&\"\"\"\"&H27),IF(D27=\"02F\",G27&\"m\"&H27,H27&\"点\")))","v":""},{"$f":"IF(E27=\"\",\"\",E27)","v":""},{"$f":"IF(ISERROR(VLOOKUP(E27,男子選手!$B$5:$G$195,6,FALSE)),\"\",VLOOKUP(E27,男子選手!$B$5:$G$195,6,FALSE))","v":""},{"$f":"IFERROR(VLOOKUP(E27,男子選手!$B$5:$F$103,5,FALSE),\"\")","v":""},{"$f":"IF(K27=\"\",\"\",初期設定!$C$4)","v":""},"","",""]
["03300","1",{"$f":"VLOOKUP(A28,初期設定!$B$20:$F$40,2,0)","v":"110mJH"},{"$f":"VLOOKUP(A28,初期設定!$B$20:$F$40,3,0)","v":"01T"},null,null,null,null,"","",{"$f":"IF(ISERROR(VLOOKUP(E28,男子選手!$B$5:$G$195,6,FALSE)),\"\",VLOOKUP(E28,男子選手!$B$5:$G$195,6,FALSE))","v":""},{"$f":"IFERROR(VLOOKUP(E28,男子選手!$B$5:$F$103,5,FALSE),\"\")","v":""},{"$f":"IF(K28=\"\",\"\",初期設定!$C$4)","v":""},"","",""]
["03300","1",{"$f":"VLOOKUP(A29,初期設定!$B$20:$F$40,2,0)","v":"110mJH"},{"$f":"VLOOKUP(A29,初期設定!$B$20:$F$40,3,0)","v":"01T"},null,null,null,null,"","",{"$f":"IF(ISERROR(VLOOKUP(E29,男子選手!$B$5:$G$195,6,FALSE)),\"\",VLOOKUP(E29,男子選手!$B$5:$G$195,6,FALSE))","v":""},{"$f":"IFERROR(VLOOKUP(E29,男子選手!$B$5:$F$103,5,FALSE),\"\")","v":""},{"$f":"IF(K29=\"\",\"\",初期設定!$C$4)","v":""},"","",""]
["03300","2",{"$f":"VLOOKUP(A30,初期設定!$B$20:$F$40,2,0)","v":"110mJH"},{"$f":"VLOOKUP(A30,初期設定!$B$20:$F$40,3,0)","v":"01T"},null,null,null,null,"","",{"$f":"IF(ISERROR(VLOOKUP(E30,男子選手!$B$5:$G$195,6,FALSE)),\"\",VLOOKUP(E30,男子選手!$B$5:$G$195,6,FALSE))","v":""},{"$f":"IFERROR(VLOOKUP(E30,男子選手!$B$5:$F$103,5,FALSE),\"\")","v":""},{"$f":"IF(K30=\"\",\"\",初期設定!$C$4)","v":""},"","",""]
["03300","2",{"$f":"VLOOKUP(A31,初期設定!$B$20:$F$40,2,0)","v":"110mJH"},{"$f":"VLOOKUP(A31,初期設定!$B$20:$F$40,3,0)","v":"01T"},null,null,null,null,{"$f":"IF(AND(F31=\"\",G31=\"\",H31=\"\"),\"\",IF(D31=\"01T\",IF(F31=\"\",G31&\"\"\"\"&H31,F31&\"'\"&G31&\"\"\"\"&H31),IF(D31=\"02F\",G31&\"m\"&H31,H31&\"点\")))","v":""},{"$f":"IF(E31=\"\",\"\",E31)","v":""},{"$f":"IF(ISERROR(VLOOKUP(E31,男子選手!$B$5:$G$195,6,FALSE)),\"\",VLOOKUP(E31,男子選手!$B$5:$G$195,6,FALSE))","v":""},{"$f":"IFERROR(VLOOKUP(E31,男子選手!$B$5:$F$103,5,FALSE),\"\")","v":""},{"$f":"IF(K31=\"\",\"\",初期設定!$C$4)","v":""},"","",""]
["03700","1",{"$f":"VLOOKUP(A32,初期設定!$B$20:$F$40,2,0)","v":"400mH"},{"$f":"VLOOKUP(A32,初期設定!$B$20:$F$40,3,0)","v":"01T"},null,null,null,null,"","",{"$f":"IF(ISERROR(VLOOKUP(E32,男子選手!$B$5:$G$195,6,FALSE)),\"\",VLOOKUP(E32,男子選手!$B$5:$G$195,6,FALSE))","v":""},{"$f":"IFERROR(VLOOKUP(E32,男子選手!$B$5:$F$103,5,FALSE),\"\")","v":""},{"$f":"IF(K32=\"\",\"\",初期設定!$C$4)","v":""},"","",""]
["03700","1",{"$f":"VLOOKUP(A33,初期設定!$B$20:$F$40,2,0)","v":"400mH"},{"$f":"VLOOKUP(A33,初期設定!$B$20:$F$40,3,0)","v":"01T"},null,null,null,null,"","",{"$f":"IF(ISERROR(VLOOKUP(E33,男子選手!$B$5:$G$195,6,FALSE)),\"\",VLOOKUP(E33,男子選手!$B$5:$G$195,6,FALSE))","v":""},{"$f":"IFERROR(VLOOKUP(E33,男子選手!$B$5:$F$103,5,FALSE),\"\")","v":""},{"$f":"IF(K33=\"\",\"\",初期設定!$C$4)","v":""},"","",""]
["03700","2",{"$f":"VLOOKUP(A34,初期設定!$B$20:$F$40,2,0)","v":"400mH"},{"$f":"VLOOKUP(A34,初期設定!$B$20:$F$40,3,0)","v":"01T"},null,null,null,null,"","",{"$f":"IF(ISERROR(VLOOKUP(E34,男子選手!$B$5:$G$195,6,FALSE)),\"\",VLOOKUP(E34,男子選手!$B$5:$G$195,6,FALSE))","v":""},{"$f":"IFERROR(VLOOKUP(E34,男子選手!$B$5:$F$103,5,FALSE),\"\")","v":""},{"$f":"IF(K34=\"\",\"\",初期設定!$C$4)","v":""},"","",""]
["03700","2",{"$f":"VLOOKUP(A35,初期設定!$B$20:$F$40,2,0)","v":"400mH"},{"$f":"VLOOKUP(A35,初期設定!$B$20:$F$40,3,0)","v":"01T"},null,null,null,null,{"$f":"IF(AND(F35=\"\",G35=\"\",H35=\"\"),\"\",IF(D35=\"01T\",IF(F35=\"\",G35&\"\"\"\"&H35,F35&\"'\"&G35&\"\"\"\"&H35),IF(D35=\"02F\",G35&\"m\"&H35,H35&\"点\")))","v":""},{"$f":"IF(E35=\"\",\"\",E35)","v":""},{"$f":"IF(ISERROR(VLOOKUP(E35,男子選手!$B$5:$G$195,6,FALSE)),\"\",VLOOKUP(E35,男子選手!$B$5:$G$195,6,FALSE))","v":""},{"$f":"IFERROR(VLOOKUP(E35,男子選手!$B$5:$F$103,5,FALSE),\"\")","v":""},{"$f":"IF(K35=\"\",\"\",初期設定!$C$4)","v":""},"","",""]
["05300","1",{"$f":"VLOOKUP(A36,初期設定!$B$20:$F$40,2,0)","v":"3000SC"},{"$f":"VLOOKUP(A36,初期設定!$B$20:$F$40,3,0)","v":"01T"},null,null,null,null,"","",{"$f":"IF(ISERROR(VLOOKUP(E36,男子選手!$B$5:$G$195,6,FALSE)),\"\",VLOOKUP(E36,男子選手!$B$5:$G$195,6,FALSE))","v":""},{"$f":"IFERROR(VLOOKUP(E36,男子選手!$B$5:$F$103,5,FALSE),\"\")","v":""},{"$f":"IF(K36=\"\",\"\",初期設定!$C$4)","v":""},"","",""]
["05300","1",{"$f":"VLOOKUP(A37,初期設定!$B$20:$F$40,2,0)","v":"3000SC"},{"$f":"VLOOKUP(A37,初期設定!$B$20:$F$40,3,0)","v":"01T"},null,null,null,null,"","",{"$f":"IF(ISERROR(VLOOKUP(E37,男子選手!$B$5:$G$195,6,FALSE)),\"\",VLOOKUP(E37,男子選手!$B$5:$G$195,6,FALSE))","v":""},{"$f":"IFERROR(VLOOKUP(E37,男子選手!$B$5:$F$103,5,FALSE),\"\")","v":""},{"$f":"IF(K37=\"\",\"\",初期設定!$C$4)","v":""},"","",""]
["05300","2",{"$f":"VLOOKUP(A38,初期設定!$B$20:$F$40,2,0)","v":"3000SC"},{"$f":"VLOOKUP(A38,初期設定!$B$20:$F$40,3,0)","v":"01T"},null,null,null,null,"","",{"$f":"IF(ISERROR(VLOOKUP(E38,男子選手!$B$5:$G$195,6,FALSE)),\"\",VLOOKUP(E38,男子選手!$B$5:$G$195,6,FALSE))","v":""},{"$f":"IFERROR(VLOOKUP(E38,男子選手!$B$5:$F$103,5,FALSE),\"\")","v":""},{"$f":"IF(K38=\"\",\"\",初期設定!$C$4)","v":""},"","",""]
["05300","2",{"$f":"VLOOKUP(A39,初期設定!$B$20:$F$40,2,0)","v":"3000SC"},{"$f":"VLOOKUP(A39,初期設定!$B$20:$F$40,3,0)","v":"01T"},null,null,null,null,{"$f":"IF(AND(F39=\"\",G39=\"\",H39=\"\"),\"\",IF(D39=\"01T\",IF(F39=\"\",G39&\"\"\"\"&H39,F39&\"'\"&G39&\"\"\"\"&H39),IF(D39=\"02F\",G39&\"m\"&H39,H39&\"点\")))","v":""},{"$f":"IF(E39=\"\",\"\",E39)","v":""},{"$f":"IF(ISERROR(VLOOKUP(E39,男子選手!$B$5:$G$195,6,FALSE)),\"\",VLOOKUP(E39,男子選手!$B$5:$G$195,6,FALSE))","v":""},{"$f":"IFERROR(VLOOKUP(E39,男子選手!$B$5:$F$103,5,FALSE),\"\")","v":""},{"$f":"IF(K39=\"\",\"\",初期設定!$C$4)","v":""},"","",""]
["06100","1",{"$f":"VLOOKUP(A40,初期設定!$B$20:$F$40,2,0)","v":"5000mW"},{"$f":"VLOOKUP(A40,初期設定!$B$20:$F$40,3,0)","v":"01T"},null,null,null,null,"","",{"$f":"IF(ISERROR(VLOOKUP(E40,男子選手!$B$5:$G$195,6,FALSE)),\"\",VLOOKUP(E40,男子選手!$B$5:$G$195,6,FALSE))","v":""},{"$f":"IFERROR(VLOOKUP(E40,男子選手!$B$5:$F$103,5,FALSE),\"\")","v":""},{"$f":"IF(K40=\"\",\"\",初期設定!$C$4)","v":""},"","",""]
["06100","1",{"$f":"VLOOKUP(A41,初期設定!$B$20:$F$40,2,0)","v":"5000mW"},{"$f":"VLOOKUP(A41,初期設定!$B$20:$F$40,3,0)","v":"01T"},null,null,null,null,"","",{"$f":"IF(ISERROR(VLOOKUP(E41,男子選手!$B$5:$G$195,6,FALSE)),\"\",VLOOKUP(E41,男子選手!$B$5:$G$195,6,FALSE))","v":""},{"$f":"IFERROR(VLOOKUP(E41,男子選手!$B$5:$F$103,5,FALSE),\"\")","v":""},{"$f":"IF(K41=\"\",\"\",初期設定!$C$4)","v":""},"","",""]
["06100","2",{"$f":"VLOOKUP(A42,初期設定!$B$20:$F$40,2,0)","v":"5000mW"},{"$f":"VLOOKUP(A42,初期設定!$B$20:$F$40,3,0)","v":"01T"},null,null,null,null,"","",{"$f":"IF(ISERROR(VLOOKUP(E42,男子選手!$B$5:$G$195,6,FALSE)),\"\",VLOOKUP(E42,男子選手!$B$5:$G$195,6,FALSE))","v":""},{"$f":"IFERROR(VLOOKUP(E42,男子選手!$B$5:$F$103,5,FALSE),\"\")","v":""},{"$f":"IF(K42=\"\",\"\",初期設定!$C$4)","v":""},"","",""]
["06100","2",{"$f":"VLOOKUP(A43,初期設定!$B$20:$F$40,2,0)","v":"5000mW"},{"$f":"VLOOKUP(A43,初期設定!$B$20:$F$40,3,0)","v":"01T"},null,null,null,null,{"$f":"IF(AND(F43=\"\",G43=\"\",H43=\"\"),\"\",IF(D43=\"01T\",IF(F43=\"\",G43&\"\"\"\"&H43,F43&\"'\"&G43&\"\"\"\"&H43),IF(D43=\"02F\",G43&\"m\"&H43,H43&\"点\")))","v":""},{"$f":"IF(E43=\"\",\"\",E43)","v":""},{"$f":"IF(ISERROR(VLOOKUP(E43,男子選手!$B$5:$G$195,6,FALSE)),\"\",VLOOKUP(E43,男子選手!$B$5:$G$195,6,FALSE))","v":""},{"$f":"IFERROR(VLOOKUP(E43,男子選手!$B$5:$F$103,5,FALSE),\"\")","v":""},{"$f":"IF(K43=\"\",\"\",初期設定!$C$4)","v":""},"","",""]
["07100","1",{"$f":"VLOOKUP(A44,初期設定!$B$20:$F$40,2,0)","v":"走高跳"},{"$f":"VLOOKUP(A44,初期設定!$B$20:$F$40,3,0)","v":"02F"},null,null,null,null,"","",{"$f":"IF(ISERROR(VLOOKUP(E44,男子選手!$B$5:$G$195,6,FALSE)),\"\",VLOOKUP(E44,男子選手!$B$5:$G$195,6,FALSE))","v":""},{"$f":"IFERROR(VLOOKUP(E44,男子選手!$B$5:$F$103,5,FALSE),\"\")","v":""},{"$f":"IF(K44=\"\",\"\",初期設定!$C$4)","v":""},"","",""]
["07100","1",{"$f":"VLOOKUP(A45,初期設定!$B$20:$F$40,2,0)","v":"走高跳"},{"$f":"VLOOKUP(A45,初期設定!$B$20:$F$40,3,0)","v":"02F"},null,null,null,null,"","",{"$f":"IF(ISERROR(VLOOKUP(E45,男子選手!$B$5:$G$195,6,FALSE)),\"\",VLOOKUP(E45,男子選手!$B$5:$G$195,6,FALSE))","v":""},{"$f":"IFERROR(VLOOKUP(E45,男子選手!$B$5:$F$103,5,FALSE),\"\")","v":""},{"$f":"IF(K45=\"\",\"\",初期設定!$C$4)","v":""},"","",""]
["07100","2",{"$f":"VLOOKUP(A46,初期設定!$B$20:$F$40,2,0)","v":"走高跳"},{"$f":"VLOOKUP(A46,初期設定!$B$20:$F$40,3,0)","v":"02F"},null,null,null,null,{"$f":"IF(AND(F46=\"\",G46=\"\",H46=\"\"),\"\",IF(D46=\"01T\",IF(F46=\"\",G46&\"\"\"\"&H46,F46&\"'\"&G46&\"\"\"\"&H46),IF(D46=\"02F\",G46&\"m\"&H46,H46&\"点\")))","v":""},"",{"$f":"IF(ISERROR(VLOOKUP(E46,男子選手!$B$5:$G$195,6,FALSE)),\"\",VLOOKUP(E46,男子選手!$B$5:$G$195,6,FALSE))","v":""},{"$f":"IFERROR(VLOOKUP(E46,男子選手!$B$5:$F$103,5,FALSE),\"\")","v":""},{"$f":"IF(K46=\"\",\"\",初期設定!$C$4)","v":""},"","",""]
["07100","2",{"$f":"VLOOKUP(A47,初期設定!$B$20:$F$40,2,0)","v":"走高跳"},{"$f":"VLOOKUP(A47,初期設定!$B$20:$F$40,3,0)","v":"02F"},null,null,null,null,{"$f":"IF(AND(F47=\"\",G47=\"\",H47=\"\"),\"\",IF(D47=\"01T\",IF(F47=\"\",G47&\"\"\"\"&H47,F47&\"'\"&G47&\"\"\"\"&H47),IF(D47=\"02F\",G47&\"m\"&H47,H47&\"点\")))","v":""},{"$f":"IF(E47=\"\",\"\",E47)","v":""},{"$f":"IF(ISERROR(VLOOKUP(E47,男子選手!$B$5:$G$195,6,FALSE)),\"\",VLOOKUP(E47,男子選手!$B$5:$G$195,6,FALSE))","v":""},{"$f":"IFERROR(VLOOKUP(E47,男子選手!$B$5:$F$103,5,FALSE),\"\")","v":""},{"$f":"IF(K47=\"\",\"\",初期設定!$C$4)","v":""},"","",""]
["07200","1",{"$f":"VLOOKUP(A48,初期設定!$B$20:$F$40,2,0)","v":"棒高跳"},{"$f":"VLOOKUP(A48,初期設定!$B$20:$F$40,3,0)","v":"02F"},null,null,null,null,"","",{"$f":"IF(ISERROR(VLOOKUP(E48,男子選手!$B$5:$G$195,6,FALSE)),\"\",VLOOKUP(E48,男子選手!$B$5:$G$195,6,FALSE))","v":""},{"$f":"IFERROR(VLOOKUP(E48,男子選手!$B$5:$F$103,5,FALSE),\"\")","v":""},{"$f":"IF(K48=\"\",\"\",初期設定!$C$4)","v":""},"","",""]
["07200","1",{"$f":"VLOOKUP(A49,初期設定!$B$20:$F$40,2,0)","v":"棒高跳"},{"$f":"VLOOKUP(A49,初期設定!$B$20:$F$40,3,0)","v":"02F"},null,null,null,null,"","",{"$f":"IF(ISERROR(VLOOKUP(E49,男子選手!$B$5:$G$195,6,FALSE)),\"\",VLOOKUP(E49,男子選手!$B$5:$G$195,6,FALSE))","v":""},{"$f":"IFERROR(VLOOKUP(E49,男子選手!$B$5:$F$103,5,FALSE),\"\")","v":""},{"$f":"IF(K49=\"\",\"\",初期設定!$C$4)","v":""},"","",""]
["07200","2",{"$f":"VLOOKUP(A50,初期設定!$B$20:$F$40,2,0)","v":"棒高跳"},{"$f":"VLOOKUP(A50,初期設定!$B$20:$F$40,3,0)","v":"02F"},null,null,null,null,"","",{"$f":"IF(ISERROR(VLOOKUP(E50,男子選手!$B$5:$G$195,6,FALSE)),\"\",VLOOKUP(E50,男子選手!$B$5:$G$195,6,FALSE))","v":""},{"$f":"IFERROR(VLOOKUP(E50,男子選手!$B$5:$F$103,5,FALSE),\"\")","v":""},{"$f":"IF(K50=\"\",\"\",初期設定!$C$4)","v":""},"","",""]
["07200","2",{"$f":"VLOOKUP(A51,初期設定!$B$20:$F$40,2,0)","v":"棒高跳"},{"$f":"VLOOKUP(A51,初期設定!$B$20:$F$40,3,0)","v":"02F"},null,null,null,null,{"$f":"IF(AND(F51=\"\",G51=\"\",H51=\"\"),\"\",IF(D51=\"01T\",IF(F51=\"\",G51&\"\"\"\"&H51,F51&\"'\"&G51&\"\"\"\"&H51),IF(D51=\"02F\",G51&\"m\"&H51,H51&\"点\")))","v":""},{"$f":"IF(E51=\"\",\"\",E51)","v":""},{"$f":"IF(ISERROR(VLOOKUP(E51,男子選手!$B$5:$G$195,6,FALSE)),\"\",VLOOKUP(E51,男子選手!$B$5:$G$195,6,FALSE))","v":""},{"$f":"IFERROR(VLOOKUP(E51,男子選手!$B$5:$F$103,5,FALSE),\"\")","v":""},{"$f":"IF(K51=\"\",\"\",初期設定!$C$4)","v":""},"","",""]
["07300","1",{"$f":"VLOOKUP(A52,初期設定!$B$20:$F$40,2,0)","v":"走幅跳"},{"$f":"VLOOKUP(A52,初期設定!$B$20:$F$40,3,0)","v":"02F"},null,null,null,null,"","",{"$f":"IF(ISERROR(VLOOKUP(E52,男子選手!$B$5:$G$195,6,FALSE)),\"\",VLOOKUP(E52,男子選手!$B$5:$G$195,6,FALSE))","v":""},{"$f":"IFERROR(VLOOKUP(E52,男子選手!$B$5:$F$103,5,FALSE),\"\")","v":""},{"$f":"IF(K52=\"\",\"\",初期設定!$C$4)","v":""},"","",""]
["07300","1",{"$f":"VLOOKUP(A53,初期設定!$B$20:$F$40,2,0)","v":"走幅跳"},{"$f":"VLOOKUP(A53,初期設定!$B$20:$F$40,3,0)","v":"02F"},null,null,null,null,"","",{"$f":"IF(ISERROR(VLOOKUP(E53,男子選手!$B$5:$G$195,6,FALSE)),\"\",VLOOKUP(E53,男子選手!$B$5:$G$195,6,FALSE))","v":""},{"$f":"IFERROR(VLOOKUP(E53,男子選手!$B$5:$F$103,5,FALSE),\"\")","v":""},{"$f":"IF(K53=\"\",\"\",初期設定!$C$4)","v":""},"","",""]
["07300","2",{"$f":"VLOOKUP(A54,初期設定!$B$20:$F$40,2,0)","v":"走幅跳"},{"$f":"VLOOKUP(A54,初期設定!$B$20:$F$40,3,0)","v":"02F"},null,null,null,null,"","",{"$f":"IF(ISERROR(VLOOKUP(E54,男子選手!$B$5:$G$195,6,FALSE)),\"\",VLOOKUP(E54,男子選手!$B$5:$G$195,6,FALSE))","v":""},{"$f":"IFERROR(VLOOKUP(E54,男子選手!$B$5:$F$103,5,FALSE),\"\")","v":""},{"$f":"IF(K54=\"\",\"\",初期設定!$C$4)","v":""},"","",""]
["07300","2",{"$f":"VLOOKUP(A55,初期設定!$B$20:$F$40,2,0)","v":"走幅跳"},{"$f":"VLOOKUP(A55,初期設定!$B$20:$F$40,3,0)","v":"02F"},null,null,null,null,{"$f":"IF(AND(F55=\"\",G55=\"\",H55=\"\"),\"\",IF(D55=\"01T\",IF(F55=\"\",G55&\"\"\"\"&H55,F55&\"'\"&G55&\"\"\"\"&H55),IF(D55=\"02F\",G55&\"m\"&H55,H55&\"点\")))","v":""},{"$f":"IF(E55=\"\",\"\",E55)","v":""},{"$f":"IF(ISERROR(VLOOKUP(E55,男子選手!$B$5:$G$195,6,FALSE)),\"\",VLOOKUP(E55,男子選手!$B$5:$G$195,6,FALSE))","v":""},{"$f":"IFERROR(VLOOKUP(E55,男子選手!$B$5:$F$103,5,FALSE),\"\")","v":""},{"$f":"IF(K55=\"\",\"\",初期設定!$C$4)","v":""},"","",""]
["07400","1",{"$f":"VLOOKUP(A56,初期設定!$B$20:$F$40,2,0)","v":"三段跳"},{"$f":"VLOOKUP(A56,初期設定!$B$20:$F$40,3,0)","v":"02F"},null,null,null,null,"","",{"$f":"IF(ISERROR(VLOOKUP(E56,男子選手!$B$5:$G$195,6,FALSE)),\"\",VLOOKUP(E56,男子選手!$B$5:$G$195,6,FALSE))","v":""},{"$f":"IFERROR(VLOOKUP(E56,男子選手!$B$5:$F$103,5,FALSE),\"\")","v":""},{"$f":"IF(K56=\"\",\"\",初期設定!$C$4)","v":""},"","",""]
["07400","1",{"$f":"VLOOKUP(A57,初期設定!$B$20:$F$40,2,0)","v":"三段跳"},{"$f":"VLOOKUP(A57,初期設定!$B$20:$F$40,3,0)","v":"02F"},null,null,null,null,"","",{"$f":"IF(ISERROR(VLOOKUP(E57,男子選手!$B$5:$G$195,6,FALSE)),\"\",VLOOKUP(E57,男子選手!$B$5:$G$195,6,FALSE))","v":""},{"$f":"IFERROR(VLOOKUP(E57,男子選手!$B$5:$F$103,5,FALSE),\"\")","v":""},{"$f":"IF(K57=\"\",\"\",初期設定!$C$4)","v":""},"","",""]
["07400","2",{"$f":"VLOOKUP(A58,初期設定!$B$20:$F$40,2,0)","v":"三段跳"},{"$f":"VLOOKUP(A58,初期設定!$B$20:$F$40,3,0)","v":"02F"},null,null,null,null,"","",{"$f":"IF(ISERROR(VLOOKUP(E58,男子選手!$B$5:$G$195,6,FALSE)),\"\",VLOOKUP(E58,男子選手!$B$5:$G$195,6,FALSE))","v":""},{"$f":"IFERROR(VLOOKUP(E58,男子選手!$B$5:$F$103,5,FALSE),\"\")","v":""},{"$f":"IF(K58=\"\",\"\",初期設定!$C$4)","v":""},"","",""]
["07400","2",{"$f":"VLOOKUP(A59,初期設定!$B$20:$F$40,2,0)","v":"三段跳"},{"$f":"VLOOKUP(A59,初期設定!$B$20:$F$40,3,0)","v":"02F"},null,null,null,null,{"$f":"IF(AND(F59=\"\",G59=\"\",H59=\"\"),\"\",IF(D59=\"01T\",IF(F59=\"\",G59&\"\"\"\"&H59,F59&\"'\"&G59&\"\"\"\"&H59),IF(D59=\"02F\",G59&\"m\"&H59,H59&\"点\")))","v":""},{"$f":"IF(E59=\"\",\"\",E59)","v":""},{"$f":"IF(ISERROR(VLOOKUP(E59,男子選手!$B$5:$G$195,6,FALSE)),\"\",VLOOKUP(E59,男子選手!$B$5:$G$195,6,FALSE))","v":""},{"$f":"IFERROR(VLOOKUP(E59,男子選手!$B$5:$F$103,5,FALSE),\"\")","v":""},{"$f":"IF(K59=\"\",\"\",初期設定!$C$4)","v":""},"","",""]
["08200","1",{"$f":"VLOOKUP(A60,初期設定!$B$20:$F$40,2,0)","v":"砲丸投"},{"$f":"VLOOKUP(A60,初期設定!$B$20:$F$40,3,0)","v":"02F"},null,null,null,null,"","",{"$f":"IF(ISERROR(VLOOKUP(E60,男子選手!$B$5:$G$195,6,FALSE)),\"\",VLOOKUP(E60,男子選手!$B$5:$G$195,6,FALSE))","v":""},{"$f":"IFERROR(VLOOKUP(E60,男子選手!$B$5:$F$103,5,FALSE),\"\")","v":""},{"$f":"IF(K60=\"\",\"\",初期設定!$C$4)","v":""},"","",""]
["08200","1",{"$f":"VLOOKUP(A61,初期設定!$B$20:$F$40,2,0)","v":"砲丸投"},{"$f":"VLOOKUP(A61,初期設定!$B$20:$F$40,3,0)","v":"02F"},null,null,null,null,"","",{"$f":"IF(ISERROR(VLOOKUP(E61,男子選手!$B$5:$G$195,6,FALSE)),\"\",VLOOKUP(E61,男子選手!$B$5:$G$195,6,FALSE))","v":""},{"$f":"IFERROR(VLOOKUP(E61,男子選手!$B$5:$F$103,5,FALSE),\"\")","v":""},{"$f":"IF(K61=\"\",\"\",初期設定!$C$4)","v":""},"","",""]
["08200","2",{"$f":"VLOOKUP(A62,初期設定!$B$20:$F$40,2,0)","v":"砲丸投"},{"$f":"VLOOKUP(A62,初期設定!$B$20:$F$40,3,0)","v":"02F"},null,null,null,null,"","",{"$f":"IF(ISERROR(VLOOKUP(E62,男子選手!$B$5:$G$195,6,FALSE)),\"\",VLOOKUP(E62,男子選手!$B$5:$G$195,6,FALSE))","v":""},{"$f":"IFERROR(VLOOKUP(E62,男子選手!$B$5:$F$103,5,FALSE),\"\")","v":""},{"$f":"IF(K62=\"\",\"\",初期設定!$C$4)","v":""},"","",""]
["08200","2",{"$f":"VLOOKUP(A63,初期設定!$B$20:$F$40,2,0)","v":"砲丸投"},{"$f":"VLOOKUP(A63,初期設定!$B$20:$F$40,3,0)","v":"02F"},null,null,null,null,{"$f":"IF(AND(F63=\"\",G63=\"\",H63=\"\"),\"\",IF(D63=\"01T\",IF(F63=\"\",G63&\"\"\"\"&H63,F63&\"'\"&G63&\"\"\"\"&H63),IF(D63=\"02F\",G63&\"m\"&H63,H63&\"点\")))","v":""},{"$f":"IF(E63=\"\",\"\",E63)","v":""},{"$f":"IF(ISERROR(VLOOKUP(E63,男子選手!$B$5:$G$195,6,FALSE)),\"\",VLOOKUP(E63,男子選手!$B$5:$G$195,6,FALSE))","v":""},{"$f":"IFERROR(VLOOKUP(E63,男子選手!$B$5:$F$103,5,FALSE),\"\")","v":""},{"$f":"IF(K63=\"\",\"\",初期設定!$C$4)","v":""},"","",""]
["08700","1",{"$f":"VLOOKUP(A64,初期設定!$B$20:$F$40,2,0)","v":"円盤投"},{"$f":"VLOOKUP(A64,初期設定!$B$20:$F$40,3,0)","v":"02F"},null,null,null,null,"","",{"$f":"IF(ISERROR(VLOOKUP(E64,男子選手!$B$5:$G$195,6,FALSE)),\"\",VLOOKUP(E64,男子選手!$B$5:$G$195,6,FALSE))","v":""},{"$f":"IFERROR(VLOOKUP(E64,男子選手!$B$5:$F$103,5,FALSE),\"\")","v":""},{"$f":"IF(K64=\"\",\"\",初期設定!$C$4)","v":""},"","",""]
["08700","1",{"$f":"VLOOKUP(A65,初期設定!$B$20:$F$40,2,0)","v":"円盤投"},{"$f":"VLOOKUP(A65,初期設定!$B$20:$F$40,3,0)","v":"02F"},null,null,null,null,"","",{"$f":"IF(ISERROR(VLOOKUP(E65,男子選手!$B$5:$G$195,6,FALSE)),\"\",VLOOKUP(E65,男子選手!$B$5:$G$195,6,FALSE))","v":""},{"$f":"IFERROR(VLOOKUP(E65,男子選手!$B$5:$F$103,5,FALSE),\"\")","v":""},{"$f":"IF(K65=\"\",\"\",初期設定!$C$4)","v":""},"","",""]
["08700","2",{"$f":"VLOOKUP(A66,初期設定!$B$20:$F$40,2,0)","v":"円盤投"},{"$f":"VLOOKUP(A66,初期設定!$B$20:$F$40,3,0)","v":"02F"},null,null,null,null,"","",{"$f":"IF(ISERROR(VLOOKUP(E66,男子選手!$B$5:$G$195,6,FALSE)),\"\",VLOOKUP(E66,男子選手!$B$5:$G$195,6,FALSE))","v":""},{"$f":"IFERROR(VLOOKUP(E66,男子選手!$B$5:$F$103,5,FALSE),\"\")","v":""},{"$f":"IF(K66=\"\",\"\",初期設定!$C$4)","v":""},"","",""]
["08700","2",{"$f":"VLOOKUP(A67,初期設定!$B$20:$F$40,2,0)","v":"円盤投"},{"$f":"VLOOKUP(A67,初期設定!$B$20:$F$40,3,0)","v":"02F"},null,null,null,null,{"$f":"IF(AND(F67=\"\",G67=\"\",H67=\"\"),\"\",IF(D67=\"01T\",IF(F67=\"\",G67&\"\"\"\"&H67,F67&\"'\"&G67&\"\"\"\"&H67),IF(D67=\"02F\",G67&\"m\"&H67,H67&\"点\")))","v":""},{"$f":"IF(E67=\"\",\"\",E67)","v":""},{"$f":"IF(ISERROR(VLOOKUP(E67,男子選手!$B$5:$G$195,6,FALSE)),\"\",VLOOKUP(E67,男子選手!$B$5:$G$195,6,FALSE))","v":""},{"$f":"IFERROR(VLOOKUP(E67,男子選手!$B$5:$F$103,5,FALSE),\"\")","v":""},{"$f":"IF(K67=\"\",\"\",初期設定!$C$4)","v":""},"","",""]
["09100","1",{"$f":"VLOOKUP(A68,初期設定!$B$20:$F$40,2,0)","v":"ﾊﾝﾏ-投"},{"$f":"VLOOKUP(A68,初期設定!$B$20:$F$40,3,0)","v":"02F"},null,null,null,null,"","",{"$f":"IF(ISERROR(VLOOKUP(E68,男子選手!$B$5:$G$195,6,FALSE)),\"\",VLOOKUP(E68,男子選手!$B$5:$G$195,6,FALSE))","v":""},{"$f":"IFERROR(VLOOKUP(E68,男子選手!$B$5:$F$103,5,FALSE),\"\")","v":""},{"$f":"IF(K68=\"\",\"\",初期設定!$C$4)","v":""},"","",""]
["09100","1",{"$f":"VLOOKUP(A69,初期設定!$B$20:$F$40,2,0)","v":"ﾊﾝﾏ-投"},{"$f":"VLOOKUP(A69,初期設定!$B$20:$F$40,3,0)","v":"02F"},null,null,null,null,"","",{"$f":"IF(ISERROR(VLOOKUP(E69,男子選手!$B$5:$G$195,6,FALSE)),\"\",VLOOKUP(E69,男子選手!$B$5:$G$195,6,FALSE))","v":""},{"$f":"IFERROR(VLOOKUP(E69,男子選手!$B$5:$F$103,5,FALSE),\"\")","v":""},{"$f":"IF(K69=\"\",\"\",初期設定!$C$4)","v":""},{"$f":"CONCATENATE(F69,G69,H69)","v":""},{"$f":"IF(K69=\"\",\"\",\"男\")","v":""},{"$f":"IF(K69=\"\",\"\",IF(MID(K69,LEN(K69)-1,1)=B69,\"OK\",\"学年間違い\"))","v":""}]
["09100","2",{"$f":"VLOOKUP(A70,初期設定!$B$20:$F$40,2,0)","v":"ﾊﾝﾏ-投"},{"$f":"VLOOKUP(A70,初期設定!$B$20:$F$40,3,0)","v":"02F"},null,null,null,null,"","",{"$f":"IF(ISERROR(VLOOKUP(E70,男子選手!$B$5:$G$195,6,FALSE)),\"\",VLOOKUP(E70,男子選手!$B$5:$G$195,6,FALSE))","v":""},{"$f":"IFERROR(VLOOKUP(E70,男子選手!$B$5:$F$103,5,FALSE),\"\")","v":""},{"$f":"IF(K70=\"\",\"\",初期設定!$C$4)","v":""},"","",""]
["09100","2",{"$f":"VLOOKUP(A71,初期設定!$B$20:$F$40,2,0)","v":"ﾊﾝﾏ-投"},{"$f":"VLOOKUP(A71,初期設定!$B$20:$F$40,3,0)","v":"02F"},null,null,null,null,{"$f":"IF(AND(F71=\"\",G71=\"\",H71=\"\"),\"\",IF(D71=\"01T\",IF(F71=\"\",G71&\"\"\"\"&H71,F71&\"'\"&G71&\"\"\"\"&H71),IF(D71=\"02F\",G71&\"m\"&H71,H71&\"点\")))","v":""},{"$f":"IF(E71=\"\",\"\",E71)","v":""},{"$f":"IF(ISERROR(VLOOKUP(E71,男子選手!$B$5:$G$195,6,FALSE)),\"\",VLOOKUP(E71,男子選手!$B$5:$G$195,6,FALSE))","v":""},{"$f":"IFERROR(VLOOKUP(E71,男子選手!$B$5:$F$103,5,FALSE),\"\")","v":""},{"$f":"IF(K71=\"\",\"\",初期設定!$C$4)","v":""},"","",""]
["09200","1",{"$f":"VLOOKUP(A72,初期設定!$B$20:$F$40,2,0)","v":"やり投"},{"$f":"VLOOKUP(A72,初期設定!$B$20:$F$40,3,0)","v":"02F"},null,null,null,null,"","",{"$f":"IF(ISERROR(VLOOKUP(E72,男子選手!$B$5:$G$195,6,FALSE)),\"\",VLOOKUP(E72,男子選手!$B$5:$G$195,6,FALSE))","v":""},{"$f":"IFERROR(VLOOKUP(E72,男子選手!$B$5:$F$103,5,FALSE),\"\")","v":""},{"$f":"IF(K72=\"\",\"\",初期設定!$C$4)","v":""},"","",""]
["09200","1",{"$f":"VLOOKUP(A73,初期設定!$B$20:$F$40,2,0)","v":"やり投"},{"$f":"VLOOKUP(A73,初期設定!$B$20:$F$40,3,0)","v":"02F"},null,null,null,null,"","",{"$f":"IF(ISERROR(VLOOKUP(E73,男子選手!$B$5:$G$195,6,FALSE)),\"\",VLOOKUP(E73,男子選手!$B$5:$G$195,6,FALSE))","v":""},{"$f":"IFERROR(VLOOKUP(E73,男子選手!$B$5:$F$103,5,FALSE),\"\")","v":""},{"$f":"IF(K73=\"\",\"\",初期設定!$C$4)","v":""},"","",""]
["09200","2",{"$f":"VLOOKUP(A74,初期設定!$B$20:$F$40,2,0)","v":"やり投"},{"$f":"VLOOKUP(A74,初期設定!$B$20:$F$40,3,0)","v":"02F"},null,null,null,null,"",{"$f":"IF(E74=\"\",\"\",E74)","v":""},{"$f":"IF(ISERROR(VLOOKUP(E74,男子選手!$B$5:$G$195,6,FALSE)),\"\",VLOOKUP(E74,男子選手!$B$5:$G$195,6,FALSE))","v":""},{"$f":"IFERROR(VLOOKUP(E74,男子選手!$B$5:$F$103,5,FALSE),\"\")","v":""},{"$f":"IF(K74=\"\",\"\",初期設定!$C$4)","v":""},"","",""]
["09200","2",{"$f":"VLOOKUP(A75,初期設定!$B$20:$F$40,2,0)","v":"やり投"},{"$f":"VLOOKUP(A75,初期設定!$B$20:$F$40,3,0)","v":"02F"},null,null,null,null,{"$f":"IF(AND(F75=\"\",G75=\"\",H75=\"\"),\"\",IF(D75=\"01T\",IF(F75=\"\",G75&\"\"\"\"&H75,F75&\"'\"&G75&\"\"\"\"&H75),IF(D75=\"02F\",G75&\"m\"&H75,H75&\"点\")))","v":""},{"$f":"IF(E75=\"\",\"\",E75)","v":""},{"$f":"IF(ISERROR(VLOOKUP(E75,男子選手!$B$5:$G$195,6,FALSE)),\"\",VLOOKUP(E75,男子選手!$B$5:$G$195,6,FALSE))","v":""},{"$f":"IFERROR(VLOOKUP(E75,男子選手!$B$5:$F$103,5,FALSE),\"\")","v":""},{"$f":"IF(K75=\"\",\"\",初期設定!$C$4)","v":""},"","",""]
["60100",null,"4x100R",{"$f":"VLOOKUP(A76,初期設定!$B$20:$F$40,3,0)","v":"01T"},null,null,null,null,{"$f":"IF(AND(F76=\"\",G76=\"\",H76=\"\"),\"\",IF(D76=\"01T\",IF(F76=\"\",G76&\"\"\"\"&H76,F76&\"'\"&G76&\"\"\"\"&H76),IF(D76=\"02F\",G76&\"m\"&H76,H76&\"点\")))","v":""},{"$f":"IF(E76=\"\",\"\",E76)","v":""},{"$f":"IF(ISERROR(VLOOKUP(E76,男子選手!$B$5:$G$195,6,FALSE)),\"\",VLOOKUP(E76,男子選手!$B$5:$G$195,6,FALSE))","v":""},{"$f":"IFERROR(VLOOKUP(E76,男子選手!$B$5:$F$103,5,FALSE),\"\")","v":""},{"$f":"IF(K76=\"\",\"\",初期設定!$C$4)","v":""},"",""]
["60100",null,"4x100R",{"$f":"VLOOKUP(A77,初期設定!$B$20:$F$40,3,0)","v":"01T"},null,null,null,null,"",{"$f":"IF(E77=\"\",\"\",E77)","v":""},{"$f":"IF(ISERROR(VLOOKUP(E77,男子選手!$B$5:$G$195,6,FALSE)),\"\",VLOOKUP(E77,男子選手!$B$5:$G$195,6,FALSE))","v":""},{"$f":"IFERROR(VLOOKUP(E77,男子選手!$B$5:$F$103,5,FALSE),\"\")","v":""},{"$f":"IF(K77=\"\",\"\",初期設定!$C$4)","v":""},"",""]
["60100",null,"4x100R",{"$f":"VLOOKUP(A78,初期設定!$B$20:$F$40,3,0)","v":"01T"},null,null,null,null,"","",{"$f":"IF(ISERROR(VLOOKUP(E78,男子選手!$B$5:$G$195,6,FALSE)),\"\",VLOOKUP(E78,男子選手!$B$5:$G$195,6,FALSE))","v":""},{"$f":"IFERROR(VLOOKUP(E78,男子選手!$B$5:$F$103,5,FALSE),\"\")","v":""},{"$f":"IF(K78=\"\",\"\",初期設定!$C$4)","v":""},"",""]
["60100",null,"4x100R",{"$f":"VLOOKUP(A79,初期設定!$B$20:$F$40,3,0)","v":"01T"},null,null,null,null,"","",{"$f":"IF(ISERROR(VLOOKUP(E79,男子選手!$B$5:$G$195,6,FALSE)),\"\",VLOOKUP(E79,男子選手!$B$5:$G$195,6,FALSE))","v":""},{"$f":"IFERROR(VLOOKUP(E79,男子選手!$B$5:$F$103,5,FALSE),\"\")","v":""},{"$f":"IF(K79=\"\",\"\",初期設定!$C$4)","v":""},"",""]
["60100",null,"4x100R",{"$f":"VLOOKUP(A80,初期設定!$B$20:$F$40,3,0)","v":"01T"},null,null,null,null,"","",{"$f":"IF(ISERROR(VLOOKUP(E80,男子選手!$B$5:$G$195,6,FALSE)),\"\",VLOOKUP(E80,男子選手!$B$5:$G$195,6,FALSE))","v":""},{"$f":"IFERROR(VLOOKUP(E80,男子選手!$B$5:$F$103,5,FALSE),\"\")","v":""},{"$f":"IF(K80=\"\",\"\",初期設定!$C$4)","v":""},"",""]
["60100",null,"4x100R",{"$f":"VLOOKUP(A81,初期設定!$B$20:$F$40,3,0)","v":"01T"},null,null,null,null,"","",{"$f":"IF(ISERROR(VLOOKUP(E81,男子選手!$B$5:$G$195,6,FALSE)),\"\",VLOOKUP(E81,男子選手!$B$5:$G$195,6,FALSE))","v":""},{"$f":"IFERROR(VLOOKUP(E81,男子選手!$B$5:$F$103,5,FALSE),\"\")","v":""},{"$f":"IF(K81=\"\",\"\",初期設定!$C$4)","v":""},"",""]
["60300",null,"4x400R",{"$f":"VLOOKUP(A82,初期設定!$B$20:$F$40,3,0)","v":"01T"},null,null,null,null,"","",{"$f":"IF(ISERROR(VLOOKUP(E82,男子選手!$B$5:$G$195,6,FALSE)),\"\",VLOOKUP(E82,男子選手!$B$5:$G$195,6,FALSE))","v":""},{"$f":"IFERROR(VLOOKUP(E82,男子選手!$B$5:$F$103,5,FALSE),\"\")","v":""},{"$f":"IF(K82=\"\",\"\",初期設定!$C$4)","v":""},"",""]
["60300",null,"4x400R",{"$f":"VLOOKUP(A83,初期設定!$B$20:$F$40,3,0)","v":"01T"},null,null,null,null,"","",{"$f":"IF(ISERROR(VLOOKUP(E83,男子選手!$B$5:$G$195,6,FALSE)),\"\",VLOOKUP(E83,男子選手!$B$5:$G$195,6,FALSE))","v":""},{"$f":"IFERROR(VLOOKUP(E83,男子選手!$B$5:$F$103,5,FALSE),\"\")","v":""},{"$f":"IF(K83=\"\",\"\",初期設定!$C$4)","v":""},"",""]
["60300",null,"4x400R",{"$f":"VLOOKUP(A84,初期設定!$B$20:$F$40,3,0)","v":"01T"},null,null,null,null,"","",{"$f":"IF(ISERROR(VLOOKUP(E84,男子選手!$B$5:$G$195,6,FALSE)),\"\",VLOOKUP(E84,男子選手!$B$5:$G$195,6,FALSE))","v":""},{"$f":"IFERROR(VLOOKUP(E84,男子選手!$B$5:$F$103,5,FALSE),\"\")","v":""},{"$f":"IF(K84=\"\",\"\",初期設定!$C$4)","v":""},"",""]
["60300",null,"4x400R",{"$f":"VLOOKUP(A85,初期設定!$B$20:$F$40,3,0)","v":"01T"},null,null,null,null,"","",{"$f":"IF(ISERROR(VLOOKUP(E85,男子選手!$B$5:$G$195,6,FALSE)),\"\",VLOOKUP(E85,男子選手!$B$5:$G$195,6,FALSE))","v":""},{"$f":"IFERROR(VLOOKUP(E85,男子選手!$B$5:$F$103,5,FALSE),\"\")","v":""},{"$f":"IF(K85=\"\",\"\",初期設定!$C$4)","v":""},"",""]
["60300",null,"4x400R",{"$f":"VLOOKUP(A86,初期設定!$B$20:$F$40,3,0)","v":"01T"},null,null,null,null,"","",{"$f":"IF(ISERROR(VLOOKUP(E86,男子選手!$B$5:$G$195,6,FALSE)),\"\",VLOOKUP(E86,男子選手!$B$5:$G$195,6,FALSE))","v":""},{"$f":"IFERROR(VLOOKUP(E86,男子選手!$B$5:$F$103,5,FALSE),\"\")","v":""},{"$f":"IF(K86=\"\",\"\",初期設定!$C$4)","v":""},"",""]
["60300",null,"4x400R",{"$f":"VLOOKUP(A87,初期設定!$B$20:$F$40,3,0)","v":"01T"},null,null,null,null,"","",{"$f":"IF(ISERROR(VLOOKUP(E87,男子選手!$B$5:$G$195,6,FALSE)),\"\",VLOOKUP(E87,男子選手!$B$5:$G$195,6,FALSE))","v":""},{"$f":"IFERROR(VLOOKUP(E87,男子選手!$B$5:$F$103,5,FALSE),\"\")","v":""},{"$f":"IF(K87=\"\",\"\",初期設定!$C$4)","v":""},"",""]

{"sheet":"男子申込","index":3,"n_rows":74,"n_cols":18,"rows_kept":74,"cut":false,"hidden":false,"merged":[[1,4,1,16],[6,6,6,8],[3,10,3,12],[3,13,3,16],[5,1,6,3],[5,10,6,12],[5,13,6,16],[2,15,2,16],[45,1,50,1],[45,2,47,2],[48,2,50,2],[1,1,1,2],[3,2,3,3],[5,17,6,17],[64,7,64,8],[56,3,56,4],[58,3,58,4],[57,3,57,4],[59,3,59,4],[59,7,59,8],[58,7,58,8],[61,3,61,5],[8,14,8,15],[63,3,63,5],[64,3,64,5],[65,3,65,5],[3,5,3,8],[65,7,65,8],[61,7,61,8],[62,7,62,8],[63,7,63,8],[62,3,62,5],[55,1,55,5],[58,1,58,2],[59,1,59,2],[61,1,65,2],[57,1,57,2],[5,5,5,8],[56,1,56,2],[27,1,44,1],[9,1,26,1]]}
[]
[null,"男  子",null,null,"第76回　兵庫県高等学校ユース陸上競技対校選手権大会地区予選会　申込書"]
[null,null,null,null,null,null,null,null,null,null,null,null,null,null,null,"（様式１）"]
[null,"学校番号",{"$f":"初期設定!C4","v":0},null,"学　校　名",{"$f":"初期設定!$C$2","v":""},null,null,null,null,"学校長氏名",null,null,{"$f":"初期設定!C8","v":0},null,null,null,"印"]
[]
[null,"学校所在地",null,null,{"$f":"CONCATENATE(学校番号!H2,初期設定!C5)","v":"〒"},{"$f":"初期設定!C7","v":""},null,null,null,null,"顧問氏名",null,null,{"$f":"初期設定!C9","v":0},null,null,null,"印"]
[null,null,null,null,null,"℡",{"$f":"初期設定!C6","v":""}]
[]
[null,"性","種    目","ナンバー","氏　名 /学年","記　録","ナンバー","氏　名 /学年","記　録",null,"No","性","ﾅﾝﾊﾞ-","氏　名/学年","申 込 種 目",null,"400mR","1600mR"]
[null,"1年　男　　　　　   子","100m",{"$f":"記録入力!$J4","v":""},{"$f":"記録入力!$K4","v":""},{"$f":"記録入力!$I4","v":""},{"$f":"記録入力!$J5","v":""},{"$f":"記録入力!$K5","v":""},{"$f":"記録入力!$I5","v":""},null,1,{"$f":"IF(M10=\"\",\"\",\"男\")","v":""},{"$f":"IF(ISERROR(データ完成!C3),\"\",(データ完成!C3))","v":""},{"$f":"IF(ISERROR(データ完成!D3),\"\",データ完成!D3)","v":""},{"$f":"IF(ISERROR(データ完成!E3),\"\",データ完成!E3)","v":""},{"$f":"IF(ISERROR(データ完成!F3),\"\",データ完成!F3)","v":""},{"$f":"IF(ISERROR(データ完成!J3),\"\",データ完成!J3)","v":""},{"$f":"IF(ISERROR(データ完成!K3),\"\",データ完成!K3)","v":""}]
[null,null,"200m",{"$f":"記録入力!$J8","v":""},{"$f":"記録入力!$K8","v":""},{"$f":"記録入力!$I8","v":""},{"$f":"記録入力!$J9","v":""},{"$f":"記録入力!$K9","v":""},{"$f":"記録入力!$I9","v":""},null,2,{"$f":"IF(M11=\"\",\"\",\"男\")","v":""},{"$f":"IF(ISERROR(データ完成!C4),\"\",(データ完成!C4))","v":""},{"$f":"IF(ISERROR(データ完成!D4),\"\",データ完成!D4)","v":""},{"$f":"データ完成!E4","v":""},{"$f":"データ完成!F4","v":""},{"$f":"IF(ISERROR(データ完成!J4),\"\",データ完成!J4)","v":""},{"$f":"IF(ISERROR(データ完成!K4),\"\",データ完成!K4)","v":""}]
[null,null,"400m",{"$f":"記録入力!E12","v":0},{"$f":"記録入力!$K12","v":""},{"$f":"記録入力!$I12","v":""},{"$f":"記録入力!E13","v":0},{"$f":"記録入力!$K13","v":""},{"$f":"記録入力!$I13","v":""},null,3,"",{"$f":"IF(ISERROR(データ完成!C5),\"\",(データ完成!C5))","v":""},{"$f":"IF(ISERROR(データ完成!D5),\"\",データ完成!D5)","v":""},{"$f":"データ完成!E5","v":""},{"$f":"データ完成!F5","v":""},{"$f":"IF(ISERROR(データ完成!J5),\"\",データ完成!J5)","v":""},{"$f":"IF(ISERROR(データ完成!K5),\"\",データ完成!K5)","v":""}]
[null,null,"800m",{"$f":"記録入力!E16","v":0},{"$f":"記録入力!$K16","v":""},{"$f":"記録入力!$I16","v":""},{"$f":"記録入力!$J17","v":""},{"$f":"記録入力!$K17","v":""},{"$f":"記録入力!$I17","v":""},null,4,"",{"$f":"IF(ISERROR(データ完成!C6),\"\",(データ完成!C6))","v":""},{"$f":"IF(ISERROR(データ完成!D6),\"\",データ完成!D6)","v":""},{"$f":"データ完成!E6","v":""},{"$f":"データ完成!F6","v":""},{"$f":"IF(ISERROR(データ完成!J6),\"\",データ完成!J6)","v":""},{"$f":"IF(ISERROR(データ完成!K6),\"\",データ完成!K6)","v":""}]
[null,null,"1500m",{"$f":"記録入力!$J20","v":""},{"$f":"記録入力!$K20","v":""},{"$f":"記録入力!$I20","v":""},{"$f":"記録入力!$J21","v":""},{"$f":"記録入力!$K21","v":""},{"$f":"記録入力!$I21","v":""},null,5,"",{"$f":"IF(ISERROR(データ完成!C7),\"\",(データ完成!C7))","v":""},{"$f":"IF(ISERROR(データ完成!D7),\"\",データ完成!D7)","v":""},{"$f":"データ完成!E7","v":""},{"$f":"データ完成!F7","v":""},{"$f":"IF(ISERROR(データ完成!J7),\"\",データ完成!J7)","v":""},{"$f":"IF(ISERROR(データ完成!K7),\"\",データ完成!K7)","v":""}]
[null,null,"5000m",{"$f":"記録入力!$J24","v":""},{"$f":"記録入力!$K24","v":""},{"$f":"記録入力!$I24","v":""},{"$f":"記録入力!$J25","v":""},{"$f":"記録入力!$K25","v":""},{"$f":"記録入力!$I25","v":""},null,6,"",{"$f":"IF(ISERROR(データ完成!C8),\"\",(データ完成!C8))","v":""},{"$f":"IF(ISERROR(データ完成!D8),\"\",データ完成!D8)","v":""},{"$f":"データ完成!E8","v":""},{"$f":"データ完成!F8","v":""},{"$f":"IF(ISERROR(データ完成!J8),\"\",データ完成!J8)","v":""},{"$f":"IF(ISERROR(データ完成!K8),\"\",データ完成!K8)","v":""}]
[null,null,"110mH",{"$f":"記録入力!$J28","v":""},{"$f":"記録入力!$K28","v":""},{"$f":"記録入力!$I28","v":""},{"$f":"記録入力!$J29","v":""},{"$f":"記録入力!$K29","v":""},{"$f":"記録入力!$I29","v":""},null,7,"",{"$f":"IF(ISERROR(データ完成!C9),\"\",(データ完成!C9))","v":""},{"$f":"IF(ISERROR(データ完成!D9),\"\",データ完成!D9)","v":""},{"$f":"データ完成!E9","v":""},{"$f":"データ完成!F9","v":""},{"$f":"IF(ISERROR(データ完成!J9),\"\",データ完成!J9)","v":""},{"$f":"IF(ISERROR(データ完成!K9),\"\",データ完成!K9)","v":""}]
[null,null,"400mH",{"$f":"記録入力!$J32","v":""},{"$f":"記録入力!$K32","v":""},{"$f":"記録入力!$I32","v":""},{"$f":"記録入力!$J33","v":""},{"$f":"記録入力!$K33","v":""},{"$f":"記録入力!$I33","v":""},null,8,"",{"$f":"IF(ISERROR(データ完成!C10),\"\",(データ完成!C10))","v":""},{"$f":"IF(ISERROR(データ完成!D10),\"\",データ完成!D10)","v":""},{"$f":"データ完成!E10","v":""},{"$f":"データ完成!F10","v":""},{"$f":"IF(ISERROR(データ完成!J10),\"\",データ完成!J10)","v":""},{"$f":"IF(ISERROR(データ完成!K10),\"\",データ完成!K10)","v":""}]
[null,null,"3000mSC",{"$f":"記録入力!$J36","v":""},{"$f":"記録入力!$K36","v":""},{"$f":"記録入力!$I36","v":""},{"$f":"記録入力!$J37","v":""},{"$f":"記録入力!$K37","v":""},{"$f":"記録入力!$I37","v":""},null,9,"",{"$f":"IF(ISERROR(データ完成!C11),\"\",(データ完成!C11))","v":""},{"$f":"IF(ISERROR(データ完成!D11),\"\",データ完成!D11)","v":""},{"$f":"データ完成!E11","v":""},{"$f":"データ完成!F11","v":""},{"$f":"IF(ISERROR(データ完成!J11),\"\",データ完成!J11)","v":""},{"$f":"IF(ISERROR(データ完成!K11),\"\",データ完成!K11)","v":""}]
[null,null,"5000mW",{"$f":"記録入力!$J40","v":""},{"$f":"記録入力!$K40","v":""},{"$f":"記録入力!$I40","v":""},{"$f":"記録入力!$J41","v":""},{"$f":"記録入力!$K41","v":""},{"$f":"記録入力!$I41","v":""},null,10,"",{"$f":"IF(ISERROR(データ完成!C12),\"\",(データ完成!C12))","v":""},{"$f":"IF(ISERROR(データ完成!D12),\"\",データ完成!D12)","v":""},{"$f":"データ完成!E12","v":""},{"$f":"データ完成!F12","v":""},{"$f":"IF(ISERROR(データ完成!J12),\"\",データ完成!J12)","v":""},{"$f":"IF(ISERROR(データ完成!K12),\"\",データ完成!K12)","v":""}]
[null,null,"走 高 跳",{"$f":"記録入力!$J44","v":""},{"$f":"記録入力!$K44","v":""},{"$f":"記録入力!$I44","v":""},{"$f":"記録入力!$J45","v":""},{"$f":"記録入力!$K45","v":""},{"$f":"記録入力!$I45","v":""},null,11,"",{"$f":"IF(ISERROR(データ完成!C13),\"\",(データ完成!C13))","v":""},{"$f":"IF(ISERROR(データ完成!D13),\"\",データ完成!D13)","v":""},{"$f":"データ完成!E13","v":""},{"$f":"データ完成!F13","v":""},{"$f":"IF(ISERROR(データ完成!J13),\"\",データ完成!J13)","v":""},{"$f":"IF(ISERROR(データ完成!K13),\"\",データ完成!K13)","v":""}]
[null,null,"棒 高 跳",{"$f":"記録入力!$J48","v":""},{"$f":"記録入力!$K48","v":""},{"$f":"記録入力!$I48","v":""},{"$f":"記録入力!$J49","v":""},{"$f":"記録入力!$K49","v":""},{"$f":"記録入力!$I49","v":""},null,12,"",{"$f":"IF(ISERROR(データ完成!C14),\"\",(データ完成!C14))","v":""},{"$f":"IF(ISERROR(データ完成!D14),\"\",データ完成!D14)","v":""},{"$f":"データ完成!E14","v":""},{"$f":"データ完成!F14","v":""},{"$f":"IF(ISERROR(データ完成!J14),\"\",データ完成!J14)","v":""},{"$f":"IF(ISERROR(データ完成!K14),\"\",データ完成!K14)","v":""}]
[null,null,"走 幅 跳",{"$f":"記録入力!$J52","v":""},{"$f":"記録入力!$K52","v":""},{"$f":"記録入力!$I52","v":""},{"$f":"記録入力!$J53","v":""},{"$f":"記録入力!$K53","v":""},{"$f":"記録入力!$I53","v":""},null,13,"",{"$f":"IF(ISERROR(データ完成!C15),\"\",(データ完成!C15))","v":""},{"$f":"IF(ISERROR(データ完成!D15),\"\",データ完成!D15)","v":""},{"$f":"データ完成!E15","v":""},{"$f":"データ完成!F15","v":""},{"$f":"IF(ISERROR(データ完成!J15),\"\",データ完成!J15)","v":""},{"$f":"IF(ISERROR(データ完成!K15),\"\",データ完成!K15)","v":""}]
[null,null,"三 段 跳",{"$f":"記録入力!$J56","v":""},{"$f":"記録入力!$K56","v":""},{"$f":"記録入力!$I56","v":""},{"$f":"記録入力!$J57","v":""},{"$f":"記録入力!$K57","v":""},{"$f":"記録入力!$I57","v":""},null,14,"",{"$f":"IF(ISERROR(データ完成!C16),\"\",(データ完成!C16))","v":""},{"$f":"IF(ISERROR(データ完成!D16),\"\",データ完成!D16)","v":""},{"$f":"データ完成!E16","v":""},{"$f":"データ完成!F16","v":""},{"$f":"IF(ISERROR(データ完成!J16),\"\",データ完成!J16)","v":""},{"$f":"IF(ISERROR(データ完成!K16),\"\",データ完成!K16)","v":""}]
[null,null,"砲 丸 投",{"$f":"記録入力!$J60","v":""},{"$f":"記録入力!$K60","v":""},{"$f":"記録入力!$I60","v":""},{"$f":"記録入力!$J61","v":""},{"$f":"記録入力!$K61","v":""},{"$f":"記録入力!$I61","v":""},null,15,"",{"$f":"IF(ISERROR(データ完成!C17),\"\",(データ完成!C17))","v":""},{"$f":"IF(ISERROR(データ完成!D17),\"\",データ完成!D17)","v":""},{"$f":"データ完成!E17","v":""},{"$f":"データ完成!F17","v":""},{"$f":"IF(ISERROR(データ完成!J17),\"\",データ完成!J17)","v":""},{"$f":"IF(ISERROR(データ完成!K17),\"\",データ完成!K17)","v":""}]
[null,null,"円 盤 投",{"$f":"記録入力!$J64","v":""},{"$f":"記録入力!$K64","v":""},{"$f":"記録入力!$I64","v":""},{"$f":"記録入力!$J65","v":""},{"$f":"記録入力!$K65","v":""},{"$f":"記録入力!$I65","v":""},null,16,"",{"$f":"IF(ISERROR(データ完成!C18),\"\",(データ完成!C18))","v":""},{"$f":"IF(ISERROR(データ完成!D18),\"\",データ完成!D18)","v":""},{"$f":"データ完成!E18","v":""},{"$f":"データ完成!F18","v":""},{"$f":"IF(ISERROR(データ完成!J18),\"\",データ完成!J18)","v":""},{"$f":"IF(ISERROR(データ完成!K18),\"\",データ完成!K18)","v":""}]
[null,null,"ﾊﾝﾏｰ投",{"$f":"記録入力!$J68","v":""},{"$f":"記録入力!$K68","v":""},{"$f":"記録入力!$I68","v":""},{"$f":"記録入力!$J69","v":""},{"$f":"記録入力!$K69","v":""},{"$f":"記録入力!$I69","v":""},null,17,"",{"$f":"IF(ISERROR(データ完成!C19),\"\",(データ完成!C19))","v":""},{"$f":"IF(ISERROR(データ完成!D19),\"\",データ完成!D19)","v":""},{"$f":"データ完成!E19","v":""},{"$f":"データ完成!F19","v":""},{"$f":"IF(ISERROR(データ完成!J19),\"\",データ完成!J19)","v":""},{"$f":"IF(ISERROR(データ完成!K19),\"\",データ完成!K19)","v":""}]
[null,null,"や り 投",{"$f":"記録入力!$J72","v":""},{"$f":"記録入力!$K72","v":""},{"$f":"記録入力!$I72","v":""},{"$f":"記録入力!$J73","v":""},{"$f":"記録入力!$K73","v":""},{"$f":"記録入力!$I73","v":""},null,18,"",{"$f":"IF(ISERROR(データ完成!C20),\"\",(データ完成!C20))","v":""},{"$f":"IF(ISERROR(データ完成!D20),\"\",データ完成!D20)","v":""},{"$f":"データ完成!E20","v":""},{"$f":"データ完成!F20","v":""},{"$f":"IF(ISERROR(データ完成!J20),\"\",データ完成!J20)","v":""},{"$f":"IF(ISERROR(データ完成!K20),\"\",データ完成!K20)","v":""}]
[null,"2年　男　　　　　   子","100m",{"$f":"記録入力!$J6","v":""},{"$f":"記録入力!$K6","v":""},{"$f":"記録入力!$I6","v":""},{"$f":"記録入力!$J7","v":""},{"$f":"記録入力!$K7","v":""},{"$f":"記録入力!$I7","v":""},null,19,"",{"$f":"IF(ISERROR(データ完成!C21),\"\",(データ完成!C21))","v":""},{"$f":"IF(ISERROR(データ完成!D21),\"\",データ完成!D21)","v":""},{"$f":"データ完成!E21","v":""},{"$f":"データ完成!F21","v":""},{"$f":"IF(ISERROR(データ完成!J21),\"\",データ完成!J21)","v":""},{"$f":"IF(ISERROR(データ完成!K21),\"\",データ完成!K21)","v":""}]
[null,null,"200m",{"$f":"記録入力!E10","v":0},{"$f":"記録入力!K10","v":""},{"$f":"記録入力!$I10","v":""},{"$f":"記録入力!$J11","v":""},{"$f":"記録入力!$K11","v":""},{"$f":"記録入力!$I11","v":""},null,20,"",{"$f":"IF(ISERROR(データ完成!C22),\"\",(データ完成!C22))","v":""},{"$f":"IF(ISERROR(データ完成!D22),\"\",データ完成!D22)","v":""},{"$f":"データ完成!E22","v":""},{"$f":"データ完成!F22","v":""},{"$f":"IF(ISERROR(データ完成!J22),\"\",データ完成!J22)","v":""},{"$f":"IF(ISERROR(データ完成!K22),\"\",データ完成!K22)","v":""}]
[null,null,"400m",{"$f":"記録入力!$J14","v":""},{"$f":"記録入力!$K14","v":""},{"$f":"記録入力!$I14","v":""},{"$f":"記録入力!$J15","v":""},{"$f":"記録入力!$K15","v":""},{"$f":"記録入力!$I15","v":""},null,21,"",{"$f":"IF(ISERROR(データ完成!C23),\"\",(データ完成!C23))","v":""},{"$f":"IF(ISERROR(データ完成!D23),\"\",データ完成!D23)","v":""},{"$f":"データ完成!E23","v":""},{"$f":"データ完成!F23","v":""},{"$f":"IF(ISERROR(データ完成!J23),\"\",データ完成!J23)","v":""},{"$f":"IF(ISERROR(データ完成!K23),\"\",データ完成!K23)","v":""}]
[null,null,"800m",{"$f":"記録入力!$J18","v":""},{"$f":"記録入力!$K18","v":""},{"$f":"記録入力!$I18","v":""},{"$f":"記録入力!$J19","v":""},{"$f":"記録入力!$K19","v":""},{"$f":"記録入力!$I19","v":""},null,22,"",{"$f":"IF(ISERROR(データ完成!C24),\"\",(データ完成!C24))","v":""},{"$f":"IF(ISERROR(データ完成!D24),\"\",データ完成!D24)","v":""},{"$f":"データ完成!E24","v":""},{"$f":"データ完成!F24","v":""},{"$f":"IF(ISERROR(データ完成!J24),\"\",データ完成!J24)","v":""},{"$f":"IF(ISERROR(データ完成!K24),\"\",データ完成!K24)","v":""}]
[null,null,"1500m",{"$f":"記録入力!$J22","v":""},{"$f":"記録入力!$K22","v":""},{"$f":"記録入力!$I22","v":""},{"$f":"記録入力!$J23","v":""},{"$f":"記録入力!$K23","v":""},{"$f":"記録入力!$I23","v":""},null,23,"",{"$f":"IF(ISERROR(データ完成!C25),\"\",(データ完成!C25))","v":""},{"$f":"IF(ISERROR(データ完成!D25),\"\",データ完成!D25)","v":""},{"$f":"データ完成!E25","v":""},{"$f":"データ完成!F25","v":""},{"$f":"IF(ISERROR(データ完成!J25),\"\",データ完成!J25)","v":""},{"$f":"IF(ISERROR(データ完成!K25),\"\",データ完成!K25)","v":""}]
[null,null,"5000m",{"$f":"記録入力!$J26","v":""},{"$f":"記録入力!$K26","v":""},{"$f":"記録入力!$I26","v":""},{"$f":"記録入力!$J27","v":""},{"$f":"記録入力!$K27","v":""},{"$f":"記録入力!$I27","v":""},null,24,"",{"$f":"IF(ISERROR(データ完成!C26),\"\",(データ完成!C26))","v":""},{"$f":"IF(ISERROR(データ完成!D26),\"\",データ完成!D26)","v":""},{"$f":"データ完成!E26","v":""},{"$f":"データ完成!F26","v":""},{"$f":"IF(ISERROR(データ完成!J26),\"\",データ完成!J26)","v":""},{"$f":"IF(ISERROR(データ完成!K26),\"\",データ完成!K26)","v":""}]
[null,null,"110mH",{"$f":"記録入力!$J30","v":""},{"$f":"記録入力!$K30","v":""},{"$f":"記録入力!$I30","v":""},{"$f":"記録入力!$J31","v":""},{"$f":"記録入力!$K31","v":""},{"$f":"記録入力!$I31","v":""},null,25,"",{"$f":"IF(ISERROR(データ完成!C27),\"\",(データ完成!C27))","v":""},{"$f":"IF(ISERROR(データ完成!D27),\"\",データ完成!D27)","v":""},{"$f":"データ完成!E27","v":""},{"$f":"データ完成!F27","v":""},{"$f":"IF(ISERROR(データ完成!J27),\"\",データ完成!J27)","v":""},{"$f":"IF(ISERROR(データ完成!K27),\"\",データ完成!K27)","v":""}]
[null,null,"400mH",{"$f":"記録入力!$J34","v":""},{"$f":"記録入力!$K34","v":""},{"$f":"記録入力!$I34","v":""},{"$f":"記録入力!$J35","v":""},{"$f":"記録入力!$K35","v":""},{"$f":"記録入力!$I35","v":""},null,26,"",{"$f":"IF(ISERROR(データ完成!C28),\"\",(データ完成!C28))","v":""},{"$f":"IF(ISERROR(データ完成!D28),\"\",データ完成!D28)","v":""},{"$f":"データ完成!E28","v":""},{"$f":"データ完成!F28","v":""},{"$f":"IF(ISERROR(データ完成!J28),\"\",データ完成!J28)","v":""},{"$f":"IF(ISERROR(データ完成!K28),\"\",データ完成!K28)","v":""}]
[null,null,"3000mSC",{"$f":"記録入力!$J38","v":""},{"$f":"記録入力!$K38","v":""},{"$f":"記録入力!$I38","v":""},{"$f":"記録入力!$J39","v":""},{"$f":"記録入力!$K39","v":""},{"$f":"記録入力!$I39","v":""},null,27,"",{"$f":"IF(ISERROR(データ完成!C29),\"\",(データ完成!C29))","v":""},{"$f":"IF(ISERROR(データ完成!D29),\"\",データ完成!D29)","v":""},{"$f":"データ完成!E29","v":""},{"$f":"データ完成!F29","v":""},{"$f":"IF(ISERROR(データ完成!J29),\"\",データ完成!J29)","v":""},{"$f":"IF(ISERROR(データ完成!K29),\"\",データ完成!K29)","v":""}]
[null,null,"5000mW",{"$f":"記録入力!$J42","v":""},{"$f":"記録入力!$K42","v":""},{"$f":"記録入力!$I42","v":""},{"$f":"記録入力!$J43","v":""},{"$f":"記録入力!$K43","v":""},{"$f":"記録入力!$I43","v":""},null,28,"",{"$f":"IF(ISERROR(データ完成!C30),\"\",(データ完成!C30))","v":""},{"$f":"IF(ISERROR(データ完成!D30),\"\",データ完成!D30)","v":""},{"$f":"データ完成!E30","v":""},{"$f":"データ完成!F30","v":""},{"$f":"IF(ISERROR(データ完成!J30),\"\",データ完成!J30)","v":""},{"$f":"IF(ISERROR(データ完成!K30),\"\",データ完成!K30)","v":""}]
[null,null,"走 高 跳",{"$f":"記録入力!$J46","v":""},{"$f":"記録入力!$K46","v":""},{"$f":"記録入力!$I46","v":""},{"$f":"記録入力!$J47","v":""},{"$f":"記録入力!$K47","v":""},{"$f":"記録入力!$I47","v":""},null,29,"",{"$f":"IF(ISERROR(データ完成!C31),\"\",(データ完成!C31))","v":""},{"$f":"IF(ISERROR(データ完成!D31),\"\",データ完成!D31)","v":""},{"$f":"データ完成!E31","v":""},{"$f":"データ完成!F31","v":""},{"$f":"IF(ISERROR(データ完成!J31),\"\",データ完成!J31)","v":""},{"$f":"IF(ISERROR(データ完成!K31),\"\",データ完成!K31)","v":""}]
[null,null,"棒 高 跳",{"$f":"記録入力!$J50","v":""},{"$f":"記録入力!$K50","v":""},{"$f":"記録入力!$I50","v":""},{"$f":"記録入力!$J51","v":""},{"$f":"記録入力!$K51","v":""},{"$f":"記録入力!$I51","v":""},null,30,"",{"$f":"IF(ISERROR(データ完成!C32),\"\",(データ完成!C32))","v":""},{"$f":"IF(ISERROR(データ完成!D32),\"\",データ完成!D32)","v":""},{"$f":"データ完成!E32","v":""},{"$f":"データ完成!F32","v":""},{"$f":"IF(ISERROR(データ完成!J32),\"\",データ完成!J32)","v":""},{"$f":"IF(ISERROR(データ完成!K32),\"\",データ完成!K32)","v":""}]
[null,null,"走 幅 跳",{"$f":"記録入力!$J54","v":""},{"$f":"記録入力!$K54","v":""},{"$f":"記録入力!$I54","v":""},{"$f":"記録入力!$J55","v":""},{"$f":"記録入力!$K55","v":""},{"$f":"記録入力!$I55","v":""},null,31,"",{"$f":"IF(ISERROR(データ完成!C33),\"\",(データ完成!C33))","v":""},{"$f":"IF(ISERROR(データ完成!D33),\"\",データ完成!D33)","v":""},{"$f":"データ完成!E33","v":""},{"$f":"データ完成!F33","v":""},{"$f":"IF(ISERROR(データ完成!J33),\"\",データ完成!J33)","v":""},{"$f":"IF(ISERROR(データ完成!K33),\"\",データ完成!K33)","v":""}]
[null,null,"三 段 跳",{"$f":"記録入力!$J58","v":""},{"$f":"記録入力!$K58","v":""},{"$f":"記録入力!$I58","v":""},{"$f":"記録入力!$J59","v":""},{"$f":"記録入力!$K59","v":""},{"$f":"記録入力!$I59","v":""},null,32,"",{"$f":"IF(ISERROR(データ完成!C34),\"\",(データ完成!C34))","v":""},{"$f":"IF(ISERROR(データ完成!D34),\"\",データ完成!D34)","v":""},{"$f":"データ完成!E34","v":""},{"$f":"データ完成!F34","v":""},{"$f":"IF(ISERROR(データ完成!J34),\"\",データ完成!J34)","v":""},{"$f":"IF(ISERROR(データ完成!K34),\"\",データ完成!K34)","v":""}]
[null,null,"砲 丸 投",{"$f":"記録入力!$J62","v":""},{"$f":"記録入力!$K62","v":""},{"$f":"記録入力!$I62","v":""},{"$f":"記録入力!$J63","v":""},{"$f":"記録入力!$K63","v":""},{"$f":"記録入力!$I63","v":""},null,33,"",{"$f":"IF(ISERROR(データ完成!C35),\"\",(データ完成!C35))","v":""},{"$f":"IF(ISERROR(データ完成!D35),\"\",データ完成!D35)","v":""},{"$f":"データ完成!E35","v":""},{"$f":"データ完成!F35","v":""},{"$f":"IF(ISERROR(データ完成!J35),\"\",データ完成!J35)","v":""},{"$f":"IF(ISERROR(データ完成!K35),\"\",データ完成!K35)","v":""}]
[null,null,"円 盤 投",{"$f":"記録入力!$J66","v":""},{"$f":"記録入力!$K66","v":""},{"$f":"記録入力!$I66","v":""},{"$f":"記録入力!$J67","v":""},{"$f":"記録入力!$K67","v":""},{"$f":"記録入力!$I67","v":""},null,34,"",{"$f":"IF(ISERROR(データ完成!C36),\"\",(データ完成!C36))","v":""},{"$f":"IF(ISERROR(データ完成!D36),\"\",データ完成!D36)","v":""},{"$f":"データ完成!E36","v":""},{"$f":"データ完成!F36","v":""},{"$f":"IF(ISERROR(データ完成!J36),\"\",データ完成!J36)","v":""},{"$f":"IF(ISERROR(データ完成!K36),\"\",データ完成!K36)","v":""}]
[null,null,"ﾊﾝﾏｰ投",{"$f":"記録入力!$J70","v":""},{"$f":"記録入力!$K70","v":""},{"$f":"記録入力!$I70","v":""},{"$f":"記録入力!$J71","v":""},{"$f":"記録入力!$K71","v":""},{"$f":"記録入力!$I71","v":""},null,35,{"$f":"IF(M44=\"\",\"\",\"男\")","v":""},{"$f":"IF(ISERROR(データ完成!C37),\"\",(データ完成!C37))","v":""},{"$f":"IF(ISERROR(データ完成!D37),\"\",データ完成!D37)","v":""},{"$f":"データ完成!E37","v":""},{"$f":"データ完成!F37","v":""},{"$f":"IF(ISERROR(データ完成!J37),\"\",データ完成!J37)","v":""},{"$f":"IF(ISERROR(データ完成!K37),\"\",データ完成!K37)","v":""}]
[null,null,"や り 投",{"$f":"記録入力!$J74","v":""},{"$f":"記録入力!$K74","v":""},{"$f":"記録入力!$I74","v":""},{"$f":"記録入力!$J75","v":""},{"$f":"記録入力!$K75","v":""},{"$f":"記録入力!$I75","v":""},null,36,"",{"$f":"IF(ISERROR(データ完成!C38),\"\",(データ完成!C38))","v":""},{"$f":"IF(ISERROR(データ完成!D38),\"\",データ完成!D38)","v":""},{"$f":"データ完成!E38","v":""},{"$f":"データ完成!F38","v":""},{"$f":"IF(ISERROR(データ完成!J38),\"\",データ完成!J38)","v":""},{"$f":"IF(ISERROR(データ完成!K38),\"\",データ完成!K38)","v":""}]
[null,"共通","4×100m",{"$f":"記録入力!E76","v":0},{"$f":"記録入力!K76","v":""},{"$f":"記録入力!I76","v":""},{"$f":"記録入力!E77","v":0},{"$f":"記録入力!K77","v":""},null,null,37,"",{"$f":"IF(ISERROR(データ完成!C39),\"\",(データ完成!C39))","v":""},{"$f":"IF(ISERROR(データ完成!D39),\"\",データ完成!D39)","v":""},{"$f":"データ完成!E39","v":""},{"$f":"データ完成!F39","v":""},{"$f":"IF(ISERROR(データ完成!J39),\"\",データ完成!J39)","v":""},{"$f":"IF(ISERROR(データ完成!K39),\"\",データ完成!K39)","v":""}]
[null,null,null,{"$f":"記録入力!E78","v":0},{"$f":"記録入力!K78","v":""},null,{"$f":"記録入力!E79","v":0},{"$f":"記録入力!K79","v":""},null,null,38,"",{"$f":"IF(ISERROR(データ完成!C40),\"\",(データ完成!C40))","v":""},{"$f":"IF(ISERROR(データ完成!D40),\"\",データ完成!D40)","v":""},{"$f":"データ完成!E40","v":""},{"$f":"データ完成!F40","v":""},{"$f":"IF(ISERROR(データ完成!J40),\"\",データ完成!J40)","v":""},{"$f":"IF(ISERROR(データ完成!K40),\"\",データ完成!K40)","v":""}]
[null,null,null,{"$f":"記録入力!E80","v":0},{"$f":"記録入力!K80","v":""},null,{"$f":"記録入力!E81","v":0},{"$f":"記録入力!K81","v":""},null,null,39,"",{"$f":"IF(ISERROR(データ完成!C41),\"\",(データ完成!C41))","v":""},{"$f":"IF(ISERROR(データ完成!D41),\"\",データ完成!D41)","v":""},{"$f":"データ完成!E41","v":""},{"$f":"データ完成!F41","v":""},{"$f":"IF(ISERROR(データ完成!J41),\"\",データ完成!J41)","v":""},{"$f":"IF(ISERROR(データ完成!K41),\"\",データ完成!K41)","v":""}]
[null,null,"4×400m",{"$f":"記録入力!E82","v":0},{"$f":"記録入力!K82","v":""},{"$f":"記録入力!I82","v":""},{"$f":"記録入力!E83","v":0},{"$f":"記録入力!K83","v":""},null,null,40,"",{"$f":"IF(ISERROR(データ完成!C42),\"\",(データ完成!C42))","v":""},{"$f":"IF(ISERROR(データ完成!D42),\"\",データ完成!D42)","v":""},{"$f":"データ完成!E42","v":""},{"$f":"データ完成!F42","v":""},{"$f":"IF(ISERROR(データ完成!J42),\"\",データ完成!J42)","v":""},{"$f":"IF(ISERROR(データ完成!K42),\"\",データ完成!K42)","v":""}]
[null,null,null,{"$f":"記録入力!E84","v":0},{"$f":"記録入力!K84","v":""},null,{"$f":"記録入力!E85","v":0},{"$f":"記録入力!K85","v":""},null,null,41,"",{"$f":"IF(ISERROR(データ完成!C43),\"\",(データ完成!C43))","v":""},{"$f":"IF(ISERROR(データ完成!D43),\"\",データ完成!D43)","v":""},{"$f":"データ完成!E43","v":""},{"$f":"データ完成!F43","v":""},{"$f":"IF(ISERROR(データ完成!J43),\"\",データ完成!J43)","v":""},{"$f":"IF(ISERROR(データ完成!K43),\"\",データ完成!K43)","v":""}]
[null,null,null,{"$f":"記録入力!E86","v":0},{"$f":"記録入力!K86","v":""},null,{"$f":"記録入力!E87","v":0},{"$f":"記録入力!K87","v":""},null,null,42,"",{"$f":"IF(ISERROR(データ完成!C44),\"\",(データ完成!C44))","v":""},{"$f":"IF(ISERROR(データ完成!D44),\"\",データ完成!D44)","v":""},{"$f":"データ完成!E44","v":""},{"$f":"データ完成!F44","v":""},{"$f":"IF(ISERROR(データ完成!J44),\"\",データ完成!J44)","v":""},{"$f":"IF(ISERROR(データ完成!K44),\"\",データ完成!K44)","v":""}]
[null,null,null,null,null,null,null,null,null,null,43,"",{"$f":"IF(ISERROR(データ完成!C45),\"\",(データ完成!C45))","v":""},{"$f":"IF(ISERROR(データ完成!D45),\"\",データ完成!D45)","v":""},{"$f":"データ完成!E45","v":""},{"$f":"データ完成!F45","v":""},{"$f":"IF(ISERROR(データ完成!J45),\"\",データ完成!J45)","v":""},{"$f":"IF(ISERROR(データ完成!K45),\"\",データ完成!K45)","v":""}]
[null,null,null,null,null,null,null,null,null,null,44,"",{"$f":"IF(ISERROR(データ完成!C46),\"\",(データ完成!C46))","v":""},{"$f":"IF(ISERROR(データ完成!D46),\"\",データ完成!D46)","v":""},{"$f":"データ完成!E46","v":""},{"$f":"データ完成!F46","v":""},{"$f":"IF(ISERROR(データ完成!J46),\"\",データ完成!J46)","v":""},{"$f":"IF(ISERROR(データ完成!K46),\"\",データ完成!K46)","v":""}]
[null,null,null,null,null,null,null,null,null,null,45,"",{"$f":"IF(ISERROR(データ完成!C47),\"\",(データ完成!C47))","v":""},{"$f":"IF(ISERROR(データ完成!D47),\"\",データ完成!D47)","v":""},{"$f":"データ完成!E47","v":""},{"$f":"データ完成!F47","v":""},{"$f":"IF(ISERROR(データ完成!J47),\"\",データ完成!J47)","v":""},{"$f":"IF(ISERROR(データ完成!K47),\"\",データ完成!K47)","v":""}]
[null,null,null,null,null,null,null,null,null,null,46,"",{"$f":"IF(ISERROR(データ完成!C48),\"\",(データ完成!C48))","v":""},{"$f":"IF(ISERROR(データ完成!D48),\"\",データ完成!D48)","v":""},{"$f":"データ完成!E48","v":""},{"$f":"データ完成!F48","v":""},{"$f":"IF(ISERROR(データ完成!J48),\"\",データ完成!J48)","v":""},{"$f":"IF(ISERROR(データ完成!K48),\"\",データ完成!K48)","v":""}]
[null,"申込人数",null,null,null,null,null,null,null,null,47,"",{"$f":"IF(ISERROR(データ完成!C49),\"\",(データ完成!C49))","v":""},{"$f":"IF(ISERROR(データ完成!D49),\"\",データ完成!D49)","v":""},{"$f":"データ完成!E49","v":""},{"$f":"データ完成!F49","v":""},{"$f":"IF(ISERROR(データ完成!J49),\"\",データ完成!J49)","v":""},{"$f":"IF(ISERROR(データ完成!K49),\"\",データ完成!K49)","v":""}]
[null,"1年男　　子",null,"2年男　　子",null,"合計",null,null,null,null,48,"",{"$f":"IF(ISERROR(データ完成!C50),\"\",(データ完成!C50))","v":""},{"$f":"IF(ISERROR(データ完成!D50),\"\",データ完成!D50)","v":""},{"$f":"データ完成!E50","v":""},{"$f":"データ完成!F50","v":""},{"$f":"IF(ISERROR(データ完成!J50),\"\",データ完成!J50)","v":""},{"$f":"IF(ISERROR(データ完成!K50),\"\",データ完成!K50)","v":""}]
[null,{"$f":"初期設定!D16&\"   人\"","v":"   人"},null,{"$f":"初期設定!E16&\"   人\"","v":"   人"},null,{"$f":"初期設定!F16","v":0},null,null,null,null,49,"",{"$f":"IF(ISERROR(データ完成!C51),\"\",(データ完成!C51))","v":""},{"$f":"IF(ISERROR(データ完成!D51),\"\",データ完成!D51)","v":""},{"$f":"データ完成!E51","v":""},{"$f":"データ完成!F51","v":""},{"$f":"IF(ISERROR(データ完成!J51),\"\",データ完成!J51)","v":""},{"$f":"IF(ISERROR(データ完成!K51),\"\",データ完成!K51)","v":""}]
[null,"1年女　　子",null,"2年女　　子",null,null,null,"合　　計",null,null,50,"",{"$f":"IF(ISERROR(データ完成!C52),\"\",(データ完成!C52))","v":""},{"$f":"IF(ISERROR(データ完成!D52),\"\",データ完成!D52)","v":""},{"$f":"データ完成!E52","v":""},{"$f":"データ完成!F52","v":""},{"$f":"IF(ISERROR(データ完成!J52),\"\",データ完成!J52)","v":""},{"$f":"IF(ISERROR(データ完成!K52),\"\",データ完成!K52)","v":""}]
[null,{"$f":"初期設定!D17&\"   人\"","v":"   人"},null,{"$f":"初期設定!E17&\"   人\"","v":"   人"},null,{"$f":"初期設定!F17","v":0},null,{"$f":"初期設定!F18&\"   人\"","v":"0   人"},null,null,51,{"$f":"IF(M60=\"\",\"\",\"男\")","v":""},{"$f":"IF(ISERROR(データ完成!C53),\"\",(データ完成!C53))","v":""},{"$f":"IF(ISERROR(データ完成!D53),\"\",データ完成!D53)","v":""},{"$f":"データ完成!E53","v":""},{"$f":"データ完成!F53","v":""},{"$f":"IF(ISERROR(データ完成!J53),\"\",データ完成!J53)","v":0},{"$f":"IF(ISERROR(データ完成!K53),\"\",データ完成!K53)","v":0}]
[null,null,null,null,null,null,null,null,null,null,52,"",{"$f":"IF(ISERROR(データ完成!C54),\"\",(データ完成!C54))","v":""},{"$f":"IF(ISERROR(データ完成!D54),\"\",データ完成!D54)","v":""},{"$f":"データ完成!E54","v":""},{"$f":"データ完成!F54","v":""},{"$f":"IF(ISERROR(データ完成!J54),\"\",データ完成!J54)","v":0},{"$f":"IF(ISERROR(データ完成!K54),\"\",データ完成!K54)","v":0}]
[null,"推薦審判員　　　 確実に出席できる　　審判員を記入のこと",null,"氏　　　　　　名",null,null,"年　　齢","審判資格",null,null,53,"",{"$f":"IF(ISERROR(データ完成!C55),\"\",(データ完成!C55))","v":""},{"$f":"IF(ISERROR(データ完成!D55),\"\",データ完成!D55)","v":""},{"$f":"データ完成!E55","v":""},{"$f":"データ完成!F55","v":""},{"$f":"IF(ISERROR(データ完成!J55),\"\",データ完成!J55)","v":0},{"$f":"IF(ISERROR(データ完成!K55),\"\",データ完成!K55)","v":0}]
[null,null,null,{"$f":"IF(初期設定!C11=\"\",\"\",初期設定!C11)","v":""},null,null,{"$f":"IF(初期設定!D11=\"\",\"\",初期設定!D11)","v":""},{"$f":"IF(初期設定!E11=\"\",\"\",初期設定!E11)","v":""},null,null,54,"",{"$f":"IF(ISERROR(データ完成!C56),\"\",(データ完成!C56))","v":""},{"$f":"IF(ISERROR(データ完成!D56),\"\",データ完成!D56)","v":""},{"$f":"データ完成!E56","v":""},{"$f":"データ完成!F56","v":""},{"$f":"IF(ISERROR(データ完成!J56),\"\",データ完成!J56)","v":0},{"$f":"IF(ISERROR(データ完成!K56),\"\",データ完成!K56)","v":0}]
[null,null,null,{"$f":"IF(初期設定!C12=\"\",\"\",初期設定!C12)","v":""},null,null,{"$f":"IF(初期設定!D12=\"\",\"\",初期設定!D12)","v":""},{"$f":"IF(初期設定!E12=\"\",\"\",初期設定!E12)","v":""},null,null,55,"",{"$f":"IF(ISERROR(データ完成!C57),\"\",(データ完成!C57))","v":""},{"$f":"IF(ISERROR(データ完成!D57),\"\",データ完成!D57)","v":""},{"$f":"データ完成!E57","v":""},{"$f":"データ完成!F57","v":""},{"$f":"IF(ISERROR(データ完成!J57),\"\",データ完成!J57)","v":0},{"$f":"IF(ISERROR(データ完成!K57),\"\",データ完成!K57)","v":0}]
[null,null,null,{"$f":"IF(初期設定!C13=\"\",\"\",初期設定!C13)","v":""},null,null,{"$f":"IF(初期設定!D13=\"\",\"\",初期設定!D13)","v":""},{"$f":"IF(初期設定!E13=\"\",\"\",初期設定!E13)","v":""},null,null,56,"",{"$f":"IF(ISERROR(データ完成!C58),\"\",(データ完成!C58))","v":""},{"$f":"IF(ISERROR(データ完成!D58),\"\",データ完成!D58)","v":""},{"$f":"データ完成!E58","v":""},{"$f":"データ完成!F58","v":""},{"$f":"IF(ISERROR(データ完成!J58),\"\",データ完成!J58)","v":0},{"$f":"IF(ISERROR(データ完成!K58),\"\",データ完成!K58)","v":0}]
[null,null,null,{"$f":"IF(初期設定!C14=\"\",\"\",初期設定!C14)","v":""},null,null,{"$f":"IF(初期設定!D14=\"\",\"\",初期設定!D14)","v":""},{"$f":"IF(初期設定!E14=\"\",\"\",初期設定!E14)","v":""},null,null,57,"",{"$f":"IF(ISERROR(データ完成!C59),\"\",(データ完成!C59))","v":""},{"$f":"IF(ISERROR(データ完成!D59),\"\",データ完成!D59)","v":""},{"$f":"データ完成!E59","v":""},{"$f":"データ完成!F59","v":""},{"$f":"IF(ISERROR(データ完成!J59),\"\",データ完成!J59)","v":0},{"$f":"IF(ISERROR(データ完成!K59),\"\",データ完成!K59)","v":0}]
[null,null,null,null,null,null,null,null,null,null,58,"",{"$f":"IF(ISERROR(データ完成!C60),\"\",(データ完成!C60))","v":""},{"$f":"IF(ISERROR(データ完成!D60),\"\",データ完成!D60)","v":""},{"$f":"データ完成!E60","v":""},{"$f":"データ完成!F60","v":""},{"$f":"IF(ISERROR(データ完成!J60),\"\",データ完成!J60)","v":0},{"$f":"IF(ISERROR(データ完成!K60),\"\",データ完成!K60)","v":0}]
[null,null,null,null,null,null,null,null,null,null,59,"",{"$f":"IF(ISERROR(データ完成!C61),\"\",(データ完成!C61))","v":""},{"$f":"IF(ISERROR(データ完成!D61),\"\",データ完成!D61)","v":""},{"$f":"データ完成!E61","v":""},{"$f":"データ完成!F61","v":""},{"$f":"IF(ISERROR(データ完成!J61),\"\",データ完成!J61)","v":0},{"$f":"IF(ISERROR(データ完成!K61),\"\",データ完成!K61)","v":0}]
[null,null,null,null,null,null,null,null,null,null,60,"",{"$f":"IF(ISERROR(データ完成!C62),\"\",(データ完成!C62))","v":""},{"$f":"IF(ISERROR(データ完成!D62),\"\",データ完成!D62)","v":""},{"$f":"データ完成!E62","v":""},{"$f":"データ完成!F62","v":""},{"$f":"IF(ISERROR(データ完成!J62),\"\",データ完成!J62)","v":0},{"$f":"IF(ISERROR(データ完成!K62),\"\",データ完成!K62)","v":0}]
[null,null,null,null,null,null,null,null,null,null,61,"",{"$f":"IF(ISERROR(データ完成!C63),\"\",(データ完成!C63))","v":""},{"$f":"IF(ISERROR(データ完成!D63),\"\",データ完成!D63)","v":""},{"$f":"データ完成!E63","v":""},{"$f":"データ完成!F63","v":""},{"$f":"IF(ISERROR(データ完成!J63),\"\",データ完成!J63)","v":0},{"$f":"IF(ISERROR(データ完成!K63),\"\",データ完成!K63)","v":0}]
[null,null,null,null,null,null,null,null,null,null,62,"",{"$f":"IF(ISERROR(データ完成!C64),\"\",(データ完成!C64))","v":""},{"$f":"IF(ISERROR(データ完成!D64),\"\",データ完成!D64)","v":""},{"$f":"データ完成!E64","v":""},{"$f":"データ完成!F64","v":""},{"$f":"IF(ISERROR(データ完成!J64),\"\",データ完成!J64)","v":0},{"$f":"IF(ISERROR(データ完成!K64),\"\",データ完成!K64)","v":0}]
[null,null,null,null,null,null,null,null,null,null,63,"",{"$f":"IF(ISERROR(データ完成!C65),\"\",(データ完成!C65))","v":""},{"$f":"IF(ISERROR(データ完成!D65),\"\",データ完成!D65)","v":""},{"$f":"データ完成!E65","v":""},{"$f":"データ完成!F65","v":""},{"$f":"IF(ISERROR(データ完成!J65),\"\",データ完成!J65)","v":0},{"$f":"IF(ISERROR(データ完成!K65),\"\",データ完成!K65)","v":0}]
[null,null,null,null,null,null,null,null,null,null,64,"",{"$f":"IF(ISERROR(データ完成!C66),\"\",(データ完成!C66))","v":""},{"$f":"IF(ISERROR(データ完成!D66),\"\",データ完成!D66)","v":""},{"$f":"データ完成!E66","v":""},{"$f":"データ完成!F66","v":""},{"$f":"IF(ISERROR(データ完成!J66),\"\",データ完成!J66)","v":0},{"$f":"IF(ISERROR(データ完成!K66),\"\",データ完成!K66)","v":0}]
[null,null,null,null,null,null,null,null,null,null,65,"",{"$f":"IF(ISERROR(データ完成!C67),\"\",(データ完成!C67))","v":""},{"$f":"IF(ISERROR(データ完成!D67),\"\",データ完成!D67)","v":""},{"$f":"データ完成!E67","v":""},{"$f":"データ完成!F67","v":""},{"$f":"IF(ISERROR(データ完成!J67),\"\",データ完成!J67)","v":0},{"$f":"IF(ISERROR(データ完成!K67),\"\",データ完成!K67)","v":0}]

{"sheet":"データ貼付","index":4,"n_rows":102,"n_cols":10,"rows_kept":102,"cut":false,"hidden":true,"merged":[]}
[]
[null,null,null,"No.","氏名","種目","種目①","種目②"]
[{"$f":"IF(E2=E3,A2,A2+1)","v":1},{"$f":"IF(I3=\"\",A3*10+J3,A3*10+I3)","v":{"$error":"#VALUE!"}},1,{"$f":"IF(計算①!E1=\"\",\"\",計算①!E1)","v":""},{"$f":"IF(D3=\"\",\"\",計算①!K1)","v":""},{"$f":"IF(D3=\"\",\"\",計算①!C1)","v":""},{"$f":"IF(F3=\"4x100R\",\"\",IF(F3=\"4x400R\",\"\",F3))","v":""},{"$f":"IF(G3=\"\",F3,\"\")","v":""},{"$f":"IF(G3=\"\",\"\",IF(D3=\"\",\"\",IF(D3=D2,I2+1,1)))","v":""},{"$f":"IF(H3=\"4x100R\",4,IF(H3=\"4x400R\",5,\"\"))","v":""}]
[{"$f":"IF(E3=E4,A3,A3+1)","v":1},{"$f":"IF(I4=\"\",A4*10+J4,A4*10+I4)","v":{"$error":"#VALUE!"}},2,{"$f":"IF(計算①!E2=\"\",\"\",計算①!E2)","v":""},{"$f":"IF(D4=\"\",\"\",計算①!K2)","v":""},{"$f":"IF(D4=\"\",\"\",計算①!C2)","v":""},{"$f":"IF(F4=\"4x100R\",\"\",IF(F4=\"4x400R\",\"\",F4))","v":""},{"$f":"IF(G4=\"\",F4,\"\")","v":""},{"$f":"IF(G4=\"\",\"\",IF(D4=\"\",\"\",IF(D4=D3,I3+1,1)))","v":""},{"$f":"IF(H4=\"4x100R\",4,IF(H4=\"4x400R\",5,\"\"))","v":""}]
[1,{"$error":"#VALUE!"},3,{"$f":"IF(計算①!E3=\"\",\"\",計算①!E3)","v":""},{"$f":"IF(D5=\"\",\"\",計算①!K3)","v":""},{"$f":"IF(D5=\"\",\"\",計算①!C3)","v":""},"","","",""]
[1,{"$error":"#VALUE!"},4,{"$f":"IF(計算①!E4=\"\",\"\",計算①!E4)","v":""},{"$f":"IF(D6=\"\",\"\",計算①!K4)","v":""},{"$f":"IF(D6=\"\",\"\",計算①!C4)","v":""},"","","",""]
[1,{"$error":"#VALUE!"},5,{"$f":"IF(計算①!E5=\"\",\"\",計算①!E5)","v":""},{"$f":"IF(D7=\"\",\"\",計算①!K5)","v":""},{"$f":"IF(D7=\"\",\"\",計算①!C5)","v":""},"","","",""]
[1,{"$error":"#VALUE!"},6,{"$f":"IF(計算①!E6=\"\",\"\",計算①!E6)","v":""},{"$f":"IF(D8=\"\",\"\",計算①!K6)","v":""},{"$f":"IF(D8=\"\",\"\",計算①!C6)","v":""},"","","",""]
[1,{"$error":"#VALUE!"},7,{"$f":"IF(計算①!E7=\"\",\"\",計算①!E7)","v":""},{"$f":"IF(D9=\"\",\"\",計算①!K7)","v":""},{"$f":"IF(D9=\"\",\"\",計算①!C7)","v":""},"","","",""]
[1,{"$error":"#VALUE!"},8,{"$f":"IF(計算①!E8=\"\",\"\",計算①!E8)","v":""},{"$f":"IF(D10=\"\",\"\",計算①!K8)","v":""},{"$f":"IF(D10=\"\",\"\",計算①!C8)","v":""},"","","",""]
[1,{"$error":"#VALUE!"},9,{"$f":"IF(計算①!E9=\"\",\"\",計算①!E9)","v":""},{"$f":"IF(D11=\"\",\"\",計算①!K9)","v":""},{"$f":"IF(D11=\"\",\"\",計算①!C9)","v":""},"","","",""]
[1,{"$error":"#VALUE!"},10,{"$f":"IF(計算①!E10=\"\",\"\",計算①!E10)","v":""},{"$f":"IF(D12=\"\",\"\",計算①!K10)","v":""},{"$f":"IF(D12=\"\",\"\",計算①!C10)","v":""},"","","",""]
[1,{"$error":"#VALUE!"},11,{"$f":"IF(計算①!E11=\"\",\"\",計算①!E11)","v":""},{"$f":"IF(D13=\"\",\"\",計算①!K11)","v":""},{"$f":"IF(D13=\"\",\"\",計算①!C11)","v":""},"","","",""]
[1,{"$error":"#VALUE!"},12,{"$f":"IF(計算①!E12=\"\",\"\",計算①!E12)","v":""},{"$f":"IF(D14=\"\",\"\",計算①!K12)","v":""},{"$f":"IF(D14=\"\",\"\",計算①!C12)","v":""},"","","",""]
[1,{"$error":"#VALUE!"},13,{"$f":"IF(計算①!E13=\"\",\"\",計算①!E13)","v":""},{"$f":"IF(D15=\"\",\"\",計算①!K13)","v":""},{"$f":"IF(D15=\"\",\"\",計算①!C13)","v":""},"","","",""]
[1,{"$error":"#VALUE!"},14,{"$f":"IF(計算①!E14=\"\",\"\",計算①!E14)","v":""},{"$f":"IF(D16=\"\",\"\",計算①!K14)","v":""},{"$f":"IF(D16=\"\",\"\",計算①!C14)","v":""},"","","",""]
[1,{"$error":"#VALUE!"},15,{"$f":"IF(計算①!E15=\"\",\"\",計算①!E15)","v":""},{"$f":"IF(D17=\"\",\"\",計算①!K15)","v":""},{"$f":"IF(D17=\"\",\"\",計算①!C15)","v":""},"","","",""]
[1,{"$error":"#VALUE!"},16,{"$f":"IF(計算①!E16=\"\",\"\",計算①!E16)","v":""},{"$f":"IF(D18=\"\",\"\",計算①!K16)","v":""},{"$f":"IF(D18=\"\",\"\",計算①!C16)","v":""},"","","",""]
[1,{"$error":"#VALUE!"},17,{"$f":"IF(計算①!E17=\"\",\"\",計算①!E17)","v":""},{"$f":"IF(D19=\"\",\"\",計算①!K17)","v":""},{"$f":"IF(D19=\"\",\"\",計算①!C17)","v":""},"","","",""]
[1,{"$error":"#VALUE!"},18,{"$f":"IF(計算①!E18=\"\",\"\",計算①!E18)","v":""},{"$f":"IF(D20=\"\",\"\",計算①!K18)","v":""},{"$f":"IF(D20=\"\",\"\",計算①!C18)","v":""},"","","",""]
[1,{"$error":"#VALUE!"},19,{"$f":"IF(計算①!E19=\"\",\"\",計算①!E19)","v":""},{"$f":"IF(D21=\"\",\"\",計算①!K19)","v":""},{"$f":"IF(D21=\"\",\"\",計算①!C19)","v":""},"","","",""]
[1,{"$error":"#VALUE!"},20,{"$f":"IF(計算①!E20=\"\",\"\",計算①!E20)","v":""},{"$f":"IF(D22=\"\",\"\",計算①!K20)","v":""},{"$f":"IF(D22=\"\",\"\",計算①!C20)","v":""},"","","",""]
[1,{"$error":"#VALUE!"},21,{"$f":"IF(計算①!E21=\"\",\"\",計算①!E21)","v":""},{"$f":"IF(D23=\"\",\"\",計算①!K21)","v":""},{"$f":"IF(D23=\"\",\"\",計算①!C21)","v":""},"","","",""]
[1,{"$error":"#VALUE!"},22,{"$f":"IF(計算①!E22=\"\",\"\",計算①!E22)","v":""},{"$f":"IF(D24=\"\",\"\",計算①!K22)","v":""},{"$f":"IF(D24=\"\",\"\",計算①!C22)","v":""},"","","",""]
[1,{"$error":"#VALUE!"},23,{"$f":"IF(計算①!E23=\"\",\"\",計算①!E23)","v":""},{"$f":"IF(D25=\"\",\"\",計算①!K23)","v":""},{"$f":"IF(D25=\"\",\"\",計算①!C23)","v":""},"","","",""]
[1,{"$error":"#VALUE!"},24,{"$f":"IF(計算①!E24=\"\",\"\",計算①!E24)","v":""},{"$f":"IF(D26=\"\",\"\",計算①!K24)","v":""},{"$f":"IF(D26=\"\",\"\",計算①!C24)","v":""},"","","",""]
[1,{"$error":"#VALUE!"},25,{"$f":"IF(計算①!E25=\"\",\"\",計算①!E25)","v":""},{"$f":"IF(D27=\"\",\"\",計算①!K25)","v":""},{"$f":"IF(D27=\"\",\"\",計算①!C25)","v":""},"","","",""]
[1,{"$error":"#VALUE!"},26,{"$f":"IF(計算①!E26=\"\",\"\",計算①!E26)","v":""},{"$f":"IF(D28=\"\",\"\",計算①!K26)","v":""},{"$f":"IF(D28=\"\",\"\",計算①!C26)","v":""},"","","",""]
[1,{"$error":"#VALUE!"},27,{"$f":"IF(計算①!E27=\"\",\"\",計算①!E27)","v":""},{"$f":"IF(D29=\"\",\"\",計算①!K27)","v":""},{"$f":"IF(D29=\"\",\"\",計算①!C27)","v":""},"","","",""]
[1,{"$error":"#VALUE!"},28,{"$f":"IF(計算①!E28=\"\",\"\",計算①!E28)","v":""},{"$f":"IF(D30=\"\",\"\",計算①!K28)","v":""},{"$f":"IF(D30=\"\",\"\",計算①!C28)","v":""},"","","",""]
[1,{"$error":"#VALUE!"},29,{"$f":"IF(計算①!E29=\"\",\"\",計算①!E29)","v":""},{"$f":"IF(D31=\"\",\"\",計算①!K29)","v":""},{"$f":"IF(D31=\"\",\"\",計算①!C29)","v":""},"","","",""]
[1,{"$error":"#VALUE!"},30,{"$f":"IF(計算①!E30=\"\",\"\",計算①!E30)","v":""},{"$f":"IF(D32=\"\",\"\",計算①!K30)","v":""},{"$f":"IF(D32=\"\",\"\",計算①!C30)","v":""},"","","",""]
[1,{"$error":"#VALUE!"},31,{"$f":"IF(計算①!E31=\"\",\"\",計算①!E31)","v":""},{"$f":"IF(D33=\"\",\"\",計算①!K31)","v":""},{"$f":"IF(D33=\"\",\"\",計算①!C31)","v":""},"","","",""]
[1,{"$error":"#VALUE!"},32,{"$f":"IF(計算①!E32=\"\",\"\",計算①!E32)","v":""},{"$f":"IF(D34=\"\",\"\",計算①!K32)","v":""},{"$f":"IF(D34=\"\",\"\",計算①!C32)","v":""},"","","",""]
[{"$f":"IF(E34=E35,A34,A34+1)","v":1},{"$error":"#VALUE!"},33,{"$f":"IF(計算①!E33=\"\",\"\",計算①!E33)","v":""},{"$f":"IF(D35=\"\",\"\",計算①!K33)","v":""},{"$f":"IF(D35=\"\",\"\",計算①!C33)","v":""},"","","",""]
[1,{"$error":"#VALUE!"},34,{"$f":"IF(計算①!E34=\"\",\"\",計算①!E34)","v":""},{"$f":"IF(D36=\"\",\"\",計算①!K34)","v":""},{"$f":"IF(D36=\"\",\"\",計算①!C34)","v":""},"","","",""]
[1,{"$error":"#VALUE!"},35,{"$f":"IF(計算①!E35=\"\",\"\",計算①!E35)","v":""},{"$f":"IF(D37=\"\",\"\",計算①!K35)","v":""},{"$f":"IF(D37=\"\",\"\",計算①!C35)","v":""},"","","",""]
[1,{"$error":"#VALUE!"},36,{"$f":"IF(計算①!E36=\"\",\"\",計算①!E36)","v":""},{"$f":"IF(D38=\"\",\"\",計算①!K36)","v":""},{"$f":"IF(D38=\"\",\"\",計算①!C36)","v":""},"","","",""]
[1,{"$error":"#VALUE!"},37,{"$f":"IF(計算①!E37=\"\",\"\",計算①!E37)","v":""},{"$f":"IF(D39=\"\",\"\",計算①!K37)","v":""},{"$f":"IF(D39=\"\",\"\",計算①!C37)","v":""},"","","",""]
[1,{"$error":"#VALUE!"},38,{"$f":"IF(計算①!E38=\"\",\"\",計算①!E38)","v":""},{"$f":"IF(D40=\"\",\"\",計算①!K38)","v":""},{"$f":"IF(D40=\"\",\"\",計算①!C38)","v":""},"","","",""]
[1,{"$error":"#VALUE!"},39,{"$f":"IF(計算①!E39=\"\",\"\",計算①!E39)","v":""},{"$f":"IF(D41=\"\",\"\",計算①!K39)","v":""},{"$f":"IF(D41=\"\",\"\",計算①!C39)","v":""},"","","",""]
[1,{"$error":"#VALUE!"},40,{"$f":"IF(計算①!E40=\"\",\"\",計算①!E40)","v":""},{"$f":"IF(D42=\"\",\"\",計算①!K40)","v":""},{"$f":"IF(D42=\"\",\"\",計算①!C40)","v":""},"","","",""]
[1,{"$error":"#VALUE!"},41,{"$f":"IF(計算①!E41=\"\",\"\",計算①!E41)","v":""},{"$f":"IF(D43=\"\",\"\",計算①!K41)","v":""},{"$f":"IF(D43=\"\",\"\",計算①!C41)","v":""},"","","",""]
[1,{"$error":"#VALUE!"},42,{"$f":"IF(計算①!E42=\"\",\"\",計算①!E42)","v":""},{"$f":"IF(D44=\"\",\"\",計算①!K42)","v":""},{"$f":"IF(D44=\"\",\"\",計算①!C42)","v":""},"","","",""]
[1,{"$error":"#VALUE!"},43,{"$f":"IF(計算①!E43=\"\",\"\",計算①!E43)","v":""},{"$f":"IF(D45=\"\",\"\",計算①!K43)","v":""},{"$f":"IF(D45=\"\",\"\",計算①!C43)","v":""},"","","",""]
[1,{"$error":"#VALUE!"},44,{"$f":"IF(計算①!E44=\"\",\"\",計算①!E44)","v":""},{"$f":"IF(D46=\"\",\"\",計算①!K44)","v":""},{"$f":"IF(D46=\"\",\"\",計算①!C44)","v":""},"","","",""]
[1,{"$error":"#VALUE!"},45,{"$f":"IF(計算①!E45=\"\",\"\",計算①!E45)","v":""},{"$f":"IF(D47=\"\",\"\",計算①!K45)","v":""},{"$f":"IF(D47=\"\",\"\",計算①!C45)","v":""},"","","",""]
[1,{"$error":"#VALUE!"},46,{"$f":"IF(計算①!E46=\"\",\"\",計算①!E46)","v":""},{"$f":"IF(D48=\"\",\"\",計算①!K46)","v":""},{"$f":"IF(D48=\"\",\"\",計算①!C46)","v":""},"","","",""]
[1,{"$error":"#VALUE!"},47,{"$f":"IF(計算①!E47=\"\",\"\",計算①!E47)","v":""},{"$f":"IF(D49=\"\",\"\",計算①!K47)","v":""},{"$f":"IF(D49=\"\",\"\",計算①!C47)","v":""},"","","",""]
[1,{"$error":"#VALUE!"},48,{"$f":"IF(計算①!E48=\"\",\"\",計算①!E48)","v":""},{"$f":"IF(D50=\"\",\"\",計算①!K48)","v":""},{"$f":"IF(D50=\"\",\"\",計算①!C48)","v":""},"","","",""]
[1,{"$error":"#VALUE!"},49,{"$f":"IF(計算①!E49=\"\",\"\",計算①!E49)","v":""},{"$f":"IF(D51=\"\",\"\",計算①!K49)","v":""},{"$f":"IF(D51=\"\",\"\",計算①!C49)","v":""},"","","",""]
[1,{"$error":"#VALUE!"},50,{"$f":"IF(計算①!E50=\"\",\"\",計算①!E50)","v":""},{"$f":"IF(D52=\"\",\"\",計算①!K50)","v":""},{"$f":"IF(D52=\"\",\"\",計算①!C50)","v":""},"","","",""]
[1,{"$error":"#VALUE!"},51,{"$f":"IF(計算①!E51=\"\",\"\",計算①!E51)","v":""},{"$f":"IF(D53=\"\",\"\",計算①!K51)","v":""},{"$f":"IF(D53=\"\",\"\",計算①!C51)","v":""},"","","",""]
[1,{"$error":"#VALUE!"},52,{"$f":"IF(計算①!E52=\"\",\"\",計算①!E52)","v":""},{"$f":"IF(D54=\"\",\"\",計算①!K52)","v":""},{"$f":"IF(D54=\"\",\"\",計算①!C52)","v":""},"","","",""]
[1,{"$error":"#VALUE!"},53,{"$f":"IF(計算①!E53=\"\",\"\",計算①!E53)","v":""},{"$f":"IF(D55=\"\",\"\",計算①!K53)","v":""},{"$f":"IF(D55=\"\",\"\",計算①!C53)","v":""},"","","",""]
[1,{"$error":"#VALUE!"},54,{"$f":"IF(計算①!E54=\"\",\"\",計算①!E54)","v":""},{"$f":"IF(D56=\"\",\"\",計算①!K54)","v":""},{"$f":"IF(D56=\"\",\"\",計算①!C54)","v":""},"","","",""]
[1,{"$error":"#VALUE!"},55,{"$f":"IF(計算①!E55=\"\",\"\",計算①!E55)","v":""},{"$f":"IF(D57=\"\",\"\",計算①!K55)","v":""},{"$f":"IF(D57=\"\",\"\",計算①!C55)","v":""},"","","",""]
[1,{"$error":"#VALUE!"},56,{"$f":"IF(計算①!E56=\"\",\"\",計算①!E56)","v":""},{"$f":"IF(D58=\"\",\"\",計算①!K56)","v":""},{"$f":"IF(D58=\"\",\"\",計算①!C56)","v":""},"","","",""]
[1,{"$error":"#VALUE!"},57,{"$f":"IF(計算①!E57=\"\",\"\",計算①!E57)","v":""},{"$f":"IF(D59=\"\",\"\",計算①!K57)","v":""},{"$f":"IF(D59=\"\",\"\",計算①!C57)","v":""},"","","",""]
[1,{"$error":"#VALUE!"},58,{"$f":"IF(計算①!E58=\"\",\"\",計算①!E58)","v":""},{"$f":"IF(D60=\"\",\"\",計算①!K58)","v":""},{"$f":"IF(D60=\"\",\"\",計算①!C58)","v":""},"","","",""]
[1,{"$error":"#VALUE!"},59,{"$f":"IF(計算①!E59=\"\",\"\",計算①!E59)","v":""},{"$f":"IF(D61=\"\",\"\",計算①!K59)","v":""},{"$f":"IF(D61=\"\",\"\",計算①!C59)","v":""},"","","",""]
[1,{"$error":"#VALUE!"},60,{"$f":"IF(計算①!E60=\"\",\"\",計算①!E60)","v":""},{"$f":"IF(D62=\"\",\"\",計算①!K60)","v":""},{"$f":"IF(D62=\"\",\"\",計算①!C60)","v":""},"","","",""]
[1,{"$error":"#VALUE!"},61,{"$f":"IF(計算①!E61=\"\",\"\",計算①!E61)","v":""},{"$f":"IF(D63=\"\",\"\",計算①!K61)","v":""},{"$f":"IF(D63=\"\",\"\",計算①!C61)","v":""},"","","",""]
[1,{"$error":"#VALUE!"},62,{"$f":"IF(計算①!E62=\"\",\"\",計算①!E62)","v":""},{"$f":"IF(D64=\"\",\"\",計算①!K62)","v":""},{"$f":"IF(D64=\"\",\"\",計算①!C62)","v":""},"","","",""]
[1,{"$error":"#VALUE!"},63,{"$f":"IF(計算①!E63=\"\",\"\",計算①!E63)","v":""},{"$f":"IF(D65=\"\",\"\",計算①!K63)","v":""},{"$f":"IF(D65=\"\",\"\",計算①!C63)","v":""},"","","",""]
[1,{"$error":"#VALUE!"},64,{"$f":"IF(計算①!E64=\"\",\"\",計算①!E64)","v":""},{"$f":"IF(D66=\"\",\"\",計算①!K64)","v":""},{"$f":"IF(D66=\"\",\"\",計算①!C64)","v":""},"","","",""]
[{"$f":"IF(E66=E67,A66,A66+1)","v":1},{"$error":"#VALUE!"},65,{"$f":"IF(計算①!E65=\"\",\"\",計算①!E65)","v":""},{"$f":"IF(D67=\"\",\"\",計算①!K65)","v":""},{"$f":"IF(D67=\"\",\"\",計算①!C65)","v":""},"","","",""]
[1,{"$f":"IF(I68=\"\",A68*10+J68,A68*10+I68)","v":{"$error":"#VALUE!"}},66,{"$f":"IF(計算①!E66=\"\",\"\",計算①!E66)","v":""},{"$f":"IF(D68=\"\",\"\",計算①!K66)","v":""},{"$f":"IF(D68=\"\",\"\",計算①!C66)","v":""},{"$f":"IF(F68=\"4x100R\",\"\",IF(F68=\"4x400R\",\"\",F68))","v":""},{"$f":"IF(G68=\"\",F68,\"\")","v":""},{"$f":"IF(G68=\"\",\"\",IF(D68=\"\",\"\",IF(D68=D67,I67+1,1)))","v":""},{"$f":"IF(H68=\"4x100R\",4,IF(H68=\"4x400R\",5,\"\"))","v":""}]
[1,{"$error":"#VALUE!"},67,{"$f":"IF(計算①!E67=\"\",\"\",計算①!E67)","v":""},{"$f":"IF(D69=\"\",\"\",計算①!K67)","v":""},{"$f":"IF(D69=\"\",\"\",計算①!C67)","v":""},"","","",""]
[1,{"$error":"#VALUE!"},68,{"$f":"IF(計算①!E68=\"\",\"\",計算①!E68)","v":""},{"$f":"IF(D70=\"\",\"\",計算①!K68)","v":""},{"$f":"IF(D70=\"\",\"\",計算①!C68)","v":""},"","","",""]
[1,{"$error":"#VALUE!"},69,{"$f":"IF(計算①!E69=\"\",\"\",計算①!E69)","v":""},{"$f":"IF(D71=\"\",\"\",計算①!K69)","v":""},{"$f":"IF(D71=\"\",\"\",計算①!C69)","v":""},"","","",""]
[1,{"$error":"#VALUE!"},70,{"$f":"IF(計算①!E70=\"\",\"\",計算①!E70)","v":""},{"$f":"IF(D72=\"\",\"\",計算①!K70)","v":""},{"$f":"IF(D72=\"\",\"\",計算①!C70)","v":""},"","","",""]
[1,{"$error":"#VALUE!"},71,{"$f":"IF(計算①!E71=\"\",\"\",計算①!E71)","v":""},{"$f":"IF(D73=\"\",\"\",計算①!K71)","v":""},{"$f":"IF(D73=\"\",\"\",計算①!C71)","v":""},"","","",""]
[{"$f":"IF(E73=E74,A73,A73+1)","v":1},{"$f":"IF(I74=\"\",A74*10+J74,A74*10+I74)","v":{"$error":"#VALUE!"}},72,{"$f":"IF(計算①!E72=\"\",\"\",計算①!E72)","v":""},{"$f":"IF(D74=\"\",\"\",計算①!K72)","v":""},{"$f":"IF(D74=\"\",\"\",計算①!C72)","v":""},{"$f":"IF(F74=\"4x100R\",\"\",IF(F74=\"4x400R\",\"\",F74))","v":""},{"$f":"IF(G74=\"\",F74,\"\")","v":""},{"$f":"IF(G74=\"\",\"\",IF(D74=\"\",\"\",IF(D74=D73,I73+1,1)))","v":""},{"$f":"IF(H74=\"4x100R\",4,IF(H74=\"4x400R\",5,\"\"))","v":""}]
[1,{"$error":"#VALUE!"},73,{"$f":"IF(計算①!E73=\"\",\"\",計算①!E73)","v":""},{"$f":"IF(D75=\"\",\"\",計算①!K73)","v":""},{"$f":"IF(D75=\"\",\"\",計算①!C73)","v":""},"","","",""]
[1,{"$error":"#VALUE!"},74,{"$f":"IF(計算①!E74=\"\",\"\",計算①!E74)","v":""},{"$f":"IF(D76=\"\",\"\",計算①!K74)","v":""},{"$f":"IF(D76=\"\",\"\",計算①!C74)","v":""},"","","",""]
[1,{"$error":"#VALUE!"},75,{"$f":"IF(計算①!E75=\"\",\"\",計算①!E75)","v":""},{"$f":"IF(D77=\"\",\"\",計算①!K75)","v":""},{"$f":"IF(D77=\"\",\"\",計算①!C75)","v":""},"","","",""]
[1,{"$error":"#VALUE!"},76,{"$f":"IF(計算①!E76=\"\",\"\",計算①!E76)","v":""},{"$f":"IF(D78=\"\",\"\",計算①!K76)","v":""},{"$f":"IF(D78=\"\",\"\",計算①!C76)","v":""},"","","",""]
[1,{"$error":"#VALUE!"},77,{"$f":"IF(計算①!E77=\"\",\"\",計算①!E77)","v":""},{"$f":"IF(D79=\"\",\"\",計算①!K77)","v":""},{"$f":"IF(D79=\"\",\"\",計算①!C77)","v":""},"","","",""]
[1,{"$error":"#VALUE!"},78,{"$f":"IF(計算①!E78=\"\",\"\",計算①!E78)","v":""},{"$f":"IF(D80=\"\",\"\",計算①!K78)","v":""},{"$f":"IF(D80=\"\",\"\",計算①!C78)","v":""},"","","",""]
[1,{"$error":"#VALUE!"},79,{"$f":"IF(計算①!E79=\"\",\"\",計算①!E79)","v":""},{"$f":"IF(D81=\"\",\"\",計算①!K79)","v":""},{"$f":"IF(D81=\"\",\"\",計算①!C79)","v":""},"","","",""]
[1,{"$error":"#VALUE!"},80,{"$f":"IF(計算①!E80=\"\",\"\",計算①!E80)","v":""},{"$f":"IF(D82=\"\",\"\",計算①!K80)","v":""},{"$f":"IF(D82=\"\",\"\",計算①!C80)","v":""},"","","",""]
[1,{"$error":"#VALUE!"},81,{"$f":"IF(計算①!E81=\"\",\"\",計算①!E81)","v":""},{"$f":"IF(D83=\"\",\"\",計算①!K81)","v":""},{"$f":"IF(D83=\"\",\"\",計算①!C81)","v":""},"","","",""]
[1,{"$error":"#VALUE!"},82,{"$f":"IF(計算①!E82=\"\",\"\",計算①!E82)","v":""},{"$f":"IF(D84=\"\",\"\",計算①!K82)","v":""},{"$f":"IF(D84=\"\",\"\",計算①!C82)","v":""},"","","",""]
[1,{"$error":"#VALUE!"},83,{"$f":"IF(計算①!E83=\"\",\"\",計算①!E83)","v":""},{"$f":"IF(D85=\"\",\"\",計算①!K83)","v":""},{"$f":"IF(D85=\"\",\"\",計算①!C83)","v":""},"","","",""]
[1,{"$error":"#VALUE!"},84,{"$f":"IF(計算①!E84=\"\",\"\",計算①!E84)","v":""},{"$f":"IF(D86=\"\",\"\",計算①!K84)","v":""},{"$f":"IF(D86=\"\",\"\",計算①!C84)","v":""},"","","",""]
[1,{"$error":"#VALUE!"},85,{"$f":"IF(計算①!E85=\"\",\"\",計算①!E85)","v":""},{"$f":"IF(D87=\"\",\"\",計算①!K85)","v":""},{"$f":"IF(D87=\"\",\"\",計算①!C85)","v":""},"","","",""]
[1,{"$error":"#VALUE!"},86,{"$f":"IF(計算①!E86=\"\",\"\",計算①!E86)","v":""},{"$f":"IF(D88=\"\",\"\",計算①!K86)","v":""},{"$f":"IF(D88=\"\",\"\",計算①!C86)","v":""},"","","",""]
[1,{"$error":"#VALUE!"},87,{"$f":"IF(計算①!E87=\"\",\"\",計算①!E87)","v":""},{"$f":"IF(D89=\"\",\"\",計算①!K87)","v":""},{"$f":"IF(D89=\"\",\"\",計算①!C87)","v":""},"","","",""]
[1,{"$error":"#VALUE!"},88,{"$f":"IF(計算①!E88=\"\",\"\",計算①!E88)","v":""},{"$f":"IF(D90=\"\",\"\",計算①!K88)","v":""},{"$f":"IF(D90=\"\",\"\",計算①!C88)","v":""},"","","",""]
[1,{"$error":"#VALUE!"},89,{"$f":"IF(計算①!E89=\"\",\"\",計算①!E89)","v":""},{"$f":"IF(D91=\"\",\"\",計算①!K89)","v":""},{"$f":"IF(D91=\"\",\"\",計算①!C89)","v":""},"","","",""]
[1,{"$error":"#VALUE!"},90,{"$f":"IF(計算①!E90=\"\",\"\",計算①!E90)","v":""},{"$f":"IF(D92=\"\",\"\",計算①!K90)","v":""},{"$f":"IF(D92=\"\",\"\",計算①!C90)","v":""},"","","",""]
[1,{"$error":"#VALUE!"},91,{"$f":"IF(計算①!E91=\"\",\"\",計算①!E91)","v":""},{"$f":"IF(D93=\"\",\"\",計算①!K91)","v":""},{"$f":"IF(D93=\"\",\"\",計算①!C91)","v":""},"","","",""]
[1,{"$error":"#VALUE!"},92,{"$f":"IF(計算①!E92=\"\",\"\",計算①!E92)","v":""},{"$f":"IF(D94=\"\",\"\",計算①!K92)","v":""},{"$f":"IF(D94=\"\",\"\",計算①!C92)","v":""},"","","",""]
[1,{"$error":"#VALUE!"},93,{"$f":"IF(計算①!E93=\"\",\"\",計算①!E93)","v":""},{"$f":"IF(D95=\"\",\"\",計算①!K93)","v":""},{"$f":"IF(D95=\"\",\"\",計算①!C93)","v":""},"","","",""]
[1,{"$error":"#VALUE!"},94,{"$f":"IF(計算①!E94=\"\",\"\",計算①!E94)","v":""},{"$f":"IF(D96=\"\",\"\",計算①!K94)","v":""},{"$f":"IF(D96=\"\",\"\",計算①!C94)","v":""},"","","",""]
[1,{"$error":"#VALUE!"},95,{"$f":"IF(計算①!E95=\"\",\"\",計算①!E95)","v":""},{"$f":"IF(D97=\"\",\"\",計算①!K95)","v":""},{"$f":"IF(D97=\"\",\"\",計算①!C95)","v":""},"","","",""]
[1,{"$error":"#VALUE!"},96,{"$f":"IF(計算①!E96=\"\",\"\",計算①!E96)","v":""},{"$f":"IF(D98=\"\",\"\",計算①!K96)","v":""},{"$f":"IF(D98=\"\",\"\",計算①!C96)","v":""},"","","",""]
[1,{"$error":"#VALUE!"},97,{"$f":"IF(計算①!E97=\"\",\"\",計算①!E97)","v":""},{"$f":"IF(D99=\"\",\"\",計算①!K97)","v":""},{"$f":"IF(D99=\"\",\"\",計算①!C97)","v":""},"","","",""]
[1,{"$error":"#VALUE!"},98,{"$f":"IF(計算①!E98=\"\",\"\",計算①!E98)","v":""},{"$f":"IF(D100=\"\",\"\",計算①!K98)","v":""},{"$f":"IF(D100=\"\",\"\",計算①!C98)","v":""},"","","",""]
[1,{"$error":"#VALUE!"},99,{"$f":"IF(計算①!E99=\"\",\"\",計算①!E99)","v":""},{"$f":"IF(D101=\"\",\"\",計算①!K99)","v":""},{"$f":"IF(D101=\"\",\"\",計算①!C99)","v":""},"","","",""]
[1,{"$error":"#VALUE!"},100,{"$f":"IF(計算①!E100=\"\",\"\",計算①!E100)","v":""},{"$f":"IF(D102=\"\",\"\",計算①!K100)","v":""},{"$f":"IF(D102=\"\",\"\",計算①!C100)","v":""},"","","",""]

{"sheet":"データ完成","index":5,"n_rows":102,"n_cols":11,"rows_kept":102,"cut":false,"hidden":true,"merged":[]}
[]
[null,null,null,null,1,2,3,4,5]
[null,1,{"$f":"VLOOKUP($B3,データ貼付!$A$3:$I$102,4,FALSE)","v":""},{"$f":"VLOOKUP($B3,データ貼付!$A$3:$I$102,5,FALSE)","v":""},{"$f":"IF(ISERROR(VLOOKUP($B3*10+$E$2,データ貼付!$B$3:$F$102,5,FALSE)),\"\",VLOOKUP($B3*10+$E$2,データ貼付!$B$3:$F$102,5,FALSE))","v":""},{"$f":"IF(ISERROR(VLOOKUP($B3*10+$F$2,データ貼付!$B$3:$F$102,5,FALSE)),\"\",VLOOKUP($B3*10+$F$2,データ貼付!$B$3:$F$102,5,FALSE))","v":""},{"$f":"IF(ISERROR(VLOOKUP($B3*10+$G$2,データ貼付!$B$3:$F$102,5,FALSE)),\"\",VLOOKUP($B3*10+$G$2,データ貼付!$B$3:$F$102,5,FALSE))","v":""},{"$f":"IF(ISERROR(VLOOKUP($B3*10+$H$2,データ貼付!$B$3:$F$102,5,FALSE)),\"\",VLOOKUP($B3*10+$H$2,データ貼付!$B$3:$F$102,5,FALSE))","v":""},{"$f":"IF(ISERROR(VLOOKUP($B3*10+$I$2,データ貼付!$B$3:$F$102,5,FALSE)),\"\",VLOOKUP($B3*10+$I$2,データ貼付!$B$3:$F$102,5,FALSE))","v":""},{"$f":"IF(H3=\"\",\"\",\"○\")","v":""},{"$f":"IF(I3=\"\",\"\",\"○\")","v":""}]
[null,2,{"$f":"VLOOKUP($B4,データ貼付!$A$3:$I$102,4,FALSE)","v":{"$error":"#N/A"}},{"$f":"VLOOKUP($B4,データ貼付!$A$3:$I$102,5,FALSE)","v":{"$error":"#N/A"}},{"$f":"IF(ISERROR(VLOOKUP($B4*10+$E$2,データ貼付!$B$3:$F$102,5,FALSE)),\"\",VLOOKUP($B4*10+$E$2,データ貼付!$B$3:$F$102,5,FALSE))","v":""},{"$f":"IF(ISERROR(VLOOKUP($B4*10+$F$2,データ貼付!$B$3:$F$102,5,FALSE)),\"\",VLOOKUP($B4*10+$F$2,データ貼付!$B$3:$F$102,5,FALSE))","v":""},{"$f":"IF(ISERROR(VLOOKUP($B4*10+$G$2,データ貼付!$B$3:$F$102,5,FALSE)),\"\",VLOOKUP($B4*10+$G$2,データ貼付!$B$3:$F$102,5,FALSE))","v":""},{"$f":"IF(ISERROR(VLOOKUP($B4*10+$H$2,データ貼付!$B$3:$F$102,5,FALSE)),\"\",VLOOKUP($B4*10+$H$2,データ貼付!$B$3:$F$102,5,FALSE))","v":""},{"$f":"IF(ISERROR(VLOOKUP($B4*10+$I$2,データ貼付!$B$3:$F$102,5,FALSE)),\"\",VLOOKUP($B4*10+$I$2,データ貼付!$B$3:$F$102,5,FALSE))","v":""},{"$f":"IF(H4=\"\",\"\",\"○\")","v":""},{"$f":"IF(I4=\"\",\"\",\"○\")","v":""}]
[null,3,{"$f":"VLOOKUP($B5,データ貼付!$A$3:$I$102,4,FALSE)","v":{"$error":"#N/A"}},{"$f":"VLOOKUP($B5,データ貼付!$A$3:$I$102,5,FALSE)","v":{"$error":"#N/A"}},{"$f":"IF(ISERROR(VLOOKUP($B5*10+$E$2,データ貼付!$B$3:$F$102,5,FALSE)),\"\",VLOOKUP($B5*10+$E$2,データ貼付!$B$3:$F$102,5,FALSE))","v":""},{"$f":"IF(ISERROR(VLOOKUP($B5*10+$F$2,データ貼付!$B$3:$F$102,5,FALSE)),\"\",VLOOKUP($B5*10+$F$2,データ貼付!$B$3:$F$102,5,FALSE))","v":""},{"$f":"IF(ISERROR(VLOOKUP($B5*10+$G$2,データ貼付!$B$3:$F$102,5,FALSE)),\"\",VLOOKUP($B5*10+$G$2,データ貼付!$B$3:$F$102,5,FALSE))","v":""},{"$f":"IF(ISERROR(VLOOKUP($B5*10+$H$2,データ貼付!$B$3:$F$102,5,FALSE)),\"\",VLOOKUP($B5*10+$H$2,データ貼付!$B$3:$F$102,5,FALSE))","v":""},{"$f":"IF(ISERROR(VLOOKUP($B5*10+$I$2,データ貼付!$B$3:$F$102,5,FALSE)),\"\",VLOOKUP($B5*10+$I$2,データ貼付!$B$3:$F$102,5,FALSE))","v":""},"",""]
[null,4,{"$f":"VLOOKUP($B6,データ貼付!$A$3:$I$102,4,FALSE)","v":{"$error":"#N/A"}},{"$f":"VLOOKUP($B6,データ貼付!$A$3:$I$102,5,FALSE)","v":{"$error":"#N/A"}},{"$f":"IF(ISERROR(VLOOKUP($B6*10+$E$2,データ貼付!$B$3:$F$102,5,FALSE)),\"\",VLOOKUP($B6*10+$E$2,データ貼付!$B$3:$F$102,5,FALSE))","v":""},{"$f":"IF(ISERROR(VLOOKUP($B6*10+$F$2,データ貼付!$B$3:$F$102,5,FALSE)),\"\",VLOOKUP($B6*10+$F$2,データ貼付!$B$3:$F$102,5,FALSE))","v":""},{"$f":"IF(ISERROR(VLOOKUP($B6*10+$G$2,データ貼付!$B$3:$F$102,5,FALSE)),\"\",VLOOKUP($B6*10+$G$2,データ貼付!$B$3:$F$102,5,FALSE))","v":""},{"$f":"IF(ISERROR(VLOOKUP($B6*10+$H$2,データ貼付!$B$3:$F$102,5,FALSE)),\"\",VLOOKUP($B6*10+$H$2,データ貼付!$B$3:$F$102,5,FALSE))","v":""},{"$f":"IF(ISERROR(VLOOKUP($B6*10+$I$2,データ貼付!$B$3:$F$102,5,FALSE)),\"\",VLOOKUP($B6*10+$I$2,データ貼付!$B$3:$F$102,5,FALSE))","v":""},"",""]
[null,5,{"$f":"VLOOKUP($B7,データ貼付!$A$3:$I$102,4,FALSE)","v":{"$error":"#N/A"}},{"$f":"VLOOKUP($B7,データ貼付!$A$3:$I$102,5,FALSE)","v":{"$error":"#N/A"}},{"$f":"IF(ISERROR(VLOOKUP($B7*10+$E$2,データ貼付!$B$3:$F$102,5,FALSE)),\"\",VLOOKUP($B7*10+$E$2,データ貼付!$B$3:$F$102,5,FALSE))","v":""},{"$f":"IF(ISERROR(VLOOKUP($B7*10+$F$2,データ貼付!$B$3:$F$102,5,FALSE)),\"\",VLOOKUP($B7*10+$F$2,データ貼付!$B$3:$F$102,5,FALSE))","v":""},{"$f":"IF(ISERROR(VLOOKUP($B7*10+$G$2,データ貼付!$B$3:$F$102,5,FALSE)),\"\",VLOOKUP($B7*10+$G$2,データ貼付!$B$3:$F$102,5,FALSE))","v":""},{"$f":"IF(ISERROR(VLOOKUP($B7*10+$H$2,データ貼付!$B$3:$F$102,5,FALSE)),\"\",VLOOKUP($B7*10+$H$2,データ貼付!$B$3:$F$102,5,FALSE))","v":""},{"$f":"IF(ISERROR(VLOOKUP($B7*10+$I$2,データ貼付!$B$3:$F$102,5,FALSE)),\"\",VLOOKUP($B7*10+$I$2,データ貼付!$B$3:$F$102,5,FALSE))","v":""},"",""]
[null,6,{"$f":"VLOOKUP($B8,データ貼付!$A$3:$I$102,4,FALSE)","v":{"$error":"#N/A"}},{"$f":"VLOOKUP($B8,データ貼付!$A$3:$I$102,5,FALSE)","v":{"$error":"#N/A"}},{"$f":"IF(ISERROR(VLOOKUP($B8*10+$E$2,データ貼付!$B$3:$F$102,5,FALSE)),\"\",VLOOKUP($B8*10+$E$2,データ貼付!$B$3:$F$102,5,FALSE))","v":""},{"$f":"IF(ISERROR(VLOOKUP($B8*10+$F$2,データ貼付!$B$3:$F$102,5,FALSE)),\"\",VLOOKUP($B8*10+$F$2,データ貼付!$B$3:$F$102,5,FALSE))","v":""},{"$f":"IF(ISERROR(VLOOKUP($B8*10+$G$2,データ貼付!$B$3:$F$102,5,FALSE)),\"\",VLOOKUP($B8*10+$G$2,データ貼付!$B$3:$F$102,5,FALSE))","v":""},{"$f":"IF(ISERROR(VLOOKUP($B8*10+$H$2,データ貼付!$B$3:$F$102,5,FALSE)),\"\",VLOOKUP($B8*10+$H$2,データ貼付!$B$3:$F$102,5,FALSE))","v":""},{"$f":"IF(ISERROR(VLOOKUP($B8*10+$I$2,データ貼付!$B$3:$F$102,5,FALSE)),\"\",VLOOKUP($B8*10+$I$2,データ貼付!$B$3:$F$102,5,FALSE))","v":""},"",""]
[null,7,{"$f":"VLOOKUP($B9,データ貼付!$A$3:$I$102,4,FALSE)","v":{"$error":"#N/A"}},{"$f":"VLOOKUP($B9,データ貼付!$A$3:$I$102,5,FALSE)","v":{"$error":"#N/A"}},{"$f":"IF(ISERROR(VLOOKUP($B9*10+$E$2,データ貼付!$B$3:$F$102,5,FALSE)),\"\",VLOOKUP($B9*10+$E$2,データ貼付!$B$3:$F$102,5,FALSE))","v":""},{"$f":"IF(ISERROR(VLOOKUP($B9*10+$F$2,データ貼付!$B$3:$F$102,5,FALSE)),\"\",VLOOKUP($B9*10+$F$2,データ貼付!$B$3:$F$102,5,FALSE))","v":""},{"$f":"IF(ISERROR(VLOOKUP($B9*10+$G$2,データ貼付!$B$3:$F$102,5,FALSE)),\"\",VLOOKUP($B9*10+$G$2,データ貼付!$B$3:$F$102,5,FALSE))","v":""},{"$f":"IF(ISERROR(VLOOKUP($B9*10+$H$2,データ貼付!$B$3:$F$102,5,FALSE)),\"\",VLOOKUP($B9*10+$H$2,データ貼付!$B$3:$F$102,5,FALSE))","v":""},{"$f":"IF(ISERROR(VLOOKUP($B9*10+$I$2,データ貼付!$B$3:$F$102,5,FALSE)),\"\",VLOOKUP($B9*10+$I$2,データ貼付!$B$3:$F$102,5,FALSE))","v":""},"",""]
[null,8,{"$f":"VLOOKUP($B10,データ貼付!$A$3:$I$102,4,FALSE)","v":{"$error":"#N/A"}},{"$f":"VLOOKUP($B10,データ貼付!$A$3:$I$102,5,FALSE)","v":{"$error":"#N/A"}},{"$f":"IF(ISERROR(VLOOKUP($B10*10+$E$2,データ貼付!$B$3:$F$102,5,FALSE)),\"\",VLOOKUP($B10*10+$E$2,データ貼付!$B$3:$F$102,5,FALSE))","v":""},{"$f":"IF(ISERROR(VLOOKUP($B10*10+$F$2,データ貼付!$B$3:$F$102,5,FALSE)),\"\",VLOOKUP($B10*10+$F$2,データ貼付!$B$3:$F$102,5,FALSE))","v":""},{"$f":"IF(ISERROR(VLOOKUP($B10*10+$G$2,データ貼付!$B$3:$F$102,5,FALSE)),\"\",VLOOKUP($B10*10+$G$2,データ貼付!$B$3:$F$102,5,FALSE))","v":""},{"$f":"IF(ISERROR(VLOOKUP($B10*10+$H$2,データ貼付!$B$3:$F$102,5,FALSE)),\"\",VLOOKUP($B10*10+$H$2,データ貼付!$B$3:$F$102,5,FALSE))","v":""},{"$f":"IF(ISERROR(VLOOKUP($B10*10+$I$2,データ貼付!$B$3:$F$102,5,FALSE)),\"\",VLOOKUP($B10*10+$I$2,データ貼付!$B$3:$F$102,5,FALSE))","v":""},"",""]
[null,9,{"$f":"VLOOKUP($B11,データ貼付!$A$3:$I$102,4,FALSE)","v":{"$error":"#N/A"}},{"$f":"VLOOKUP($B11,データ貼付!$A$3:$I$102,5,FALSE)","v":{"$error":"#N/A"}},{"$f":"IF(ISERROR(VLOOKUP($B11*10+$E$2,データ貼付!$B$3:$F$102,5,FALSE)),\"\",VLOOKUP($B11*10+$E$2,データ貼付!$B$3:$F$102,5,FALSE))","v":""},{"$f":"IF(ISERROR(VLOOKUP($B11*10+$F$2,データ貼付!$B$3:$F$102,5,FALSE)),\"\",VLOOKUP($B11*10+$F$2,データ貼付!$B$3:$F$102,5,FALSE))","v":""},{"$f":"IF(ISERROR(VLOOKUP($B11*10+$G$2,データ貼付!$B$3:$F$102,5,FALSE)),\"\",VLOOKUP($B11*10+$G$2,データ貼付!$B$3:$F$102,5,FALSE))","v":""},{"$f":"IF(ISERROR(VLOOKUP($B11*10+$H$2,データ貼付!$B$3:$F$102,5,FALSE)),\"\",VLOOKUP($B11*10+$H$2,データ貼付!$B$3:$F$102,5,FALSE))","v":""},{"$f":"IF(ISERROR(VLOOKUP($B11*10+$I$2,データ貼付!$B$3:$F$102,5,FALSE)),\"\",VLOOKUP($B11*10+$I$2,データ貼付!$B$3:$F$102,5,FALSE))","v":""},"",""]
[null,10,{"$f":"VLOOKUP($B12,データ貼付!$A$3:$I$102,4,FALSE)","v":{"$error":"#N/A"}},{"$f":"VLOOKUP($B12,データ貼付!$A$3:$I$102,5,FALSE)","v":{"$error":"#N/A"}},{"$f":"IF(ISERROR(VLOOKUP($B12*10+$E$2,データ貼付!$B$3:$F$102,5,FALSE)),\"\",VLOOKUP($B12*10+$E$2,データ貼付!$B$3:$F$102,5,FALSE))","v":""},{"$f":"IF(ISERROR(VLOOKUP($B12*10+$F$2,データ貼付!$B$3:$F$102,5,FALSE)),\"\",VLOOKUP($B12*10+$F$2,データ貼付!$B$3:$F$102,5,FALSE))","v":""},{"$f":"IF(ISERROR(VLOOKUP($B12*10+$G$2,データ貼付!$B$3:$F$102,5,FALSE)),\"\",VLOOKUP($B12*10+$G$2,データ貼付!$B$3:$F$102,5,FALSE))","v":""},{"$f":"IF(ISERROR(VLOOKUP($B12*10+$H$2,データ貼付!$B$3:$F$102,5,FALSE)),\"\",VLOOKUP($B12*10+$H$2,データ貼付!$B$3:$F$102,5,FALSE))","v":""},{"$f":"IF(ISERROR(VLOOKUP($B12*10+$I$2,データ貼付!$B$3:$F$102,5,FALSE)),\"\",VLOOKUP($B12*10+$I$2,データ貼付!$B$3:$F$102,5,FALSE))","v":""},"",""]
[null,11,{"$f":"VLOOKUP($B13,データ貼付!$A$3:$I$102,4,FALSE)","v":{"$error":"#N/A"}},{"$f":"VLOOKUP($B13,データ貼付!$A$3:$I$102,5,FALSE)","v":{"$error":"#N/A"}},{"$f":"IF(ISERROR(VLOOKUP($B13*10+$E$2,データ貼付!$B$3:$F$102,5,FALSE)),\"\",VLOOKUP($B13*10+$E$2,データ貼付!$B$3:$F$102,5,FALSE))","v":""},{"$f":"IF(ISERROR(VLOOKUP($B13*10+$F$2,データ貼付!$B$3:$F$102,5,FALSE)),\"\",VLOOKUP($B13*10+$F$2,データ貼付!$B$3:$F$102,5,FALSE))","v":""},{"$f":"IF(ISERROR(VLOOKUP($B13*10+$G$2,データ貼付!$B$3:$F$102,5,FALSE)),\"\",VLOOKUP($B13*10+$G$2,データ貼付!$B$3:$F$102,5,FALSE))","v":""},{"$f":"IF(ISERROR(VLOOKUP($B13*10+$H$2,データ貼付!$B$3:$F$102,5,FALSE)),\"\",VLOOKUP($B13*10+$H$2,データ貼付!$B$3:$F$102,5,FALSE))","v":""},{"$f":"IF(ISERROR(VLOOKUP($B13*10+$I$2,データ貼付!$B$3:$F$102,5,FALSE)),\"\",VLOOKUP($B13*10+$I$2,データ貼付!$B$3:$F$102,5,FALSE))","v":""},"",""]
[null,12,{"$f":"VLOOKUP($B14,データ貼付!$A$3:$I$102,4,FALSE)","v":{"$error":"#N/A"}},{"$f":"VLOOKUP($B14,データ貼付!$A$3:$I$102,5,FALSE)","v":{"$error":"#N/A"}},{"$f":"IF(ISERROR(VLOOKUP($B14*10+$E$2,データ貼付!$B$3:$F$102,5,FALSE)),\"\",VLOOKUP($B14*10+$E$2,データ貼付!$B$3:$F$102,5,FALSE))","v":""},{"$f":"IF(ISERROR(VLOOKUP($B14*10+$F$2,データ貼付!$B$3:$F$102,5,FALSE)),\"\",VLOOKUP($B14*10+$F$2,データ貼付!$B$3:$F$102,5,FALSE))","v":""},{"$f":"IF(ISERROR(VLOOKUP($B14*10+$G$2,データ貼付!$B$3:$F$102,5,FALSE)),\"\",VLOOKUP($B14*10+$G$2,データ貼付!$B$3:$F$102,5,FALSE))","v":""},{"$f":"IF(ISERROR(VLOOKUP($B14*10+$H$2,データ貼付!$B$3:$F$102,5,FALSE)),\"\",VLOOKUP($B14*10+$H$2,データ貼付!$B$3:$F$102,5,FALSE))","v":""},{"$f":"IF(ISERROR(VLOOKUP($B14*10+$I$2,データ貼付!$B$3:$F$102,5,FALSE)),\"\",VLOOKUP($B14*10+$I$2,データ貼付!$B$3:$F$102,5,FALSE))","v":""},"",""]
[null,13,{"$f":"VLOOKUP($B15,データ貼付!$A$3:$I$102,4,FALSE)","v":{"$error":"#N/A"}},{"$f":"VLOOKUP($B15,データ貼付!$A$3:$I$102,5,FALSE)","v":{"$error":"#N/A"}},{"$f":"IF(ISERROR(VLOOKUP($B15*10+$E$2,データ貼付!$B$3:$F$102,5,FALSE)),\"\",VLOOKUP($B15*10+$E$2,データ貼付!$B$3:$F$102,5,FALSE))","v":""},{"$f":"IF(ISERROR(VLOOKUP($B15*10+$F$2,データ貼付!$B$3:$F$102,5,FALSE)),\"\",VLOOKUP($B15*10+$F$2,データ貼付!$B$3:$F$102,5,FALSE))","v":""},{"$f":"IF(ISERROR(VLOOKUP($B15*10+$G$2,データ貼付!$B$3:$F$102,5,FALSE)),\"\",VLOOKUP($B15*10+$G$2,データ貼付!$B$3:$F$102,5,FALSE))","v":""},{"$f":"IF(ISERROR(VLOOKUP($B15*10+$H$2,データ貼付!$B$3:$F$102,5,FALSE)),\"\",VLOOKUP($B15*10+$H$2,データ貼付!$B$3:$F$102,5,FALSE))","v":""},{"$f":"IF(ISERROR(VLOOKUP($B15*10+$I$2,データ貼付!$B$3:$F$102,5,FALSE)),\"\",VLOOKUP($B15*10+$I$2,データ貼付!$B$3:$F$102,5,FALSE))","v":""},"",""]
[null,14,{"$f":"VLOOKUP($B16,データ貼付!$A$3:$I$102,4,FALSE)","v":{"$error":"#N/A"}},{"$f":"VLOOKUP($B16,データ貼付!$A$3:$I$102,5,FALSE)","v":{"$error":"#N/A"}},{"$f":"IF(ISERROR(VLOOKUP($B16*10+$E$2,データ貼付!$B$3:$F$102,5,FALSE)),\"\",VLOOKUP($B16*10+$E$2,データ貼付!$B$3:$F$102,5,FALSE))","v":""},{"$f":"IF(ISERROR(VLOOKUP($B16*10+$F$2,データ貼付!$B$3:$F$102,5,FALSE)),\"\",VLOOKUP($B16*10+$F$2,データ貼付!$B$3:$F$102,5,FALSE))","v":""},{"$f":"IF(ISERROR(VLOOKUP($B16*10+$G$2,データ貼付!$B$3:$F$102,5,FALSE)),\"\",VLOOKUP($B16*10+$G$2,データ貼付!$B$3:$F$102,5,FALSE))","v":""},{"$f":"IF(ISERROR(VLOOKUP($B16*10+$H$2,データ貼付!$B$3:$F$102,5,FALSE)),\"\",VLOOKUP($B16*10+$H$2,データ貼付!$B$3:$F$102,5,FALSE))","v":""},{"$f":"IF(ISERROR(VLOOKUP($B16*10+$I$2,データ貼付!$B$3:$F$102,5,FALSE)),\"\",VLOOKUP($B16*10+$I$2,データ貼付!$B$3:$F$102,5,FALSE))","v":""},"",""]
[null,15,{"$f":"VLOOKUP($B17,データ貼付!$A$3:$I$102,4,FALSE)","v":{"$error":"#N/A"}},{"$f":"VLOOKUP($B17,データ貼付!$A$3:$I$102,5,FALSE)","v":{"$error":"#N/A"}},{"$f":"IF(ISERROR(VLOOKUP($B17*10+$E$2,データ貼付!$B$3:$F$102,5,FALSE)),\"\",VLOOKUP($B17*10+$E$2,データ貼付!$B$3:$F$102,5,FALSE))","v":""},{"$f":"IF(ISERROR(VLOOKUP($B17*10+$F$2,データ貼付!$B$3:$F$102,5,FALSE)),\"\",VLOOKUP($B17*10+$F$2,データ貼付!$B$3:$F$102,5,FALSE))","v":""},{"$f":"IF(ISERROR(VLOOKUP($B17*10+$G$2,データ貼付!$B$3:$F$102,5,FALSE)),\"\",VLOOKUP($B17*10+$G$2,データ貼付!$B$3:$F$102,5,FALSE))","v":""},{"$f":"IF(ISERROR(VLOOKUP($B17*10+$H$2,データ貼付!$B$3:$F$102,5,FALSE)),\"\",VLOOKUP($B17*10+$H$2,データ貼付!$B$3:$F$102,5,FALSE))","v":""},{"$f":"IF(ISERROR(VLOOKUP($B17*10+$I$2,データ貼付!$B$3:$F$102,5,FALSE)),\"\",VLOOKUP($B17*10+$I$2,データ貼付!$B$3:$F$102,5,FALSE))","v":""},"",""]
[null,16,{"$f":"VLOOKUP($B18,データ貼付!$A$3:$I$102,4,FALSE)","v":{"$error":"#N/A"}},{"$f":"VLOOKUP($B18,データ貼付!$A$3:$I$102,5,FALSE)","v":{"$error":"#N/A"}},{"$f":"IF(ISERROR(VLOOKUP($B18*10+$E$2,データ貼付!$B$3:$F$102,5,FALSE)),\"\",VLOOKUP($B18*10+$E$2,データ貼付!$B$3:$F$102,5,FALSE))","v":""},{"$f":"IF(ISERROR(VLOOKUP($B18*10+$F$2,データ貼付!$B$3:$F$102,5,FALSE)),\"\",VLOOKUP($B18*10+$F$2,データ貼付!$B$3:$F$102,5,FALSE))","v":""},{"$f":"IF(ISERROR(VLOOKUP($B18*10+$G$2,データ貼付!$B$3:$F$102,5,FALSE)),\"\",VLOOKUP($B18*10+$G$2,データ貼付!$B$3:$F$102,5,FALSE))","v":""},{"$f":"IF(ISERROR(VLOOKUP($B18*10+$H$2,データ貼付!$B$3:$F$102,5,FALSE)),\"\",VLOOKUP($B18*10+$H$2,データ貼付!$B$3:$F$102,5,FALSE))","v":""},{"$f":"IF(ISERROR(VLOOKUP($B18*10+$I$2,データ貼付!$B$3:$F$102,5,FALSE)),\"\",VLOOKUP($B18*10+$I$2,データ貼付!$B$3:$F$102,5,FALSE))","v":""},"",""]
[null,17,{"$f":"VLOOKUP($B19,データ貼付!$A$3:$I$102,4,FALSE)","v":{"$error":"#N/A"}},{"$f":"VLOOKUP($B19,データ貼付!$A$3:$I$102,5,FALSE)","v":{"$error":"#N/A"}},{"$f":"IF(ISERROR(VLOOKUP($B19*10+$E$2,データ貼付!$B$3:$F$102,5,FALSE)),\"\",VLOOKUP($B19*10+$E$2,データ貼付!$B$3:$F$102,5,FALSE))","v":""},{"$f":"IF(ISERROR(VLOOKUP($B19*10+$F$2,データ貼付!$B$3:$F$102,5,FALSE)),\"\",VLOOKUP($B19*10+$F$2,データ貼付!$B$3:$F$102,5,FALSE))","v":""},{"$f":"IF(ISERROR(VLOOKUP($B19*10+$G$2,データ貼付!$B$3:$F$102,5,FALSE)),\"\",VLOOKUP($B19*10+$G$2,データ貼付!$B$3:$F$102,5,FALSE))","v":""},{"$f":"IF(ISERROR(VLOOKUP($B19*10+$H$2,データ貼付!$B$3:$F$102,5,FALSE)),\"\",VLOOKUP($B19*10+$H$2,データ貼付!$B$3:$F$102,5,FALSE))","v":""},{"$f":"IF(ISERROR(VLOOKUP($B19*10+$I$2,データ貼付!$B$3:$F$102,5,FALSE)),\"\",VLOOKUP($B19*10+$I$2,データ貼付!$B$3:$F$102,5,FALSE))","v":""},"",""]
[null,18,{"$f":"VLOOKUP($B20,データ貼付!$A$3:$I$102,4,FALSE)","v":{"$error":"#N/A"}},{"$f":"VLOOKUP($B20,データ貼付!$A$3:$I$102,5,FALSE)","v":{"$error":"#N/A"}},{"$f":"IF(ISERROR(VLOOKUP($B20*10+$E$2,データ貼付!$B$3:$F$102,5,FALSE)),\"\",VLOOKUP($B20*10+$E$2,データ貼付!$B$3:$F$102,5,FALSE))","v":""},{"$f":"IF(ISERROR(VLOOKUP($B20*10+$F$2,データ貼付!$B$3:$F$102,5,FALSE)),\"\",VLOOKUP($B20*10+$F$2,データ貼付!$B$3:$F$102,5,FALSE))","v":""},{"$f":"IF(ISERROR(VLOOKUP($B20*10+$G$2,データ貼付!$B$3:$F$102,5,FALSE)),\"\",VLOOKUP($B20*10+$G$2,データ貼付!$B$3:$F$102,5,FALSE))","v":""},{"$f":"IF(ISERROR(VLOOKUP($B20*10+$H$2,データ貼付!$B$3:$F$102,5,FALSE)),\"\",VLOOKUP($B20*10+$H$2,データ貼付!$B$3:$F$102,5,FALSE))","v":""},{"$f":"IF(ISERROR(VLOOKUP($B20*10+$I$2,データ貼付!$B$3:$F$102,5,FALSE)),\"\",VLOOKUP($B20*10+$I$2,データ貼付!$B$3:$F$102,5,FALSE))","v":""},"",""]
[null,19,{"$f":"VLOOKUP($B21,データ貼付!$A$3:$I$102,4,FALSE)","v":{"$error":"#N/A"}},{"$f":"VLOOKUP($B21,データ貼付!$A$3:$I$102,5,FALSE)","v":{"$error":"#N/A"}},{"$f":"IF(ISERROR(VLOOKUP($B21*10+$E$2,データ貼付!$B$3:$F$102,5,FALSE)),\"\",VLOOKUP($B21*10+$E$2,データ貼付!$B$3:$F$102,5,FALSE))","v":""},{"$f":"IF(ISERROR(VLOOKUP($B21*10+$F$2,データ貼付!$B$3:$F$102,5,FALSE)),\"\",VLOOKUP($B21*10+$F$2,データ貼付!$B$3:$F$102,5,FALSE))","v":""},{"$f":"IF(ISERROR(VLOOKUP($B21*10+$G$2,データ貼付!$B$3:$F$102,5,FALSE)),\"\",VLOOKUP($B21*10+$G$2,データ貼付!$B$3:$F$102,5,FALSE))","v":""},{"$f":"IF(ISERROR(VLOOKUP($B21*10+$H$2,データ貼付!$B$3:$F$102,5,FALSE)),\"\",VLOOKUP($B21*10+$H$2,データ貼付!$B$3:$F$102,5,FALSE))","v":""},{"$f":"IF(ISERROR(VLOOKUP($B21*10+$I$2,データ貼付!$B$3:$F$102,5,FALSE)),\"\",VLOOKUP($B21*10+$I$2,データ貼付!$B$3:$F$102,5,FALSE))","v":""},"",""]
[null,20,{"$f":"VLOOKUP($B22,データ貼付!$A$3:$I$102,4,FALSE)","v":{"$error":"#N/A"}},{"$f":"VLOOKUP($B22,データ貼付!$A$3:$I$102,5,FALSE)","v":{"$error":"#N/A"}},{"$f":"IF(ISERROR(VLOOKUP($B22*10+$E$2,データ貼付!$B$3:$F$102,5,FALSE)),\"\",VLOOKUP($B22*10+$E$2,データ貼付!$B$3:$F$102,5,FALSE))","v":""},{"$f":"IF(ISERROR(VLOOKUP($B22*10+$F$2,データ貼付!$B$3:$F$102,5,FALSE)),\"\",VLOOKUP($B22*10+$F$2,データ貼付!$B$3:$F$102,5,FALSE))","v":""},{"$f":"IF(ISERROR(VLOOKUP($B22*10+$G$2,データ貼付!$B$3:$F$102,5,FALSE)),\"\",VLOOKUP($B22*10+$G$2,データ貼付!$B$3:$F$102,5,FALSE))","v":""},{"$f":"IF(ISERROR(VLOOKUP($B22*10+$H$2,データ貼付!$B$3:$F$102,5,FALSE)),\"\",VLOOKUP($B22*10+$H$2,データ貼付!$B$3:$F$102,5,FALSE))","v":""},{"$f":"IF(ISERROR(VLOOKUP($B22*10+$I$2,データ貼付!$B$3:$F$102,5,FALSE)),\"\",VLOOKUP($B22*10+$I$2,データ貼付!$B$3:$F$102,5,FALSE))","v":""},"",""]
[null,21,{"$f":"VLOOKUP($B23,データ貼付!$A$3:$I$102,4,FALSE)","v":{"$error":"#N/A"}},{"$f":"VLOOKUP($B23,データ貼付!$A$3:$I$102,5,FALSE)","v":{"$error":"#N/A"}},{"$f":"IF(ISERROR(VLOOKUP($B23*10+$E$2,データ貼付!$B$3:$F$102,5,FALSE)),\"\",VLOOKUP($B23*10+$E$2,データ貼付!$B$3:$F$102,5,FALSE))","v":""},{"$f":"IF(ISERROR(VLOOKUP($B23*10+$F$2,データ貼付!$B$3:$F$102,5,FALSE)),\"\",VLOOKUP($B23*10+$F$2,データ貼付!$B$3:$F$102,5,FALSE))","v":""},{"$f":"IF(ISERROR(VLOOKUP($B23*10+$G$2,データ貼付!$B$3:$F$102,5,FALSE)),\"\",VLOOKUP($B23*10+$G$2,データ貼付!$B$3:$F$102,5,FALSE))","v":""},{"$f":"IF(ISERROR(VLOOKUP($B23*10+$H$2,データ貼付!$B$3:$F$102,5,FALSE)),\"\",VLOOKUP($B23*10+$H$2,データ貼付!$B$3:$F$102,5,FALSE))","v":""},{"$f":"IF(ISERROR(VLOOKUP($B23*10+$I$2,データ貼付!$B$3:$F$102,5,FALSE)),\"\",VLOOKUP($B23*10+$I$2,データ貼付!$B$3:$F$102,5,FALSE))","v":""},"",""]
[null,22,{"$f":"VLOOKUP($B24,データ貼付!$A$3:$I$102,4,FALSE)","v":{"$error":"#N/A"}},{"$f":"VLOOKUP($B24,データ貼付!$A$3:$I$102,5,FALSE)","v":{"$error":"#N/A"}},{"$f":"IF(ISERROR(VLOOKUP($B24*10+$E$2,データ貼付!$B$3:$F$102,5,FALSE)),\"\",VLOOKUP($B24*10+$E$2,データ貼付!$B$3:$F$102,5,FALSE))","v":""},{"$f":"IF(ISERROR(VLOOKUP($B24*10+$F$2,データ貼付!$B$3:$F$102,5,FALSE)),\"\",VLOOKUP($B24*10+$F$2,データ貼付!$B$3:$F$102,5,FALSE))","v":""},{"$f":"IF(ISERROR(VLOOKUP($B24*10+$G$2,データ貼付!$B$3:$F$102,5,FALSE)),\"\",VLOOKUP($B24*10+$G$2,データ貼付!$B$3:$F$102,5,FALSE))","v":""},{"$f":"IF(ISERROR(VLOOKUP($B24*10+$H$2,データ貼付!$B$3:$F$102,5,FALSE)),\"\",VLOOKUP($B24*10+$H$2,データ貼付!$B$3:$F$102,5,FALSE))","v":""},{"$f":"IF(ISERROR(VLOOKUP($B24*10+$I$2,データ貼付!$B$3:$F$102,5,FALSE)),\"\",VLOOKUP($B24*10+$I$2,データ貼付!$B$3:$F$102,5,FALSE))","v":""},"",""]
[null,23,{"$f":"VLOOKUP($B25,データ貼付!$A$3:$I$102,4,FALSE)","v":{"$error":"#N/A"}},{"$f":"VLOOKUP($B25,データ貼付!$A$3:$I$102,5,FALSE)","v":{"$error":"#N/A"}},{"$f":"IF(ISERROR(VLOOKUP($B25*10+$E$2,データ貼付!$B$3:$F$102,5,FALSE)),\"\",VLOOKUP($B25*10+$E$2,データ貼付!$B$3:$F$102,5,FALSE))","v":""},{"$f":"IF(ISERROR(VLOOKUP($B25*10+$F$2,データ貼付!$B$3:$F$102,5,FALSE)),\"\",VLOOKUP($B25*10+$F$2,データ貼付!$B$3:$F$102,5,FALSE))","v":""},{"$f":"IF(ISERROR(VLOOKUP($B25*10+$G$2,データ貼付!$B$3:$F$102,5,FALSE)),\"\",VLOOKUP($B25*10+$G$2,データ貼付!$B$3:$F$102,5,FALSE))","v":""},{"$f":"IF(ISERROR(VLOOKUP($B25*10+$H$2,データ貼付!$B$3:$F$102,5,FALSE)),\"\",VLOOKUP($B25*10+$H$2,データ貼付!$B$3:$F$102,5,FALSE))","v":""},{"$f":"IF(ISERROR(VLOOKUP($B25*10+$I$2,データ貼付!$B$3:$F$102,5,FALSE)),\"\",VLOOKUP($B25*10+$I$2,データ貼付!$B$3:$F$102,5,FALSE))","v":""},"",""]
[null,24,{"$f":"VLOOKUP($B26,データ貼付!$A$3:$I$102,4,FALSE)","v":{"$error":"#N/A"}},{"$f":"VLOOKUP($B26,データ貼付!$A$3:$I$102,5,FALSE)","v":{"$error":"#N/A"}},{"$f":"IF(ISERROR(VLOOKUP($B26*10+$E$2,データ貼付!$B$3:$F$102,5,FALSE)),\"\",VLOOKUP($B26*10+$E$2,データ貼付!$B$3:$F$102,5,FALSE))","v":""},{"$f":"IF(ISERROR(VLOOKUP($B26*10+$F$2,データ貼付!$B$3:$F$102,5,FALSE)),\"\",VLOOKUP($B26*10+$F$2,データ貼付!$B$3:$F$102,5,FALSE))","v":""},{"$f":"IF(ISERROR(VLOOKUP($B26*10+$G$2,データ貼付!$B$3:$F$102,5,FALSE)),\"\",VLOOKUP($B26*10+$G$2,データ貼付!$B$3:$F$102,5,FALSE))","v":""},{"$f":"IF(ISERROR(VLOOKUP($B26*10+$H$2,データ貼付!$B$3:$F$102,5,FALSE)),\"\",VLOOKUP($B26*10+$H$2,データ貼付!$B$3:$F$102,5,FALSE))","v":""},{"$f":"IF(ISERROR(VLOOKUP($B26*10+$I$2,データ貼付!$B$3:$F$102,5,FALSE)),\"\",VLOOKUP($B26*10+$I$2,データ貼付!$B$3:$F$102,5,FALSE))","v":""},"",""]
[null,25,{"$f":"VLOOKUP($B27,データ貼付!$A$3:$I$102,4,FALSE)","v":{"$error":"#N/A"}},{"$f":"VLOOKUP($B27,データ貼付!$A$3:$I$102,5,FALSE)","v":{"$error":"#N/A"}},{"$f":"IF(ISERROR(VLOOKUP($B27*10+$E$2,データ貼付!$B$3:$F$102,5,FALSE)),\"\",VLOOKUP($B27*10+$E$2,データ貼付!$B$3:$F$102,5,FALSE))","v":""},{"$f":"IF(ISERROR(VLOOKUP($B27*10+$F$2,データ貼付!$B$3:$F$102,5,FALSE)),\"\",VLOOKUP($B27*10+$F$2,データ貼付!$B$3:$F$102,5,FALSE))","v":""},{"$f":"IF(ISERROR(VLOOKUP($B27*10+$G$2,データ貼付!$B$3:$F$102,5,FALSE)),\"\",VLOOKUP($B27*10+$G$2,データ貼付!$B$3:$F$102,5,FALSE))","v":""},{"$f":"IF(ISERROR(VLOOKUP($B27*10+$H$2,データ貼付!$B$3:$F$102,5,FALSE)),\"\",VLOOKUP($B27*10+$H$2,データ貼付!$B$3:$F$102,5,FALSE))","v":""},{"$f":"IF(ISERROR(VLOOKUP($B27*10+$I$2,データ貼付!$B$3:$F$102,5,FALSE)),\"\",VLOOKUP($B27*10+$I$2,データ貼付!$B$3:$F$102,5,FALSE))","v":""},"",""]
[null,26,{"$f":"VLOOKUP($B28,データ貼付!$A$3:$I$102,4,FALSE)","v":{"$error":"#N/A"}},{"$f":"VLOOKUP($B28,データ貼付!$A$3:$I$102,5,FALSE)","v":{"$error":"#N/A"}},{"$f":"IF(ISERROR(VLOOKUP($B28*10+$E$2,データ貼付!$B$3:$F$102,5,FALSE)),\"\",VLOOKUP($B28*10+$E$2,データ貼付!$B$3:$F$102,5,FALSE))","v":""},{"$f":"IF(ISERROR(VLOOKUP($B28*10+$F$2,データ貼付!$B$3:$F$102,5,FALSE)),\"\",VLOOKUP($B28*10+$F$2,データ貼付!$B$3:$F$102,5,FALSE))","v":""},{"$f":"IF(ISERROR(VLOOKUP($B28*10+$G$2,データ貼付!$B$3:$F$102,5,FALSE)),\"\",VLOOKUP($B28*10+$G$2,データ貼付!$B$3:$F$102,5,FALSE))","v":""},{"$f":"IF(ISERROR(VLOOKUP($B28*10+$H$2,データ貼付!$B$3:$F$102,5,FALSE)),\"\",VLOOKUP($B28*10+$H$2,データ貼付!$B$3:$F$102,5,FALSE))","v":""},{"$f":"IF(ISERROR(VLOOKUP($B28*10+$I$2,データ貼付!$B$3:$F$102,5,FALSE)),\"\",VLOOKUP($B28*10+$I$2,データ貼付!$B$3:$F$102,5,FALSE))","v":""},"",""]
[null,27,{"$f":"VLOOKUP($B29,データ貼付!$A$3:$I$102,4,FALSE)","v":{"$error":"#N/A"}},{"$f":"VLOOKUP($B29,データ貼付!$A$3:$I$102,5,FALSE)","v":{"$error":"#N/A"}},{"$f":"IF(ISERROR(VLOOKUP($B29*10+$E$2,データ貼付!$B$3:$F$102,5,FALSE)),\"\",VLOOKUP($B29*10+$E$2,データ貼付!$B$3:$F$102,5,FALSE))","v":""},{"$f":"IF(ISERROR(VLOOKUP($B29*10+$F$2,データ貼付!$B$3:$F$102,5,FALSE)),\"\",VLOOKUP($B29*10+$F$2,データ貼付!$B$3:$F$102,5,FALSE))","v":""},{"$f":"IF(ISERROR(VLOOKUP($B29*10+$G$2,データ貼付!$B$3:$F$102,5,FALSE)),\"\",VLOOKUP($B29*10+$G$2,データ貼付!$B$3:$F$102,5,FALSE))","v":""},{"$f":"IF(ISERROR(VLOOKUP($B29*10+$H$2,データ貼付!$B$3:$F$102,5,FALSE)),\"\",VLOOKUP($B29*10+$H$2,データ貼付!$B$3:$F$102,5,FALSE))","v":""},{"$f":"IF(ISERROR(VLOOKUP($B29*10+$I$2,データ貼付!$B$3:$F$102,5,FALSE)),\"\",VLOOKUP($B29*10+$I$2,データ貼付!$B$3:$F$102,5,FALSE))","v":""},"",""]
[null,28,{"$f":"VLOOKUP($B30,データ貼付!$A$3:$I$102,4,FALSE)","v":{"$error":"#N/A"}},{"$f":"VLOOKUP($B30,データ貼付!$A$3:$I$102,5,FALSE)","v":{"$error":"#N/A"}},{"$f":"IF(ISERROR(VLOOKUP($B30*10+$E$2,データ貼付!$B$3:$F$102,5,FALSE)),\"\",VLOOKUP($B30*10+$E$2,データ貼付!$B$3:$F$102,5,FALSE))","v":""},{"$f":"IF(ISERROR(VLOOKUP($B30*10+$F$2,データ貼付!$B$3:$F$102,5,FALSE)),\"\",VLOOKUP($B30*10+$F$2,データ貼付!$B$3:$F$102,5,FALSE))","v":""},{"$f":"IF(ISERROR(VLOOKUP($B30*10+$G$2,データ貼付!$B$3:$F$102,5,FALSE)),\"\",VLOOKUP($B30*10+$G$2,データ貼付!$B$3:$F$102,5,FALSE))","v":""},{"$f":"IF(ISERROR(VLOOKUP($B30*10+$H$2,データ貼付!$B$3:$F$102,5,FALSE)),\"\",VLOOKUP($B30*10+$H$2,データ貼付!$B$3:$F$102,5,FALSE))","v":""},{"$f":"IF(ISERROR(VLOOKUP($B30*10+$I$2,データ貼付!$B$3:$F$102,5,FALSE)),\"\",VLOOKUP($B30*10+$I$2,データ貼付!$B$3:$F$102,5,FALSE))","v":""},"",""]
[null,29,{"$f":"VLOOKUP($B31,データ貼付!$A$3:$I$102,4,FALSE)","v":{"$error":"#N/A"}},{"$f":"VLOOKUP($B31,データ貼付!$A$3:$I$102,5,FALSE)","v":{"$error":"#N/A"}},{"$f":"IF(ISERROR(VLOOKUP($B31*10+$E$2,データ貼付!$B$3:$F$102,5,FALSE)),\"\",VLOOKUP($B31*10+$E$2,データ貼付!$B$3:$F$102,5,FALSE))","v":""},{"$f":"IF(ISERROR(VLOOKUP($B31*10+$F$2,データ貼付!$B$3:$F$102,5,FALSE)),\"\",VLOOKUP($B31*10+$F$2,データ貼付!$B$3:$F$102,5,FALSE))","v":""},{"$f":"IF(ISERROR(VLOOKUP($B31*10+$G$2,データ貼付!$B$3:$F$102,5,FALSE)),\"\",VLOOKUP($B31*10+$G$2,データ貼付!$B$3:$F$102,5,FALSE))","v":""},{"$f":"IF(ISERROR(VLOOKUP($B31*10+$H$2,データ貼付!$B$3:$F$102,5,FALSE)),\"\",VLOOKUP($B31*10+$H$2,データ貼付!$B$3:$F$102,5,FALSE))","v":""},{"$f":"IF(ISERROR(VLOOKUP($B31*10+$I$2,データ貼付!$B$3:$F$102,5,FALSE)),\"\",VLOOKUP($B31*10+$I$2,データ貼付!$B$3:$F$102,5,FALSE))","v":""},"",""]
[null,30,{"$f":"VLOOKUP($B32,データ貼付!$A$3:$I$102,4,FALSE)","v":{"$error":"#N/A"}},{"$f":"VLOOKUP($B32,データ貼付!$A$3:$I$102,5,FALSE)","v":{"$error":"#N/A"}},{"$f":"IF(ISERROR(VLOOKUP($B32*10+$E$2,データ貼付!$B$3:$F$102,5,FALSE)),\"\",VLOOKUP($B32*10+$E$2,データ貼付!$B$3:$F$102,5,FALSE))","v":""},{"$f":"IF(ISERROR(VLOOKUP($B32*10+$F$2,データ貼付!$B$3:$F$102,5,FALSE)),\"\",VLOOKUP($B32*10+$F$2,データ貼付!$B$3:$F$102,5,FALSE))","v":""},{"$f":"IF(ISERROR(VLOOKUP($B32*10+$G$2,データ貼付!$B$3:$F$102,5,FALSE)),\"\",VLOOKUP($B32*10+$G$2,データ貼付!$B$3:$F$102,5,FALSE))","v":""},{"$f":"IF(ISERROR(VLOOKUP($B32*10+$H$2,データ貼付!$B$3:$F$102,5,FALSE)),\"\",VLOOKUP($B32*10+$H$2,データ貼付!$B$3:$F$102,5,FALSE))","v":""},{"$f":"IF(ISERROR(VLOOKUP($B32*10+$I$2,データ貼付!$B$3:$F$102,5,FALSE)),\"\",VLOOKUP($B32*10+$I$2,データ貼付!$B$3:$F$102,5,FALSE))","v":""},"",""]
[null,31,{"$f":"VLOOKUP($B33,データ貼付!$A$3:$I$102,4,FALSE)","v":{"$error":"#N/A"}},{"$f":"VLOOKUP($B33,データ貼付!$A$3:$I$102,5,FALSE)","v":{"$error":"#N/A"}},{"$f":"IF(ISERROR(VLOOKUP($B33*10+$E$2,データ貼付!$B$3:$F$102,5,FALSE)),\"\",VLOOKUP($B33*10+$E$2,データ貼付!$B$3:$F$102,5,FALSE))","v":""},{"$f":"IF(ISERROR(VLOOKUP($B33*10+$F$2,データ貼付!$B$3:$F$102,5,FALSE)),\"\",VLOOKUP($B33*10+$F$2,データ貼付!$B$3:$F$102,5,FALSE))","v":""},{"$f":"IF(ISERROR(VLOOKUP($B33*10+$G$2,データ貼付!$B$3:$F$102,5,FALSE)),\"\",VLOOKUP($B33*10+$G$2,データ貼付!$B$3:$F$102,5,FALSE))","v":""},{"$f":"IF(ISERROR(VLOOKUP($B33*10+$H$2,データ貼付!$B$3:$F$102,5,FALSE)),\"\",VLOOKUP($B33*10+$H$2,データ貼付!$B$3:$F$102,5,FALSE))","v":""},{"$f":"IF(ISERROR(VLOOKUP($B33*10+$I$2,データ貼付!$B$3:$F$102,5,FALSE)),\"\",VLOOKUP($B33*10+$I$2,データ貼付!$B$3:$F$102,5,FALSE))","v":""},"",""]
[null,32,{"$f":"VLOOKUP($B34,データ貼付!$A$3:$I$102,4,FALSE)","v":{"$error":"#N/A"}},{"$f":"VLOOKUP($B34,データ貼付!$A$3:$I$102,5,FALSE)","v":{"$error":"#N/A"}},{"$f":"IF(ISERROR(VLOOKUP($B34*10+$E$2,データ貼付!$B$3:$F$102,5,FALSE)),\"\",VLOOKUP($B34*10+$E$2,データ貼付!$B$3:$F$102,5,FALSE))","v":""},{"$f":"IF(ISERROR(VLOOKUP($B34*10+$F$2,データ貼付!$B$3:$F$102,5,FALSE)),\"\",VLOOKUP($B34*10+$F$2,データ貼付!$B$3:$F$102,5,FALSE))","v":""},{"$f":"IF(ISERROR(VLOOKUP($B34*10+$G$2,データ貼付!$B$3:$F$102,5,FALSE)),\"\",VLOOKUP($B34*10+$G$2,データ貼付!$B$3:$F$102,5,FALSE))","v":""},{"$f":"IF(ISERROR(VLOOKUP($B34*10+$H$2,データ貼付!$B$3:$F$102,5,FALSE)),\"\",VLOOKUP($B34*10+$H$2,データ貼付!$B$3:$F$102,5,FALSE))","v":""},{"$f":"IF(ISERROR(VLOOKUP($B34*10+$I$2,データ貼付!$B$3:$F$102,5,FALSE)),\"\",VLOOKUP($B34*10+$I$2,データ貼付!$B$3:$F$102,5,FALSE))","v":""},"",""]
[null,33,{"$f":"VLOOKUP($B35,データ貼付!$A$3:$I$102,4,FALSE)","v":{"$error":"#N/A"}},{"$f":"VLOOKUP($B35,データ貼付!$A$3:$I$102,5,FALSE)","v":{"$error":"#N/A"}},{"$f":"IF(ISERROR(VLOOKUP($B35*10+$E$2,データ貼付!$B$3:$F$102,5,FALSE)),\"\",VLOOKUP($B35*10+$E$2,データ貼付!$B$3:$F$102,5,FALSE))","v":""},{"$f":"IF(ISERROR(VLOOKUP($B35*10+$F$2,データ貼付!$B$3:$F$102,5,FALSE)),\"\",VLOOKUP($B35*10+$F$2,データ貼付!$B$3:$F$102,5,FALSE))","v":""},{"$f":"IF(ISERROR(VLOOKUP($B35*10+$G$2,データ貼付!$B$3:$F$102,5,FALSE)),\"\",VLOOKUP($B35*10+$G$2,データ貼付!$B$3:$F$102,5,FALSE))","v":""},{"$f":"IF(ISERROR(VLOOKUP($B35*10+$H$2,データ貼付!$B$3:$F$102,5,FALSE)),\"\",VLOOKUP($B35*10+$H$2,データ貼付!$B$3:$F$102,5,FALSE))","v":""},{"$f":"IF(ISERROR(VLOOKUP($B35*10+$I$2,データ貼付!$B$3:$F$102,5,FALSE)),\"\",VLOOKUP($B35*10+$I$2,データ貼付!$B$3:$F$102,5,FALSE))","v":""},"",""]
[null,34,{"$f":"VLOOKUP($B36,データ貼付!$A$3:$I$102,4,FALSE)","v":{"$error":"#N/A"}},{"$f":"VLOOKUP($B36,データ貼付!$A$3:$I$102,5,FALSE)","v":{"$error":"#N/A"}},{"$f":"IF(ISERROR(VLOOKUP($B36*10+$E$2,データ貼付!$B$3:$F$102,5,FALSE)),\"\",VLOOKUP($B36*10+$E$2,データ貼付!$B$3:$F$102,5,FALSE))","v":""},{"$f":"IF(ISERROR(VLOOKUP($B36*10+$F$2,データ貼付!$B$3:$F$102,5,FALSE)),\"\",VLOOKUP($B36*10+$F$2,データ貼付!$B$3:$F$102,5,FALSE))","v":""},{"$f":"IF(ISERROR(VLOOKUP($B36*10+$G$2,データ貼付!$B$3:$F$102,5,FALSE)),\"\",VLOOKUP($B36*10+$G$2,データ貼付!$B$3:$F$102,5,FALSE))","v":""},{"$f":"IF(ISERROR(VLOOKUP($B36*10+$H$2,データ貼付!$B$3:$F$102,5,FALSE)),\"\",VLOOKUP($B36*10+$H$2,データ貼付!$B$3:$F$102,5,FALSE))","v":""},{"$f":"IF(ISERROR(VLOOKUP($B36*10+$I$2,データ貼付!$B$3:$F$102,5,FALSE)),\"\",VLOOKUP($B36*10+$I$2,データ貼付!$B$3:$F$102,5,FALSE))","v":""},"",""]
[null,35,{"$f":"VLOOKUP($B37,データ貼付!$A$3:$I$102,4,FALSE)","v":{"$error":"#N/A"}},{"$f":"VLOOKUP($B37,データ貼付!$A$3:$I$102,5,FALSE)","v":{"$error":"#N/A"}},{"$f":"IF(ISERROR(VLOOKUP($B37*10+$E$2,データ貼付!$B$3:$F$102,5,FALSE)),\"\",VLOOKUP($B37*10+$E$2,データ貼付!$B$3:$F$102,5,FALSE))","v":""},{"$f":"IF(ISERROR(VLOOKUP($B37*10+$F$2,データ貼付!$B$3:$F$102,5,FALSE)),\"\",VLOOKUP($B37*10+$F$2,データ貼付!$B$3:$F$102,5,FALSE))","v":""},{"$f":"IF(ISERROR(VLOOKUP($B37*10+$G$2,データ貼付!$B$3:$F$102,5,FALSE)),\"\",VLOOKUP($B37*10+$G$2,データ貼付!$B$3:$F$102,5,FALSE))","v":""},{"$f":"IF(ISERROR(VLOOKUP($B37*10+$H$2,データ貼付!$B$3:$F$102,5,FALSE)),\"\",VLOOKUP($B37*10+$H$2,データ貼付!$B$3:$F$102,5,FALSE))","v":""},{"$f":"IF(ISERROR(VLOOKUP($B37*10+$I$2,データ貼付!$B$3:$F$102,5,FALSE)),\"\",VLOOKUP($B37*10+$I$2,データ貼付!$B$3:$F$102,5,FALSE))","v":""},"",""]
[null,36,{"$f":"VLOOKUP($B38,データ貼付!$A$3:$I$102,4,FALSE)","v":{"$error":"#N/A"}},{"$f":"VLOOKUP($B38,データ貼付!$A$3:$I$102,5,FALSE)","v":{"$error":"#N/A"}},{"$f":"IF(ISERROR(VLOOKUP($B38*10+$E$2,データ貼付!$B$3:$F$102,5,FALSE)),\"\",VLOOKUP($B38*10+$E$2,データ貼付!$B$3:$F$102,5,FALSE))","v":""},{"$f":"IF(ISERROR(VLOOKUP($B38*10+$F$2,データ貼付!$B$3:$F$102,5,FALSE)),\"\",VLOOKUP($B38*10+$F$2,データ貼付!$B$3:$F$102,5,FALSE))","v":""},{"$f":"IF(ISERROR(VLOOKUP($B38*10+$G$2,データ貼付!$B$3:$F$102,5,FALSE)),\"\",VLOOKUP($B38*10+$G$2,データ貼付!$B$3:$F$102,5,FALSE))","v":""},{"$f":"IF(ISERROR(VLOOKUP($B38*10+$H$2,データ貼付!$B$3:$F$102,5,FALSE)),\"\",VLOOKUP($B38*10+$H$2,データ貼付!$B$3:$F$102,5,FALSE))","v":""},{"$f":"IF(ISERROR(VLOOKUP($B38*10+$I$2,データ貼付!$B$3:$F$102,5,FALSE)),\"\",VLOOKUP($B38*10+$I$2,データ貼付!$B$3:$F$102,5,FALSE))","v":""},"",""]
[null,37,{"$f":"VLOOKUP($B39,データ貼付!$A$3:$I$102,4,FALSE)","v":{"$error":"#N/A"}},{"$f":"VLOOKUP($B39,データ貼付!$A$3:$I$102,5,FALSE)","v":{"$error":"#N/A"}},{"$f":"IF(ISERROR(VLOOKUP($B39*10+$E$2,データ貼付!$B$3:$F$102,5,FALSE)),\"\",VLOOKUP($B39*10+$E$2,データ貼付!$B$3:$F$102,5,FALSE))","v":""},{"$f":"IF(ISERROR(VLOOKUP($B39*10+$F$2,データ貼付!$B$3:$F$102,5,FALSE)),\"\",VLOOKUP($B39*10+$F$2,データ貼付!$B$3:$F$102,5,FALSE))","v":""},{"$f":"IF(ISERROR(VLOOKUP($B39*10+$G$2,データ貼付!$B$3:$F$102,5,FALSE)),\"\",VLOOKUP($B39*10+$G$2,データ貼付!$B$3:$F$102,5,FALSE))","v":""},{"$f":"IF(ISERROR(VLOOKUP($B39*10+$H$2,データ貼付!$B$3:$F$102,5,FALSE)),\"\",VLOOKUP($B39*10+$H$2,データ貼付!$B$3:$F$102,5,FALSE))","v":""},{"$f":"IF(ISERROR(VLOOKUP($B39*10+$I$2,データ貼付!$B$3:$F$102,5,FALSE)),\"\",VLOOKUP($B39*10+$I$2,データ貼付!$B$3:$F$102,5,FALSE))","v":""},"",""]
[null,38,{"$f":"VLOOKUP($B40,データ貼付!$A$3:$I$102,4,FALSE)","v":{"$error":"#N/A"}},{"$f":"VLOOKUP($B40,データ貼付!$A$3:$I$102,5,FALSE)","v":{"$error":"#N/A"}},{"$f":"IF(ISERROR(VLOOKUP($B40*10+$E$2,データ貼付!$B$3:$F$102,5,FALSE)),\"\",VLOOKUP($B40*10+$E$2,データ貼付!$B$3:$F$102,5,FALSE))","v":""},{"$f":"IF(ISERROR(VLOOKUP($B40*10+$F$2,データ貼付!$B$3:$F$102,5,FALSE)),\"\",VLOOKUP($B40*10+$F$2,データ貼付!$B$3:$F$102,5,FALSE))","v":""},{"$f":"IF(ISERROR(VLOOKUP($B40*10+$G$2,データ貼付!$B$3:$F$102,5,FALSE)),\"\",VLOOKUP($B40*10+$G$2,データ貼付!$B$3:$F$102,5,FALSE))","v":""},{"$f":"IF(ISERROR(VLOOKUP($B40*10+$H$2,データ貼付!$B$3:$F$102,5,FALSE)),\"\",VLOOKUP($B40*10+$H$2,データ貼付!$B$3:$F$102,5,FALSE))","v":""},{"$f":"IF(ISERROR(VLOOKUP($B40*10+$I$2,データ貼付!$B$3:$F$102,5,FALSE)),\"\",VLOOKUP($B40*10+$I$2,データ貼付!$B$3:$F$102,5,FALSE))","v":""},"",""]
[null,39,{"$f":"VLOOKUP($B41,データ貼付!$A$3:$I$102,4,FALSE)","v":{"$error":"#N/A"}},{"$f":"VLOOKUP($B41,データ貼付!$A$3:$I$102,5,FALSE)","v":{"$error":"#N/A"}},{"$f":"IF(ISERROR(VLOOKUP($B41*10+$E$2,データ貼付!$B$3:$F$102,5,FALSE)),\"\",VLOOKUP($B41*10+$E$2,データ貼付!$B$3:$F$102,5,FALSE))","v":""},{"$f":"IF(ISERROR(VLOOKUP($B41*10+$F$2,データ貼付!$B$3:$F$102,5,FALSE)),\"\",VLOOKUP($B41*10+$F$2,データ貼付!$B$3:$F$102,5,FALSE))","v":""},{"$f":"IF(ISERROR(VLOOKUP($B41*10+$G$2,データ貼付!$B$3:$F$102,5,FALSE)),\"\",VLOOKUP($B41*10+$G$2,データ貼付!$B$3:$F$102,5,FALSE))","v":""},{"$f":"IF(ISERROR(VLOOKUP($B41*10+$H$2,データ貼付!$B$3:$F$102,5,FALSE)),\"\",VLOOKUP($B41*10+$H$2,データ貼付!$B$3:$F$102,5,FALSE))","v":""},{"$f":"IF(ISERROR(VLOOKUP($B41*10+$I$2,データ貼付!$B$3:$F$102,5,FALSE)),\"\",VLOOKUP($B41*10+$I$2,データ貼付!$B$3:$F$102,5,FALSE))","v":""},"",""]
[null,40,{"$f":"VLOOKUP($B42,データ貼付!$A$3:$I$102,4,FALSE)","v":{"$error":"#N/A"}},{"$f":"VLOOKUP($B42,データ貼付!$A$3:$I$102,5,FALSE)","v":{"$error":"#N/A"}},{"$f":"IF(ISERROR(VLOOKUP($B42*10+$E$2,データ貼付!$B$3:$F$102,5,FALSE)),\"\",VLOOKUP($B42*10+$E$2,データ貼付!$B$3:$F$102,5,FALSE))","v":""},{"$f":"IF(ISERROR(VLOOKUP($B42*10+$F$2,データ貼付!$B$3:$F$102,5,FALSE)),\"\",VLOOKUP($B42*10+$F$2,データ貼付!$B$3:$F$102,5,FALSE))","v":""},{"$f":"IF(ISERROR(VLOOKUP($B42*10+$G$2,データ貼付!$B$3:$F$102,5,FALSE)),\"\",VLOOKUP($B42*10+$G$2,データ貼付!$B$3:$F$102,5,FALSE))","v":""},{"$f":"IF(ISERROR(VLOOKUP($B42*10+$H$2,データ貼付!$B$3:$F$102,5,FALSE)),\"\",VLOOKUP($B42*10+$H$2,データ貼付!$B$3:$F$102,5,FALSE))","v":""},{"$f":"IF(ISERROR(VLOOKUP($B42*10+$I$2,データ貼付!$B$3:$F$102,5,FALSE)),\"\",VLOOKUP($B42*10+$I$2,データ貼付!$B$3:$F$102,5,FALSE))","v":""},"",""]
[null,41,{"$f":"VLOOKUP($B43,データ貼付!$A$3:$I$102,4,FALSE)","v":{"$error":"#N/A"}},{"$f":"VLOOKUP($B43,データ貼付!$A$3:$I$102,5,FALSE)","v":{"$error":"#N/A"}},{"$f":"IF(ISERROR(VLOOKUP($B43*10+$E$2,データ貼付!$B$3:$F$102,5,FALSE)),\"\",VLOOKUP($B43*10+$E$2,データ貼付!$B$3:$F$102,5,FALSE))","v":""},{"$f":"IF(ISERROR(VLOOKUP($B43*10+$F$2,データ貼付!$B$3:$F$102,5,FALSE)),\"\",VLOOKUP($B43*10+$F$2,データ貼付!$B$3:$F$102,5,FALSE))","v":""},{"$f":"IF(ISERROR(VLOOKUP($B43*10+$G$2,データ貼付!$B$3:$F$102,5,FALSE)),\"\",VLOOKUP($B43*10+$G$2,データ貼付!$B$3:$F$102,5,FALSE))","v":""},{"$f":"IF(ISERROR(VLOOKUP($B43*10+$H$2,データ貼付!$B$3:$F$102,5,FALSE)),\"\",VLOOKUP($B43*10+$H$2,データ貼付!$B$3:$F$102,5,FALSE))","v":""},{"$f":"IF(ISERROR(VLOOKUP($B43*10+$I$2,データ貼付!$B$3:$F$102,5,FALSE)),\"\",VLOOKUP($B43*10+$I$2,データ貼付!$B$3:$F$102,5,FALSE))","v":""},"",""]
[null,42,{"$f":"VLOOKUP($B44,データ貼付!$A$3:$I$102,4,FALSE)","v":{"$error":"#N/A"}},{"$f":"VLOOKUP($B44,データ貼付!$A$3:$I$102,5,FALSE)","v":{"$error":"#N/A"}},{"$f":"IF(ISERROR(VLOOKUP($B44*10+$E$2,データ貼付!$B$3:$F$102,5,FALSE)),\"\",VLOOKUP($B44*10+$E$2,データ貼付!$B$3:$F$102,5,FALSE))","v":""},{"$f":"IF(ISERROR(VLOOKUP($B44*10+$F$2,データ貼付!$B$3:$F$102,5,FALSE)),\"\",VLOOKUP($B44*10+$F$2,データ貼付!$B$3:$F$102,5,FALSE))","v":""},{"$f":"IF(ISERROR(VLOOKUP($B44*10+$G$2,データ貼付!$B$3:$F$102,5,FALSE)),\"\",VLOOKUP($B44*10+$G$2,データ貼付!$B$3:$F$102,5,FALSE))","v":""},{"$f":"IF(ISERROR(VLOOKUP($B44*10+$H$2,データ貼付!$B$3:$F$102,5,FALSE)),\"\",VLOOKUP($B44*10+$H$2,データ貼付!$B$3:$F$102,5,FALSE))","v":""},{"$f":"IF(ISERROR(VLOOKUP($B44*10+$I$2,データ貼付!$B$3:$F$102,5,FALSE)),\"\",VLOOKUP($B44*10+$I$2,データ貼付!$B$3:$F$102,5,FALSE))","v":""},"",""]
[null,43,{"$f":"VLOOKUP($B45,データ貼付!$A$3:$I$102,4,FALSE)","v":{"$error":"#N/A"}},{"$f":"VLOOKUP($B45,データ貼付!$A$3:$I$102,5,FALSE)","v":{"$error":"#N/A"}},{"$f":"IF(ISERROR(VLOOKUP($B45*10+$E$2,データ貼付!$B$3:$F$102,5,FALSE)),\"\",VLOOKUP($B45*10+$E$2,データ貼付!$B$3:$F$102,5,FALSE))","v":""},{"$f":"IF(ISERROR(VLOOKUP($B45*10+$F$2,データ貼付!$B$3:$F$102,5,FALSE)),\"\",VLOOKUP($B45*10+$F$2,データ貼付!$B$3:$F$102,5,FALSE))","v":""},{"$f":"IF(ISERROR(VLOOKUP($B45*10+$G$2,データ貼付!$B$3:$F$102,5,FALSE)),\"\",VLOOKUP($B45*10+$G$2,データ貼付!$B$3:$F$102,5,FALSE))","v":""},{"$f":"IF(ISERROR(VLOOKUP($B45*10+$H$2,データ貼付!$B$3:$F$102,5,FALSE)),\"\",VLOOKUP($B45*10+$H$2,データ貼付!$B$3:$F$102,5,FALSE))","v":""},{"$f":"IF(ISERROR(VLOOKUP($B45*10+$I$2,データ貼付!$B$3:$F$102,5,FALSE)),\"\",VLOOKUP($B45*10+$I$2,データ貼付!$B$3:$F$102,5,FALSE))","v":""},"",""]
[null,44,{"$f":"VLOOKUP($B46,データ貼付!$A$3:$I$102,4,FALSE)","v":{"$error":"#N/A"}},{"$f":"VLOOKUP($B46,データ貼付!$A$3:$I$102,5,FALSE)","v":{"$error":"#N/A"}},{"$f":"IF(ISERROR(VLOOKUP($B46*10+$E$2,データ貼付!$B$3:$F$102,5,FALSE)),\"\",VLOOKUP($B46*10+$E$2,データ貼付!$B$3:$F$102,5,FALSE))","v":""},{"$f":"IF(ISERROR(VLOOKUP($B46*10+$F$2,データ貼付!$B$3:$F$102,5,FALSE)),\"\",VLOOKUP($B46*10+$F$2,データ貼付!$B$3:$F$102,5,FALSE))","v":""},{"$f":"IF(ISERROR(VLOOKUP($B46*10+$G$2,データ貼付!$B$3:$F$102,5,FALSE)),\"\",VLOOKUP($B46*10+$G$2,データ貼付!$B$3:$F$102,5,FALSE))","v":""},{"$f":"IF(ISERROR(VLOOKUP($B46*10+$H$2,データ貼付!$B$3:$F$102,5,FALSE)),\"\",VLOOKUP($B46*10+$H$2,データ貼付!$B$3:$F$102,5,FALSE))","v":""},{"$f":"IF(ISERROR(VLOOKUP($B46*10+$I$2,データ貼付!$B$3:$F$102,5,FALSE)),\"\",VLOOKUP($B46*10+$I$2,データ貼付!$B$3:$F$102,5,FALSE))","v":""},"",""]
[null,45,{"$f":"VLOOKUP($B47,データ貼付!$A$3:$I$102,4,FALSE)","v":{"$error":"#N/A"}},{"$f":"VLOOKUP($B47,データ貼付!$A$3:$I$102,5,FALSE)","v":{"$error":"#N/A"}},{"$f":"IF(ISERROR(VLOOKUP($B47*10+$E$2,データ貼付!$B$3:$F$102,5,FALSE)),\"\",VLOOKUP($B47*10+$E$2,データ貼付!$B$3:$F$102,5,FALSE))","v":""},{"$f":"IF(ISERROR(VLOOKUP($B47*10+$F$2,データ貼付!$B$3:$F$102,5,FALSE)),\"\",VLOOKUP($B47*10+$F$2,データ貼付!$B$3:$F$102,5,FALSE))","v":""},{"$f":"IF(ISERROR(VLOOKUP($B47*10+$G$2,データ貼付!$B$3:$F$102,5,FALSE)),\"\",VLOOKUP($B47*10+$G$2,データ貼付!$B$3:$F$102,5,FALSE))","v":""},{"$f":"IF(ISERROR(VLOOKUP($B47*10+$H$2,データ貼付!$B$3:$F$102,5,FALSE)),\"\",VLOOKUP($B47*10+$H$2,データ貼付!$B$3:$F$102,5,FALSE))","v":""},{"$f":"IF(ISERROR(VLOOKUP($B47*10+$I$2,データ貼付!$B$3:$F$102,5,FALSE)),\"\",VLOOKUP($B47*10+$I$2,データ貼付!$B$3:$F$102,5,FALSE))","v":""},"",""]
[null,46,{"$f":"VLOOKUP($B48,データ貼付!$A$3:$I$102,4,FALSE)","v":{"$error":"#N/A"}},{"$f":"VLOOKUP($B48,データ貼付!$A$3:$I$102,5,FALSE)","v":{"$error":"#N/A"}},{"$f":"IF(ISERROR(VLOOKUP($B48*10+$E$2,データ貼付!$B$3:$F$102,5,FALSE)),\"\",VLOOKUP($B48*10+$E$2,データ貼付!$B$3:$F$102,5,FALSE))","v":""},{"$f":"IF(ISERROR(VLOOKUP($B48*10+$F$2,データ貼付!$B$3:$F$102,5,FALSE)),\"\",VLOOKUP($B48*10+$F$2,データ貼付!$B$3:$F$102,5,FALSE))","v":""},{"$f":"IF(ISERROR(VLOOKUP($B48*10+$G$2,データ貼付!$B$3:$F$102,5,FALSE)),\"\",VLOOKUP($B48*10+$G$2,データ貼付!$B$3:$F$102,5,FALSE))","v":""},{"$f":"IF(ISERROR(VLOOKUP($B48*10+$H$2,データ貼付!$B$3:$F$102,5,FALSE)),\"\",VLOOKUP($B48*10+$H$2,データ貼付!$B$3:$F$102,5,FALSE))","v":""},{"$f":"IF(ISERROR(VLOOKUP($B48*10+$I$2,データ貼付!$B$3:$F$102,5,FALSE)),\"\",VLOOKUP($B48*10+$I$2,データ貼付!$B$3:$F$102,5,FALSE))","v":""},"",""]
[null,47,{"$f":"VLOOKUP($B49,データ貼付!$A$3:$I$102,4,FALSE)","v":{"$error":"#N/A"}},{"$f":"VLOOKUP($B49,データ貼付!$A$3:$I$102,5,FALSE)","v":{"$error":"#N/A"}},{"$f":"IF(ISERROR(VLOOKUP($B49*10+$E$2,データ貼付!$B$3:$F$102,5,FALSE)),\"\",VLOOKUP($B49*10+$E$2,データ貼付!$B$3:$F$102,5,FALSE))","v":""},{"$f":"IF(ISERROR(VLOOKUP($B49*10+$F$2,データ貼付!$B$3:$F$102,5,FALSE)),\"\",VLOOKUP($B49*10+$F$2,データ貼付!$B$3:$F$102,5,FALSE))","v":""},{"$f":"IF(ISERROR(VLOOKUP($B49*10+$G$2,データ貼付!$B$3:$F$102,5,FALSE)),\"\",VLOOKUP($B49*10+$G$2,データ貼付!$B$3:$F$102,5,FALSE))","v":""},{"$f":"IF(ISERROR(VLOOKUP($B49*10+$H$2,データ貼付!$B$3:$F$102,5,FALSE)),\"\",VLOOKUP($B49*10+$H$2,データ貼付!$B$3:$F$102,5,FALSE))","v":""},{"$f":"IF(ISERROR(VLOOKUP($B49*10+$I$2,データ貼付!$B$3:$F$102,5,FALSE)),\"\",VLOOKUP($B49*10+$I$2,データ貼付!$B$3:$F$102,5,FALSE))","v":""},"",""]
[null,48,{"$f":"VLOOKUP($B50,データ貼付!$A$3:$I$102,4,FALSE)","v":{"$error":"#N/A"}},{"$f":"VLOOKUP($B50,データ貼付!$A$3:$I$102,5,FALSE)","v":{"$error":"#N/A"}},{"$f":"IF(ISERROR(VLOOKUP($B50*10+$E$2,データ貼付!$B$3:$F$102,5,FALSE)),\"\",VLOOKUP($B50*10+$E$2,データ貼付!$B$3:$F$102,5,FALSE))","v":""},{"$f":"IF(ISERROR(VLOOKUP($B50*10+$F$2,データ貼付!$B$3:$F$102,5,FALSE)),\"\",VLOOKUP($B50*10+$F$2,データ貼付!$B$3:$F$102,5,FALSE))","v":""},{"$f":"IF(ISERROR(VLOOKUP($B50*10+$G$2,データ貼付!$B$3:$F$102,5,FALSE)),\"\",VLOOKUP($B50*10+$G$2,データ貼付!$B$3:$F$102,5,FALSE))","v":""},{"$f":"IF(ISERROR(VLOOKUP($B50*10+$H$2,データ貼付!$B$3:$F$102,5,FALSE)),\"\",VLOOKUP($B50*10+$H$2,データ貼付!$B$3:$F$102,5,FALSE))","v":""},{"$f":"IF(ISERROR(VLOOKUP($B50*10+$I$2,データ貼付!$B$3:$F$102,5,FALSE)),\"\",VLOOKUP($B50*10+$I$2,データ貼付!$B$3:$F$102,5,FALSE))","v":""},"",""]
[null,49,{"$f":"VLOOKUP($B51,データ貼付!$A$3:$I$102,4,FALSE)","v":{"$error":"#N/A"}},{"$f":"VLOOKUP($B51,データ貼付!$A$3:$I$102,5,FALSE)","v":{"$error":"#N/A"}},{"$f":"IF(ISERROR(VLOOKUP($B51*10+$E$2,データ貼付!$B$3:$F$102,5,FALSE)),\"\",VLOOKUP($B51*10+$E$2,データ貼付!$B$3:$F$102,5,FALSE))","v":""},{"$f":"IF(ISERROR(VLOOKUP($B51*10+$F$2,データ貼付!$B$3:$F$102,5,FALSE)),\"\",VLOOKUP($B51*10+$F$2,データ貼付!$B$3:$F$102,5,FALSE))","v":""},{"$f":"IF(ISERROR(VLOOKUP($B51*10+$G$2,データ貼付!$B$3:$F$102,5,FALSE)),\"\",VLOOKUP($B51*10+$G$2,データ貼付!$B$3:$F$102,5,FALSE))","v":""},{"$f":"IF(ISERROR(VLOOKUP($B51*10+$H$2,データ貼付!$B$3:$F$102,5,FALSE)),\"\",VLOOKUP($B51*10+$H$2,データ貼付!$B$3:$F$102,5,FALSE))","v":""},{"$f":"IF(ISERROR(VLOOKUP($B51*10+$I$2,データ貼付!$B$3:$F$102,5,FALSE)),\"\",VLOOKUP($B51*10+$I$2,データ貼付!$B$3:$F$102,5,FALSE))","v":""},"",""]
[null,50,{"$f":"VLOOKUP($B52,データ貼付!$A$3:$I$102,4,FALSE)","v":{"$error":"#N/A"}},{"$f":"VLOOKUP($B52,データ貼付!$A$3:$I$102,5,FALSE)","v":{"$error":"#N/A"}},{"$f":"IF(ISERROR(VLOOKUP($B52*10+$E$2,データ貼付!$B$3:$F$102,5,FALSE)),\"\",VLOOKUP($B52*10+$E$2,データ貼付!$B$3:$F$102,5,FALSE))","v":""},{"$f":"IF(ISERROR(VLOOKUP($B52*10+$F$2,データ貼付!$B$3:$F$102,5,FALSE)),\"\",VLOOKUP($B52*10+$F$2,データ貼付!$B$3:$F$102,5,FALSE))","v":""},{"$f":"IF(ISERROR(VLOOKUP($B52*10+$G$2,データ貼付!$B$3:$F$102,5,FALSE)),\"\",VLOOKUP($B52*10+$G$2,データ貼付!$B$3:$F$102,5,FALSE))","v":""},{"$f":"IF(ISERROR(VLOOKUP($B52*10+$H$2,データ貼付!$B$3:$F$102,5,FALSE)),\"\",VLOOKUP($B52*10+$H$2,データ貼付!$B$3:$F$102,5,FALSE))","v":""},{"$f":"IF(ISERROR(VLOOKUP($B52*10+$I$2,データ貼付!$B$3:$F$102,5,FALSE)),\"\",VLOOKUP($B52*10+$I$2,データ貼付!$B$3:$F$102,5,FALSE))","v":""},"",""]
[null,51,{"$f":"VLOOKUP($B53,データ貼付!$A$3:$I$102,4,FALSE)","v":{"$error":"#N/A"}},{"$f":"VLOOKUP($B53,データ貼付!$A$3:$I$102,5,FALSE)","v":{"$error":"#N/A"}},{"$f":"IF(ISERROR(VLOOKUP($B53*10+$E$2,データ貼付!$B$3:$F$102,5,FALSE)),\"\",VLOOKUP($B53*10+$E$2,データ貼付!$B$3:$F$102,5,FALSE))","v":""},{"$f":"IF(ISERROR(VLOOKUP($B53*10+$F$2,データ貼付!$B$3:$F$102,5,FALSE)),\"\",VLOOKUP($B53*10+$F$2,データ貼付!$B$3:$F$102,5,FALSE))","v":""},{"$f":"IF(ISERROR(VLOOKUP($B53*10+$G$2,データ貼付!$B$3:$F$102,5,FALSE)),\"\",VLOOKUP($B53*10+$G$2,データ貼付!$B$3:$F$102,5,FALSE))","v":""},{"$f":"IF(ISERROR(VLOOKUP($B53*10+$H$2,データ貼付!$B$3:$F$102,5,FALSE)),\"\",VLOOKUP($B53*10+$H$2,データ貼付!$B$3:$F$102,5,FALSE))","v":""},{"$f":"IF(ISERROR(VLOOKUP($B53*10+$I$2,データ貼付!$B$3:$F$102,5,FALSE)),\"\",VLOOKUP($B53*10+$I$2,データ貼付!$B$3:$F$102,5,FALSE))","v":""}]
[null,52,{"$f":"VLOOKUP($B54,データ貼付!$A$3:$I$102,4,FALSE)","v":{"$error":"#N/A"}},{"$f":"VLOOKUP($B54,データ貼付!$A$3:$I$102,5,FALSE)","v":{"$error":"#N/A"}},{"$f":"IF(ISERROR(VLOOKUP($B54*10+$E$2,データ貼付!$B$3:$F$102,5,FALSE)),\"\",VLOOKUP($B54*10+$E$2,データ貼付!$B$3:$F$102,5,FALSE))","v":""},{"$f":"IF(ISERROR(VLOOKUP($B54*10+$F$2,データ貼付!$B$3:$F$102,5,FALSE)),\"\",VLOOKUP($B54*10+$F$2,データ貼付!$B$3:$F$102,5,FALSE))","v":""},{"$f":"IF(ISERROR(VLOOKUP($B54*10+$G$2,データ貼付!$B$3:$F$102,5,FALSE)),\"\",VLOOKUP($B54*10+$G$2,データ貼付!$B$3:$F$102,5,FALSE))","v":""},{"$f":"IF(ISERROR(VLOOKUP($B54*10+$H$2,データ貼付!$B$3:$F$102,5,FALSE)),\"\",VLOOKUP($B54*10+$H$2,データ貼付!$B$3:$F$102,5,FALSE))","v":""},{"$f":"IF(ISERROR(VLOOKUP($B54*10+$I$2,データ貼付!$B$3:$F$102,5,FALSE)),\"\",VLOOKUP($B54*10+$I$2,データ貼付!$B$3:$F$102,5,FALSE))","v":""}]
[null,53,{"$f":"VLOOKUP($B55,データ貼付!$A$3:$I$102,4,FALSE)","v":{"$error":"#N/A"}},{"$f":"VLOOKUP($B55,データ貼付!$A$3:$I$102,5,FALSE)","v":{"$error":"#N/A"}},{"$f":"IF(ISERROR(VLOOKUP($B55*10+$E$2,データ貼付!$B$3:$F$102,5,FALSE)),\"\",VLOOKUP($B55*10+$E$2,データ貼付!$B$3:$F$102,5,FALSE))","v":""},{"$f":"IF(ISERROR(VLOOKUP($B55*10+$F$2,データ貼付!$B$3:$F$102,5,FALSE)),\"\",VLOOKUP($B55*10+$F$2,データ貼付!$B$3:$F$102,5,FALSE))","v":""},{"$f":"IF(ISERROR(VLOOKUP($B55*10+$G$2,データ貼付!$B$3:$F$102,5,FALSE)),\"\",VLOOKUP($B55*10+$G$2,データ貼付!$B$3:$F$102,5,FALSE))","v":""},{"$f":"IF(ISERROR(VLOOKUP($B55*10+$H$2,データ貼付!$B$3:$F$102,5,FALSE)),\"\",VLOOKUP($B55*10+$H$2,データ貼付!$B$3:$F$102,5,FALSE))","v":""},{"$f":"IF(ISERROR(VLOOKUP($B55*10+$I$2,データ貼付!$B$3:$F$102,5,FALSE)),\"\",VLOOKUP($B55*10+$I$2,データ貼付!$B$3:$F$102,5,FALSE))","v":""}]
[null,54,{"$f":"VLOOKUP($B56,データ貼付!$A$3:$I$102,4,FALSE)","v":{"$error":"#N/A"}},{"$f":"VLOOKUP($B56,データ貼付!$A$3:$I$102,5,FALSE)","v":{"$error":"#N/A"}},{"$f":"IF(ISERROR(VLOOKUP($B56*10+$E$2,データ貼付!$B$3:$F$102,5,FALSE)),\"\",VLOOKUP($B56*10+$E$2,データ貼付!$B$3:$F$102,5,FALSE))","v":""},{"$f":"IF(ISERROR(VLOOKUP($B56*10+$F$2,データ貼付!$B$3:$F$102,5,FALSE)),\"\",VLOOKUP($B56*10+$F$2,データ貼付!$B$3:$F$102,5,FALSE))","v":""},{"$f":"IF(ISERROR(VLOOKUP($B56*10+$G$2,データ貼付!$B$3:$F$102,5,FALSE)),\"\",VLOOKUP($B56*10+$G$2,データ貼付!$B$3:$F$102,5,FALSE))","v":""},{"$f":"IF(ISERROR(VLOOKUP($B56*10+$H$2,データ貼付!$B$3:$F$102,5,FALSE)),\"\",VLOOKUP($B56*10+$H$2,データ貼付!$B$3:$F$102,5,FALSE))","v":""},{"$f":"IF(ISERROR(VLOOKUP($B56*10+$I$2,データ貼付!$B$3:$F$102,5,FALSE)),\"\",VLOOKUP($B56*10+$I$2,データ貼付!$B$3:$F$102,5,FALSE))","v":""}]
[null,55,{"$f":"VLOOKUP($B57,データ貼付!$A$3:$I$102,4,FALSE)","v":{"$error":"#N/A"}},{"$f":"VLOOKUP($B57,データ貼付!$A$3:$I$102,5,FALSE)","v":{"$error":"#N/A"}},{"$f":"IF(ISERROR(VLOOKUP($B57*10+$E$2,データ貼付!$B$3:$F$102,5,FALSE)),\"\",VLOOKUP($B57*10+$E$2,データ貼付!$B$3:$F$102,5,FALSE))","v":""},{"$f":"IF(ISERROR(VLOOKUP($B57*10+$F$2,データ貼付!$B$3:$F$102,5,FALSE)),\"\",VLOOKUP($B57*10+$F$2,データ貼付!$B$3:$F$102,5,FALSE))","v":""},{"$f":"IF(ISERROR(VLOOKUP($B57*10+$G$2,データ貼付!$B$3:$F$102,5,FALSE)),\"\",VLOOKUP($B57*10+$G$2,データ貼付!$B$3:$F$102,5,FALSE))","v":""},{"$f":"IF(ISERROR(VLOOKUP($B57*10+$H$2,データ貼付!$B$3:$F$102,5,FALSE)),\"\",VLOOKUP($B57*10+$H$2,データ貼付!$B$3:$F$102,5,FALSE))","v":""},{"$f":"IF(ISERROR(VLOOKUP($B57*10+$I$2,データ貼付!$B$3:$F$102,5,FALSE)),\"\",VLOOKUP($B57*10+$I$2,データ貼付!$B$3:$F$102,5,FALSE))","v":""}]
[null,56,{"$f":"VLOOKUP($B58,データ貼付!$A$3:$I$102,4,FALSE)","v":{"$error":"#N/A"}},{"$f":"VLOOKUP($B58,データ貼付!$A$3:$I$102,5,FALSE)","v":{"$error":"#N/A"}},{"$f":"IF(ISERROR(VLOOKUP($B58*10+$E$2,データ貼付!$B$3:$F$102,5,FALSE)),\"\",VLOOKUP($B58*10+$E$2,データ貼付!$B$3:$F$102,5,FALSE))","v":""},{"$f":"IF(ISERROR(VLOOKUP($B58*10+$F$2,データ貼付!$B$3:$F$102,5,FALSE)),\"\",VLOOKUP($B58*10+$F$2,データ貼付!$B$3:$F$102,5,FALSE))","v":""},{"$f":"IF(ISERROR(VLOOKUP($B58*10+$G$2,データ貼付!$B$3:$F$102,5,FALSE)),\"\",VLOOKUP($B58*10+$G$2,データ貼付!$B$3:$F$102,5,FALSE))","v":""},{"$f":"IF(ISERROR(VLOOKUP($B58*10+$H$2,データ貼付!$B$3:$F$102,5,FALSE)),\"\",VLOOKUP($B58*10+$H$2,データ貼付!$B$3:$F$102,5,FALSE))","v":""},{"$f":"IF(ISERROR(VLOOKUP($B58*10+$I$2,データ貼付!$B$3:$F$102,5,FALSE)),\"\",VLOOKUP($B58*10+$I$2,データ貼付!$B$3:$F$102,5,FALSE))","v":""}]
[null,57,{"$f":"VLOOKUP($B59,データ貼付!$A$3:$I$102,4,FALSE)","v":{"$error":"#N/A"}},{"$f":"VLOOKUP($B59,データ貼付!$A$3:$I$102,5,FALSE)","v":{"$error":"#N/A"}},{"$f":"IF(ISERROR(VLOOKUP($B59*10+$E$2,データ貼付!$B$3:$F$102,5,FALSE)),\"\",VLOOKUP($B59*10+$E$2,データ貼付!$B$3:$F$102,5,FALSE))","v":""},{"$f":"IF(ISERROR(VLOOKUP($B59*10+$F$2,データ貼付!$B$3:$F$102,5,FALSE)),\"\",VLOOKUP($B59*10+$F$2,データ貼付!$B$3:$F$102,5,FALSE))","v":""},{"$f":"IF(ISERROR(VLOOKUP($B59*10+$G$2,データ貼付!$B$3:$F$102,5,FALSE)),\"\",VLOOKUP($B59*10+$G$2,データ貼付!$B$3:$F$102,5,FALSE))","v":""},{"$f":"IF(ISERROR(VLOOKUP($B59*10+$H$2,データ貼付!$B$3:$F$102,5,FALSE)),\"\",VLOOKUP($B59*10+$H$2,データ貼付!$B$3:$F$102,5,FALSE))","v":""},{"$f":"IF(ISERROR(VLOOKUP($B59*10+$I$2,データ貼付!$B$3:$F$102,5,FALSE)),\"\",VLOOKUP($B59*10+$I$2,データ貼付!$B$3:$F$102,5,FALSE))","v":""}]
[null,58,{"$f":"VLOOKUP($B60,データ貼付!$A$3:$I$102,4,FALSE)","v":{"$error":"#N/A"}},{"$f":"VLOOKUP($B60,データ貼付!$A$3:$I$102,5,FALSE)","v":{"$error":"#N/A"}},{"$f":"IF(ISERROR(VLOOKUP($B60*10+$E$2,データ貼付!$B$3:$F$102,5,FALSE)),\"\",VLOOKUP($B60*10+$E$2,データ貼付!$B$3:$F$102,5,FALSE))","v":""},{"$f":"IF(ISERROR(VLOOKUP($B60*10+$F$2,データ貼付!$B$3:$F$102,5,FALSE)),\"\",VLOOKUP($B60*10+$F$2,データ貼付!$B$3:$F$102,5,FALSE))","v":""},{"$f":"IF(ISERROR(VLOOKUP($B60*10+$G$2,データ貼付!$B$3:$F$102,5,FALSE)),\"\",VLOOKUP($B60*10+$G$2,データ貼付!$B$3:$F$102,5,FALSE))","v":""},{"$f":"IF(ISERROR(VLOOKUP($B60*10+$H$2,データ貼付!$B$3:$F$102,5,FALSE)),\"\",VLOOKUP($B60*10+$H$2,データ貼付!$B$3:$F$102,5,FALSE))","v":""},{"$f":"IF(ISERROR(VLOOKUP($B60*10+$I$2,データ貼付!$B$3:$F$102,5,FALSE)),\"\",VLOOKUP($B60*10+$I$2,データ貼付!$B$3:$F$102,5,FALSE))","v":""}]
[null,59,{"$f":"VLOOKUP($B61,データ貼付!$A$3:$I$102,4,FALSE)","v":{"$error":"#N/A"}},{"$f":"VLOOKUP($B61,データ貼付!$A$3:$I$102,5,FALSE)","v":{"$error":"#N/A"}},{"$f":"IF(ISERROR(VLOOKUP($B61*10+$E$2,データ貼付!$B$3:$F$102,5,FALSE)),\"\",VLOOKUP($B61*10+$E$2,データ貼付!$B$3:$F$102,5,FALSE))","v":""},{"$f":"IF(ISERROR(VLOOKUP($B61*10+$F$2,データ貼付!$B$3:$F$102,5,FALSE)),\"\",VLOOKUP($B61*10+$F$2,データ貼付!$B$3:$F$102,5,FALSE))","v":""},{"$f":"IF(ISERROR(VLOOKUP($B61*10+$G$2,データ貼付!$B$3:$F$102,5,FALSE)),\"\",VLOOKUP($B61*10+$G$2,データ貼付!$B$3:$F$102,5,FALSE))","v":""},{"$f":"IF(ISERROR(VLOOKUP($B61*10+$H$2,データ貼付!$B$3:$F$102,5,FALSE)),\"\",VLOOKUP($B61*10+$H$2,データ貼付!$B$3:$F$102,5,FALSE))","v":""},{"$f":"IF(ISERROR(VLOOKUP($B61*10+$I$2,データ貼付!$B$3:$F$102,5,FALSE)),\"\",VLOOKUP($B61*10+$I$2,データ貼付!$B$3:$F$102,5,FALSE))","v":""}]
[null,60,{"$f":"VLOOKUP($B62,データ貼付!$A$3:$I$102,4,FALSE)","v":{"$error":"#N/A"}},{"$f":"VLOOKUP($B62,データ貼付!$A$3:$I$102,5,FALSE)","v":{"$error":"#N/A"}},{"$f":"IF(ISERROR(VLOOKUP($B62*10+$E$2,データ貼付!$B$3:$F$102,5,FALSE)),\"\",VLOOKUP($B62*10+$E$2,データ貼付!$B$3:$F$102,5,FALSE))","v":""},{"$f":"IF(ISERROR(VLOOKUP($B62*10+$F$2,データ貼付!$B$3:$F$102,5,FALSE)),\"\",VLOOKUP($B62*10+$F$2,データ貼付!$B$3:$F$102,5,FALSE))","v":""},{"$f":"IF(ISERROR(VLOOKUP($B62*10+$G$2,データ貼付!$B$3:$F$102,5,FALSE)),\"\",VLOOKUP($B62*10+$G$2,データ貼付!$B$3:$F$102,5,FALSE))","v":""},{"$f":"IF(ISERROR(VLOOKUP($B62*10+$H$2,データ貼付!$B$3:$F$102,5,FALSE)),\"\",VLOOKUP($B62*10+$H$2,データ貼付!$B$3:$F$102,5,FALSE))","v":""},{"$f":"IF(ISERROR(VLOOKUP($B62*10+$I$2,データ貼付!$B$3:$F$102,5,FALSE)),\"\",VLOOKUP($B62*10+$I$2,データ貼付!$B$3:$F$102,5,FALSE))","v":""}]
[null,61,{"$f":"VLOOKUP($B63,データ貼付!$A$3:$I$102,4,FALSE)","v":{"$error":"#N/A"}},{"$f":"VLOOKUP($B63,データ貼付!$A$3:$I$102,5,FALSE)","v":{"$error":"#N/A"}},{"$f":"IF(ISERROR(VLOOKUP($B63*10+$E$2,データ貼付!$B$3:$F$102,5,FALSE)),\"\",VLOOKUP($B63*10+$E$2,データ貼付!$B$3:$F$102,5,FALSE))","v":""},{"$f":"IF(ISERROR(VLOOKUP($B63*10+$F$2,データ貼付!$B$3:$F$102,5,FALSE)),\"\",VLOOKUP($B63*10+$F$2,データ貼付!$B$3:$F$102,5,FALSE))","v":""},{"$f":"IF(ISERROR(VLOOKUP($B63*10+$G$2,データ貼付!$B$3:$F$102,5,FALSE)),\"\",VLOOKUP($B63*10+$G$2,データ貼付!$B$3:$F$102,5,FALSE))","v":""},{"$f":"IF(ISERROR(VLOOKUP($B63*10+$H$2,データ貼付!$B$3:$F$102,5,FALSE)),\"\",VLOOKUP($B63*10+$H$2,データ貼付!$B$3:$F$102,5,FALSE))","v":""},{"$f":"IF(ISERROR(VLOOKUP($B63*10+$I$2,データ貼付!$B$3:$F$102,5,FALSE)),\"\",VLOOKUP($B63*10+$I$2,データ貼付!$B$3:$F$102,5,FALSE))","v":""}]
[null,62,{"$f":"VLOOKUP($B64,データ貼付!$A$3:$I$102,4,FALSE)","v":{"$error":"#N/A"}},{"$f":"VLOOKUP($B64,データ貼付!$A$3:$I$102,5,FALSE)","v":{"$error":"#N/A"}},{"$f":"IF(ISERROR(VLOOKUP($B64*10+$E$2,データ貼付!$B$3:$F$102,5,FALSE)),\"\",VLOOKUP($B64*10+$E$2,データ貼付!$B$3:$F$102,5,FALSE))","v":""},{"$f":"IF(ISERROR(VLOOKUP($B64*10+$F$2,データ貼付!$B$3:$F$102,5,FALSE)),\"\",VLOOKUP($B64*10+$F$2,データ貼付!$B$3:$F$102,5,FALSE))","v":""},{"$f":"IF(ISERROR(VLOOKUP($B64*10+$G$2,データ貼付!$B$3:$F$102,5,FALSE)),\"\",VLOOKUP($B64*10+$G$2,データ貼付!$B$3:$F$102,5,FALSE))","v":""},{"$f":"IF(ISERROR(VLOOKUP($B64*10+$H$2,データ貼付!$B$3:$F$102,5,FALSE)),\"\",VLOOKUP($B64*10+$H$2,データ貼付!$B$3:$F$102,5,FALSE))","v":""},{"$f":"IF(ISERROR(VLOOKUP($B64*10+$I$2,データ貼付!$B$3:$F$102,5,FALSE)),\"\",VLOOKUP($B64*10+$I$2,データ貼付!$B$3:$F$102,5,FALSE))","v":""}]
[null,63,{"$f":"VLOOKUP($B65,データ貼付!$A$3:$I$102,4,FALSE)","v":{"$error":"#N/A"}},{"$f":"VLOOKUP($B65,データ貼付!$A$3:$I$102,5,FALSE)","v":{"$error":"#N/A"}},{"$f":"IF(ISERROR(VLOOKUP($B65*10+$E$2,データ貼付!$B$3:$F$102,5,FALSE)),\"\",VLOOKUP($B65*10+$E$2,データ貼付!$B$3:$F$102,5,FALSE))","v":""},{"$f":"IF(ISERROR(VLOOKUP($B65*10+$F$2,データ貼付!$B$3:$F$102,5,FALSE)),\"\",VLOOKUP($B65*10+$F$2,データ貼付!$B$3:$F$102,5,FALSE))","v":""},{"$f":"IF(ISERROR(VLOOKUP($B65*10+$G$2,データ貼付!$B$3:$F$102,5,FALSE)),\"\",VLOOKUP($B65*10+$G$2,データ貼付!$B$3:$F$102,5,FALSE))","v":""},{"$f":"IF(ISERROR(VLOOKUP($B65*10+$H$2,データ貼付!$B$3:$F$102,5,FALSE)),\"\",VLOOKUP($B65*10+$H$2,データ貼付!$B$3:$F$102,5,FALSE))","v":""},{"$f":"IF(ISERROR(VLOOKUP($B65*10+$I$2,データ貼付!$B$3:$F$102,5,FALSE)),\"\",VLOOKUP($B65*10+$I$2,データ貼付!$B$3:$F$102,5,FALSE))","v":""}]
[null,64,{"$f":"VLOOKUP($B66,データ貼付!$A$3:$I$102,4,FALSE)","v":{"$error":"#N/A"}},{"$f":"VLOOKUP($B66,データ貼付!$A$3:$I$102,5,FALSE)","v":{"$error":"#N/A"}},{"$f":"IF(ISERROR(VLOOKUP($B66*10+$E$2,データ貼付!$B$3:$F$102,5,FALSE)),\"\",VLOOKUP($B66*10+$E$2,データ貼付!$B$3:$F$102,5,FALSE))","v":""},{"$f":"IF(ISERROR(VLOOKUP($B66*10+$F$2,データ貼付!$B$3:$F$102,5,FALSE)),\"\",VLOOKUP($B66*10+$F$2,データ貼付!$B$3:$F$102,5,FALSE))","v":""},{"$f":"IF(ISERROR(VLOOKUP($B66*10+$G$2,データ貼付!$B$3:$F$102,5,FALSE)),\"\",VLOOKUP($B66*10+$G$2,データ貼付!$B$3:$F$102,5,FALSE))","v":""},{"$f":"IF(ISERROR(VLOOKUP($B66*10+$H$2,データ貼付!$B$3:$F$102,5,FALSE)),\"\",VLOOKUP($B66*10+$H$2,データ貼付!$B$3:$F$102,5,FALSE))","v":""},{"$f":"IF(ISERROR(VLOOKUP($B66*10+$I$2,データ貼付!$B$3:$F$102,5,FALSE)),\"\",VLOOKUP($B66*10+$I$2,データ貼付!$B$3:$F$102,5,FALSE))","v":""}]
[null,65,{"$f":"VLOOKUP($B67,データ貼付!$A$3:$I$102,4,FALSE)","v":{"$error":"#N/A"}},{"$f":"VLOOKUP($B67,データ貼付!$A$3:$I$102,5,FALSE)","v":{"$error":"#N/A"}},{"$f":"IF(ISERROR(VLOOKUP($B67*10+$E$2,データ貼付!$B$3:$F$102,5,FALSE)),\"\",VLOOKUP($B67*10+$E$2,データ貼付!$B$3:$F$102,5,FALSE))","v":""},{"$f":"IF(ISERROR(VLOOKUP($B67*10+$F$2,データ貼付!$B$3:$F$102,5,FALSE)),\"\",VLOOKUP($B67*10+$F$2,データ貼付!$B$3:$F$102,5,FALSE))","v":""},{"$f":"IF(ISERROR(VLOOKUP($B67*10+$G$2,データ貼付!$B$3:$F$102,5,FALSE)),\"\",VLOOKUP($B67*10+$G$2,データ貼付!$B$3:$F$102,5,FALSE))","v":""},{"$f":"IF(ISERROR(VLOOKUP($B67*10+$H$2,データ貼付!$B$3:$F$102,5,FALSE)),\"\",VLOOKUP($B67*10+$H$2,データ貼付!$B$3:$F$102,5,FALSE))","v":""},{"$f":"IF(ISERROR(VLOOKUP($B67*10+$I$2,データ貼付!$B$3:$F$102,5,FALSE)),\"\",VLOOKUP($B67*10+$I$2,データ貼付!$B$3:$F$102,5,FALSE))","v":""}]
[null,66,{"$f":"VLOOKUP($B68,データ貼付!$A$3:$I$102,4,FALSE)","v":{"$error":"#N/A"}},{"$f":"VLOOKUP($B68,データ貼付!$A$3:$I$102,5,FALSE)","v":{"$error":"#N/A"}},{"$f":"IF(ISERROR(VLOOKUP($B68*10+$E$2,データ貼付!$B$3:$F$102,5,FALSE)),\"\",VLOOKUP($B68*10+$E$2,データ貼付!$B$3:$F$102,5,FALSE))","v":""},{"$f":"IF(ISERROR(VLOOKUP($B68*10+$F$2,データ貼付!$B$3:$F$102,5,FALSE)),\"\",VLOOKUP($B68*10+$F$2,データ貼付!$B$3:$F$102,5,FALSE))","v":""},{"$f":"IF(ISERROR(VLOOKUP($B68*10+$G$2,データ貼付!$B$3:$F$102,5,FALSE)),\"\",VLOOKUP($B68*10+$G$2,データ貼付!$B$3:$F$102,5,FALSE))","v":""},{"$f":"IF(ISERROR(VLOOKUP($B68*10+$H$2,データ貼付!$B$3:$F$102,5,FALSE)),\"\",VLOOKUP($B68*10+$H$2,データ貼付!$B$3:$F$102,5,FALSE))","v":""},{"$f":"IF(ISERROR(VLOOKUP($B68*10+$I$2,データ貼付!$B$3:$F$102,5,FALSE)),\"\",VLOOKUP($B68*10+$I$2,データ貼付!$B$3:$F$102,5,FALSE))","v":""}]
[null,67,{"$f":"VLOOKUP($B69,データ貼付!$A$3:$I$102,4,FALSE)","v":{"$error":"#N/A"}},{"$f":"VLOOKUP($B69,データ貼付!$A$3:$I$102,5,FALSE)","v":{"$error":"#N/A"}},{"$f":"IF(ISERROR(VLOOKUP($B69*10+$E$2,データ貼付!$B$3:$F$102,5,FALSE)),\"\",VLOOKUP($B69*10+$E$2,データ貼付!$B$3:$F$102,5,FALSE))","v":""},{"$f":"IF(ISERROR(VLOOKUP($B69*10+$F$2,データ貼付!$B$3:$F$102,5,FALSE)),\"\",VLOOKUP($B69*10+$F$2,データ貼付!$B$3:$F$102,5,FALSE))","v":""},{"$f":"IF(ISERROR(VLOOKUP($B69*10+$G$2,データ貼付!$B$3:$F$102,5,FALSE)),\"\",VLOOKUP($B69*10+$G$2,データ貼付!$B$3:$F$102,5,FALSE))","v":""},{"$f":"IF(ISERROR(VLOOKUP($B69*10+$H$2,データ貼付!$B$3:$F$102,5,FALSE)),\"\",VLOOKUP($B69*10+$H$2,データ貼付!$B$3:$F$102,5,FALSE))","v":""},{"$f":"IF(ISERROR(VLOOKUP($B69*10+$I$2,データ貼付!$B$3:$F$102,5,FALSE)),\"\",VLOOKUP($B69*10+$I$2,データ貼付!$B$3:$F$102,5,FALSE))","v":""}]
[null,68,{"$f":"VLOOKUP($B70,データ貼付!$A$3:$I$102,4,FALSE)","v":{"$error":"#N/A"}},{"$f":"VLOOKUP($B70,データ貼付!$A$3:$I$102,5,FALSE)","v":{"$error":"#N/A"}},{"$f":"IF(ISERROR(VLOOKUP($B70*10+$E$2,データ貼付!$B$3:$F$102,5,FALSE)),\"\",VLOOKUP($B70*10+$E$2,データ貼付!$B$3:$F$102,5,FALSE))","v":""},{"$f":"IF(ISERROR(VLOOKUP($B70*10+$F$2,データ貼付!$B$3:$F$102,5,FALSE)),\"\",VLOOKUP($B70*10+$F$2,データ貼付!$B$3:$F$102,5,FALSE))","v":""},{"$f":"IF(ISERROR(VLOOKUP($B70*10+$G$2,データ貼付!$B$3:$F$102,5,FALSE)),\"\",VLOOKUP($B70*10+$G$2,データ貼付!$B$3:$F$102,5,FALSE))","v":""},{"$f":"IF(ISERROR(VLOOKUP($B70*10+$H$2,データ貼付!$B$3:$F$102,5,FALSE)),\"\",VLOOKUP($B70*10+$H$2,データ貼付!$B$3:$F$102,5,FALSE))","v":""},{"$f":"IF(ISERROR(VLOOKUP($B70*10+$I$2,データ貼付!$B$3:$F$102,5,FALSE)),\"\",VLOOKUP($B70*10+$I$2,データ貼付!$B$3:$F$102,5,FALSE))","v":""}]
[null,69,{"$f":"VLOOKUP($B71,データ貼付!$A$3:$I$102,4,FALSE)","v":{"$error":"#N/A"}},{"$f":"VLOOKUP($B71,データ貼付!$A$3:$I$102,5,FALSE)","v":{"$error":"#N/A"}},{"$f":"IF(ISERROR(VLOOKUP($B71*10+$E$2,データ貼付!$B$3:$F$102,5,FALSE)),\"\",VLOOKUP($B71*10+$E$2,データ貼付!$B$3:$F$102,5,FALSE))","v":""},{"$f":"IF(ISERROR(VLOOKUP($B71*10+$F$2,データ貼付!$B$3:$F$102,5,FALSE)),\"\",VLOOKUP($B71*10+$F$2,データ貼付!$B$3:$F$102,5,FALSE))","v":""},{"$f":"IF(ISERROR(VLOOKUP($B71*10+$G$2,データ貼付!$B$3:$F$102,5,FALSE)),\"\",VLOOKUP($B71*10+$G$2,データ貼付!$B$3:$F$102,5,FALSE))","v":""},{"$f":"IF(ISERROR(VLOOKUP($B71*10+$H$2,データ貼付!$B$3:$F$102,5,FALSE)),\"\",VLOOKUP($B71*10+$H$2,データ貼付!$B$3:$F$102,5,FALSE))","v":""},{"$f":"IF(ISERROR(VLOOKUP($B71*10+$I$2,データ貼付!$B$3:$F$102,5,FALSE)),\"\",VLOOKUP($B71*10+$I$2,データ貼付!$B$3:$F$102,5,FALSE))","v":""}]
[null,70,{"$f":"VLOOKUP($B72,データ貼付!$A$3:$I$102,4,FALSE)","v":{"$error":"#N/A"}},{"$f":"VLOOKUP($B72,データ貼付!$A$3:$I$102,5,FALSE)","v":{"$error":"#N/A"}},{"$f":"IF(ISERROR(VLOOKUP($B72*10+$E$2,データ貼付!$B$3:$F$102,5,FALSE)),\"\",VLOOKUP($B72*10+$E$2,データ貼付!$B$3:$F$102,5,FALSE))","v":""},{"$f":"IF(ISERROR(VLOOKUP($B72*10+$F$2,データ貼付!$B$3:$F$102,5,FALSE)),\"\",VLOOKUP($B72*10+$F$2,データ貼付!$B$3:$F$102,5,FALSE))","v":""},{"$f":"IF(ISERROR(VLOOKUP($B72*10+$G$2,データ貼付!$B$3:$F$102,5,FALSE)),\"\",VLOOKUP($B72*10+$G$2,データ貼付!$B$3:$F$102,5,FALSE))","v":""},{"$f":"IF(ISERROR(VLOOKUP($B72*10+$H$2,データ貼付!$B$3:$F$102,5,FALSE)),\"\",VLOOKUP($B72*10+$H$2,データ貼付!$B$3:$F$102,5,FALSE))","v":""},{"$f":"IF(ISERROR(VLOOKUP($B72*10+$I$2,データ貼付!$B$3:$F$102,5,FALSE)),\"\",VLOOKUP($B72*10+$I$2,データ貼付!$B$3:$F$102,5,FALSE))","v":""}]
[null,71,{"$f":"VLOOKUP($B73,データ貼付!$A$3:$I$102,4,FALSE)","v":{"$error":"#N/A"}},{"$f":"VLOOKUP($B73,データ貼付!$A$3:$I$102,5,FALSE)","v":{"$error":"#N/A"}},{"$f":"IF(ISERROR(VLOOKUP($B73*10+$E$2,データ貼付!$B$3:$F$102,5,FALSE)),\"\",VLOOKUP($B73*10+$E$2,データ貼付!$B$3:$F$102,5,FALSE))","v":""},{"$f":"IF(ISERROR(VLOOKUP($B73*10+$F$2,データ貼付!$B$3:$F$102,5,FALSE)),\"\",VLOOKUP($B73*10+$F$2,データ貼付!$B$3:$F$102,5,FALSE))","v":""},{"$f":"IF(ISERROR(VLOOKUP($B73*10+$G$2,データ貼付!$B$3:$F$102,5,FALSE)),\"\",VLOOKUP($B73*10+$G$2,データ貼付!$B$3:$F$102,5,FALSE))","v":""},{"$f":"IF(ISERROR(VLOOKUP($B73*10+$H$2,データ貼付!$B$3:$F$102,5,FALSE)),\"\",VLOOKUP($B73*10+$H$2,データ貼付!$B$3:$F$102,5,FALSE))","v":""},{"$f":"IF(ISERROR(VLOOKUP($B73*10+$I$2,データ貼付!$B$3:$F$102,5,FALSE)),\"\",VLOOKUP($B73*10+$I$2,データ貼付!$B$3:$F$102,5,FALSE))","v":""}]
[null,72,{"$f":"VLOOKUP($B74,データ貼付!$A$3:$I$102,4,FALSE)","v":{"$error":"#N/A"}},{"$f":"VLOOKUP($B74,データ貼付!$A$3:$I$102,5,FALSE)","v":{"$error":"#N/A"}},{"$f":"IF(ISERROR(VLOOKUP($B74*10+$E$2,データ貼付!$B$3:$F$102,5,FALSE)),\"\",VLOOKUP($B74*10+$E$2,データ貼付!$B$3:$F$102,5,FALSE))","v":""},{"$f":"IF(ISERROR(VLOOKUP($B74*10+$F$2,データ貼付!$B$3:$F$102,5,FALSE)),\"\",VLOOKUP($B74*10+$F$2,データ貼付!$B$3:$F$102,5,FALSE))","v":""},{"$f":"IF(ISERROR(VLOOKUP($B74*10+$G$2,データ貼付!$B$3:$F$102,5,FALSE)),\"\",VLOOKUP($B74*10+$G$2,データ貼付!$B$3:$F$102,5,FALSE))","v":""},{"$f":"IF(ISERROR(VLOOKUP($B74*10+$H$2,データ貼付!$B$3:$F$102,5,FALSE)),\"\",VLOOKUP($B74*10+$H$2,データ貼付!$B$3:$F$102,5,FALSE))","v":""},{"$f":"IF(ISERROR(VLOOKUP($B74*10+$I$2,データ貼付!$B$3:$F$102,5,FALSE)),\"\",VLOOKUP($B74*10+$I$2,データ貼付!$B$3:$F$102,5,FALSE))","v":""}]
[null,73,{"$f":"VLOOKUP($B75,データ貼付!$A$3:$I$102,4,FALSE)","v":{"$error":"#N/A"}},{"$f":"VLOOKUP($B75,データ貼付!$A$3:$I$102,5,FALSE)","v":{"$error":"#N/A"}},{"$f":"IF(ISERROR(VLOOKUP($B75*10+$E$2,データ貼付!$B$3:$F$102,5,FALSE)),\"\",VLOOKUP($B75*10+$E$2,データ貼付!$B$3:$F$102,5,FALSE))","v":""},{"$f":"IF(ISERROR(VLOOKUP($B75*10+$F$2,データ貼付!$B$3:$F$102,5,FALSE)),\"\",VLOOKUP($B75*10+$F$2,データ貼付!$B$3:$F$102,5,FALSE))","v":""},{"$f":"IF(ISERROR(VLOOKUP($B75*10+$G$2,データ貼付!$B$3:$F$102,5,FALSE)),\"\",VLOOKUP($B75*10+$G$2,データ貼付!$B$3:$F$102,5,FALSE))","v":""},{"$f":"IF(ISERROR(VLOOKUP($B75*10+$H$2,データ貼付!$B$3:$F$102,5,FALSE)),\"\",VLOOKUP($B75*10+$H$2,データ貼付!$B$3:$F$102,5,FALSE))","v":""},{"$f":"IF(ISERROR(VLOOKUP($B75*10+$I$2,データ貼付!$B$3:$F$102,5,FALSE)),\"\",VLOOKUP($B75*10+$I$2,データ貼付!$B$3:$F$102,5,FALSE))","v":""}]
[null,74,{"$f":"VLOOKUP($B76,データ貼付!$A$3:$I$102,4,FALSE)","v":{"$error":"#N/A"}},{"$f":"VLOOKUP($B76,データ貼付!$A$3:$I$102,5,FALSE)","v":{"$error":"#N/A"}},{"$f":"IF(ISERROR(VLOOKUP($B76*10+$E$2,データ貼付!$B$3:$F$102,5,FALSE)),\"\",VLOOKUP($B76*10+$E$2,データ貼付!$B$3:$F$102,5,FALSE))","v":""},{"$f":"IF(ISERROR(VLOOKUP($B76*10+$F$2,データ貼付!$B$3:$F$102,5,FALSE)),\"\",VLOOKUP($B76*10+$F$2,データ貼付!$B$3:$F$102,5,FALSE))","v":""},{"$f":"IF(ISERROR(VLOOKUP($B76*10+$G$2,データ貼付!$B$3:$F$102,5,FALSE)),\"\",VLOOKUP($B76*10+$G$2,データ貼付!$B$3:$F$102,5,FALSE))","v":""},{"$f":"IF(ISERROR(VLOOKUP($B76*10+$H$2,データ貼付!$B$3:$F$102,5,FALSE)),\"\",VLOOKUP($B76*10+$H$2,データ貼付!$B$3:$F$102,5,FALSE))","v":""},{"$f":"IF(ISERROR(VLOOKUP($B76*10+$I$2,データ貼付!$B$3:$F$102,5,FALSE)),\"\",VLOOKUP($B76*10+$I$2,データ貼付!$B$3:$F$102,5,FALSE))","v":""}]
[null,75,{"$f":"VLOOKUP($B77,データ貼付!$A$3:$I$102,4,FALSE)","v":{"$error":"#N/A"}},{"$f":"VLOOKUP($B77,データ貼付!$A$3:$I$102,5,FALSE)","v":{"$error":"#N/A"}},{"$f":"IF(ISERROR(VLOOKUP($B77*10+$E$2,データ貼付!$B$3:$F$102,5,FALSE)),\"\",VLOOKUP($B77*10+$E$2,データ貼付!$B$3:$F$102,5,FALSE))","v":""},{"$f":"IF(ISERROR(VLOOKUP($B77*10+$F$2,データ貼付!$B$3:$F$102,5,FALSE)),\"\",VLOOKUP($B77*10+$F$2,データ貼付!$B$3:$F$102,5,FALSE))","v":""},{"$f":"IF(ISERROR(VLOOKUP($B77*10+$G$2,データ貼付!$B$3:$F$102,5,FALSE)),\"\",VLOOKUP($B77*10+$G$2,データ貼付!$B$3:$F$102,5,FALSE))","v":""},{"$f":"IF(ISERROR(VLOOKUP($B77*10+$H$2,データ貼付!$B$3:$F$102,5,FALSE)),\"\",VLOOKUP($B77*10+$H$2,データ貼付!$B$3:$F$102,5,FALSE))","v":""},{"$f":"IF(ISERROR(VLOOKUP($B77*10+$I$2,データ貼付!$B$3:$F$102,5,FALSE)),\"\",VLOOKUP($B77*10+$I$2,データ貼付!$B$3:$F$102,5,FALSE))","v":""}]
[null,76,{"$f":"VLOOKUP($B78,データ貼付!$A$3:$I$102,4,FALSE)","v":{"$error":"#N/A"}},{"$f":"VLOOKUP($B78,データ貼付!$A$3:$I$102,5,FALSE)","v":{"$error":"#N/A"}},{"$f":"IF(ISERROR(VLOOKUP($B78*10+$E$2,データ貼付!$B$3:$F$102,5,FALSE)),\"\",VLOOKUP($B78*10+$E$2,データ貼付!$B$3:$F$102,5,FALSE))","v":""},{"$f":"IF(ISERROR(VLOOKUP($B78*10+$F$2,データ貼付!$B$3:$F$102,5,FALSE)),\"\",VLOOKUP($B78*10+$F$2,データ貼付!$B$3:$F$102,5,FALSE))","v":""},{"$f":"IF(ISERROR(VLOOKUP($B78*10+$G$2,データ貼付!$B$3:$F$102,5,FALSE)),\"\",VLOOKUP($B78*10+$G$2,データ貼付!$B$3:$F$102,5,FALSE))","v":""},{"$f":"IF(ISERROR(VLOOKUP($B78*10+$H$2,データ貼付!$B$3:$F$102,5,FALSE)),\"\",VLOOKUP($B78*10+$H$2,データ貼付!$B$3:$F$102,5,FALSE))","v":""},{"$f":"IF(ISERROR(VLOOKUP($B78*10+$I$2,データ貼付!$B$3:$F$102,5,FALSE)),\"\",VLOOKUP($B78*10+$I$2,データ貼付!$B$3:$F$102,5,FALSE))","v":""}]
[null,77,{"$f":"VLOOKUP($B79,データ貼付!$A$3:$I$102,4,FALSE)","v":{"$error":"#N/A"}},{"$f":"VLOOKUP($B79,データ貼付!$A$3:$I$102,5,FALSE)","v":{"$error":"#N/A"}},{"$f":"IF(ISERROR(VLOOKUP($B79*10+$E$2,データ貼付!$B$3:$F$102,5,FALSE)),\"\",VLOOKUP($B79*10+$E$2,データ貼付!$B$3:$F$102,5,FALSE))","v":""},{"$f":"IF(ISERROR(VLOOKUP($B79*10+$F$2,データ貼付!$B$3:$F$102,5,FALSE)),\"\",VLOOKUP($B79*10+$F$2,データ貼付!$B$3:$F$102,5,FALSE))","v":""},{"$f":"IF(ISERROR(VLOOKUP($B79*10+$G$2,データ貼付!$B$3:$F$102,5,FALSE)),\"\",VLOOKUP($B79*10+$G$2,データ貼付!$B$3:$F$102,5,FALSE))","v":""},{"$f":"IF(ISERROR(VLOOKUP($B79*10+$H$2,データ貼付!$B$3:$F$102,5,FALSE)),\"\",VLOOKUP($B79*10+$H$2,データ貼付!$B$3:$F$102,5,FALSE))","v":""},{"$f":"IF(ISERROR(VLOOKUP($B79*10+$I$2,データ貼付!$B$3:$F$102,5,FALSE)),\"\",VLOOKUP($B79*10+$I$2,データ貼付!$B$3:$F$102,5,FALSE))","v":""}]
[null,78,{"$f":"VLOOKUP($B80,データ貼付!$A$3:$I$102,4,FALSE)","v":{"$error":"#N/A"}},{"$f":"VLOOKUP($B80,データ貼付!$A$3:$I$102,5,FALSE)","v":{"$error":"#N/A"}},{"$f":"IF(ISERROR(VLOOKUP($B80*10+$E$2,データ貼付!$B$3:$F$102,5,FALSE)),\"\",VLOOKUP($B80*10+$E$2,データ貼付!$B$3:$F$102,5,FALSE))","v":""},{"$f":"IF(ISERROR(VLOOKUP($B80*10+$F$2,データ貼付!$B$3:$F$102,5,FALSE)),\"\",VLOOKUP($B80*10+$F$2,データ貼付!$B$3:$F$102,5,FALSE))","v":""},{"$f":"IF(ISERROR(VLOOKUP($B80*10+$G$2,データ貼付!$B$3:$F$102,5,FALSE)),\"\",VLOOKUP($B80*10+$G$2,データ貼付!$B$3:$F$102,5,FALSE))","v":""},{"$f":"IF(ISERROR(VLOOKUP($B80*10+$H$2,データ貼付!$B$3:$F$102,5,FALSE)),\"\",VLOOKUP($B80*10+$H$2,データ貼付!$B$3:$F$102,5,FALSE))","v":""},{"$f":"IF(ISERROR(VLOOKUP($B80*10+$I$2,データ貼付!$B$3:$F$102,5,FALSE)),\"\",VLOOKUP($B80*10+$I$2,データ貼付!$B$3:$F$102,5,FALSE))","v":""}]
[null,79,{"$f":"VLOOKUP($B81,データ貼付!$A$3:$I$102,4,FALSE)","v":{"$error":"#N/A"}},{"$f":"VLOOKUP($B81,データ貼付!$A$3:$I$102,5,FALSE)","v":{"$error":"#N/A"}},{"$f":"IF(ISERROR(VLOOKUP($B81*10+$E$2,データ貼付!$B$3:$F$102,5,FALSE)),\"\",VLOOKUP($B81*10+$E$2,データ貼付!$B$3:$F$102,5,FALSE))","v":""},{"$f":"IF(ISERROR(VLOOKUP($B81*10+$F$2,データ貼付!$B$3:$F$102,5,FALSE)),\"\",VLOOKUP($B81*10+$F$2,データ貼付!$B$3:$F$102,5,FALSE))","v":""},{"$f":"IF(ISERROR(VLOOKUP($B81*10+$G$2,データ貼付!$B$3:$F$102,5,FALSE)),\"\",VLOOKUP($B81*10+$G$2,データ貼付!$B$3:$F$102,5,FALSE))","v":""},{"$f":"IF(ISERROR(VLOOKUP($B81*10+$H$2,データ貼付!$B$3:$F$102,5,FALSE)),\"\",VLOOKUP($B81*10+$H$2,データ貼付!$B$3:$F$102,5,FALSE))","v":""},{"$f":"IF(ISERROR(VLOOKUP($B81*10+$I$2,データ貼付!$B$3:$F$102,5,FALSE)),\"\",VLOOKUP($B81*10+$I$2,データ貼付!$B$3:$F$102,5,FALSE))","v":""}]
[null,80,{"$f":"VLOOKUP($B82,データ貼付!$A$3:$I$102,4,FALSE)","v":{"$error":"#N/A"}},{"$f":"VLOOKUP($B82,データ貼付!$A$3:$I$102,5,FALSE)","v":{"$error":"#N/A"}},{"$f":"IF(ISERROR(VLOOKUP($B82*10+$E$2,データ貼付!$B$3:$F$102,5,FALSE)),\"\",VLOOKUP($B82*10+$E$2,データ貼付!$B$3:$F$102,5,FALSE))","v":""},{"$f":"IF(ISERROR(VLOOKUP($B82*10+$F$2,データ貼付!$B$3:$F$102,5,FALSE)),\"\",VLOOKUP($B82*10+$F$2,データ貼付!$B$3:$F$102,5,FALSE))","v":""},{"$f":"IF(ISERROR(VLOOKUP($B82*10+$G$2,データ貼付!$B$3:$F$102,5,FALSE)),\"\",VLOOKUP($B82*10+$G$2,データ貼付!$B$3:$F$102,5,FALSE))","v":""},{"$f":"IF(ISERROR(VLOOKUP($B82*10+$H$2,データ貼付!$B$3:$F$102,5,FALSE)),\"\",VLOOKUP($B82*10+$H$2,データ貼付!$B$3:$F$102,5,FALSE))","v":""},{"$f":"IF(ISERROR(VLOOKUP($B82*10+$I$2,データ貼付!$B$3:$F$102,5,FALSE)),\"\",VLOOKUP($B82*10+$I$2,データ貼付!$B$3:$F$102,5,FALSE))","v":""}]
[null,81,{"$f":"VLOOKUP($B83,データ貼付!$A$3:$I$102,4,FALSE)","v":{"$error":"#N/A"}},{"$f":"VLOOKUP($B83,データ貼付!$A$3:$I$102,5,FALSE)","v":{"$error":"#N/A"}},{"$f":"IF(ISERROR(VLOOKUP($B83*10+$E$2,データ貼付!$B$3:$F$102,5,FALSE)),\"\",VLOOKUP($B83*10+$E$2,データ貼付!$B$3:$F$102,5,FALSE))","v":""},{"$f":"IF(ISERROR(VLOOKUP($B83*10+$F$2,データ貼付!$B$3:$F$102,5,FALSE)),\"\",VLOOKUP($B83*10+$F$2,データ貼付!$B$3:$F$102,5,FALSE))","v":""},{"$f":"IF(ISERROR(VLOOKUP($B83*10+$G$2,データ貼付!$B$3:$F$102,5,FALSE)),\"\",VLOOKUP($B83*10+$G$2,データ貼付!$B$3:$F$102,5,FALSE))","v":""},{"$f":"IF(ISERROR(VLOOKUP($B83*10+$H$2,データ貼付!$B$3:$F$102,5,FALSE)),\"\",VLOOKUP($B83*10+$H$2,データ貼付!$B$3:$F$102,5,FALSE))","v":""},{"$f":"IF(ISERROR(VLOOKUP($B83*10+$I$2,データ貼付!$B$3:$F$102,5,FALSE)),\"\",VLOOKUP($B83*10+$I$2,データ貼付!$B$3:$F$102,5,FALSE))","v":""}]
[null,82,{"$f":"VLOOKUP($B84,データ貼付!$A$3:$I$102,4,FALSE)","v":{"$error":"#N/A"}},{"$f":"VLOOKUP($B84,データ貼付!$A$3:$I$102,5,FALSE)","v":{"$error":"#N/A"}},{"$f":"IF(ISERROR(VLOOKUP($B84*10+$E$2,データ貼付!$B$3:$F$102,5,FALSE)),\"\",VLOOKUP($B84*10+$E$2,データ貼付!$B$3:$F$102,5,FALSE))","v":""},{"$f":"IF(ISERROR(VLOOKUP($B84*10+$F$2,データ貼付!$B$3:$F$102,5,FALSE)),\"\",VLOOKUP($B84*10+$F$2,データ貼付!$B$3:$F$102,5,FALSE))","v":""},{"$f":"IF(ISERROR(VLOOKUP($B84*10+$G$2,データ貼付!$B$3:$F$102,5,FALSE)),\"\",VLOOKUP($B84*10+$G$2,データ貼付!$B$3:$F$102,5,FALSE))","v":""},{"$f":"IF(ISERROR(VLOOKUP($B84*10+$H$2,データ貼付!$B$3:$F$102,5,FALSE)),\"\",VLOOKUP($B84*10+$H$2,データ貼付!$B$3:$F$102,5,FALSE))","v":""},{"$f":"IF(ISERROR(VLOOKUP($B84*10+$I$2,データ貼付!$B$3:$F$102,5,FALSE)),\"\",VLOOKUP($B84*10+$I$2,データ貼付!$B$3:$F$102,5,FALSE))","v":""}]
[null,83,{"$f":"VLOOKUP($B85,データ貼付!$A$3:$I$102,4,FALSE)","v":{"$error":"#N/A"}},{"$f":"VLOOKUP($B85,データ貼付!$A$3:$I$102,5,FALSE)","v":{"$error":"#N/A"}},{"$f":"IF(ISERROR(VLOOKUP($B85*10+$E$2,データ貼付!$B$3:$F$102,5,FALSE)),\"\",VLOOKUP($B85*10+$E$2,データ貼付!$B$3:$F$102,5,FALSE))","v":""},{"$f":"IF(ISERROR(VLOOKUP($B85*10+$F$2,データ貼付!$B$3:$F$102,5,FALSE)),\"\",VLOOKUP($B85*10+$F$2,データ貼付!$B$3:$F$102,5,FALSE))","v":""},{"$f":"IF(ISERROR(VLOOKUP($B85*10+$G$2,データ貼付!$B$3:$F$102,5,FALSE)),\"\",VLOOKUP($B85*10+$G$2,データ貼付!$B$3:$F$102,5,FALSE))","v":""},{"$f":"IF(ISERROR(VLOOKUP($B85*10+$H$2,データ貼付!$B$3:$F$102,5,FALSE)),\"\",VLOOKUP($B85*10+$H$2,データ貼付!$B$3:$F$102,5,FALSE))","v":""},{"$f":"IF(ISERROR(VLOOKUP($B85*10+$I$2,データ貼付!$B$3:$F$102,5,FALSE)),\"\",VLOOKUP($B85*10+$I$2,データ貼付!$B$3:$F$102,5,FALSE))","v":""}]
[null,84,{"$f":"VLOOKUP($B86,データ貼付!$A$3:$I$102,4,FALSE)","v":{"$error":"#N/A"}},{"$f":"VLOOKUP($B86,データ貼付!$A$3:$I$102,5,FALSE)","v":{"$error":"#N/A"}},{"$f":"IF(ISERROR(VLOOKUP($B86*10+$E$2,データ貼付!$B$3:$F$102,5,FALSE)),\"\",VLOOKUP($B86*10+$E$2,データ貼付!$B$3:$F$102,5,FALSE))","v":""},{"$f":"IF(ISERROR(VLOOKUP($B86*10+$F$2,データ貼付!$B$3:$F$102,5,FALSE)),\"\",VLOOKUP($B86*10+$F$2,データ貼付!$B$3:$F$102,5,FALSE))","v":""},{"$f":"IF(ISERROR(VLOOKUP($B86*10+$G$2,データ貼付!$B$3:$F$102,5,FALSE)),\"\",VLOOKUP($B86*10+$G$2,データ貼付!$B$3:$F$102,5,FALSE))","v":""},{"$f":"IF(ISERROR(VLOOKUP($B86*10+$H$2,データ貼付!$B$3:$F$102,5,FALSE)),\"\",VLOOKUP($B86*10+$H$2,データ貼付!$B$3:$F$102,5,FALSE))","v":""},{"$f":"IF(ISERROR(VLOOKUP($B86*10+$I$2,データ貼付!$B$3:$F$102,5,FALSE)),\"\",VLOOKUP($B86*10+$I$2,データ貼付!$B$3:$F$102,5,FALSE))","v":""}]
[null,85,{"$f":"VLOOKUP($B87,データ貼付!$A$3:$I$102,4,FALSE)","v":{"$error":"#N/A"}},{"$f":"VLOOKUP($B87,データ貼付!$A$3:$I$102,5,FALSE)","v":{"$error":"#N/A"}},{"$f":"IF(ISERROR(VLOOKUP($B87*10+$E$2,データ貼付!$B$3:$F$102,5,FALSE)),\"\",VLOOKUP($B87*10+$E$2,データ貼付!$B$3:$F$102,5,FALSE))","v":""},{"$f":"IF(ISERROR(VLOOKUP($B87*10+$F$2,データ貼付!$B$3:$F$102,5,FALSE)),\"\",VLOOKUP($B87*10+$F$2,データ貼付!$B$3:$F$102,5,FALSE))","v":""},{"$f":"IF(ISERROR(VLOOKUP($B87*10+$G$2,データ貼付!$B$3:$F$102,5,FALSE)),\"\",VLOOKUP($B87*10+$G$2,データ貼付!$B$3:$F$102,5,FALSE))","v":""},{"$f":"IF(ISERROR(VLOOKUP($B87*10+$H$2,データ貼付!$B$3:$F$102,5,FALSE)),\"\",VLOOKUP($B87*10+$H$2,データ貼付!$B$3:$F$102,5,FALSE))","v":""},{"$f":"IF(ISERROR(VLOOKUP($B87*10+$I$2,データ貼付!$B$3:$F$102,5,FALSE)),\"\",VLOOKUP($B87*10+$I$2,データ貼付!$B$3:$F$102,5,FALSE))","v":""}]
[null,86,{"$f":"VLOOKUP($B88,データ貼付!$A$3:$I$102,4,FALSE)","v":{"$error":"#N/A"}},{"$f":"VLOOKUP($B88,データ貼付!$A$3:$I$102,5,FALSE)","v":{"$error":"#N/A"}},{"$f":"IF(ISERROR(VLOOKUP($B88*10+$E$2,データ貼付!$B$3:$F$102,5,FALSE)),\"\",VLOOKUP($B88*10+$E$2,データ貼付!$B$3:$F$102,5,FALSE))","v":""},{"$f":"IF(ISERROR(VLOOKUP($B88*10+$F$2,データ貼付!$B$3:$F$102,5,FALSE)),\"\",VLOOKUP($B88*10+$F$2,データ貼付!$B$3:$F$102,5,FALSE))","v":""},{"$f":"IF(ISERROR(VLOOKUP($B88*10+$G$2,データ貼付!$B$3:$F$102,5,FALSE)),\"\",VLOOKUP($B88*10+$G$2,データ貼付!$B$3:$F$102,5,FALSE))","v":""},{"$f":"IF(ISERROR(VLOOKUP($B88*10+$H$2,データ貼付!$B$3:$F$102,5,FALSE)),\"\",VLOOKUP($B88*10+$H$2,データ貼付!$B$3:$F$102,5,FALSE))","v":""},{"$f":"IF(ISERROR(VLOOKUP($B88*10+$I$2,データ貼付!$B$3:$F$102,5,FALSE)),\"\",VLOOKUP($B88*10+$I$2,データ貼付!$B$3:$F$102,5,FALSE))","v":""}]
[null,87,{"$f":"VLOOKUP($B89,データ貼付!$A$3:$I$102,4,FALSE)","v":{"$error":"#N/A"}},{"$f":"VLOOKUP($B89,データ貼付!$A$3:$I$102,5,FALSE)","v":{"$error":"#N/A"}},{"$f":"IF(ISERROR(VLOOKUP($B89*10+$E$2,データ貼付!$B$3:$F$102,5,FALSE)),\"\",VLOOKUP($B89*10+$E$2,データ貼付!$B$3:$F$102,5,FALSE))","v":""},{"$f":"IF(ISERROR(VLOOKUP($B89*10+$F$2,データ貼付!$B$3:$F$102,5,FALSE)),\"\",VLOOKUP($B89*10+$F$2,データ貼付!$B$3:$F$102,5,FALSE))","v":""},{"$f":"IF(ISERROR(VLOOKUP($B89*10+$G$2,データ貼付!$B$3:$F$102,5,FALSE)),\"\",VLOOKUP($B89*10+$G$2,データ貼付!$B$3:$F$102,5,FALSE))","v":""},{"$f":"IF(ISERROR(VLOOKUP($B89*10+$H$2,データ貼付!$B$3:$F$102,5,FALSE)),\"\",VLOOKUP($B89*10+$H$2,データ貼付!$B$3:$F$102,5,FALSE))","v":""},{"$f":"IF(ISERROR(VLOOKUP($B89*10+$I$2,データ貼付!$B$3:$F$102,5,FALSE)),\"\",VLOOKUP($B89*10+$I$2,データ貼付!$B$3:$F$102,5,FALSE))","v":""}]
[null,88,{"$f":"VLOOKUP($B90,データ貼付!$A$3:$I$102,4,FALSE)","v":{"$error":"#N/A"}},{"$f":"VLOOKUP($B90,データ貼付!$A$3:$I$102,5,FALSE)","v":{"$error":"#N/A"}},{"$f":"IF(ISERROR(VLOOKUP($B90*10+$E$2,データ貼付!$B$3:$F$102,5,FALSE)),\"\",VLOOKUP($B90*10+$E$2,データ貼付!$B$3:$F$102,5,FALSE))","v":""},{"$f":"IF(ISERROR(VLOOKUP($B90*10+$F$2,データ貼付!$B$3:$F$102,5,FALSE)),\"\",VLOOKUP($B90*10+$F$2,データ貼付!$B$3:$F$102,5,FALSE))","v":""},{"$f":"IF(ISERROR(VLOOKUP($B90*10+$G$2,データ貼付!$B$3:$F$102,5,FALSE)),\"\",VLOOKUP($B90*10+$G$2,データ貼付!$B$3:$F$102,5,FALSE))","v":""},{"$f":"IF(ISERROR(VLOOKUP($B90*10+$H$2,データ貼付!$B$3:$F$102,5,FALSE)),\"\",VLOOKUP($B90*10+$H$2,データ貼付!$B$3:$F$102,5,FALSE))","v":""},{"$f":"IF(ISERROR(VLOOKUP($B90*10+$I$2,データ貼付!$B$3:$F$102,5,FALSE)),\"\",VLOOKUP($B90*10+$I$2,データ貼付!$B$3:$F$102,5,FALSE))","v":""}]
[null,89,{"$f":"VLOOKUP($B91,データ貼付!$A$3:$I$102,4,FALSE)","v":{"$error":"#N/A"}},{"$f":"VLOOKUP($B91,データ貼付!$A$3:$I$102,5,FALSE)","v":{"$error":"#N/A"}},{"$f":"IF(ISERROR(VLOOKUP($B91*10+$E$2,データ貼付!$B$3:$F$102,5,FALSE)),\"\",VLOOKUP($B91*10+$E$2,データ貼付!$B$3:$F$102,5,FALSE))","v":""},{"$f":"IF(ISERROR(VLOOKUP($B91*10+$F$2,データ貼付!$B$3:$F$102,5,FALSE)),\"\",VLOOKUP($B91*10+$F$2,データ貼付!$B$3:$F$102,5,FALSE))","v":""},{"$f":"IF(ISERROR(VLOOKUP($B91*10+$G$2,データ貼付!$B$3:$F$102,5,FALSE)),\"\",VLOOKUP($B91*10+$G$2,データ貼付!$B$3:$F$102,5,FALSE))","v":""},{"$f":"IF(ISERROR(VLOOKUP($B91*10+$H$2,データ貼付!$B$3:$F$102,5,FALSE)),\"\",VLOOKUP($B91*10+$H$2,データ貼付!$B$3:$F$102,5,FALSE))","v":""},{"$f":"IF(ISERROR(VLOOKUP($B91*10+$I$2,データ貼付!$B$3:$F$102,5,FALSE)),\"\",VLOOKUP($B91*10+$I$2,データ貼付!$B$3:$F$102,5,FALSE))","v":""}]
[null,90,{"$f":"VLOOKUP($B92,データ貼付!$A$3:$I$102,4,FALSE)","v":{"$error":"#N/A"}},{"$f":"VLOOKUP($B92,データ貼付!$A$3:$I$102,5,FALSE)","v":{"$error":"#N/A"}},{"$f":"IF(ISERROR(VLOOKUP($B92*10+$E$2,データ貼付!$B$3:$F$102,5,FALSE)),\"\",VLOOKUP($B92*10+$E$2,データ貼付!$B$3:$F$102,5,FALSE))","v":""},{"$f":"IF(ISERROR(VLOOKUP($B92*10+$F$2,データ貼付!$B$3:$F$102,5,FALSE)),\"\",VLOOKUP($B92*10+$F$2,データ貼付!$B$3:$F$102,5,FALSE))","v":""},{"$f":"IF(ISERROR(VLOOKUP($B92*10+$G$2,データ貼付!$B$3:$F$102,5,FALSE)),\"\",VLOOKUP($B92*10+$G$2,データ貼付!$B$3:$F$102,5,FALSE))","v":""},{"$f":"IF(ISERROR(VLOOKUP($B92*10+$H$2,データ貼付!$B$3:$F$102,5,FALSE)),\"\",VLOOKUP($B92*10+$H$2,データ貼付!$B$3:$F$102,5,FALSE))","v":""},{"$f":"IF(ISERROR(VLOOKUP($B92*10+$I$2,データ貼付!$B$3:$F$102,5,FALSE)),\"\",VLOOKUP($B92*10+$I$2,データ貼付!$B$3:$F$102,5,FALSE))","v":""}]
[null,91,{"$f":"VLOOKUP($B93,データ貼付!$A$3:$I$102,4,FALSE)","v":{"$error":"#N/A"}},{"$f":"VLOOKUP($B93,データ貼付!$A$3:$I$102,5,FALSE)","v":{"$error":"#N/A"}},{"$f":"IF(ISERROR(VLOOKUP($B93*10+$E$2,データ貼付!$B$3:$F$102,5,FALSE)),\"\",VLOOKUP($B93*10+$E$2,データ貼付!$B$3:$F$102,5,FALSE))","v":""},{"$f":"IF(ISERROR(VLOOKUP($B93*10+$F$2,データ貼付!$B$3:$F$102,5,FALSE)),\"\",VLOOKUP($B93*10+$F$2,データ貼付!$B$3:$F$102,5,FALSE))","v":""},{"$f":"IF(ISERROR(VLOOKUP($B93*10+$G$2,データ貼付!$B$3:$F$102,5,FALSE)),\"\",VLOOKUP($B93*10+$G$2,データ貼付!$B$3:$F$102,5,FALSE))","v":""},{"$f":"IF(ISERROR(VLOOKUP($B93*10+$H$2,データ貼付!$B$3:$F$102,5,FALSE)),\"\",VLOOKUP($B93*10+$H$2,データ貼付!$B$3:$F$102,5,FALSE))","v":""},{"$f":"IF(ISERROR(VLOOKUP($B93*10+$I$2,データ貼付!$B$3:$F$102,5,FALSE)),\"\",VLOOKUP($B93*10+$I$2,データ貼付!$B$3:$F$102,5,FALSE))","v":""}]
[null,92,{"$f":"VLOOKUP($B94,データ貼付!$A$3:$I$102,4,FALSE)","v":{"$error":"#N/A"}},{"$f":"VLOOKUP($B94,データ貼付!$A$3:$I$102,5,FALSE)","v":{"$error":"#N/A"}},{"$f":"IF(ISERROR(VLOOKUP($B94*10+$E$2,データ貼付!$B$3:$F$102,5,FALSE)),\"\",VLOOKUP($B94*10+$E$2,データ貼付!$B$3:$F$102,5,FALSE))","v":""},{"$f":"IF(ISERROR(VLOOKUP($B94*10+$F$2,データ貼付!$B$3:$F$102,5,FALSE)),\"\",VLOOKUP($B94*10+$F$2,データ貼付!$B$3:$F$102,5,FALSE))","v":""},{"$f":"IF(ISERROR(VLOOKUP($B94*10+$G$2,データ貼付!$B$3:$F$102,5,FALSE)),\"\",VLOOKUP($B94*10+$G$2,データ貼付!$B$3:$F$102,5,FALSE))","v":""},{"$f":"IF(ISERROR(VLOOKUP($B94*10+$H$2,データ貼付!$B$3:$F$102,5,FALSE)),\"\",VLOOKUP($B94*10+$H$2,データ貼付!$B$3:$F$102,5,FALSE))","v":""},{"$f":"IF(ISERROR(VLOOKUP($B94*10+$I$2,データ貼付!$B$3:$F$102,5,FALSE)),\"\",VLOOKUP($B94*10+$I$2,データ貼付!$B$3:$F$102,5,FALSE))","v":""}]
[null,93,{"$f":"VLOOKUP($B95,データ貼付!$A$3:$I$102,4,FALSE)","v":{"$error":"#N/A"}},{"$f":"VLOOKUP($B95,データ貼付!$A$3:$I$102,5,FALSE)","v":{"$error":"#N/A"}},{"$f":"IF(ISERROR(VLOOKUP($B95*10+$E$2,データ貼付!$B$3:$F$102,5,FALSE)),\"\",VLOOKUP($B95*10+$E$2,データ貼付!$B$3:$F$102,5,FALSE))","v":""},{"$f":"IF(ISERROR(VLOOKUP($B95*10+$F$2,データ貼付!$B$3:$F$102,5,FALSE)),\"\",VLOOKUP($B95*10+$F$2,データ貼付!$B$3:$F$102,5,FALSE))","v":""},{"$f":"IF(ISERROR(VLOOKUP($B95*10+$G$2,データ貼付!$B$3:$F$102,5,FALSE)),\"\",VLOOKUP($B95*10+$G$2,データ貼付!$B$3:$F$102,5,FALSE))","v":""},{"$f":"IF(ISERROR(VLOOKUP($B95*10+$H$2,データ貼付!$B$3:$F$102,5,FALSE)),\"\",VLOOKUP($B95*10+$H$2,データ貼付!$B$3:$F$102,5,FALSE))","v":""},{"$f":"IF(ISERROR(VLOOKUP($B95*10+$I$2,データ貼付!$B$3:$F$102,5,FALSE)),\"\",VLOOKUP($B95*10+$I$2,データ貼付!$B$3:$F$102,5,FALSE))","v":""}]
[null,94,{"$f":"VLOOKUP($B96,データ貼付!$A$3:$I$102,4,FALSE)","v":{"$error":"#N/A"}},{"$f":"VLOOKUP($B96,データ貼付!$A$3:$I$102,5,FALSE)","v":{"$error":"#N/A"}},{"$f":"IF(ISERROR(VLOOKUP($B96*10+$E$2,データ貼付!$B$3:$F$102,5,FALSE)),\"\",VLOOKUP($B96*10+$E$2,データ貼付!$B$3:$F$102,5,FALSE))","v":""},{"$f":"IF(ISERROR(VLOOKUP($B96*10+$F$2,データ貼付!$B$3:$F$102,5,FALSE)),\"\",VLOOKUP($B96*10+$F$2,データ貼付!$B$3:$F$102,5,FALSE))","v":""},{"$f":"IF(ISERROR(VLOOKUP($B96*10+$G$2,データ貼付!$B$3:$F$102,5,FALSE)),\"\",VLOOKUP($B96*10+$G$2,データ貼付!$B$3:$F$102,5,FALSE))","v":""},{"$f":"IF(ISERROR(VLOOKUP($B96*10+$H$2,データ貼付!$B$3:$F$102,5,FALSE)),\"\",VLOOKUP($B96*10+$H$2,データ貼付!$B$3:$F$102,5,FALSE))","v":""},{"$f":"IF(ISERROR(VLOOKUP($B96*10+$I$2,データ貼付!$B$3:$F$102,5,FALSE)),\"\",VLOOKUP($B96*10+$I$2,データ貼付!$B$3:$F$102,5,FALSE))","v":""}]
[null,95,{"$f":"VLOOKUP($B97,データ貼付!$A$3:$I$102,4,FALSE)","v":{"$error":"#N/A"}},{"$f":"VLOOKUP($B97,データ貼付!$A$3:$I$102,5,FALSE)","v":{"$error":"#N/A"}},{"$f":"IF(ISERROR(VLOOKUP($B97*10+$E$2,データ貼付!$B$3:$F$102,5,FALSE)),\"\",VLOOKUP($B97*10+$E$2,データ貼付!$B$3:$F$102,5,FALSE))","v":""},{"$f":"IF(ISERROR(VLOOKUP($B97*10+$F$2,データ貼付!$B$3:$F$102,5,FALSE)),\"\",VLOOKUP($B97*10+$F$2,データ貼付!$B$3:$F$102,5,FALSE))","v":""},{"$f":"IF(ISERROR(VLOOKUP($B97*10+$G$2,データ貼付!$B$3:$F$102,5,FALSE)),\"\",VLOOKUP($B97*10+$G$2,データ貼付!$B$3:$F$102,5,FALSE))","v":""},{"$f":"IF(ISERROR(VLOOKUP($B97*10+$H$2,データ貼付!$B$3:$F$102,5,FALSE)),\"\",VLOOKUP($B97*10+$H$2,データ貼付!$B$3:$F$102,5,FALSE))","v":""},{"$f":"IF(ISERROR(VLOOKUP($B97*10+$I$2,データ貼付!$B$3:$F$102,5,FALSE)),\"\",VLOOKUP($B97*10+$I$2,データ貼付!$B$3:$F$102,5,FALSE))","v":""}]
[null,96,{"$f":"VLOOKUP($B98,データ貼付!$A$3:$I$102,4,FALSE)","v":{"$error":"#N/A"}},{"$f":"VLOOKUP($B98,データ貼付!$A$3:$I$102,5,FALSE)","v":{"$error":"#N/A"}},{"$f":"IF(ISERROR(VLOOKUP($B98*10+$E$2,データ貼付!$B$3:$F$102,5,FALSE)),\"\",VLOOKUP($B98*10+$E$2,データ貼付!$B$3:$F$102,5,FALSE))","v":""},{"$f":"IF(ISERROR(VLOOKUP($B98*10+$F$2,データ貼付!$B$3:$F$102,5,FALSE)),\"\",VLOOKUP($B98*10+$F$2,データ貼付!$B$3:$F$102,5,FALSE))","v":""},{"$f":"IF(ISERROR(VLOOKUP($B98*10+$G$2,データ貼付!$B$3:$F$102,5,FALSE)),\"\",VLOOKUP($B98*10+$G$2,データ貼付!$B$3:$F$102,5,FALSE))","v":""},{"$f":"IF(ISERROR(VLOOKUP($B98*10+$H$2,データ貼付!$B$3:$F$102,5,FALSE)),\"\",VLOOKUP($B98*10+$H$2,データ貼付!$B$3:$F$102,5,FALSE))","v":""},{"$f":"IF(ISERROR(VLOOKUP($B98*10+$I$2,データ貼付!$B$3:$F$102,5,FALSE)),\"\",VLOOKUP($B98*10+$I$2,データ貼付!$B$3:$F$102,5,FALSE))","v":""}]
[null,97,{"$f":"VLOOKUP($B99,データ貼付!$A$3:$I$102,4,FALSE)","v":{"$error":"#N/A"}},{"$f":"VLOOKUP($B99,データ貼付!$A$3:$I$102,5,FALSE)","v":{"$error":"#N/A"}},{"$f":"IF(ISERROR(VLOOKUP($B99*10+$E$2,データ貼付!$B$3:$F$102,5,FALSE)),\"\",VLOOKUP($B99*10+$E$2,データ貼付!$B$3:$F$102,5,FALSE))","v":""},{"$f":"IF(ISERROR(VLOOKUP($B99*10+$F$2,データ貼付!$B$3:$F$102,5,FALSE)),\"\",VLOOKUP($B99*10+$F$2,データ貼付!$B$3:$F$102,5,FALSE))","v":""},{"$f":"IF(ISERROR(VLOOKUP($B99*10+$G$2,データ貼付!$B$3:$F$102,5,FALSE)),\"\",VLOOKUP($B99*10+$G$2,データ貼付!$B$3:$F$102,5,FALSE))","v":""},{"$f":"IF(ISERROR(VLOOKUP($B99*10+$H$2,データ貼付!$B$3:$F$102,5,FALSE)),\"\",VLOOKUP($B99*10+$H$2,データ貼付!$B$3:$F$102,5,FALSE))","v":""},{"$f":"IF(ISERROR(VLOOKUP($B99*10+$I$2,データ貼付!$B$3:$F$102,5,FALSE)),\"\",VLOOKUP($B99*10+$I$2,データ貼付!$B$3:$F$102,5,FALSE))","v":""}]
[null,98,{"$f":"VLOOKUP($B100,データ貼付!$A$3:$I$102,4,FALSE)","v":{"$error":"#N/A"}},{"$f":"VLOOKUP($B100,データ貼付!$A$3:$I$102,5,FALSE)","v":{"$error":"#N/A"}},{"$f":"IF(ISERROR(VLOOKUP($B100*10+$E$2,データ貼付!$B$3:$F$102,5,FALSE)),\"\",VLOOKUP($B100*10+$E$2,データ貼付!$B$3:$F$102,5,FALSE))","v":""},{"$f":"IF(ISERROR(VLOOKUP($B100*10+$F$2,データ貼付!$B$3:$F$102,5,FALSE)),\"\",VLOOKUP($B100*10+$F$2,データ貼付!$B$3:$F$102,5,FALSE))","v":""},{"$f":"IF(ISERROR(VLOOKUP($B100*10+$G$2,データ貼付!$B$3:$F$102,5,FALSE)),\"\",VLOOKUP($B100*10+$G$2,データ貼付!$B$3:$F$102,5,FALSE))","v":""},{"$f":"IF(ISERROR(VLOOKUP($B100*10+$H$2,データ貼付!$B$3:$F$102,5,FALSE)),\"\",VLOOKUP($B100*10+$H$2,データ貼付!$B$3:$F$102,5,FALSE))","v":""},{"$f":"IF(ISERROR(VLOOKUP($B100*10+$I$2,データ貼付!$B$3:$F$102,5,FALSE)),\"\",VLOOKUP($B100*10+$I$2,データ貼付!$B$3:$F$102,5,FALSE))","v":""}]
[null,99,{"$f":"VLOOKUP($B101,データ貼付!$A$3:$I$102,4,FALSE)","v":{"$error":"#N/A"}},{"$f":"VLOOKUP($B101,データ貼付!$A$3:$I$102,5,FALSE)","v":{"$error":"#N/A"}},{"$f":"IF(ISERROR(VLOOKUP($B101*10+$E$2,データ貼付!$B$3:$F$102,5,FALSE)),\"\",VLOOKUP($B101*10+$E$2,データ貼付!$B$3:$F$102,5,FALSE))","v":""},{"$f":"IF(ISERROR(VLOOKUP($B101*10+$F$2,データ貼付!$B$3:$F$102,5,FALSE)),\"\",VLOOKUP($B101*10+$F$2,データ貼付!$B$3:$F$102,5,FALSE))","v":""},{"$f":"IF(ISERROR(VLOOKUP($B101*10+$G$2,データ貼付!$B$3:$F$102,5,FALSE)),\"\",VLOOKUP($B101*10+$G$2,データ貼付!$B$3:$F$102,5,FALSE))","v":""},{"$f":"IF(ISERROR(VLOOKUP($B101*10+$H$2,データ貼付!$B$3:$F$102,5,FALSE)),\"\",VLOOKUP($B101*10+$H$2,データ貼付!$B$3:$F$102,5,FALSE))","v":""},{"$f":"IF(ISERROR(VLOOKUP($B101*10+$I$2,データ貼付!$B$3:$F$102,5,FALSE)),\"\",VLOOKUP($B101*10+$I$2,データ貼付!$B$3:$F$102,5,FALSE))","v":""}]
[null,100,{"$f":"VLOOKUP($B102,データ貼付!$A$3:$I$102,4,FALSE)","v":{"$error":"#N/A"}},{"$f":"VLOOKUP($B102,データ貼付!$A$3:$I$102,5,FALSE)","v":{"$error":"#N/A"}},{"$f":"IF(ISERROR(VLOOKUP($B102*10+$E$2,データ貼付!$B$3:$F$102,5,FALSE)),\"\",VLOOKUP($B102*10+$E$2,データ貼付!$B$3:$F$102,5,FALSE))","v":""},{"$f":"IF(ISERROR(VLOOKUP($B102*10+$F$2,データ貼付!$B$3:$F$102,5,FALSE)),\"\",VLOOKUP($B102*10+$F$2,データ貼付!$B$3:$F$102,5,FALSE))","v":""},{"$f":"IF(ISERROR(VLOOKUP($B102*10+$G$2,データ貼付!$B$3:$F$102,5,FALSE)),\"\",VLOOKUP($B102*10+$G$2,データ貼付!$B$3:$F$102,5,FALSE))","v":""},{"$f":"IF(ISERROR(VLOOKUP($B102*10+$H$2,データ貼付!$B$3:$F$102,5,FALSE)),\"\",VLOOKUP($B102*10+$H$2,データ貼付!$B$3:$F$102,5,FALSE))","v":""},{"$f":"IF(ISERROR(VLOOKUP($B102*10+$I$2,データ貼付!$B$3:$F$102,5,FALSE)),\"\",VLOOKUP($B102*10+$I$2,データ貼付!$B$3:$F$102,5,FALSE))","v":""}]

{"sheet":"追加登録選手","index":6,"n_rows":900,"n_cols":6,"rows_kept":900,"cut":false,"hidden":false,"merged":[]}
[160,"杉本","匠斗","スギモト","タクト","高校3"]
[161,"河野","泰地","コウノ","タイチ","高校3"]
[162,"中山","鷹暁","ナカヤマ","タカアキ","高校3"]
[166,"山本","祥慶","ヤマモト","ヨシチカ","高校3"]
[167,"奥屋敷","海斗","オクヤシキ","カイト","高校3"]
[168,"城ケ原","楽人","ジョウガハラ","ラクト","高校2"]
[170,"大橋","優人","オオハシ","マサト","高校2"]
[172,"松田","優輝","マツダ","ユウキ","高校2"]
[173,"藤田","凌翔","フジタ","リョウガ","高校3"]
[178,"小林","哲大","コバヤシ","テッタ","高校1"]
[179,"矢吹","亮磨","ヤブキ","リョウマ","高校1"]
[180,"杉村","聡太","スギムラ","ソウタ","高校1"]
[181,"片岡","歌","カタオカ","ウタ","高校1"]
[182,"谷口","朔太郎","タニグチ","サクタロウ","高校1"]
[183,"長岡","琉惺","ナガオカ","リュウセイ","高校1"]
[184,"長谷川","銀平","ハセガワ","ギンペイ","高校1"]
[185,"東","亘佑","アズマ","コウスケ","高校1"]
[186,"有本","椿季","アリモト","ツバキ","高校1"]
[258,"岡田","晴希","オカダ","ハルキ","高校3"]
[259,"秋岡","円","アキオカ","マルイ","高校3"]
[260,"中本","飛羽","ナカモト","トワ","高校3"]
[261,"寺本","優輝","テラモト","ユウキ","高校3"]
[262,"松本","幸誠","マツモト","コウセイ","高校3"]
[263,"鈴木","恭介","スズキ","キョウスケ","高校3"]
[265,"金重","颯人","カネシゲ","ハヤト","高校3"]
[267,"丸井","蒼空","マルイ","ソラ","高校2"]
[268,"西浦","瑞貴","ニシウラ","ミズキ","高校2"]
[269,"澁谷","煌","シブヤ","キラ","高校2"]
[270,"三木","翔真","ミキ","ショウマ","高校2"]
[271,"藤本","駿希","フジモト","シュンキ","高校2"]
[272,"山本","琥太朗","ヤマモト","コタロウ","高校2"]
[273,"桑田","龍哉","クワタ","リュウヤ","高校2"]
[274,"杉山","嵐士","スギヤマ","アラシ","高校2"]
[275,"松田","哉郁","マツダ","ヤフミ","高校2"]
[276,"西田","大勢","ニシダ","タイセイ","高校2"]
[277,"野口","和暉","ノグチ","カズキ","高校2"]
[278,"新崎","肇士","アラサキ","ハツシ","高校2"]
[279,"古谷","栄昇","フルヤ","エイショウ","高校2"]
[280,"有井","慈瑛","アリイ","ジエイ","高校1"]
[281,"上原","和希","ウエハラ","カズキ","高校1"]
[282,"奥田","春稀","オクダ","ハルキ","高校1"]
[283,"駒井","響季","コマイ","ヒビキ","高校1"]
[284,"松本","蒼大","マツモト","ソウタ","高校1"]
[285,"古田","紀貴","フルタ","カズキ","高校1"]
[286,"今屋","瑛都","イマヤ","エイト","高校1"]
[287,"壽崎","大学","スザキ","ダイガク","高校1"]
[288,"原田","惇輝","ハラダ","アツキ","高校1"]
[289,"三谷","宗太郎","ミタニ","ソウタロウ","高校1"]
[290,"宮垣","湊","ミヤガキ","ミナト","高校1"]
[291,"竹内","勇人","タケウチ","ハヤト","高校1"]
[292,"森","亮輔","モリ","リョウスケ","高校1"]
[293,"脇","祥太","ワキ","ショウタ","高校1"]
[294,"佐藤","壮真","サトウ","ソウマ","高校1"]
[295,"森本","颯翔","モリモト","ハヤト","高校1"]
[296,"辰巳","昊晴","タツミ","コウセイ","高校1"]
[297,"石井","理久","イシイ","リク","高校1"]
[298,"榎本","壮一郎","エノモト","ソウイチロウ","高校1"]
[299,"赤瀬","奨","アカセ","ショウ","高校1"]
[320,"松山","陽路","マツヤマ","ヒイロ","高校3"]
[321,"安本","翔咲","ヤスモト","ツバサ","高校2"]
[322,"加治屋","光明","カジヤ","コア","高校3"]
[323,"村本","悠吹","ムラモト","ユブキ","高校2"]
[324,"永留","慶成","ナガトメ","ヨシナリ","高校2"]
[325,"安井","慶真","ヤスイ","ケイシン","高校2"]
[326,"圓句","起大","エンク","タツヒロ","高校2"]
[327,"古宅","諒成","フルタク","リョウセイ","高校2"]
[328,"森本","幸文","モリモト","ユキフミ","高校2"]
[329,"杉野","陽一","スギノ","ヨウイチ","高校1"]
[330,"池内","琉奏","イケウチ","ルカナ","高校1"]
[331,"大﨑","一輝","オオサキ","カズキ","高校1"]
[332,"小川","大貴","オガワ","ダイキ","高校1"]
[333,"角谷","凪冴","カクタニ","ナギサ","高校1"]
[334,"兼原","昌宏","カネハラ","マサヒロ","高校1"]
[335,"高面","椋太郎","コウメン","リョウタロウ","高校1"]
[336,"瀬良","七瀬","セラ","ナナセ","高校1"]
[337,"辰巳","颯太","タツミ","ソウタ","高校1"]
[338,"本道","樟磨","ホンドウ","ショウマ","高校1"]
[339,"矢橋","大樹","ヤハシ","タイジュ","高校1"]
[340,"梅島","悠一郎","ウメジマ","ユウイチロウ","高校1"]
[461,"民本","純","タミモト","ジュン","高校3"]
[462,"播摩","奏人","ハリマ","カナト","高校3"]
[463,"宮下","航平","ミヤシタ","コウヘイ","高校2"]
[464,"髙橋","響","タカハシ","ヒビキ","高校2"]
[465,"野津","昊希","ノヅ","コウキ","高校2"]
[466,"貴島","大翔","キシマ","ダイト","高校2"]
[467,"森","琉輝亜","モリ","ルキア","高校2"]
[468,"井上","人斉","イノウエ","ジンセイ","高校2"]
[469,"政木","元汰","マサキ","ゲンタ","高校1"]
[470,"宮本","琉誠","ミヤモト","リュウセイ","高校1"]
[471,"渡部","遥人","ワタナベ","ハルヒト","高校1"]
[472,"本村","優斗","モトムラ","ユウト","高校1"]
[501,"内藤","有汰","ナイトウ","ユウタ","高校2"]
[502,"岡村","成龍","オカムラ","セイリュウ","高校2"]
[503,"岨","広毅","ソワ","ヒロキ","高校2"]
[504,"掛田","大和","カケダ","ヒロト","高校2"]
[505,"沖見","朗","オキミ","アキラ","高校2"]
[506,"笠見","篤志","カサミ","アツシ","高校2"]
[507,"北野","景大","キタノ","ケイタ","高校1"]
[508,"田中","大輔","タナカ","ダイスケ","高校1"]
[509,"中島","瞭佑","ナカシマ","リョウスケ","高校1"]
[510,"武雄","悠人","タケオ","ハルト","高校1"]
[511,"杉山","晟一朗","スギヤマ","セイイチロウ","高校1"]
[512,"吉田","伊吹","ヨシダ","イブキ","高校1"]
[513,"山本","佳知","ヤマモト","カイチ","高校1"]
[514,"本田","琉徠","ホンダ","リキ","高校1"]
[515,"川久保","颯真","カワクボ","ソウマ","高校1"]
[516,"宇野","陽登","ウノ","ハルト","高校1"]
[517,"小坂","瑛史","コサカ","エイジ","高校1"]
[518,"小山","拓紀","コヤマ","タクキ","高校1"]
[519,"白數","楓真","シラス","フウマ","高校1"]
[594,"尾﨑","亘","オザキ","ワタル","高校3"]
[595,"片島","憲弘","カタシマ","ノリヒロ","高校3"]
[596,"杉山","淳一郎","スギヤマ","ジュンイチロウ","高校3"]
[597,"山本","陽介","ヤマモト","ヨウスケ","高校3"]
[598,"松村","亮佑","マツムラ","リョウスケ","高校3"]
[599,"栗田","悠幹","クリタ","ユウキ","高校2"]
[621,"髙橋","大翔","タカハシ","ヒロト","高校3"]
[622,"小此木","直仁","オコノギ","ナオヒト","高校3"]
[623,"山﨑","聖雄","ヤマサキ","セイユウ","高校3"]
[624,"古賀","優希","コガ","ユウキ","高校3"]
[626,"久保","一輝","クボ","カズキ","高校2"]
[627,"山方","悠","ヤマカタ","ユウ","高校2"]
[628,"松井","響己","マツイ","ヒビキ","高校2"]
[629,"金森","優斗","カナモリ","ユウト","高校2"]
[630,"藤岡","大雅","フジオカ","タイガ","高校2"]
[631,"山口","遥冬","ヤマグチ","ハルト","高校2"]
[632,"酒井","優","サカイ","ユウ","高校2"]
[633,"東谷","恵汰","ヒガシタニ","ケイタ","高校2"]
[634,"葉山","洸千代","ハヤマ","タケチヨ","高校1"]
[635,"市島","優樹","イチジマ","ユウキ","高校1"]
[636,"佐藤","和哉","サトウ","カズヤ","高校1"]
[637,"森","悠登","モリ","ユウト","高校1"]
[638,"西村","颯真","ニシムラ","ソウマ","高校1"]
[639,"簑田","昊汰","ミノダ","コウタ","高校1"]
[640,"別芝","諒也","ベッシ","リョウヤ","高校1"]
[641,"南野","翔太","ナンノ","ショウタ","高校1"]
[642,"大出","悠人","オオデ","ユウト","高校1"]
[643,"荒井","大輝","アライ","ダイキ","高校1"]
[644,"村井","新汰","ムライ","アラタ","高校1"]
[645,"伊藤","立希","イトウ","リツキ","高校1"]
[646,"品川","蓮","シナガワ","レン","高校1"]
[647,"釘宮","壮佑","クギミヤ","ソウスケ","高校1"]
[648,"橋","陸仁","ハシ","リクト","高校1"]
[715,"市岡","将護","イチオカ","ショウゴ","高校3"]
[716,"船奥","凛斗","フナオク","リント","高校3"]
[717,"雀部","秀太","ササベ","シュウタ","高校3"]
[718,"河野","陽仁","コウノ","ハルヒト","高校3"]
[719,"矢来","拓己","ヤギ","タクミ","高校3"]
[720,"福留","拓歩","フクドメ","タクホ","高校2"]
[721,"岩崎","泰己","イワサキ","タイキ","高校2"]
[952,"足立","涼太","アダチ","リョウタ","高校3"]
[953,"上中","龍優有","ウエナカ","ルキア","高校3"]
[955,"古本","一磨","フルモト","カズマ","高校3"]
[956,"丸山","真幸","マルヤマ","マサユキ","高校3"]
[957,"目代","尚也","モクダイ","ナオヤ","高校3"]
[958,"中島","颯","ナカジマ","ハヤテ","高校2"]
[1049,"大竹","敦士","オオタケ","アツシ","高校3"]
[1050,"新居","蒼惟","シンイ","アオイ","高校3"]
[1051,"中田","翔","ナカタ","ショウ","高校3"]
[1052,"細川","光輝","ホソカワ","コウキ","高校3"]
[1054,"田中","元気","タナカ","ゲンキ","高校3"]
[1055,"竹内","知輝","タケウチ","トモキ","高校2"]
[1056,"東地","陽大","トウチ","ハルト","高校2"]
[1063,"新垣","丈琉","シンガキ","タケル","高校1"]
[1064,"佐藤","隼","サトウ","シュン","高校1"]
[1401,"岡本","充禄","オカモト","ミロク","高校2"]
[1402,"小林","侑樹","コバヤシ","ユウキ","高校2"]
[1403,"田中","陽仁","タナカ","ハルト","高校2"]
[1404,"野崎","惣大","ノザキ","ソウタ","高校2"]
[1405,"福井","涼大","フクイ","リョウダイ","高校2"]
[1406,"森","一樹","モリ","カズキ","高校2"]
[1407,"森田","聖硫","モリタ","サトル","高校2"]
[1408,"丸小野","亘兼","マルオノ","コウケン","高校2"]
[1409,"山下","市太郎","ヤマシタ","イチタロウ","高校2"]
[1410,"山本","景太","ヤマモト","ケイタ","高校2"]
[1412,"夏目","太陽","ナツメ","タイヨウ","高校2"]
[1413,"植田","葉瑠","ウエダ","ハル","高校1"]
[1414,"大庭","佑月","オオバ","ユヅキ","高校1"]
[1415,"鎌倉","希","カマクラ","ノゾム","高校1"]
[1416,"鎌田","蒼平","カマタ","ソウヘイ","高校1"]
[1417,"國本","駿","クニモト","シュン","高校1"]
[1418,"坂本","悠真","サカモト","ユウマ","高校1"]
[1419,"城屋敷","篤","ジョウヤシキ","アツシ","高校1"]
[1420,"中島","慶悟","ナカシマ","ケイゴ","高校1"]
[1421,"中村","旬","ナカムラ","シュン","高校1"]
[1422,"藤村","航太郎","フジムラ","コウタロウ","高校1"]
[1423,"槇野","晄太郎","マキノ","コウタロウ","高校1"]
[1424,"宮本","武典","ミヤモト","タケノリ","高校1"]
[1425,"向井","恒稀","ムカイ","コウキ","高校1"]
[1486,"石田","宇登","イシダ","タカト","高校3"]
[1487,"井上","朔冶","イノウエ","サクヤ","高校3"]
[1488,"飯降","蒼一郎","イブリ","ソウイチロウ","高校3"]
[1489,"小林","温眞","コバヤシ","ハルマ","高校3"]
[1490,"髙田","瑞季","タカダ","ミズキ","高校3"]
[1491,"井形","蒼空","イガタ","ソラ","高校3"]
[1492,"山﨑","慧","ヤマサキ","サトイ","高校3"]
[1493,"茶谷","泰生","チャタニ","タイセイ","高校3"]
[1494,"福田","瑛人","フクダ","アキト","高校3"]
[1495,"小東","蓮","コヒガシ","レン","高校3"]
[1497,"田口","隼也","タグチ","シュンヤ","高校3"]
[1498,"横山","敬大","ヨコヤマ","タカヒロ","高校3"]
[1499,"浅野","大智","アサノ","ダイチ","高校2"]
[1501,"増井","晴太","マスイ","セイタ","高校2"]
[1502,"松風","海","ショウフウ","カイ","高校1"]
[1503,"今西","勇葵","イマニシ","ユウキ","高校1"]
[1504,"辰己","恭一","タツミ","キョウイチ","高校1"]
[1505,"前田","朔太朗","マエダ","サクタロウ","高校1"]
[1506,"本池","柚太","モトイケ","ユウタ","高校1"]
[1507,"米澤","隼人","ヨネザワ","ハヤト","高校1"]
[1508,"上田","禮次郎","ウエダ","レイジロウ","高校1"]
[1509,"土井","優太","ドイ","ユウタ","高校1"]
[1510,"丸山","結翔","マルヤマ","ユイト","高校1"]
[1511,"森本","啓太","モリモト","ケイタ","高校1"]
[1512,"阿部","真士","アベ","マナト","高校1"]
[1513,"小原","匠海","オハラ","タクミ","高校1"]
[1514,"辻","那悠太","ツジ","ナユタ","高校1"]
[1515,"向井","円","ムカイ","マドカ","高校1"]
[1516,"村上","直也","ムラカミ","ナオヤ","高校1"]
[1517,"森","太亮","モリ","タイスケ","高校1"]
[1518,"山中","秀真","ヤマナカ","シュウマ","高校1"]
[1578,"西岡","寛貴","ニシオカ","ヒロキ","高校3"]
[1579,"菅野","晴心","カンノ","セイシン","高校3"]
[1580,"明尾","匡樹","アケオ","マサキ","高校3"]
[1581,"井上","友寛","イノウエ","トモヒロ","高校3"]
[1582,"植野","琉青","ウエノ","リュウセイ","高校3"]
[1583,"大枝","颯太","オオエダ","ソウタ","高校3"]
[1584,"大上","翔太郎","オオガミ","ショウタロウ","高校3"]
[1585,"加瀬","出帆","カセ","イズホ","高校3"]
[1587,"田中","康生","タナカ","コウセイ","高校3"]
[1588,"山中","一凜","ヤマナカ","イチリン","高校3"]
[1589,"大谷","凜太郎","オオタニ","リンタロウ","高校3"]
[1590,"粟野","幹太","アワノ","カンタ","高校2"]
[1591,"今田","暁久","イマダ","アキヒサ","高校2"]
[1592,"髙田","悠一郎","タカタ","ユウイチロウ","高校2"]
[1593,"濵田","颯馬","ハマダ","ソウマ","高校2"]
[1595,"森","馨一郎","モリ","ケイイチロウ","高校2"]
[1596,"天野","翔太","アマノ","ショウタ","高校2"]
[1597,"大﨑","壮真","オオサキ","ソウマ","高校2"]
[1598,"谷本","有輝","タニモト","ユウキ","高校2"]
[1599,"徳山","博貴","トクヤマ","ヒロキ","高校2"]
[1601,"西田","温哉","ニシダ","ハルヤ","高校1"]
[1602,"廣田","大珂","ヒロタ","タイガ","高校1"]
[1603,"松林","和哉","マツバヤシ","カズヤ","高校1"]
[1604,"権田","雅暉","ゴンダ","マサキ","高校1"]
[1605,"小柳","柊那","オヤナギ","トウナ","高校1"]
[1673,"天野","大馳","アマノ","ダイチ","高校3"]
[1675,"山口","光政","ヤマグチ","コウセイ","高校3"]
[1682,"大山","時和","オオヤマ","トキト","高校2"]
[1683,"磯山","福太郎","イソヤマ","フクタロウ","高校2"]
[1684,"去来川","都雅","イサガワ","トガ","高校2"]
[1685,"八田","将吾","ハッタ","ショウゴ","高校2"]
[1686,"岡本","怜","オカモト","レイ","高校2"]
[1687,"安達","琉惺","アダチ","リュウセイ","高校2"]
[1688,"具","宥聖","ク","ユソン","高校2"]
[1689,"江口","遥都","エグチ","ハルト","高校2"]
[1690,"田中","智大","タナカ","チヒロ","高校2"]
[1691,"今井","駿志","イマイ","シュンジ","高校2"]
[1692,"近藤","佑哉","コンドウ","ユウヤ","高校2"]
[1693,"須﨑","悠斗","スザキ","ユウト","高校2"]
[1694,"上瀧","理一郎","コウタキ","リイチロウ","高校2"]
[1695,"尾上","航大","オノウエ","コウダイ","高校1"]
[1696,"木宮","肇太","キミヤ","ハジメ","高校1"]
[1697,"溝邉","翔大","ミゾベ","ショウタ","高校1"]
[1698,"浅井","蒼天","アサイ","ソウマ","高校1"]
[1699,"春田","圭悟","ハルタ","ケイゴ","高校1"]
[1774,"小池","理生","コイケ","リオ","高校3"]
[1775,"橋本","拓真","ハシモト","タクマ","高校2"]
[1776,"荒井","翔輝","アライ","ショウキ","高校2"]
[1777,"赤堀","勇狼","アカホリ","ユウト","高校2"]
[1778,"大村","准弥","オオムラ","ジュンヤ","高校2"]
[1779,"下山","潤也","シモヤマ","ジュンヤ","高校2"]
[1780,"松原","奏汰","マツバラ","カナタ","高校2"]
[1781,"池原","大牙","イケハラ","タイガ","高校2"]
[1865,"佐田","遥音","サダ","ハルト","高校3"]
[1866,"柿崎","湘","カキザキ","ショウ","高校3"]
[1867,"安藤","圭吾","アンドウ","ケイゴ","高校3"]
[1868,"池原","竜也","イケハラ","リュウヤ","高校3"]
[1869,"永井","俊充","ナガイ","トシミツ","高校3"]
[1870,"山本","大智","ヤマモト","ダイチ","高校3"]
[1871,"増田","和志","マスダ","カズシ","高校3"]
[1873,"天野","翔太","アマノ","ショウタ","高校3"]
[1875,"澤村","昊","サワムラ","コウ","高校2"]
[1876,"田中","滉人","タナカ","ヒロト","高校2"]
[1877,"田中","俊丞","タナカ","シュンスケ","高校2"]
[1878,"中島","圭梧","ナカジマ","ケイゴ","高校2"]
[1880,"石井","駿","イシイ","ハヤト","高校2"]
[1881,"足立","葵","アダチ","マモル","高校1"]
[1882,"清水","昊雄","シミズ","ソラオ","高校1"]
[1883,"竹本","理玖","タケモト","リク","高校1"]
[1884,"栁川","文吾","ヤナガワ","ブンゴ","高校1"]
[1885,"鈴池","研徳","スズイケ","ケントク","高校1"]
[1886,"蕨野","凌多","ワラビノ","リョウタ","高校1"]
[1901,"嶋田","陸","シマダ","リク","高校1"]
[1902,"杉本","賢祐","スギモト","ケンスケ","高校1"]
[1903,"三浦","瞬成","ミウラ","シュンセイ","高校1"]
[1904,"中川","健志朗","ナカガワ","ケンシロウ","高校1"]
[1905,"竹村","晃琉","タケムラ","テル","高校1"]
[1906,"河","旺佑","カワ","オウスケ","高校1"]
[1984,"川北","謙吾","カワキタ","ケンゴ","高校3"]
[1985,"中田","琉斗","ナカタ","リュウト","高校3"]
[1986,"前田","一樹","マエダ","イツキ","高校3"]
[1991,"知足","宏太","チアシ","コウタ","高校2"]
[1993,"古里","太瑛","フルサト","タイヨウ","高校2"]
[1994,"曽野","詩音","ソノ","シオン","高校2"]
[1995,"小板橋","歩","コイタバシ","アユム","高校2"]
[1996,"岡本","朝樹","オカモト","トモキ","高校2"]
[1997,"志賀","凌太","シガ","リョウタ","高校2"]
[1998,"築部","佑藏","ツクベ","ユウゾウ","高校2"]
[1999,"射場","涼成","イバ","リョウセイ","高校1"]
[2068,"梶田","康耀","カジタ","コウヨウ","高校3"]
[2069,"細井","杜晄","ホソイ","トア","高校3"]
[2070,"重田","大雅","シゲタ","タイガ","高校3"]
[2071,"渡邉","乙史","ワタナベ","イチカ","高校3"]
[2072,"中川","拓麿","ナカガワ","タクマ","高校3"]
[2073,"吉田","凌","ヨシダ","リョウ","高校3"]
[2074,"奥野","陽成","オクノ","ヨウセイ","高校3"]
[2075,"久保","雅虎","クボ","マサトラ","高校3"]
[2076,"小松","直人","コマツ","ナオト","高校3"]
[2077,"宮路","渉汰","ミヤジ","ショウタ","高校3"]
[2078,"牧野","智紘","マキノ","トモヒロ","高校3"]
[2079,"吉成","英春","ヨシナリ","ヒデハル","高校3"]
[2080,"阿部","希琥","アベ","キク","高校2"]
[2081,"宇都","篤基","ウト","アツキ","高校2"]
[2082,"下口","一樹","シモグチ","カズキ","高校2"]
[2083,"長崎","想空","ナガサキ","ソラ","高校2"]
[2085,"平山","浬","ヒラヤマ","カイリ","高校2"]
[2086,"東田","一希","ヒガシダ","カズキ","高校2"]
[2087,"奥橋","勇志","オクハシ","ユウジ","高校2"]
[2088,"越智","誉太","オチ","ヨシト","高校2"]
[2089,"宮内","伸太朗","ミヤウチ","シンタロウ","高校2"]
[2090,"川口","陸","カワグチ","リク","高校2"]
[2092,"菅沼","剛","スガヌマ","ツヨシ","高校1"]
[2093,"大谷","祐晴","オオタニ","ユウセイ","高校1"]
[2094,"加藤","友斗","カトウ","ユウト","高校1"]
[2095,"宮本","一輝","ミヤモト","カズキ","高校1"]
[2107,"小林","葵","コバヤシ","アオイ","高校3"]
[2108,"一井","勇人","イチイ","ハヤト","高校3"]
[2109,"栄永","輝壱","エイナガ","キイチ","高校2"]
[2110,"阪本","孔明","サカモト","コウメイ","高校2"]
[2113,"近内","虎一","コンナイ","トライチ","高校2"]
[2114,"森","仁弥","モリ","ジンヤ","高校3"]
[2115,"西坂","虹勢","ニシサカ","ナナセ","高校1"]
[2116,"岩本","拓翔","イワモト","タクト","高校1"]
[2117,"岸本","祐真","キシモト","ユウマ","高校1"]
[2118,"眞野","陽斗","マノ","ハルト","高校1"]
[2254,"大久保","柊","オオクボ","シュウ","高校3"]
[2255,"松岡","弘樹","マツオカ","ヒロキ","高校3"]
[2262,"森内","寛人","モリウチ","ヒロト","高校2"]
[2263,"中西","翔太","ナカニシ","ショウタ","高校2"]
[2264,"安積","義慶","アヅミ","ヨシチカ","高校2"]
[2265,"髙橋","翔太","タカハシ","ショウタ","高校2"]
[2266,"鹿嶽","篤志","シカタケ","アツシ","高校1"]
[2267,"平間","禮","ヒラマ","レイ","高校1"]
[2268,"宮本","義","ミヤモト","タダシ","高校1"]
[2269,"瀧","彰太","タキ","ショウタ","高校1"]
[2270,"吉井","聡明","ヨシイ","サトアキ","高校1"]
[2302,"颯波","壮一","サッパ","ソウイチ","高校3"]
[2303,"野村","幸弘","ノムラ","ユキヒロ","高校3"]
[2304,"森山","翔太","モリヤマ","ショウタ","高校3"]
[2305,"寺澤","一貴","テラサワ","カズキ","高校3"]
[2306,"稲垣","壮一郎","イナガキ","ソウイチロウ","高校3"]
[2307,"梶原","佑紀","カジワラ","ユウキ","高校3"]
[2308,"赤田","賢志朗","アカダ","ケンシロウ","高校3"]
[2311,"西本","義太郎","ニシモト","ヨシタロウ","高校3"]
[2312,"黒田","悠貴","クロダ","ユウキ","高校3"]
[2313,"木下","颯","キノシタ","ハル","高校2"]
[2314,"黒田","涼太","クロダ","リョウタ","高校2"]
[2317,"田中","一誠","タナカ","イッセイ","高校2"]
[2317,"谷口","付蘭","タニグチ","フラン","高校2"]
[2318,"投石","梁太朗","ナゲイシ","リョウタロウ","高校2"]
[2319,"西岡","陽士","ニシオカ","ハルト","高校2"]
[2320,"眞野","樹","マノ","イツキ","高校2"]
[2321,"原","翔聖","ハラ","ショウセイ","高校2"]
[2323,"田中","一誠","タナカ","イッセイ","高校2"]
[2327,"門脇","瑛人","カドワキ","エイト","高校1"]
[2328,"古今堂","辰弥","コキンドウ","タツヤ","高校1"]
[2329,"井上","拓海","イノウエ","タクミ","高校1"]
[2330,"唐川","侑大","カラカワ","ユウダイ","高校1"]
[2331,"菅江","奏太","スガエ","ソウタ","高校1"]
[2332,"角谷","俊輔","スミヤ","シュンスケ","高校1"]
[2504,"本田","裕輝","ホンダ","ユウキ","高校2"]
[2505,"松村","稟太","マツムラ","リンタ","高校2"]
[2506,"柏原","孝太郎","カシハラ","コウタロウ","高校2"]
[2507,"高木","裕太","タカギ","ユウタ","高校2"]
[2508,"難波","璃久","ナンバ","リク","高校2"]
[2509,"福竹","三雅","フクタケ","ミツマサ","高校2"]
[2510,"藤井","雄斗","フジイ","ユウト","高校2"]
[2511,"戸倉","克征","トクラ","カツユキ","高校2"]
[2512,"福島","蒼太","フクシマ","ソウタ","高校2"]
[2513,"中尾","悠哩","ナカオ","ユウリ","高校3"]
[2514,"古田","漣","フルタ","レン","高校2"]
[2515,"中川","優吾","ナカガワ","ユウゴ","高校2"]
[2516,"廣田","悠人","ヒロタ","ユウト","高校2"]
[2517,"藤江","奏太朗","フジエ","ソウタロウ","高校2"]
[2518,"花田","悠樹","ハナダ","ユウキ","高校3"]
[2519,"櫻井","和司","サクライ","カズシ","高校3"]
[2520,"桑野","志穏","クワノ","シオン","高校3"]
[2521,"宮平","拓夢","ミヤヒラ","タクム","高校2"]
[2522,"志方","叶和","シカタ","トワ","高校1"]
[2523,"土井","敬太","ドイ","ケイタ","高校1"]
[2524,"小泉","雄万","コイズミ","ユウマ","高校1"]
[2525,"市川","直幹","イチカワ","ナオキ","高校1"]
[2526,"稲葉","優太","イナバ","ユウタ","高校1"]
[2527,"三宅","清十朗","ミヤケ","セイジュウロウ","高校1"]
[2580,"川村","凌平","カワムラ","リョウヘイ","高校3"]
[2581,"倉田","玄士","クラタ","ケンシ","高校3"]
[2582,"仲津","政樹","ナカツ","マサキ","高校3"]
[2583,"真崎","晴","マサキ","ハル","高校3"]
[2584,"森","竜聖","モリ","リュウセイ","高校3"]
[2585,"平子","正宗","ヒラコ","マサムネ","高校3"]
[2586,"石井","創大","イシイ","ソウタ","高校3"]
[2587,"上田","海人","ウエダ","カイト","高校3"]
[2589,"藤岡","隼士","フジオカ","ハヤト","高校3"]
[2590,"木村","優作","キムラ","ユウサク","高校3"]
[2592,"桑田","武","クワタ","タケル","高校3"]
[2594,"石岡","潤也","イシオカ","ジュンヤ","高校3"]
[2595,"古川","倫太郎","フルカワ","リンタロウ","高校3"]
[2597,"高","浩樹","タカ","ヒロキ","高校3"]
[2598,"宮本","壮","ミヤモト","ソウ","高校3"]
[2645,"大西","隼斗","オオニシ","ハヤト","高校3"]
[2646,"河合","将希","カワイ","マサキ","高校3"]
[2648,"竹内","海翔","タケウチ","カイト","高校3"]
[2649,"谷田","琥太郎","タニダ","コタロウ","高校3"]
[2650,"山元","颯真","ヤマモト","ソウマ","高校3"]
[2652,"丸山","空大","マルヤマ","ソラ","高校3"]
[2653,"石田","悠太朗","イシダ","ユウタロウ","高校3"]
[2654,"日下部","将梧","クサカベ","ショウゴ","高校3"]
[2655,"劉本","陽向","リュウモト","ヒナタ","高校2"]
[2656,"磯田","弥煌","イソダ","ヨシカ","高校2"]
[2657,"稲葉","俊也","イナバ","シュンヤ","高校2"]
[2658,"小林","拓夢","コバヤシ","タクム","高校2"]
[2659,"福嶋","遙","フクシマ","ハルカ","高校2"]
[2660,"福田","結仁","フクダ","ユイト","高校2"]
[2661,"三國","悠貴","ミクニ","ユウキ","高校2"]
[2662,"森田","聡","モリタ","サトシ","高校2"]
[2663,"横山","隼士","ヨコヤマ","ハヤト","高校2"]
[2664,"井藤","悠介","イトウ","ユウスケ","高校2"]
[2665,"丸田","尚","マルタ","ショウ","高校2"]
[2666,"西尾","友希","ニシオ","ユウキ","高校2"]
[2667,"山下","楓","ヤマシタ","カエデ","高校2"]
[2668,"丸林","大晟","マルバヤシ","タイセイ","高校2"]
[2669,"重村","翔聖","シゲムラ","ショウセイ","高校2"]
[2670,"室","拓実","ムロ","タクミ","高校2"]
[2671,"西海","光馬","ニシウミ","テルマ","高校1"]
[2672,"岩上","琥太朗","イワガミ","コタロウ","高校1"]
[2673,"伊藤","拓海","イトウ","タクミ","高校1"]
[2674,"大野","遥矢","オオノ","ハルヤ","高校1"]
[2675,"塩田","拓未","シオタ","タクミ","高校1"]
[2676,"谷田","颯太朗","タニダ","ソウタロウ","高校1"]
[2677,"中里","唯人","ナカザト","ユイト","高校1"]
[2678,"名塩","公貴","ナシオ","コウキ","高校1"]
[2679,"西向","蒼","ニシムコ","アオイ","高校1"]
[2680,"馬場","祐多","ババ","ユウタ","高校1"]
[2681,"林","大貴","ハヤシ","ダイキ","高校1"]
[2682,"原","悠翔","ハラ","ユウト","高校1"]
[2683,"南","唯嘉","ミナミ","イチカ","高校1"]
[2684,"持田","空我","モチダ","クウガ","高校1"]
[2685,"松本","羚也","マツモト","レイヤ","高校1"]
[2686,"楊井","大貴","ヤギイ","ダイキ","高校1"]
[2687,"大和","煌","ヤマト","カガリ","高校1"]
[3006,"澤田","葵翔","サワダ","アオト","高校3"]
[3007,"清水","真怜","シミズ","マサト","高校3"]
[3008,"大上","暖陽","オオウエ","ハルヒ","高校3"]
[3009,"金岡","諒介","カナオカ","リョウスケ","高校3"]
[3010,"新崎","心路","シンザキ","ココロ","高校3"]
[3012,"米澤","陽友","ヨネザワ","ヒロト","高校3"]
[3013,"濵田","亮介","ハマダ","リョウスケ","高校3"]
[3014,"増田","陸人","マスダ","リクト","高校3"]
[3015,"小倉","惺","オグラ","ショウ","高校3"]
[3016,"川﨑","晶大","カワサキ","アキヒロ","高校3"]
[3017,"板垣","宏斗","イタガキ","ヒロト","高校2"]
[3018,"井上","昊輝","イノウエ","コウキ","高校2"]
[3019,"福嶋","颯海","フクシマ","ハヤテ","高校2"]
[3020,"岩本","怜恩","イワモト","レオ","高校2"]
[3021,"磯部","泉","イソベ","イズミ","高校2"]
[3022,"松原","賢志郎","マツバラ","ケンシロウ","高校2"]
[3023,"森","唯斗","モリ","ユイト","高校2"]
[3025,"栗山","翔太","クリヤマ","ショウタ","高校2"]
[3026,"井上","敬裕","イノウエ","ケイスケ","高校2"]
[3027,"木村","颯冴","キムラ","ソウゴ","高校2"]
[3028,"竹内","颯佑","タケウチ","ソウスケ","高校2"]
[3029,"谷口","晴規","タニグチ","ハルナリ","高校2"]
[3030,"山木","汰一","ヤマキ","タイチ","高校2"]
[3032,"髙橋","祐翔","タカハシ","ヒロト","高校1"]
[3033,"中川","透輪","ナカガワ","トワ","高校1"]
[3034,"西森","真賢","ニシモリ","マサト","高校1"]
[3035,"菅生","汰朗","スゴウ","タロウ","高校1"]
[3036,"北住","惟央","キタズミ","イオ","高校1"]
[3037,"清島","信惇","キヨシマ","シント","高校1"]
[3038,"三好","爽介","ミヨシ","サスケ","高校1"]
[3039,"大北","祥平","オオキタ","ショウヘイ","高校1"]
[3040,"柴田","昊明","シバタ","コウメイ","高校1"]
[3041,"津村","将希","ツムラ","ショウキ","高校1"]
[3042,"濵","悠太","ハマ","ユウタ","高校1"]
[3043,"小倉","皓","オグラ","ヒカル","高校1"]
[3044,"徳穂","隼祐","トクホ","シュンスケ","高校1"]
[3137,"中務","孝太","ナカツカサ","コウタ","高校3"]
[3138,"中橋","亮介","ナカハシ","リョウスケ","高校3"]
[3139,"本多","俊誠","ホンダ","シュンセイ","高校3"]
[3140,"伊藤","司","イトウ","ツカサ","高校3"]
[3142,"川西","大和","カワニシ","ヤマト","高校3"]
[3143,"西藤","聖","サイトウ","ヒジリ","高校3"]
[3144,"道上","智也","ミチガミ","トモヤ","高校3"]
[3145,"井上","桜太","イノウエ","オウタ","高校2"]
[3147,"吉川","流惺","ヨシカワ","リュウセイ","高校2"]
[3148,"小山","智哉","コヤマ","トモヤ","高校2"]
[3149,"松元","健真","マツモト","ケンシン","高校2"]
[3150,"米田","寿","ヨネダ","ヒサシ","高校2"]
[3151,"丸田","陸人","マルタ","リクト","高校1"]
[3152,"頃安","陽仁","コロヤス","ハルト","高校1"]
[3153,"藤枝","晴生","フジエダ","ハルキ","高校1"]
[3221,"藤井","佑輝","フジイ","ユウキ","高校3"]
[3222,"伊福","享正","イフク","キョウセイ","高校3"]
[3223,"悳","奏太","イサオ","カナタ","高校3"]
[3224,"山村","祐翔","ヤマムラ","ユウト","高校3"]
[3225,"野口","誠太","ノグチ","セイタ","高校3"]
[3226,"藤本","京悟","フジモト","キョウゴ","高校3"]
[3228,"松田","珠侑","マツダ","シュウ","高校3"]
[3229,"田邉","豪","タナベ","ゴウ","高校3"]
[3230,"政岡","大暉","マサオカ","ヒロキ","高校3"]
[3231,"吉元","洸太朗","ヨシモト","コウタロウ","高校2"]
[3232,"藤岡","優斗","フジオカ","ユウト","高校2"]
[3233,"島川","陽希","シマカワ","ハルキ","高校2"]
[3234,"紫藤","大貴","シトウ","ダイキ","高校2"]
[3236,"來須","唯我","クルス","ユイガ","高校2"]
[3237,"中川","涼太","ナカガワ","リョウタ","高校2"]
[3239,"尾﨑","晴人","オザキ","ハルト","高校2"]
[3241,"吉川","陸斗","キッカワ","リクト","高校2"]
[3242,"中川","萩二","ナカガワ","シュウジ","高校2"]
[3243,"大江","悠之","オオエ","ユウシ","高校2"]
[3244,"大久保","歩成","オオクボ","アユナリ","高校1"]
[3245,"川﨑","稀生","カワサキ","ヒナリ","高校1"]
[3246,"輔信","颯馬","スケノブ","ソウマ","高校1"]
[3247,"橋本","勇人","ハシモト","ユウト","高校1"]
[3248,"河野","春揮","コウノ","ハルキ","高校1"]
[3249,"田口","聖七","タグチ","セナ","高校1"]
[3250,"鈴木","颯","スズキ","ハヤト","高校1"]
[3251,"別所","則太郎","ベッショ","ノリタロウ","高校2"]
[3324,"松本","輝都","マツモト","キラト","高校3"]
[3325,"島元","悠汰","シマモト","ユウタ","高校3"]
[3326,"吉住","奏音","ヨシズミ","カナト","高校2"]
[3327,"小池","奏真","コイケ","ソウマ","高校2"]
[3328,"西林","孝祥","ニシバヤシ","タカヨシ","高校2"]
[3329,"尾﨑","晴太","オザキ","セイタ","高校2"]
[3330,"藤崎","隼士","フジサキ","ハヤト","高校2"]
[3331,"菅原","真樹","スガハラ","マサキ","高校1"]
[3332,"川筋","泰輔","カワスジ","タイスケ","高校1"]
[3445,"伊藤","蓮","イトウ","レン","高校3"]
[3446,"佐野","慎太郎","サノ","シンタロウ","高校3"]
[3447,"髙畑","聡汰","タカハタ","ソウタ","高校3"]
[3448,"辻","颯斗","ツジ","ハヤト","高校3"]
[3449,"辻","湧斗","ツジ","ユウト","高校3"]
[3450,"渡邉","祐樹","ワタナベ","ユウキ","高校3"]
[3451,"足立","圭眞","アダチ","ケイマ","高校3"]
[3452,"竹島","義輝","タケシマ","ヨシキ","高校3"]
[3453,"羽田野","優樹","ハタノ","ユウキ","高校3"]
[3454,"弘岡","爽","ヒロオカ","ソウ","高校3"]
[3455,"宮脇","岳","ミヤワキ","ガク","高校3"]
[3456,"山崎","尚弘","ヤマザキ","ナオヒロ","高校3"]
[3457,"山本","健太朗","ヤマモト","ケンタトウ","高校3"]
[3458,"椋木","祥太","ムクノキ","ショウタ","高校2"]
[3459,"弓場","隆司","ユンバ","リュウジ","高校2"]
[3460,"坂之上","侑大","サカノウエ","ユウタ","高校2"]
[3461,"中井","陽希","ナカイ","ハルキ","高校2"]
[3462,"松田","大輝","マツダ","タイキ","高校2"]
[3463,"森田","壮一郎","モリタ","ソウイチロウ","高校2"]
[3464,"大杉","悠","オオスギ","ユウ","高校1"]
[3465,"岡﨑","航輝","オカザキ","コウキ","高校1"]
[3466,"垣本","和輝","カキモト","カズキ","高校1"]
[3467,"上良","幸土","コロ","ユキト","高校1"]
[3468,"佐々木","優","ササキ","ユウ","高校1"]
[3469,"鈴川","暖人","スズカワ","ハルト","高校2"]
[3470,"岡田","一真","オカダ","カズマ","高校1"]
[3471,"春田","敦","ハルタ","アツシ","高校1"]
[3472,"引地","颯斗","ヒキチ","ハヤト","高校1"]
[3565,"国本","フレデリック","クニモト","フレデリック","高校3"]
[3567,"舛田","悠悟","マスダ","ユウゴ","高校3"]
[3568,"碇","龍志","イカリ","リュウシ","高校3"]
[3569,"宮本","樹","ミヤモト","タツキ","高校2"]
[3570,"網干","颯斗","アボシ","ハヤト","高校2"]
[3574,"秋山","恵汰","アキヤマ","ケイタ","高校2"]
[3575,"森口","智成","モリグチ","トモナリ","高校1"]
[3576,"山下","幸斗","ヤマシタ","ユキト","高校1"]
[3577,"佐々木","涼太","ササキ","リョウタ","高校1"]
[3601,"東園","凌空","ヒガシゾノ","リク","高校3"]
[3602,"水庫","健太","ミズクラ","ケンタ","高校3"]
[3604,"津田","鼓太郎","ツダ","コタロウ","高校3"]
[3605,"阿部","瑞樹","アベ","ミズキ","高校2"]
[3607,"桑田","健大","クワタ","ケンタ","高校2"]
[3608,"阪上","暖斗","サカウエ","ハルト","高校2"]
[3609,"志水","翔真","シミズ","ショウタ","高校2"]
[3610,"清家","光生","セイケ","コウセイ","高校2"]
[3611,"南原","勇","ナンバラ","イサ","高校2"]
[3612,"東","慶護","ヒガシ","ケイゴ","高校2"]
[3613,"平山","流空","ヒラヤマ","ハヤテ","高校2"]
[3614,"満谷","充志","マンタニ","アツシ","高校2"]
[3615,"三笠","獅音","ミカサ","シオン","高校2"]
[3616,"薮野","翔太","ヤブノ","ショウタ","高校2"]
[3617,"有村","翔","アリムラ","ショウ","高校2"]
[3618,"生田","宗輔","イクタ","ソウスケ","高校1"]
[3619,"稲林","伸崇","イナバヤシ","ノブタカ","高校1"]
[3620,"浦山","翔","ウラヤマ","ショウ","高校1"]
[3621,"音地","広翔","オンヂ","ヒロト","高校1"]
[3622,"香川","心","カガワ","シン","高校1"]
[3623,"寺内","宏介","テラウチ","コウスケ","高校2"]
[3624,"彦坂","智","ヒコサカ","サトル","高校1"]
[3625,"山本","剛義","ヤマモト","ツヨシ","高校1"]
[3693,"今田","大智","イマダ","ダイチ","高校3"]
[3694,"大西","陽葵","オオニシ","ハルキ","高校3"]
[3695,"加藤","煌","カトウ","コウ","高校3"]
[3696,"上良","真幸","コロ","マサユキ","高校3"]
[3697,"高森","大地","タカモリ","ダイチ","高校3"]
[3699,"西尾","仁之介","ニシオ","ジンノスケ","高校3"]
[3768,"藤本","奏","フジモト","ソウ","高校3"]
[3769,"久保田","聖也","クボタ","セイヤ","高校3"]
[3770,"北野","裕也","キタノ","ユウヤ","高校3"]
[3771,"林","郁哉","ハヤシ","フミヤ","高校3"]
[3772,"岡田","幸大","オカダ","コウダイ","高校3"]
[3776,"吉原","一陽","ヨシハラ","イチヤ","高校2"]
[3777,"佐々木","琉毅","ササキ","リュウキ","高校1"]
[3778,"笹倉","理音","ササクラ","リオ","高校1"]
[3779,"羽田野","史弥","ハタノ","フミヤ","高校1"]
[3780,"野口","紅晴","ノグチ","クレハ","高校1"]
[3781,"髙橋","雄大","タカハシ","ユウダイ","高校1"]
[3803,"平岡","頼","ヒラオカ","ライ","高校3"]
[3805,"宮田","響輝","ミヤタ","ヒビキ","高校3"]
[3807,"地主","隼","ヂヌシ","ハヤト","高校2"]
[3808,"佃","洸樹","ツクダ","ヒロキ","高校2"]
[3809,"前田","篤志","マエダ","アツシ","高校2"]
[3810,"大治","翔吾","オオジ","ショウゴ","高校2"]
[3811,"園田","悠友","ソノダ","ユウト","高校2"]
[3812,"大岸","史弥","オオギシ","フミヤ","高校2"]
[3813,"柴村","紬来","シバムラ","ツムギ","高校2"]
[3814,"中津留","和樹","ナカツル","カズキ","高校2"]
[3815,"橋本","悠甫","ハシモト","ユウスケ","高校2"]
[3816,"平田","怜","ヒラタ","リョウ","高校2"]
[3817,"北野","敬太","キタノ","ケイタ","高校2"]
[3819,"立花","友雅","タチバナ","ユウガ","高校1"]
[3820,"中務","優和","ナカツカサ","ユウワ","高校1"]
[3821,"本多","翔","ホンダ","カケル","高校1"]
[3822,"村上","亮斗","ムラカミ","アキト","高校1"]
[3823,"宇都宮","航生","ウツノミヤ","コウキ","高校1"]
[3824,"田尻","敦己","タジリ","アツキ","高校1"]
[3825,"谷口","颯亮","タニグチ","ソウスケ","高校1"]
[3826,"友成","悠太","トモナリ","ユウタ","高校1"]
[3828,"藤井","暖","フジイ","ハル","高校1"]
[3829,"渡辺","雅樹","ワタナベ","マサキ","高校1"]
[3829,"橋本","翔太","ハシモト","ショウタ","高校1"]
[3894,"中川","颯","ナカガワ","ソウ","高校3"]
[3895,"平山","大気","ヒラヤマ","タイキ","高校3"]
[3897,"阪本","輝","サカモト","ヒカル","高校3"]
[3898,"杉町","烈","スギマチ","レツ","高校3"]
[3899,"塚元","翔生","ツカモト","カイ","高校3"]
[3974,"オリビエ","真之亜","オリビエ","マノア","高校3"]
[3976,"栗野","元汰","クリノ","ゲンタ","高校3"]
[3977,"田邊","優","タナベ","ユウ","高校3"]
[3978,"三内","温","ミウチ","アツシ","高校3"]
[3980,"矢野","暉也","ヤノ","アキヤ","高校3"]
[3981,"山下","泰輝","ヤマシタ","タイキ","高校3"]
[3982,"藪内","頸佑","ヤブウチ","ケイスケ","高校3"]
[3983,"松永","音輝","マツナガ","トキ","高校3"]
[3984,"大西","晃平","オオニシ","コウヘイ","高校2"]
[3985,"神﨑","敬人","カンザキ","ユキト","高校2"]
[3986,"松井","海都","マツイ","カイト","高校2"]
[3987,"前山","逢翔","マエヤマ","アイト","高校2"]
[3988,"中島","爽汰","ナカジマ","ソウタ","高校2"]
[3989,"稲岡","蒼太","イナオカ","ソウタ","高校2"]
[3990,"手取","響輝","テドリ","ヒビキ","高校2"]
[3992,"篠原","颯太","シノハラ","ソウタ","高校1"]
[3993,"森宗","昊生","モリムネ","コウセイ","高校1"]
[3994,"小笠原","和己","オガサハラ","トモキ","高校1"]
[3995,"櫻井","光翔","サクライ","ヒロト","高校1"]
[3996,"清家","楓雅","セイケ","フウガ","高校1"]
[3997,"尾仲","楓真","オナカ","フウマ","高校1"]
[4001,"中嶋","淳志","ナカジマ","アツシ","高校3"]
[4002,"樗木","慎也","オオテキ","シンヤ","高校3"]
[4003,"黒川","航平","クロカワ","コウヘイ","高校3"]
[4004,"橘","龍","タチバナ","リュウ","高校3"]
[4005,"原","伶泉矢","ハラ","レイヤ","高校3"]
[4008,"牧江","真太郎","マキエ","シンタロウ","高校3"]
[4009,"山内","空斗","ヤマウチ","ソラト","高校3"]
[4010,"松下","晃翔","マツシタ","アキト","高校3"]
[4011,"加地","由紀智","カジ","ユキノリ","高校2"]
[4012,"菅","啓太","スガ","ケイタ","高校2"]
[4015,"細田","悠星","ホソダ","ユウセイ","高校2"]
[4016,"平垣","翔亜","ヒラガキ","トア","高校2"]
[4017,"住吉","昴瑠","スミヨシ","スバル","高校1"]
[4018,"四方","悠貴","シカタ","ユウキ","高校1"]
[4019,"荻下","直太郎","オギシタ","ナオタロウ","高校1"]
[4101,"安藤","聖大","アンドウ","セイマ","高校2"]
[4102,"池田","颯大朗","イケダ","ソウタロウ","高校2"]
[4103,"鎌倉","優","カマクラ","ユウ","高校2"]
[4104,"木崎","諒","キザキ","リョウ","高校2"]
[4105,"工藤","弘成","クドウ","ヒロナリ","高校2"]
[4106,"黒木","有志朗","クロキ","ユウシロウ","高校2"]
[4107,"佐藤","友哉","サトウ","トモヤ","高校2"]
[4108,"寺田","泰生","テラダ","タイセイ","高校2"]
[4109,"東海","晴大","トウカイ","ハルヒロ","高校2"]
[4110,"福島","琉唯","フクシマ","ルイ","高校2"]
[4111,"松本","竜胆","マツモト","リンドウ","高校2"]
[4112,"阪上","蒼空","サカウエ","ソラ","高校1"]
[4113,"野村","絢也","ノムラ","ケンヤ","高校1"]
[4114,"山口","悠斗","ヤマグチ","ユウト","高校1"]
[4115,"安達","巧馬","アダチ","タクマ","高校1"]
[4116,"辻","快統","ツジ","カイト","高校1"]
[4117,"寺本","悠真","テラモト","ユウシン","高校1"]
[4118,"石井","光騎","イシイ","ミツキ","高校1"]
[4119,"島本","瑛真","シマモト","テルマ","高校1"]
[4120,"中山","瑛音","ナカヤマ","エイト","高校1"]
[4193,"神田","淳史","カンダ","アツシ","高校3"]
[4194,"岸田","拓也","キシダ","タクヤ","高校3"]
[4195,"谷本","俊輔","タニモト","シュンスケ","高校3"]
[4196,"冨山","航輝","トミヤマ","コウキ","高校3"]
[4197,"森田","暖","モリタ","ハル","高校3"]
[4198,"矢野","心大","ヤノ","ミクト","高校3"]
[4199,"横田","遼大","ヨコタ","ハルト","高校3"]
[4359,"飯牟田","一惺","イムタ","イッセイ","高校3"]
[4360,"牧野","暖","マキノ","ハル","高校3"]
[4362,"三輪","康太","ミワ","コウタ","高校3"]
[4363,"平安","温人","ヒラヤス","ハルト","高校2"]
[4364,"金本","昇樹","カネモト","ショウキ","高校2"]
[4365,"小川","榮心","オガワ","ヒサムネ","高校2"]
[4366,"住野","春樹","スミノ","ハルキ","高校1"]
[4367,"吉田","圭志","ヨシダ","ケイシ","高校1"]
[4368,"磯川","友","イソカワ","ユウ","高校1"]
[4369,"末定","優之介","スエサダ","ユウノスケ","高校1"]
[4401,"三井","庸靖","ミツイ","ノブヤス","高校3"]
[4402,"諸井","沢哉","モロイ","タクヤ","高校2"]
[4403,"松田","翔伍","マツダ","ショウゴ","高校2"]
[4404,"山本","颯真","ヤマモト","ソウマ","高校2"]
[4405,"梶","正人","カジ","マサト","高校2"]
[4406,"吉澤","瑞稀","ヨシザワ","ミズキ","高校2"]
[4487,"渡邉","佑一","ワタナベ","ユウイチ","高校3"]
[4488,"式見","仁三朗","シキミ","ジンザブロウ","高校3"]
[4490,"大川","漱也","オオカワ","シュウヤ","高校3"]
[4493,"沼田","光樹","ヌマタ","コウキ","高校3"]
[4494,"西岡","佑悟","ニシオカ","ユウゴ","高校3"]
[4495,"大堀","航太郎","オオホリ","コウタロウ","高校3"]
[4496,"野川","英雅","ノガワ","トシマサ","高校3"]
[4497,"秋岡","慶哉","アキオカ","ケイヤ","高校3"]
[4664,"濱田","亜由太","ハマダ","アユタ","高校3"]
[4665,"宮﨑","巧翔","ミヤザキ","タクト","高校3"]
[4666,"大槻","聖斗","オオツキ","マサト","高校2"]
[4667,"山中","瑠希亜","ヤマナカ","ルキア","高校3"]
[4668,"水谷","晃輝","ミズタニ","コウキ","高校2"]
[4669,"坂本","翔","サカモト","ショウ","高校2"]
[4670,"福田","零","フクダ","レイ","高校2"]
[4671,"川田","恭平","カワタ","キョウヘイ","高校2"]
[4672,"渡邉","音空","ワタナベ","モク","高校2"]
[4788,"小林","俊音","コバヤシ","シュント","高校3"]
[4789,"木田","崇登","キダ","タカト","高校3"]
[4790,"林","嵩大","ハヤシ","タカヒロ","高校3"]
[4791,"楠","侑才","クスノキ","ユサ","高校1"]
[4792,"髙田","真弥","タカダ","シンヤ","高校1"]
[4811,"鄧","正煕","トウ","セイキ","高校3"]
[4813,"北村","怜意","キタムラ","レイ","高校1"]
[0,"嶋本","拓磨","シマモト","タクマ","高校1"]
[0,"紀伊","聡一郎","キイ","ソウイチロウ","高校1"]
[0,"窪井","亮人","クボイ","リョウト","高校1"]
[0,"堺","皐樹","サカイ","コウキ","高校1"]
[0,"豊原","颯真","トヨハラ","ソウマ","高校1"]
[0,"山﨑","文暁","ヤマサキ","フミアキ","高校1"]
[0,"池田","壮達","イケダ","ソウタツ","高校1"]
[0,"仲","慶一朗","ナカ","ケイイチロウ","高校1"]
[0,"平田","昇馬","ヒラタ","ショウマ","高校1"]
[0,"村上","幸太","ムラカミ","コウタ","高校1"]
[0,"堀川","晴登","ホリカワ","ハルト","高校1"]
[0,"吉田","隼悠","ヨシダ","トシハル","高校1"]
[0,"出口","大翔","デグチ","ダイト","高校1"]
[0,"向井","陸人","ムカイ","リクト","高校1"]
[0,"小寺","智仁","コテラ","トモヒト","高校1"]
[]
[]
[]
[]
[]
[]
[]
[]
[]
[]
[]
[]
[]
[]
[]
[]
[]
[]
[]
[]
[]
[]
[]
[]
[]
[]
[]
[]
[]
[]
[]
[]
[]
[]
[]
[]
[]
[]
[]
[]
[]
[]
[]
[]
[]
[]
[]
[]
[]
[]
[]
[]
[]
[]
[]
[]
[]
[]
[]
[]
[]
[]
[]
[]
[]
[]
[]
[]
[]
[]
[]
[]
[]
[]
[]
[]
[]
[]
[]
[]
[]
[]
[]
[]
[]
[]
[]
[]
[]
[]
[]
[]
[]
[]
[]
[]
[]
[]
[]
[]
[]
[]
[]
[]
[]
[]
[]
[]
[]
[]
[]
[]
[]
[]
[]
[]
[]
[]
[]
[]
[]
[]
[]
[]
[]
[]
[]
[]
["登録番号","姓","名","姓（フリガナ）","名（フリガナ）","学年"]

{"sheet":"計算①","index":7,"n_rows":0,"n_cols":0,"rows_kept":0,"cut":false,"hidden":false,"merged":[]}

{"sheet":"学校番号","index":8,"n_rows":50,"n_cols":8,"rows_kept":50,"cut":false,"hidden":true,"merged":[]}
[]
[100,null,"ゼッケン",null,null,null,null,"〒"]
[4101,"県立尼崎高等学校",100,"県尼崎","660-0804","尼崎市北大物町18-1","06-6401-0643"]
[4102,"市立尼崎高等学校",200,"市尼崎","661-0014","尼崎市上ノ島町1-38-1","06-6429-0169"]
[4103,"市立尼崎双星高等学校",300,"尼崎双星","661-0983","尼崎市口田中2-8-1","06-6491-7000"]
[4104,"県立尼崎西高等学校",400,"尼崎西","660-0076","尼崎市大島2-34-1","06-6417-5021"]
[4105,"県立尼崎北高等学校",500,"尼崎北","661-0002","尼崎市塚口町5-40-1","06-6421-0132"]
[4106,"県立尼崎稲園高等学校",600,"尼崎稲園","661-0981","尼崎市猪名寺3-1-1","06-6422-0271"]
[4107,"県立尼崎小田高等学校",700,"尼崎小田","660-0802","尼崎市長洲中通2-17-46","06-6488-5335"]
[4108,null,800]
[4109,"県立武庫荘総合高等学校",900,"武庫荘総合","661-0035","尼崎市武庫之荘8-31-1","06-6431-5520"]
[4110,"県立尼崎工業高等学校",1000,"尼崎工","660-0802","尼崎市長洲中通1-13-1","06-6481-4841"]
[4111,null,1100]
[4112,"園田学園高等学校",1200,"園田","661-0012","尼崎市塚口町1-24-16","06-6428-2242"]
[4113,"百合学院高等学校",1300,"百合"]
[4114,"県立西宮高等学校",1400,"県西宮","662-0813","西宮市上甲東園2-4-32","0798-52-0185"]
[4115,"市立西宮高等学校",1500,"市西宮","662-0872","西宮市高座町14-117","0798-74-6711"]
[4116,"市立西宮東高等学校",1600,"西宮東","663-8185","西宮市古川町1-12","0798-47-6013"]
[4117,"県立西宮南高等学校",1700,"西宮南","663-8141","西宮市高須町2-1-43","0798-45-2043"]
[4118,"県立西宮北高等学校",1800,"西宮北","662-0082","西宮市苦楽園二番町16-80","0798-71-1301"]
[4119,"県立鳴尾高等学校",1900,"鳴尾","663-8182","西宮市学文殿町2-1-60","0798-47-1324"]
[4120,"県立西宮今津高等学校",2000,"西宮今津","663-8154","西宮市浜甲子園4-1-5","0798-45-1941"]
[4121,"県立西宮甲山高等学校",2100,"西宮甲山","662-0004","西宮市鷲林寺字剣谷10","0798-74-2460"]
[4122,"甲陽学院高等学校",2200,"甲陽","662-0096","西宮市角石長3-138","0798-73-3011"]
[4123,"関西学院高等部",2300,"関学","662-8501","西宮市上ヶ原一番町1-155","0798-51-0975"]
[4124,null,2400]
[4125,"仁川学院高等学校",2500,"仁川","662-0812","西宮市甲東園2-13-9","0798-51-3621"]
[4126,"報徳学園高等学校",2600,"報徳","663-8003","西宮市瓦林町4-25","0798-65-6100"]
[4127,"武庫川女子大学付属高等学校",2700,"武庫川大附","663-8143","西宮市枝川町4-16","0798-47-6436"]
[4128,"甲子園学院高等学校",2800,"甲子園"]
[4129,null,2900]
[4130,"県立伊丹高等学校",3000,"県伊丹","664-0012","伊丹市緑が丘7-31-1","072-782-2065"]
[4131,"市立伊丹高等学校",3100,"市伊丹","664-0857","伊丹市行基町4-1","072-772-2040"]
[4132,"県立伊丹西高等学校",3200,"伊丹西","664-0025","伊丹市奥畑3-5","0727-77-3711"]
[4133,"県立伊丹北高等学校",3300,"伊丹北","664-0006","伊丹市鴻池7-2-1","072-779-4651"]
[4134,"県立川西緑台高等学校",3400,"川西緑台","666-0115","川西市向陽台1-8","072-793-0361"]
[4135,"県立川西明峰高等学校",3500,"川西明峰","666-0006","川西市萩原台西2-324","072-757-8826"]
[4136,"県立川西北陵高等学校",3600,"川西北陵","666-0157","川西市緑が丘2-14-1","072-794-7411"]
[4137,"県立猪名川高等学校",3700,"猪名川","666-0233","川辺郡猪名川町紫合字新林4-4","072-766-0101"]
[4138,"県立宝塚高等学校",3800,"宝塚","665-0024","宝塚市逆瀬台2-2-1","0797-71-0345"]
[4139,"県立宝塚東高等学校",3900,"宝塚東","665-0871","宝塚市中山五月台1-12-1","0797-89-3751"]
[4140,"県立宝塚西高等学校",4000,"宝塚西","665-0025","宝塚市ゆずり葉台1-1-1","0797-73-4035"]
[4141,"県立宝塚北高等学校",4100,"宝塚北","665-0847","宝塚市すみれガ丘4-1-1","0797-86-3291"]
[4142,"小林聖心女子学院高等学校",4200,"小林聖心","665-0073","宝塚市塔の町3-113","0797-71-7321"]
[4143,"県立芦屋高等学校",4300,"芦屋","659-0063","芦屋市宮川町6-3","0797-32-2325"]
[4144,"雲雀丘学園高等学校",4400,"雲雀丘","665-0805","宝塚市雲雀丘4-2-1","072-759-1300"]
[4145,"県立国際高等学校",4500,"県国際","659-0031","芦屋市新浜町1-2","0797-35-5931"]
[4146,"芦屋学園高等学校",4600,"芦谷学園","659-0011","芦屋市六麓荘町16-18","0797-31-0666"]
[4147,"甲南高等学校",4700,"甲南","659-0096","芦屋市山手町31-3","0797-31-0551"]
[4148,"県立芦屋国際中等教育学校",4800,"芦国中等","659-0031","芦屋市新浜町1-2","0797-38-2293"]

{"sheet":"CSV","index":9,"n_rows":110,"n_cols":13,"rows_kept":110,"cut":false,"hidden":true,"merged":[]}
["DB","N1","N2","SX","KC","MC","ZK","S1","400mR","1600mR",{"$f":"28&初期設定!C4","v":"28"},{"$f":"記録入力!N76","v":""},{"$f":"記録入力!N82","v":""}]
[{"$f":"IF(計算①!J1=\"\",\"\",\"128\"&初期設定!$C$4&RIGHT(計算①!J1,2))","v":""},{"$f":"IF(A2=\"\",\"\",計算①!K1)","v":""},{"$f":"IF(A2=\"\",\"\",VLOOKUP(G2,男子選手!$B$5:$E$103,3,FALSE))","v":""},{"$f":"IF(A2=\"\",\"\",1)","v":""},{"$f":"IF(OR(A2=\"\",計算①!B1=\"\"),\"\",28)","v":""},{"$f":"IF(A2=\"\",\"\",\"28\"&初期設定!$C$4)","v":""},{"$f":"IF(A2=\"\",\"\",計算①!J1)","v":""},{"$f":"IF(OR(A2=\"\",LEFT(計算①!A1,1)=\"6\"),\"\",LEFT(計算①!A1,4)&計算①!B1&\" \"&IF(計算①!D1=\"01T\",TEXT(計算①!N1,\"0000000\"),TEXT(計算①!N1,\"00000\")))","v":""},{"$f":"IF(計算①!A1=\"60100\",1,\"\")","v":""},{"$f":"IF(計算①!A1=\"60300\",1,\"\")","v":""}]
[{"$f":"IF(計算①!J2=\"\",\"\",\"128\"&初期設定!$C$4&RIGHT(計算①!J2,2))","v":""},{"$f":"IF(A3=\"\",\"\",計算①!K2)","v":""},{"$f":"IF(A3=\"\",\"\",VLOOKUP(G3,男子選手!$B$5:$E$103,3,FALSE))","v":""},{"$f":"IF(A3=\"\",\"\",1)","v":""},{"$f":"IF(OR(A3=\"\",計算①!B2=\"\"),\"\",28)","v":""},{"$f":"IF(A3=\"\",\"\",\"28\"&初期設定!$C$4)","v":""},{"$f":"IF(A3=\"\",\"\",計算①!J2)","v":""},{"$f":"IF(OR(A3=\"\",LEFT(計算①!A2,1)=\"6\"),\"\",LEFT(計算①!A2,4)&計算①!B2&\" \"&IF(計算①!D2=\"01T\",TEXT(計算①!N2,\"0000000\"),TEXT(計算①!N2,\"00000\")))","v":""},{"$f":"IF(計算①!A2=\"60100\",1,\"\")","v":""},{"$f":"IF(計算①!A2=\"60300\",1,\"\")","v":""}]
[{"$f":"IF(計算①!J3=\"\",\"\",\"128\"&初期設定!$C$4&RIGHT(計算①!J3,2))","v":""},{"$f":"IF(A4=\"\",\"\",計算①!K3)","v":""},{"$f":"IF(A4=\"\",\"\",VLOOKUP(G4,男子選手!$B$5:$E$103,3,FALSE))","v":""},"",{"$f":"IF(OR(A4=\"\",計算①!B3=\"\"),\"\",28)","v":""},{"$f":"IF(A4=\"\",\"\",\"28\"&初期設定!$C$4)","v":""},{"$f":"IF(A4=\"\",\"\",計算①!J3)","v":""},{"$f":"IF(OR(A4=\"\",LEFT(計算①!A3,1)=\"6\"),\"\",LEFT(計算①!A3,4)&計算①!B3&\" \"&IF(計算①!D3=\"01T\",TEXT(計算①!N3,\"0000000\"),TEXT(計算①!N3,\"00000\")))","v":""},{"$f":"IF(計算①!A3=\"60100\",1,\"\")","v":""},{"$f":"IF(計算①!A3=\"60300\",1,\"\")","v":""}]
[{"$f":"IF(計算①!J4=\"\",\"\",\"128\"&初期設定!$C$4&RIGHT(計算①!J4,2))","v":""},{"$f":"IF(A5=\"\",\"\",計算①!K4)","v":""},{"$f":"IF(A5=\"\",\"\",VLOOKUP(G5,男子選手!$B$5:$E$103,3,FALSE))","v":""},"",{"$f":"IF(OR(A5=\"\",計算①!B4=\"\"),\"\",28)","v":""},{"$f":"IF(A5=\"\",\"\",\"28\"&初期設定!$C$4)","v":""},{"$f":"IF(A5=\"\",\"\",計算①!J4)","v":""},{"$f":"IF(OR(A5=\"\",LEFT(計算①!A4,1)=\"6\"),\"\",LEFT(計算①!A4,4)&計算①!B4&\" \"&IF(計算①!D4=\"01T\",TEXT(計算①!N4,\"0000000\"),TEXT(計算①!N4,\"00000\")))","v":""},{"$f":"IF(計算①!A4=\"60100\",1,\"\")","v":""},{"$f":"IF(計算①!A4=\"60300\",1,\"\")","v":""}]
[{"$f":"IF(計算①!J5=\"\",\"\",\"128\"&初期設定!$C$4&RIGHT(計算①!J5,2))","v":""},{"$f":"IF(A6=\"\",\"\",計算①!K5)","v":""},{"$f":"IF(A6=\"\",\"\",VLOOKUP(G6,男子選手!$B$5:$E$103,3,FALSE))","v":""},"",{"$f":"IF(OR(A6=\"\",計算①!B5=\"\"),\"\",28)","v":""},{"$f":"IF(A6=\"\",\"\",\"28\"&初期設定!$C$4)","v":""},{"$f":"IF(A6=\"\",\"\",計算①!J5)","v":""},{"$f":"IF(OR(A6=\"\",LEFT(計算①!A5,1)=\"6\"),\"\",LEFT(計算①!A5,4)&計算①!B5&\" \"&IF(計算①!D5=\"01T\",TEXT(計算①!N5,\"0000000\"),TEXT(計算①!N5,\"00000\")))","v":""},{"$f":"IF(計算①!A5=\"60100\",1,\"\")","v":""},{"$f":"IF(計算①!A5=\"60300\",1,\"\")","v":""}]
[{"$f":"IF(計算①!J6=\"\",\"\",\"128\"&初期設定!$C$4&RIGHT(計算①!J6,2))","v":""},{"$f":"IF(A7=\"\",\"\",計算①!K6)","v":""},{"$f":"IF(A7=\"\",\"\",VLOOKUP(G7,男子選手!$B$5:$E$103,3,FALSE))","v":""},"",{"$f":"IF(OR(A7=\"\",計算①!B6=\"\"),\"\",28)","v":""},{"$f":"IF(A7=\"\",\"\",\"28\"&初期設定!$C$4)","v":""},{"$f":"IF(A7=\"\",\"\",計算①!J6)","v":""},{"$f":"IF(OR(A7=\"\",LEFT(計算①!A6,1)=\"6\"),\"\",LEFT(計算①!A6,4)&計算①!B6&\" \"&IF(計算①!D6=\"01T\",TEXT(計算①!N6,\"0000000\"),TEXT(計算①!N6,\"00000\")))","v":""},{"$f":"IF(計算①!A6=\"60100\",1,\"\")","v":""},{"$f":"IF(計算①!A6=\"60300\",1,\"\")","v":""}]
[{"$f":"IF(計算①!J7=\"\",\"\",\"128\"&初期設定!$C$4&RIGHT(計算①!J7,2))","v":""},{"$f":"IF(A8=\"\",\"\",計算①!K7)","v":""},{"$f":"IF(A8=\"\",\"\",VLOOKUP(G8,男子選手!$B$5:$E$103,3,FALSE))","v":""},"",{"$f":"IF(OR(A8=\"\",計算①!B7=\"\"),\"\",28)","v":""},{"$f":"IF(A8=\"\",\"\",\"28\"&初期設定!$C$4)","v":""},{"$f":"IF(A8=\"\",\"\",計算①!J7)","v":""},{"$f":"IF(OR(A8=\"\",LEFT(計算①!A7,1)=\"6\"),\"\",LEFT(計算①!A7,4)&計算①!B7&\" \"&IF(計算①!D7=\"01T\",TEXT(計算①!N7,\"0000000\"),TEXT(計算①!N7,\"00000\")))","v":""},{"$f":"IF(計算①!A7=\"60100\",1,\"\")","v":""},{"$f":"IF(計算①!A7=\"60300\",1,\"\")","v":""}]
[{"$f":"IF(計算①!J8=\"\",\"\",\"128\"&初期設定!$C$4&RIGHT(計算①!J8,2))","v":""},{"$f":"IF(A9=\"\",\"\",計算①!K8)","v":""},{"$f":"IF(A9=\"\",\"\",VLOOKUP(G9,男子選手!$B$5:$E$103,3,FALSE))","v":""},"",{"$f":"IF(OR(A9=\"\",計算①!B8=\"\"),\"\",28)","v":""},{"$f":"IF(A9=\"\",\"\",\"28\"&初期設定!$C$4)","v":""},{"$f":"IF(A9=\"\",\"\",計算①!J8)","v":""},{"$f":"IF(OR(A9=\"\",LEFT(計算①!A8,1)=\"6\"),\"\",LEFT(計算①!A8,4)&計算①!B8&\" \"&IF(計算①!D8=\"01T\",TEXT(計算①!N8,\"0000000\"),TEXT(計算①!N8,\"00000\")))","v":""},{"$f":"IF(計算①!A8=\"60100\",1,\"\")","v":""},{"$f":"IF(計算①!A8=\"60300\",1,\"\")","v":""}]
[{"$f":"IF(計算①!J9=\"\",\"\",\"128\"&初期設定!$C$4&RIGHT(計算①!J9,2))","v":""},{"$f":"IF(A10=\"\",\"\",計算①!K9)","v":""},{"$f":"IF(A10=\"\",\"\",VLOOKUP(G10,男子選手!$B$5:$E$103,3,FALSE))","v":""},"",{"$f":"IF(OR(A10=\"\",計算①!B9=\"\"),\"\",28)","v":""},{"$f":"IF(A10=\"\",\"\",\"28\"&初期設定!$C$4)","v":""},{"$f":"IF(A10=\"\",\"\",計算①!J9)","v":""},{"$f":"IF(OR(A10=\"\",LEFT(計算①!A9,1)=\"6\"),\"\",LEFT(計算①!A9,4)&計算①!B9&\" \"&IF(計算①!D9=\"01T\",TEXT(計算①!N9,\"0000000\"),TEXT(計算①!N9,\"00000\")))","v":""},{"$f":"IF(計算①!A9=\"60100\",1,\"\")","v":""},{"$f":"IF(計算①!A9=\"60300\",1,\"\")","v":""}]
[{"$f":"IF(計算①!J10=\"\",\"\",\"128\"&初期設定!$C$4&RIGHT(計算①!J10,2))","v":""},{"$f":"IF(A11=\"\",\"\",計算①!K10)","v":""},{"$f":"IF(A11=\"\",\"\",VLOOKUP(G11,男子選手!$B$5:$E$103,3,FALSE))","v":""},"",{"$f":"IF(OR(A11=\"\",計算①!B10=\"\"),\"\",28)","v":""},{"$f":"IF(A11=\"\",\"\",\"28\"&初期設定!$C$4)","v":""},{"$f":"IF(A11=\"\",\"\",計算①!J10)","v":""},{"$f":"IF(OR(A11=\"\",LEFT(計算①!A10,1)=\"6\"),\"\",LEFT(計算①!A10,4)&計算①!B10&\" \"&IF(計算①!D10=\"01T\",TEXT(計算①!N10,\"0000000\"),TEXT(計算①!N10,\"00000\")))","v":""},{"$f":"IF(計算①!A10=\"60100\",1,\"\")","v":""},{"$f":"IF(計算①!A10=\"60300\",1,\"\")","v":""}]
[{"$f":"IF(計算①!J11=\"\",\"\",\"128\"&初期設定!$C$4&RIGHT(計算①!J11,2))","v":""},{"$f":"IF(A12=\"\",\"\",計算①!K11)","v":""},{"$f":"IF(A12=\"\",\"\",VLOOKUP(G12,男子選手!$B$5:$E$103,3,FALSE))","v":""},"",{"$f":"IF(OR(A12=\"\",計算①!B11=\"\"),\"\",28)","v":""},{"$f":"IF(A12=\"\",\"\",\"28\"&初期設定!$C$4)","v":""},{"$f":"IF(A12=\"\",\"\",計算①!J11)","v":""},{"$f":"IF(OR(A12=\"\",LEFT(計算①!A11,1)=\"6\"),\"\",LEFT(計算①!A11,4)&計算①!B11&\" \"&IF(計算①!D11=\"01T\",TEXT(計算①!N11,\"0000000\"),TEXT(計算①!N11,\"00000\")))","v":""},{"$f":"IF(計算①!A11=\"60100\",1,\"\")","v":""},{"$f":"IF(計算①!A11=\"60300\",1,\"\")","v":""}]
[{"$f":"IF(計算①!J12=\"\",\"\",\"128\"&初期設定!$C$4&RIGHT(計算①!J12,2))","v":""},{"$f":"IF(A13=\"\",\"\",計算①!K12)","v":""},{"$f":"IF(A13=\"\",\"\",VLOOKUP(G13,男子選手!$B$5:$E$103,3,FALSE))","v":""},"",{"$f":"IF(OR(A13=\"\",計算①!B12=\"\"),\"\",28)","v":""},{"$f":"IF(A13=\"\",\"\",\"28\"&初期設定!$C$4)","v":""},{"$f":"IF(A13=\"\",\"\",計算①!J12)","v":""},{"$f":"IF(OR(A13=\"\",LEFT(計算①!A12,1)=\"6\"),\"\",LEFT(計算①!A12,4)&計算①!B12&\" \"&IF(計算①!D12=\"01T\",TEXT(計算①!N12,\"0000000\"),TEXT(計算①!N12,\"00000\")))","v":""},{"$f":"IF(計算①!A12=\"60100\",1,\"\")","v":""},{"$f":"IF(計算①!A12=\"60300\",1,\"\")","v":""}]
[{"$f":"IF(計算①!J13=\"\",\"\",\"128\"&初期設定!$C$4&RIGHT(計算①!J13,2))","v":""},{"$f":"IF(A14=\"\",\"\",計算①!K13)","v":""},{"$f":"IF(A14=\"\",\"\",VLOOKUP(G14,男子選手!$B$5:$E$103,3,FALSE))","v":""},"",{"$f":"IF(OR(A14=\"\",計算①!B13=\"\"),\"\",28)","v":""},{"$f":"IF(A14=\"\",\"\",\"28\"&初期設定!$C$4)","v":""},{"$f":"IF(A14=\"\",\"\",計算①!J13)","v":""},{"$f":"IF(OR(A14=\"\",LEFT(計算①!A13,1)=\"6\"),\"\",LEFT(計算①!A13,4)&計算①!B13&\" \"&IF(計算①!D13=\"01T\",TEXT(計算①!N13,\"0000000\"),TEXT(計算①!N13,\"00000\")))","v":""},{"$f":"IF(計算①!A13=\"60100\",1,\"\")","v":""},{"$f":"IF(計算①!A13=\"60300\",1,\"\")","v":""}]
[{"$f":"IF(計算①!J14=\"\",\"\",\"128\"&初期設定!$C$4&RIGHT(計算①!J14,2))","v":""},{"$f":"IF(A15=\"\",\"\",計算①!K14)","v":""},{"$f":"IF(A15=\"\",\"\",VLOOKUP(G15,男子選手!$B$5:$E$103,3,FALSE))","v":""},"",{"$f":"IF(OR(A15=\"\",計算①!B14=\"\"),\"\",28)","v":""},{"$f":"IF(A15=\"\",\"\",\"28\"&初期設定!$C$4)","v":""},{"$f":"IF(A15=\"\",\"\",計算①!J14)","v":""},{"$f":"IF(OR(A15=\"\",LEFT(計算①!A14,1)=\"6\"),\"\",LEFT(計算①!A14,4)&計算①!B14&\" \"&IF(計算①!D14=\"01T\",TEXT(計算①!N14,\"0000000\"),TEXT(計算①!N14,\"00000\")))","v":""},{"$f":"IF(計算①!A14=\"60100\",1,\"\")","v":""},{"$f":"IF(計算①!A14=\"60300\",1,\"\")","v":""}]
[{"$f":"IF(計算①!J15=\"\",\"\",\"128\"&初期設定!$C$4&RIGHT(計算①!J15,2))","v":""},{"$f":"IF(A16=\"\",\"\",計算①!K15)","v":""},{"$f":"IF(A16=\"\",\"\",VLOOKUP(G16,男子選手!$B$5:$E$103,3,FALSE))","v":""},"",{"$f":"IF(OR(A16=\"\",計算①!B15=\"\"),\"\",28)","v":""},{"$f":"IF(A16=\"\",\"\",\"28\"&初期設定!$C$4)","v":""},{"$f":"IF(A16=\"\",\"\",計算①!J15)","v":""},{"$f":"IF(OR(A16=\"\",LEFT(計算①!A15,1)=\"6\"),\"\",LEFT(計算①!A15,4)&計算①!B15&\" \"&IF(計算①!D15=\"01T\",TEXT(計算①!N15,\"0000000\"),TEXT(計算①!N15,\"00000\")))","v":""},{"$f":"IF(計算①!A15=\"60100\",1,\"\")","v":""},{"$f":"IF(計算①!A15=\"60300\",1,\"\")","v":""}]
[{"$f":"IF(計算①!J16=\"\",\"\",\"128\"&初期設定!$C$4&RIGHT(計算①!J16,2))","v":""},{"$f":"IF(A17=\"\",\"\",計算①!K16)","v":""},{"$f":"IF(A17=\"\",\"\",VLOOKUP(G17,男子選手!$B$5:$E$103,3,FALSE))","v":""},"",{"$f":"IF(OR(A17=\"\",計算①!B16=\"\"),\"\",28)","v":""},{"$f":"IF(A17=\"\",\"\",\"28\"&初期設定!$C$4)","v":""},{"$f":"IF(A17=\"\",\"\",計算①!J16)","v":""},{"$f":"IF(OR(A17=\"\",LEFT(計算①!A16,1)=\"6\"),\"\",LEFT(計算①!A16,4)&計算①!B16&\" \"&IF(計算①!D16=\"01T\",TEXT(計算①!N16,\"0000000\"),TEXT(計算①!N16,\"00000\")))","v":""},{"$f":"IF(計算①!A16=\"60100\",1,\"\")","v":""},{"$f":"IF(計算①!A16=\"60300\",1,\"\")","v":""}]
[{"$f":"IF(計算①!J17=\"\",\"\",\"128\"&初期設定!$C$4&RIGHT(計算①!J17,2))","v":""},{"$f":"IF(A18=\"\",\"\",計算①!K17)","v":""},{"$f":"IF(A18=\"\",\"\",VLOOKUP(G18,男子選手!$B$5:$E$103,3,FALSE))","v":""},"",{"$f":"IF(OR(A18=\"\",計算①!B17=\"\"),\"\",28)","v":""},{"$f":"IF(A18=\"\",\"\",\"28\"&初期設定!$C$4)","v":""},{"$f":"IF(A18=\"\",\"\",計算①!J17)","v":""},{"$f":"IF(OR(A18=\"\",LEFT(計算①!A17,1)=\"6\"),\"\",LEFT(計算①!A17,4)&計算①!B17&\" \"&IF(計算①!D17=\"01T\",TEXT(計算①!N17,\"0000000\"),TEXT(計算①!N17,\"00000\")))","v":""},{"$f":"IF(計算①!A17=\"60100\",1,\"\")","v":""},{"$f":"IF(計算①!A17=\"60300\",1,\"\")","v":""}]
[{"$f":"IF(計算①!J18=\"\",\"\",\"128\"&初期設定!$C$4&RIGHT(計算①!J18,2))","v":""},{"$f":"IF(A19=\"\",\"\",計算①!K18)","v":""},{"$f":"IF(A19=\"\",\"\",VLOOKUP(G19,男子選手!$B$5:$E$103,3,FALSE))","v":""},"",{"$f":"IF(OR(A19=\"\",計算①!B18=\"\"),\"\",28)","v":""},{"$f":"IF(A19=\"\",\"\",\"28\"&初期設定!$C$4)","v":""},{"$f":"IF(A19=\"\",\"\",計算①!J18)","v":""},{"$f":"IF(OR(A19=\"\",LEFT(計算①!A18,1)=\"6\"),\"\",LEFT(計算①!A18,4)&計算①!B18&\" \"&IF(計算①!D18=\"01T\",TEXT(計算①!N18,\"0000000\"),TEXT(計算①!N18,\"00000\")))","v":""},{"$f":"IF(計算①!A18=\"60100\",1,\"\")","v":""},{"$f":"IF(計算①!A18=\"60300\",1,\"\")","v":""}]
[{"$f":"IF(計算①!J19=\"\",\"\",\"128\"&初期設定!$C$4&RIGHT(計算①!J19,2))","v":""},{"$f":"IF(A20=\"\",\"\",計算①!K19)","v":""},{"$f":"IF(A20=\"\",\"\",VLOOKUP(G20,男子選手!$B$5:$E$103,3,FALSE))","v":""},"",{"$f":"IF(OR(A20=\"\",計算①!B19=\"\"),\"\",28)","v":""},{"$f":"IF(A20=\"\",\"\",\"28\"&初期設定!$C$4)","v":""},{"$f":"IF(A20=\"\",\"\",計算①!J19)","v":""},{"$f":"IF(OR(A20=\"\",LEFT(計算①!A19,1)=\"6\"),\"\",LEFT(計算①!A19,4)&計算①!B19&\" \"&IF(計算①!D19=\"01T\",TEXT(計算①!N19,\"0000000\"),TEXT(計算①!N19,\"00000\")))","v":""},{"$f":"IF(計算①!A19=\"60100\",1,\"\")","v":""},{"$f":"IF(計算①!A19=\"60300\",1,\"\")","v":""}]
[{"$f":"IF(計算①!J20=\"\",\"\",\"128\"&初期設定!$C$4&RIGHT(計算①!J20,2))","v":""},{"$f":"IF(A21=\"\",\"\",計算①!K20)","v":""},{"$f":"IF(A21=\"\",\"\",VLOOKUP(G21,男子選手!$B$5:$E$103,3,FALSE))","v":""},"",{"$f":"IF(OR(A21=\"\",計算①!B20=\"\"),\"\",28)","v":""},{"$f":"IF(A21=\"\",\"\",\"28\"&初期設定!$C$4)","v":""},{"$f":"IF(A21=\"\",\"\",計算①!J20)","v":""},{"$f":"IF(OR(A21=\"\",LEFT(計算①!A20,1)=\"6\"),\"\",LEFT(計算①!A20,4)&計算①!B20&\" \"&IF(計算①!D20=\"01T\",TEXT(計算①!N20,\"0000000\"),TEXT(計算①!N20,\"00000\")))","v":""},{"$f":"IF(計算①!A20=\"60100\",1,\"\")","v":""},{"$f":"IF(計算①!A20=\"60300\",1,\"\")","v":""}]
[{"$f":"IF(計算①!J21=\"\",\"\",\"128\"&初期設定!$C$4&RIGHT(計算①!J21,2))","v":""},{"$f":"IF(A22=\"\",\"\",計算①!K21)","v":""},{"$f":"IF(A22=\"\",\"\",VLOOKUP(G22,男子選手!$B$5:$E$103,3,FALSE))","v":""},"",{"$f":"IF(OR(A22=\"\",計算①!B21=\"\"),\"\",28)","v":""},{"$f":"IF(A22=\"\",\"\",\"28\"&初期設定!$C$4)","v":""},{"$f":"IF(A22=\"\",\"\",計算①!J21)","v":""},{"$f":"IF(OR(A22=\"\",LEFT(計算①!A21,1)=\"6\"),\"\",LEFT(計算①!A21,4)&計算①!B21&\" \"&IF(計算①!D21=\"01T\",TEXT(計算①!N21,\"0000000\"),TEXT(計算①!N21,\"00000\")))","v":""},{"$f":"IF(計算①!A21=\"60100\",1,\"\")","v":""},{"$f":"IF(計算①!A21=\"60300\",1,\"\")","v":""}]
[{"$f":"IF(計算①!J22=\"\",\"\",\"128\"&初期設定!$C$4&RIGHT(計算①!J22,2))","v":""},{"$f":"IF(A23=\"\",\"\",計算①!K22)","v":""},{"$f":"IF(A23=\"\",\"\",VLOOKUP(G23,男子選手!$B$5:$E$103,3,FALSE))","v":""},"",{"$f":"IF(OR(A23=\"\",計算①!B22=\"\"),\"\",28)","v":""},{"$f":"IF(A23=\"\",\"\",\"28\"&初期設定!$C$4)","v":""},{"$f":"IF(A23=\"\",\"\",計算①!J22)","v":""},{"$f":"IF(OR(A23=\"\",LEFT(計算①!A22,1)=\"6\"),\"\",LEFT(計算①!A22,4)&計算①!B22&\" \"&IF(計算①!D22=\"01T\",TEXT(計算①!N22,\"0000000\"),TEXT(計算①!N22,\"00000\")))","v":""},{"$f":"IF(計算①!A22=\"60100\",1,\"\")","v":""},{"$f":"IF(計算①!A22=\"60300\",1,\"\")","v":""}]
[{"$f":"IF(計算①!J23=\"\",\"\",\"128\"&初期設定!$C$4&RIGHT(計算①!J23,2))","v":""},{"$f":"IF(A24=\"\",\"\",計算①!K23)","v":""},{"$f":"IF(A24=\"\",\"\",VLOOKUP(G24,男子選手!$B$5:$E$103,3,FALSE))","v":""},"",{"$f":"IF(OR(A24=\"\",計算①!B23=\"\"),\"\",28)","v":""},{"$f":"IF(A24=\"\",\"\",\"28\"&初期設定!$C$4)","v":""},{"$f":"IF(A24=\"\",\"\",計算①!J23)","v":""},{"$f":"IF(OR(A24=\"\",LEFT(計算①!A23,1)=\"6\"),\"\",LEFT(計算①!A23,4)&計算①!B23&\" \"&IF(計算①!D23=\"01T\",TEXT(計算①!N23,\"0000000\"),TEXT(計算①!N23,\"00000\")))","v":""},{"$f":"IF(計算①!A23=\"60100\",1,\"\")","v":""},{"$f":"IF(計算①!A23=\"60300\",1,\"\")","v":""}]
[{"$f":"IF(計算①!J24=\"\",\"\",\"128\"&初期設定!$C$4&RIGHT(計算①!J24,2))","v":""},{"$f":"IF(A25=\"\",\"\",計算①!K24)","v":""},{"$f":"IF(A25=\"\",\"\",VLOOKUP(G25,男子選手!$B$5:$E$103,3,FALSE))","v":""},"",{"$f":"IF(OR(A25=\"\",計算①!B24=\"\"),\"\",28)","v":""},{"$f":"IF(A25=\"\",\"\",\"28\"&初期設定!$C$4)","v":""},{"$f":"IF(A25=\"\",\"\",計算①!J24)","v":""},{"$f":"IF(OR(A25=\"\",LEFT(計算①!A24,1)=\"6\"),\"\",LEFT(計算①!A24,4)&計算①!B24&\" \"&IF(計算①!D24=\"01T\",TEXT(計算①!N24,\"0000000\"),TEXT(計算①!N24,\"00000\")))","v":""},{"$f":"IF(計算①!A24=\"60100\",1,\"\")","v":""},{"$f":"IF(計算①!A24=\"60300\",1,\"\")","v":""}]
[{"$f":"IF(計算①!J25=\"\",\"\",\"128\"&初期設定!$C$4&RIGHT(計算①!J25,2))","v":""},{"$f":"IF(A26=\"\",\"\",計算①!K25)","v":""},{"$f":"IF(A26=\"\",\"\",VLOOKUP(G26,男子選手!$B$5:$E$103,3,FALSE))","v":""},"",{"$f":"IF(OR(A26=\"\",計算①!B25=\"\"),\"\",28)","v":""},{"$f":"IF(A26=\"\",\"\",\"28\"&初期設定!$C$4)","v":""},{"$f":"IF(A26=\"\",\"\",計算①!J25)","v":""},{"$f":"IF(OR(A26=\"\",LEFT(計算①!A25,1)=\"6\"),\"\",LEFT(計算①!A25,4)&計算①!B25&\" \"&IF(計算①!D25=\"01T\",TEXT(計算①!N25,\"0000000\"),TEXT(計算①!N25,\"00000\")))","v":""},{"$f":"IF(計算①!A25=\"60100\",1,\"\")","v":""},{"$f":"IF(計算①!A25=\"60300\",1,\"\")","v":""}]
[{"$f":"IF(計算①!J26=\"\",\"\",\"128\"&初期設定!$C$4&RIGHT(計算①!J26,2))","v":""},{"$f":"IF(A27=\"\",\"\",計算①!K26)","v":""},{"$f":"IF(A27=\"\",\"\",VLOOKUP(G27,男子選手!$B$5:$E$103,3,FALSE))","v":""},"",{"$f":"IF(OR(A27=\"\",計算①!B26=\"\"),\"\",28)","v":""},{"$f":"IF(A27=\"\",\"\",\"28\"&初期設定!$C$4)","v":""},{"$f":"IF(A27=\"\",\"\",計算①!J26)","v":""},{"$f":"IF(OR(A27=\"\",LEFT(計算①!A26,1)=\"6\"),\"\",LEFT(計算①!A26,4)&計算①!B26&\" \"&IF(計算①!D26=\"01T\",TEXT(計算①!N26,\"0000000\"),TEXT(計算①!N26,\"00000\")))","v":""},{"$f":"IF(計算①!A26=\"60100\",1,\"\")","v":""},{"$f":"IF(計算①!A26=\"60300\",1,\"\")","v":""}]
[{"$f":"IF(計算①!J27=\"\",\"\",\"128\"&初期設定!$C$4&RIGHT(計算①!J27,2))","v":""},{"$f":"IF(A28=\"\",\"\",計算①!K27)","v":""},{"$f":"IF(A28=\"\",\"\",VLOOKUP(G28,男子選手!$B$5:$E$103,3,FALSE))","v":""},"",{"$f":"IF(OR(A28=\"\",計算①!B27=\"\"),\"\",28)","v":""},{"$f":"IF(A28=\"\",\"\",\"28\"&初期設定!$C$4)","v":""},{"$f":"IF(A28=\"\",\"\",計算①!J27)","v":""},{"$f":"IF(OR(A28=\"\",LEFT(計算①!A27,1)=\"6\"),\"\",LEFT(計算①!A27,4)&計算①!B27&\" \"&IF(計算①!D27=\"01T\",TEXT(計算①!N27,\"0000000\"),TEXT(計算①!N27,\"00000\")))","v":""},{"$f":"IF(計算①!A27=\"60100\",1,\"\")","v":""},{"$f":"IF(計算①!A27=\"60300\",1,\"\")","v":""}]
[{"$f":"IF(計算①!J28=\"\",\"\",\"128\"&初期設定!$C$4&RIGHT(計算①!J28,2))","v":""},{"$f":"IF(A29=\"\",\"\",計算①!K28)","v":""},{"$f":"IF(A29=\"\",\"\",VLOOKUP(G29,男子選手!$B$5:$E$103,3,FALSE))","v":""},"",{"$f":"IF(OR(A29=\"\",計算①!B28=\"\"),\"\",28)","v":""},{"$f":"IF(A29=\"\",\"\",\"28\"&初期設定!$C$4)","v":""},{"$f":"IF(A29=\"\",\"\",計算①!J28)","v":""},{"$f":"IF(OR(A29=\"\",LEFT(計算①!A28,1)=\"6\"),\"\",LEFT(計算①!A28,4)&計算①!B28&\" \"&IF(計算①!D28=\"01T\",TEXT(計算①!N28,\"0000000\"),TEXT(計算①!N28,\"00000\")))","v":""},{"$f":"IF(計算①!A28=\"60100\",1,\"\")","v":""},{"$f":"IF(計算①!A28=\"60300\",1,\"\")","v":""}]
[{"$f":"IF(計算①!J29=\"\",\"\",\"128\"&初期設定!$C$4&RIGHT(計算①!J29,2))","v":""},{"$f":"IF(A30=\"\",\"\",計算①!K29)","v":""},{"$f":"IF(A30=\"\",\"\",VLOOKUP(G30,男子選手!$B$5:$E$103,3,FALSE))","v":""},"",{"$f":"IF(OR(A30=\"\",計算①!B29=\"\"),\"\",28)","v":""},{"$f":"IF(A30=\"\",\"\",\"28\"&初期設定!$C$4)","v":""},{"$f":"IF(A30=\"\",\"\",計算①!J29)","v":""},{"$f":"IF(OR(A30=\"\",LEFT(計算①!A29,1)=\"6\"),\"\",LEFT(計算①!A29,4)&計算①!B29&\" \"&IF(計算①!D29=\"01T\",TEXT(計算①!N29,\"0000000\"),TEXT(計算①!N29,\"00000\")))","v":""},{"$f":"IF(計算①!A29=\"60100\",1,\"\")","v":""},{"$f":"IF(計算①!A29=\"60300\",1,\"\")","v":""}]
[{"$f":"IF(計算①!J30=\"\",\"\",\"128\"&初期設定!$C$4&RIGHT(計算①!J30,2))","v":""},{"$f":"IF(A31=\"\",\"\",計算①!K30)","v":""},{"$f":"IF(A31=\"\",\"\",VLOOKUP(G31,男子選手!$B$5:$E$103,3,FALSE))","v":""},"",{"$f":"IF(OR(A31=\"\",計算①!B30=\"\"),\"\",28)","v":""},{"$f":"IF(A31=\"\",\"\",\"28\"&初期設定!$C$4)","v":""},{"$f":"IF(A31=\"\",\"\",計算①!J30)","v":""},{"$f":"IF(OR(A31=\"\",LEFT(計算①!A30,1)=\"6\"),\"\",LEFT(計算①!A30,4)&計算①!B30&\" \"&IF(計算①!D30=\"01T\",TEXT(計算①!N30,\"0000000\"),TEXT(計算①!N30,\"00000\")))","v":""},{"$f":"IF(計算①!A30=\"60100\",1,\"\")","v":""},{"$f":"IF(計算①!A30=\"60300\",1,\"\")","v":""}]
[{"$f":"IF(計算①!J31=\"\",\"\",\"128\"&初期設定!$C$4&RIGHT(計算①!J31,2))","v":""},{"$f":"IF(A32=\"\",\"\",計算①!K31)","v":""},{"$f":"IF(A32=\"\",\"\",VLOOKUP(G32,男子選手!$B$5:$E$103,3,FALSE))","v":""},"",{"$f":"IF(OR(A32=\"\",計算①!B31=\"\"),\"\",28)","v":""},{"$f":"IF(A32=\"\",\"\",\"28\"&初期設定!$C$4)","v":""},{"$f":"IF(A32=\"\",\"\",計算①!J31)","v":""},{"$f":"IF(OR(A32=\"\",LEFT(計算①!A31,1)=\"6\"),\"\",LEFT(計算①!A31,4)&計算①!B31&\" \"&IF(計算①!D31=\"01T\",TEXT(計算①!N31,\"0000000\"),TEXT(計算①!N31,\"00000\")))","v":""},{"$f":"IF(計算①!A31=\"60100\",1,\"\")","v":""},{"$f":"IF(計算①!A31=\"60300\",1,\"\")","v":""}]
[{"$f":"IF(計算①!J32=\"\",\"\",\"128\"&初期設定!$C$4&RIGHT(計算①!J32,2))","v":""},{"$f":"IF(A33=\"\",\"\",計算①!K32)","v":""},{"$f":"IF(A33=\"\",\"\",VLOOKUP(G33,男子選手!$B$5:$E$103,3,FALSE))","v":""},"",{"$f":"IF(OR(A33=\"\",計算①!B32=\"\"),\"\",28)","v":""},{"$f":"IF(A33=\"\",\"\",\"28\"&初期設定!$C$4)","v":""},{"$f":"IF(A33=\"\",\"\",計算①!J32)","v":""},{"$f":"IF(OR(A33=\"\",LEFT(計算①!A32,1)=\"6\"),\"\",LEFT(計算①!A32,4)&計算①!B32&\" \"&IF(計算①!D32=\"01T\",TEXT(計算①!N32,\"0000000\"),TEXT(計算①!N32,\"00000\")))","v":""},{"$f":"IF(計算①!A32=\"60100\",1,\"\")","v":""},{"$f":"IF(計算①!A32=\"60300\",1,\"\")","v":""}]
[{"$f":"IF(計算①!J33=\"\",\"\",\"128\"&初期設定!$C$4&RIGHT(計算①!J33,2))","v":""},{"$f":"IF(A34=\"\",\"\",計算①!K33)","v":""},{"$f":"IF(A34=\"\",\"\",VLOOKUP(G34,男子選手!$B$5:$E$103,3,FALSE))","v":""},"",{"$f":"IF(OR(A34=\"\",計算①!B33=\"\"),\"\",28)","v":""},{"$f":"IF(A34=\"\",\"\",\"28\"&初期設定!$C$4)","v":""},{"$f":"IF(A34=\"\",\"\",計算①!J33)","v":""},{"$f":"IF(OR(A34=\"\",LEFT(計算①!A33,1)=\"6\"),\"\",LEFT(計算①!A33,4)&計算①!B33&\" \"&IF(計算①!D33=\"01T\",TEXT(計算①!N33,\"0000000\"),TEXT(計算①!N33,\"00000\")))","v":""},{"$f":"IF(計算①!A33=\"60100\",1,\"\")","v":""},{"$f":"IF(計算①!A33=\"60300\",1,\"\")","v":""}]
[{"$f":"IF(計算①!J34=\"\",\"\",\"128\"&初期設定!$C$4&RIGHT(計算①!J34,2))","v":""},{"$f":"IF(A35=\"\",\"\",計算①!K34)","v":""},{"$f":"IF(A35=\"\",\"\",VLOOKUP(G35,男子選手!$B$5:$E$103,3,FALSE))","v":""},"",{"$f":"IF(OR(A35=\"\",計算①!B34=\"\"),\"\",28)","v":""},{"$f":"IF(A35=\"\",\"\",\"28\"&初期設定!$C$4)","v":""},{"$f":"IF(A35=\"\",\"\",計算①!J34)","v":""},{"$f":"IF(OR(A35=\"\",LEFT(計算①!A34,1)=\"6\"),\"\",LEFT(計算①!A34,4)&計算①!B34&\" \"&IF(計算①!D34=\"01T\",TEXT(計算①!N34,\"0000000\"),TEXT(計算①!N34,\"00000\")))","v":""},{"$f":"IF(計算①!A34=\"60100\",1,\"\")","v":""},{"$f":"IF(計算①!A34=\"60300\",1,\"\")","v":""}]
[{"$f":"IF(計算①!J35=\"\",\"\",\"128\"&初期設定!$C$4&RIGHT(計算①!J35,2))","v":""},{"$f":"IF(A36=\"\",\"\",計算①!K35)","v":""},{"$f":"IF(A36=\"\",\"\",VLOOKUP(G36,男子選手!$B$5:$E$103,3,FALSE))","v":""},"",{"$f":"IF(OR(A36=\"\",計算①!B35=\"\"),\"\",28)","v":""},{"$f":"IF(A36=\"\",\"\",\"28\"&初期設定!$C$4)","v":""},{"$f":"IF(A36=\"\",\"\",計算①!J35)","v":""},{"$f":"IF(OR(A36=\"\",LEFT(計算①!A35,1)=\"6\"),\"\",LEFT(計算①!A35,4)&計算①!B35&\" \"&IF(計算①!D35=\"01T\",TEXT(計算①!N35,\"0000000\"),TEXT(計算①!N35,\"00000\")))","v":""},{"$f":"IF(計算①!A35=\"60100\",1,\"\")","v":""},{"$f":"IF(計算①!A35=\"60300\",1,\"\")","v":""}]
[{"$f":"IF(計算①!J36=\"\",\"\",\"128\"&初期設定!$C$4&RIGHT(計算①!J36,2))","v":""},{"$f":"IF(A37=\"\",\"\",計算①!K36)","v":""},{"$f":"IF(A37=\"\",\"\",VLOOKUP(G37,男子選手!$B$5:$E$103,3,FALSE))","v":""},"",{"$f":"IF(OR(A37=\"\",計算①!B36=\"\"),\"\",28)","v":""},{"$f":"IF(A37=\"\",\"\",\"28\"&初期設定!$C$4)","v":""},{"$f":"IF(A37=\"\",\"\",計算①!J36)","v":""},{"$f":"IF(OR(A37=\"\",LEFT(計算①!A36,1)=\"6\"),\"\",LEFT(計算①!A36,4)&計算①!B36&\" \"&IF(計算①!D36=\"01T\",TEXT(計算①!N36,\"0000000\"),TEXT(計算①!N36,\"00000\")))","v":""},{"$f":"IF(計算①!A36=\"60100\",1,\"\")","v":""},{"$f":"IF(計算①!A36=\"60300\",1,\"\")","v":""}]
[{"$f":"IF(計算①!J37=\"\",\"\",\"128\"&初期設定!$C$4&RIGHT(計算①!J37,2))","v":""},{"$f":"IF(A38=\"\",\"\",計算①!K37)","v":""},{"$f":"IF(A38=\"\",\"\",VLOOKUP(G38,男子選手!$B$5:$E$103,3,FALSE))","v":""},"",{"$f":"IF(OR(A38=\"\",計算①!B37=\"\"),\"\",28)","v":""},{"$f":"IF(A38=\"\",\"\",\"28\"&初期設定!$C$4)","v":""},{"$f":"IF(A38=\"\",\"\",計算①!J37)","v":""},{"$f":"IF(OR(A38=\"\",LEFT(計算①!A37,1)=\"6\"),\"\",LEFT(計算①!A37,4)&計算①!B37&\" \"&IF(計算①!D37=\"01T\",TEXT(計算①!N37,\"0000000\"),TEXT(計算①!N37,\"00000\")))","v":""},{"$f":"IF(計算①!A37=\"60100\",1,\"\")","v":""},{"$f":"IF(計算①!A37=\"60300\",1,\"\")","v":""}]
[{"$f":"IF(計算①!J38=\"\",\"\",\"128\"&初期設定!$C$4&RIGHT(計算①!J38,2))","v":""},{"$f":"IF(A39=\"\",\"\",計算①!K38)","v":""},{"$f":"IF(A39=\"\",\"\",VLOOKUP(G39,男子選手!$B$5:$E$103,3,FALSE))","v":""},"",{"$f":"IF(OR(A39=\"\",計算①!B38=\"\"),\"\",28)","v":""},{"$f":"IF(A39=\"\",\"\",\"28\"&初期設定!$C$4)","v":""},{"$f":"IF(A39=\"\",\"\",計算①!J38)","v":""},{"$f":"IF(OR(A39=\"\",LEFT(計算①!A38,1)=\"6\"),\"\",LEFT(計算①!A38,4)&計算①!B38&\" \"&IF(計算①!D38=\"01T\",TEXT(計算①!N38,\"0000000\"),TEXT(計算①!N38,\"00000\")))","v":""},{"$f":"IF(計算①!A38=\"60100\",1,\"\")","v":""},{"$f":"IF(計算①!A38=\"60300\",1,\"\")","v":""}]
[{"$f":"IF(計算①!J39=\"\",\"\",\"128\"&初期設定!$C$4&RIGHT(計算①!J39,2))","v":""},{"$f":"IF(A40=\"\",\"\",計算①!K39)","v":""},{"$f":"IF(A40=\"\",\"\",VLOOKUP(G40,男子選手!$B$5:$E$103,3,FALSE))","v":""},"",{"$f":"IF(OR(A40=\"\",計算①!B39=\"\"),\"\",28)","v":""},{"$f":"IF(A40=\"\",\"\",\"28\"&初期設定!$C$4)","v":""},{"$f":"IF(A40=\"\",\"\",計算①!J39)","v":""},{"$f":"IF(OR(A40=\"\",LEFT(計算①!A39,1)=\"6\"),\"\",LEFT(計算①!A39,4)&計算①!B39&\" \"&IF(計算①!D39=\"01T\",TEXT(計算①!N39,\"0000000\"),TEXT(計算①!N39,\"00000\")))","v":""},{"$f":"IF(計算①!A39=\"60100\",1,\"\")","v":""},{"$f":"IF(計算①!A39=\"60300\",1,\"\")","v":""}]
[{"$f":"IF(計算①!J40=\"\",\"\",\"128\"&初期設定!$C$4&RIGHT(計算①!J40,2))","v":""},{"$f":"IF(A41=\"\",\"\",計算①!K40)","v":""},{"$f":"IF(A41=\"\",\"\",VLOOKUP(G41,男子選手!$B$5:$E$103,3,FALSE))","v":""},"",{"$f":"IF(OR(A41=\"\",計算①!B40=\"\"),\"\",28)","v":""},{"$f":"IF(A41=\"\",\"\",\"28\"&初期設定!$C$4)","v":""},{"$f":"IF(A41=\"\",\"\",計算①!J40)","v":""},{"$f":"IF(OR(A41=\"\",LEFT(計算①!A40,1)=\"6\"),\"\",LEFT(計算①!A40,4)&計算①!B40&\" \"&IF(計算①!D40=\"01T\",TEXT(計算①!N40,\"0000000\"),TEXT(計算①!N40,\"00000\")))","v":""},{"$f":"IF(計算①!A40=\"60100\",1,\"\")","v":""},{"$f":"IF(計算①!A40=\"60300\",1,\"\")","v":""}]
[{"$f":"IF(計算①!J41=\"\",\"\",\"128\"&初期設定!$C$4&RIGHT(計算①!J41,2))","v":""},{"$f":"IF(A42=\"\",\"\",計算①!K41)","v":""},{"$f":"IF(A42=\"\",\"\",VLOOKUP(G42,男子選手!$B$5:$E$103,3,FALSE))","v":""},"",{"$f":"IF(OR(A42=\"\",計算①!B41=\"\"),\"\",28)","v":""},{"$f":"IF(A42=\"\",\"\",\"28\"&初期設定!$C$4)","v":""},{"$f":"IF(A42=\"\",\"\",計算①!J41)","v":""},{"$f":"IF(OR(A42=\"\",LEFT(計算①!A41,1)=\"6\"),\"\",LEFT(計算①!A41,4)&計算①!B41&\" \"&IF(計算①!D41=\"01T\",TEXT(計算①!N41,\"0000000\"),TEXT(計算①!N41,\"00000\")))","v":""},{"$f":"IF(計算①!A41=\"60100\",1,\"\")","v":""},{"$f":"IF(計算①!A41=\"60300\",1,\"\")","v":""}]
[{"$f":"IF(計算①!J42=\"\",\"\",\"128\"&初期設定!$C$4&RIGHT(計算①!J42,2))","v":""},{"$f":"IF(A43=\"\",\"\",計算①!K42)","v":""},{"$f":"IF(A43=\"\",\"\",VLOOKUP(G43,男子選手!$B$5:$E$103,3,FALSE))","v":""},"",{"$f":"IF(OR(A43=\"\",計算①!B42=\"\"),\"\",28)","v":""},{"$f":"IF(A43=\"\",\"\",\"28\"&初期設定!$C$4)","v":""},{"$f":"IF(A43=\"\",\"\",計算①!J42)","v":""},{"$f":"IF(OR(A43=\"\",LEFT(計算①!A42,1)=\"6\"),\"\",LEFT(計算①!A42,4)&計算①!B42&\" \"&IF(計算①!D42=\"01T\",TEXT(計算①!N42,\"0000000\"),TEXT(計算①!N42,\"00000\")))","v":""},{"$f":"IF(計算①!A42=\"60100\",1,\"\")","v":""},{"$f":"IF(計算①!A42=\"60300\",1,\"\")","v":""}]
[{"$f":"IF(計算①!J43=\"\",\"\",\"128\"&初期設定!$C$4&RIGHT(計算①!J43,2))","v":""},{"$f":"IF(A44=\"\",\"\",計算①!K43)","v":""},{"$f":"IF(A44=\"\",\"\",VLOOKUP(G44,男子選手!$B$5:$E$103,3,FALSE))","v":""},"",{"$f":"IF(OR(A44=\"\",計算①!B43=\"\"),\"\",28)","v":""},{"$f":"IF(A44=\"\",\"\",\"28\"&初期設定!$C$4)","v":""},{"$f":"IF(A44=\"\",\"\",計算①!J43)","v":""},{"$f":"IF(OR(A44=\"\",LEFT(計算①!A43,1)=\"6\"),\"\",LEFT(計算①!A43,4)&計算①!B43&\" \"&IF(計算①!D43=\"01T\",TEXT(計算①!N43,\"0000000\"),TEXT(計算①!N43,\"00000\")))","v":""},{"$f":"IF(計算①!A43=\"60100\",1,\"\")","v":""},{"$f":"IF(計算①!A43=\"60300\",1,\"\")","v":""}]
[{"$f":"IF(計算①!J44=\"\",\"\",\"128\"&初期設定!$C$4&RIGHT(計算①!J44,2))","v":""},{"$f":"IF(A45=\"\",\"\",計算①!K44)","v":""},{"$f":"IF(A45=\"\",\"\",VLOOKUP(G45,男子選手!$B$5:$E$103,3,FALSE))","v":""},"",{"$f":"IF(OR(A45=\"\",計算①!B44=\"\"),\"\",28)","v":""},{"$f":"IF(A45=\"\",\"\",\"28\"&初期設定!$C$4)","v":""},{"$f":"IF(A45=\"\",\"\",計算①!J44)","v":""},{"$f":"IF(OR(A45=\"\",LEFT(計算①!A44,1)=\"6\"),\"\",LEFT(計算①!A44,4)&計算①!B44&\" \"&IF(計算①!D44=\"01T\",TEXT(計算①!N44,\"0000000\"),TEXT(計算①!N44,\"00000\")))","v":""},{"$f":"IF(計算①!A44=\"60100\",1,\"\")","v":""},{"$f":"IF(計算①!A44=\"60300\",1,\"\")","v":""}]
[{"$f":"IF(計算①!J45=\"\",\"\",\"128\"&初期設定!$C$4&RIGHT(計算①!J45,2))","v":""},{"$f":"IF(A46=\"\",\"\",計算①!K45)","v":""},{"$f":"IF(A46=\"\",\"\",VLOOKUP(G46,男子選手!$B$5:$E$103,3,FALSE))","v":""},"",{"$f":"IF(OR(A46=\"\",計算①!B45=\"\"),\"\",28)","v":""},{"$f":"IF(A46=\"\",\"\",\"28\"&初期設定!$C$4)","v":""},{"$f":"IF(A46=\"\",\"\",計算①!J45)","v":""},{"$f":"IF(OR(A46=\"\",LEFT(計算①!A45,1)=\"6\"),\"\",LEFT(計算①!A45,4)&計算①!B45&\" \"&IF(計算①!D45=\"01T\",TEXT(計算①!N45,\"0000000\"),TEXT(計算①!N45,\"00000\")))","v":""},{"$f":"IF(計算①!A45=\"60100\",1,\"\")","v":""},{"$f":"IF(計算①!A45=\"60300\",1,\"\")","v":""}]
[{"$f":"IF(計算①!J46=\"\",\"\",\"128\"&初期設定!$C$4&RIGHT(計算①!J46,2))","v":""},{"$f":"IF(A47=\"\",\"\",計算①!K46)","v":""},{"$f":"IF(A47=\"\",\"\",VLOOKUP(G47,男子選手!$B$5:$E$103,3,FALSE))","v":""},"",{"$f":"IF(OR(A47=\"\",計算①!B46=\"\"),\"\",28)","v":""},{"$f":"IF(A47=\"\",\"\",\"28\"&初期設定!$C$4)","v":""},{"$f":"IF(A47=\"\",\"\",計算①!J46)","v":""},{"$f":"IF(OR(A47=\"\",LEFT(計算①!A46,1)=\"6\"),\"\",LEFT(計算①!A46,4)&計算①!B46&\" \"&IF(計算①!D46=\"01T\",TEXT(計算①!N46,\"0000000\"),TEXT(計算①!N46,\"00000\")))","v":""},{"$f":"IF(計算①!A46=\"60100\",1,\"\")","v":""},{"$f":"IF(計算①!A46=\"60300\",1,\"\")","v":""}]
[{"$f":"IF(計算①!J47=\"\",\"\",\"128\"&初期設定!$C$4&RIGHT(計算①!J47,2))","v":""},{"$f":"IF(A48=\"\",\"\",計算①!K47)","v":""},{"$f":"IF(A48=\"\",\"\",VLOOKUP(G48,男子選手!$B$5:$E$103,3,FALSE))","v":""},"",{"$f":"IF(OR(A48=\"\",計算①!B47=\"\"),\"\",28)","v":""},{"$f":"IF(A48=\"\",\"\",\"28\"&初期設定!$C$4)","v":""},{"$f":"IF(A48=\"\",\"\",計算①!J47)","v":""},{"$f":"IF(OR(A48=\"\",LEFT(計算①!A47,1)=\"6\"),\"\",LEFT(計算①!A47,4)&計算①!B47&\" \"&IF(計算①!D47=\"01T\",TEXT(計算①!N47,\"0000000\"),TEXT(計算①!N47,\"00000\")))","v":""},{"$f":"IF(計算①!A47=\"60100\",1,\"\")","v":""},{"$f":"IF(計算①!A47=\"60300\",1,\"\")","v":""}]
[{"$f":"IF(計算①!J48=\"\",\"\",\"128\"&初期設定!$C$4&RIGHT(計算①!J48,2))","v":""},{"$f":"IF(A49=\"\",\"\",計算①!K48)","v":""},{"$f":"IF(A49=\"\",\"\",VLOOKUP(G49,男子選手!$B$5:$E$103,3,FALSE))","v":""},"",{"$f":"IF(OR(A49=\"\",計算①!B48=\"\"),\"\",28)","v":""},{"$f":"IF(A49=\"\",\"\",\"28\"&初期設定!$C$4)","v":""},{"$f":"IF(A49=\"\",\"\",計算①!J48)","v":""},{"$f":"IF(OR(A49=\"\",LEFT(計算①!A48,1)=\"6\"),\"\",LEFT(計算①!A48,4)&計算①!B48&\" \"&IF(計算①!D48=\"01T\",TEXT(計算①!N48,\"0000000\"),TEXT(計算①!N48,\"00000\")))","v":""},{"$f":"IF(計算①!A48=\"60100\",1,\"\")","v":""},{"$f":"IF(計算①!A48=\"60300\",1,\"\")","v":""}]
[{"$f":"IF(計算①!J49=\"\",\"\",\"128\"&初期設定!$C$4&RIGHT(計算①!J49,2))","v":""},{"$f":"IF(A50=\"\",\"\",計算①!K49)","v":""},{"$f":"IF(A50=\"\",\"\",VLOOKUP(G50,男子選手!$B$5:$E$103,3,FALSE))","v":""},"",{"$f":"IF(OR(A50=\"\",計算①!B49=\"\"),\"\",28)","v":""},{"$f":"IF(A50=\"\",\"\",\"28\"&初期設定!$C$4)","v":""},{"$f":"IF(A50=\"\",\"\",計算①!J49)","v":""},{"$f":"IF(OR(A50=\"\",LEFT(計算①!A49,1)=\"6\"),\"\",LEFT(計算①!A49,4)&計算①!B49&\" \"&IF(計算①!D49=\"01T\",TEXT(計算①!N49,\"0000000\"),TEXT(計算①!N49,\"00000\")))","v":""},{"$f":"IF(計算①!A49=\"60100\",1,\"\")","v":""},{"$f":"IF(計算①!A49=\"60300\",1,\"\")","v":""}]
[{"$f":"IF(計算①!J50=\"\",\"\",\"128\"&初期設定!$C$4&RIGHT(計算①!J50,2))","v":""},{"$f":"IF(A51=\"\",\"\",計算①!K50)","v":""},{"$f":"IF(A51=\"\",\"\",VLOOKUP(G51,男子選手!$B$5:$E$103,3,FALSE))","v":""},"",{"$f":"IF(OR(A51=\"\",計算①!B50=\"\"),\"\",28)","v":""},{"$f":"IF(A51=\"\",\"\",\"28\"&初期設定!$C$4)","v":""},{"$f":"IF(A51=\"\",\"\",計算①!J50)","v":""},{"$f":"IF(OR(A51=\"\",LEFT(計算①!A50,1)=\"6\"),\"\",LEFT(計算①!A50,4)&計算①!B50&\" \"&IF(計算①!D50=\"01T\",TEXT(計算①!N50,\"0000000\"),TEXT(計算①!N50,\"00000\")))","v":""},{"$f":"IF(計算①!A50=\"60100\",1,\"\")","v":""},{"$f":"IF(計算①!A50=\"60300\",1,\"\")","v":""}]
[{"$f":"IF(計算①!J51=\"\",\"\",\"128\"&初期設定!$C$4&RIGHT(計算①!J51,2))","v":""},{"$f":"IF(A52=\"\",\"\",計算①!K51)","v":""},{"$f":"IF(A52=\"\",\"\",VLOOKUP(G52,男子選手!$B$5:$E$103,3,FALSE))","v":""},"",{"$f":"IF(OR(A52=\"\",計算①!B51=\"\"),\"\",28)","v":""},{"$f":"IF(A52=\"\",\"\",\"28\"&初期設定!$C$4)","v":""},{"$f":"IF(A52=\"\",\"\",計算①!J51)","v":""},{"$f":"IF(OR(A52=\"\",LEFT(計算①!A51,1)=\"6\"),\"\",LEFT(計算①!A51,4)&計算①!B51&\" \"&IF(計算①!D51=\"01T\",TEXT(計算①!N51,\"0000000\"),TEXT(計算①!N51,\"00000\")))","v":""},{"$f":"IF(計算①!A51=\"60100\",1,\"\")","v":""},{"$f":"IF(計算①!A51=\"60300\",1,\"\")","v":""}]
[{"$f":"IF(計算①!J52=\"\",\"\",\"128\"&初期設定!$C$4&RIGHT(計算①!J52,2))","v":""},{"$f":"IF(A53=\"\",\"\",計算①!K52)","v":""},{"$f":"IF(A53=\"\",\"\",VLOOKUP(G53,男子選手!$B$5:$E$103,3,FALSE))","v":""},"",{"$f":"IF(OR(A53=\"\",計算①!B52=\"\"),\"\",28)","v":""},{"$f":"IF(A53=\"\",\"\",\"28\"&初期設定!$C$4)","v":""},{"$f":"IF(A53=\"\",\"\",計算①!J52)","v":""},{"$f":"IF(OR(A53=\"\",LEFT(計算①!A52,1)=\"6\"),\"\",LEFT(計算①!A52,4)&計算①!B52&\" \"&IF(計算①!D52=\"01T\",TEXT(計算①!N52,\"0000000\"),TEXT(計算①!N52,\"00000\")))","v":""},{"$f":"IF(計算①!A52=\"60100\",1,\"\")","v":""},{"$f":"IF(計算①!A52=\"60300\",1,\"\")","v":""}]
[{"$f":"IF(計算①!J53=\"\",\"\",\"128\"&初期設定!$C$4&RIGHT(計算①!J53,2))","v":""},{"$f":"IF(A54=\"\",\"\",計算①!K53)","v":""},{"$f":"IF(A54=\"\",\"\",VLOOKUP(G54,男子選手!$B$5:$E$103,3,FALSE))","v":""},"",{"$f":"IF(OR(A54=\"\",計算①!B53=\"\"),\"\",28)","v":""},{"$f":"IF(A54=\"\",\"\",\"28\"&初期設定!$C$4)","v":""},{"$f":"IF(A54=\"\",\"\",計算①!J53)","v":""},{"$f":"IF(OR(A54=\"\",LEFT(計算①!A53,1)=\"6\"),\"\",LEFT(計算①!A53,4)&計算①!B53&\" \"&IF(計算①!D53=\"01T\",TEXT(計算①!N53,\"0000000\"),TEXT(計算①!N53,\"00000\")))","v":""},{"$f":"IF(計算①!A53=\"60100\",1,\"\")","v":""},{"$f":"IF(計算①!A53=\"60300\",1,\"\")","v":""}]
[{"$f":"IF(計算①!J54=\"\",\"\",\"128\"&初期設定!$C$4&RIGHT(計算①!J54,2))","v":""},{"$f":"IF(A55=\"\",\"\",計算①!K54)","v":""},{"$f":"IF(A55=\"\",\"\",VLOOKUP(G55,男子選手!$B$5:$E$103,3,FALSE))","v":""},"",{"$f":"IF(OR(A55=\"\",計算①!B54=\"\"),\"\",28)","v":""},{"$f":"IF(A55=\"\",\"\",\"28\"&初期設定!$C$4)","v":""},{"$f":"IF(A55=\"\",\"\",計算①!J54)","v":""},{"$f":"IF(OR(A55=\"\",LEFT(計算①!A54,1)=\"6\"),\"\",LEFT(計算①!A54,4)&計算①!B54&\" \"&IF(計算①!D54=\"01T\",TEXT(計算①!N54,\"0000000\"),TEXT(計算①!N54,\"00000\")))","v":""},{"$f":"IF(計算①!A54=\"60100\",1,\"\")","v":""},{"$f":"IF(計算①!A54=\"60300\",1,\"\")","v":""}]
[{"$f":"IF(計算①!J55=\"\",\"\",\"128\"&初期設定!$C$4&RIGHT(計算①!J55,2))","v":""},{"$f":"IF(A56=\"\",\"\",計算①!K55)","v":""},{"$f":"IF(A56=\"\",\"\",VLOOKUP(G56,男子選手!$B$5:$E$103,3,FALSE))","v":""},"",{"$f":"IF(OR(A56=\"\",計算①!B55=\"\"),\"\",28)","v":""},{"$f":"IF(A56=\"\",\"\",\"28\"&初期設定!$C$4)","v":""},{"$f":"IF(A56=\"\",\"\",計算①!J55)","v":""},{"$f":"IF(OR(A56=\"\",LEFT(計算①!A55,1)=\"6\"),\"\",LEFT(計算①!A55,4)&計算①!B55&\" \"&IF(計算①!D55=\"01T\",TEXT(計算①!N55,\"0000000\"),TEXT(計算①!N55,\"00000\")))","v":""},{"$f":"IF(計算①!A55=\"60100\",1,\"\")","v":""},{"$f":"IF(計算①!A55=\"60300\",1,\"\")","v":""}]
[{"$f":"IF(計算①!J56=\"\",\"\",\"128\"&初期設定!$C$4&RIGHT(計算①!J56,2))","v":""},{"$f":"IF(A57=\"\",\"\",計算①!K56)","v":""},{"$f":"IF(A57=\"\",\"\",VLOOKUP(G57,男子選手!$B$5:$E$103,3,FALSE))","v":""},"",{"$f":"IF(OR(A57=\"\",計算①!B56=\"\"),\"\",28)","v":""},{"$f":"IF(A57=\"\",\"\",\"28\"&初期設定!$C$4)","v":""},{"$f":"IF(A57=\"\",\"\",計算①!J56)","v":""},{"$f":"IF(OR(A57=\"\",LEFT(計算①!A56,1)=\"6\"),\"\",LEFT(計算①!A56,4)&計算①!B56&\" \"&IF(計算①!D56=\"01T\",TEXT(計算①!N56,\"0000000\"),TEXT(計算①!N56,\"00000\")))","v":""},{"$f":"IF(計算①!A56=\"60100\",1,\"\")","v":""},{"$f":"IF(計算①!A56=\"60300\",1,\"\")","v":""}]
[{"$f":"IF(計算①!J57=\"\",\"\",\"128\"&初期設定!$C$4&RIGHT(計算①!J57,2))","v":""},{"$f":"IF(A58=\"\",\"\",計算①!K57)","v":""},{"$f":"IF(A58=\"\",\"\",VLOOKUP(G58,男子選手!$B$5:$E$103,3,FALSE))","v":""},"",{"$f":"IF(OR(A58=\"\",計算①!B57=\"\"),\"\",28)","v":""},{"$f":"IF(A58=\"\",\"\",\"28\"&初期設定!$C$4)","v":""},{"$f":"IF(A58=\"\",\"\",計算①!J57)","v":""},{"$f":"IF(OR(A58=\"\",LEFT(計算①!A57,1)=\"6\"),\"\",LEFT(計算①!A57,4)&計算①!B57&\" \"&IF(計算①!D57=\"01T\",TEXT(計算①!N57,\"0000000\"),TEXT(計算①!N57,\"00000\")))","v":""},{"$f":"IF(計算①!A57=\"60100\",1,\"\")","v":""},{"$f":"IF(計算①!A57=\"60300\",1,\"\")","v":""}]
[{"$f":"IF(計算①!J58=\"\",\"\",\"128\"&初期設定!$C$4&RIGHT(計算①!J58,2))","v":""},{"$f":"IF(A59=\"\",\"\",計算①!K58)","v":""},{"$f":"IF(A59=\"\",\"\",VLOOKUP(G59,男子選手!$B$5:$E$103,3,FALSE))","v":""},"",{"$f":"IF(OR(A59=\"\",計算①!B58=\"\"),\"\",28)","v":""},{"$f":"IF(A59=\"\",\"\",\"28\"&初期設定!$C$4)","v":""},{"$f":"IF(A59=\"\",\"\",計算①!J58)","v":""},{"$f":"IF(OR(A59=\"\",LEFT(計算①!A58,1)=\"6\"),\"\",LEFT(計算①!A58,4)&計算①!B58&\" \"&IF(計算①!D58=\"01T\",TEXT(計算①!N58,\"0000000\"),TEXT(計算①!N58,\"00000\")))","v":""},{"$f":"IF(計算①!A58=\"60100\",1,\"\")","v":""},{"$f":"IF(計算①!A58=\"60300\",1,\"\")","v":""}]
[{"$f":"IF(計算①!J59=\"\",\"\",\"128\"&初期設定!$C$4&RIGHT(計算①!J59,2))","v":""},{"$f":"IF(A60=\"\",\"\",計算①!K59)","v":""},{"$f":"IF(A60=\"\",\"\",VLOOKUP(G60,男子選手!$B$5:$E$103,3,FALSE))","v":""},"",{"$f":"IF(OR(A60=\"\",計算①!B59=\"\"),\"\",28)","v":""},{"$f":"IF(A60=\"\",\"\",\"28\"&初期設定!$C$4)","v":""},{"$f":"IF(A60=\"\",\"\",計算①!J59)","v":""},{"$f":"IF(OR(A60=\"\",LEFT(計算①!A59,1)=\"6\"),\"\",LEFT(計算①!A59,4)&計算①!B59&\" \"&IF(計算①!D59=\"01T\",TEXT(計算①!N59,\"0000000\"),TEXT(計算①!N59,\"00000\")))","v":""},{"$f":"IF(計算①!A59=\"60100\",1,\"\")","v":""},{"$f":"IF(計算①!A59=\"60300\",1,\"\")","v":""}]
[{"$f":"IF(計算①!J60=\"\",\"\",\"128\"&初期設定!$C$4&RIGHT(計算①!J60,2))","v":""},{"$f":"IF(A61=\"\",\"\",計算①!K60)","v":""},{"$f":"IF(A61=\"\",\"\",VLOOKUP(G61,男子選手!$B$5:$E$103,3,FALSE))","v":""},"",{"$f":"IF(OR(A61=\"\",計算①!B60=\"\"),\"\",28)","v":""},{"$f":"IF(A61=\"\",\"\",\"28\"&初期設定!$C$4)","v":""},{"$f":"IF(A61=\"\",\"\",計算①!J60)","v":""},{"$f":"IF(OR(A61=\"\",LEFT(計算①!A60,1)=\"6\"),\"\",LEFT(計算①!A60,4)&計算①!B60&\" \"&IF(計算①!D60=\"01T\",TEXT(計算①!N60,\"0000000\"),TEXT(計算①!N60,\"00000\")))","v":""},{"$f":"IF(計算①!A60=\"60100\",1,\"\")","v":""},{"$f":"IF(計算①!A60=\"60300\",1,\"\")","v":""}]
[{"$f":"IF(計算①!J61=\"\",\"\",\"128\"&初期設定!$C$4&RIGHT(計算①!J61,2))","v":""},{"$f":"IF(A62=\"\",\"\",計算①!K61)","v":""},{"$f":"IF(A62=\"\",\"\",VLOOKUP(G62,男子選手!$B$5:$E$103,3,FALSE))","v":""},"",{"$f":"IF(OR(A62=\"\",計算①!B61=\"\"),\"\",28)","v":""},{"$f":"IF(A62=\"\",\"\",\"28\"&初期設定!$C$4)","v":""},{"$f":"IF(A62=\"\",\"\",計算①!J61)","v":""},{"$f":"IF(OR(A62=\"\",LEFT(計算①!A61,1)=\"6\"),\"\",LEFT(計算①!A61,4)&計算①!B61&\" \"&IF(計算①!D61=\"01T\",TEXT(計算①!N61,\"0000000\"),TEXT(計算①!N61,\"00000\")))","v":""},{"$f":"IF(計算①!A61=\"60100\",1,\"\")","v":""},{"$f":"IF(計算①!A61=\"60300\",1,\"\")","v":""}]
[{"$f":"IF(計算①!J62=\"\",\"\",\"128\"&初期設定!$C$4&RIGHT(計算①!J62,2))","v":""},{"$f":"IF(A63=\"\",\"\",計算①!K62)","v":""},{"$f":"IF(A63=\"\",\"\",VLOOKUP(G63,男子選手!$B$5:$E$103,3,FALSE))","v":""},"",{"$f":"IF(OR(A63=\"\",計算①!B62=\"\"),\"\",28)","v":""},{"$f":"IF(A63=\"\",\"\",\"28\"&初期設定!$C$4)","v":""},{"$f":"IF(A63=\"\",\"\",計算①!J62)","v":""},{"$f":"IF(OR(A63=\"\",LEFT(計算①!A62,1)=\"6\"),\"\",LEFT(計算①!A62,4)&計算①!B62&\" \"&IF(計算①!D62=\"01T\",TEXT(計算①!N62,\"0000000\"),TEXT(計算①!N62,\"00000\")))","v":""},{"$f":"IF(計算①!A62=\"60100\",1,\"\")","v":""},{"$f":"IF(計算①!A62=\"60300\",1,\"\")","v":""}]
[{"$f":"IF(計算①!J63=\"\",\"\",\"128\"&初期設定!$C$4&RIGHT(計算①!J63,2))","v":""},{"$f":"IF(A64=\"\",\"\",計算①!K63)","v":""},{"$f":"IF(A64=\"\",\"\",VLOOKUP(G64,男子選手!$B$5:$E$103,3,FALSE))","v":""},"",{"$f":"IF(OR(A64=\"\",計算①!B63=\"\"),\"\",28)","v":""},{"$f":"IF(A64=\"\",\"\",\"28\"&初期設定!$C$4)","v":""},{"$f":"IF(A64=\"\",\"\",計算①!J63)","v":""},{"$f":"IF(OR(A64=\"\",LEFT(計算①!A63,1)=\"6\"),\"\",LEFT(計算①!A63,4)&計算①!B63&\" \"&IF(計算①!D63=\"01T\",TEXT(計算①!N63,\"0000000\"),TEXT(計算①!N63,\"00000\")))","v":""},{"$f":"IF(計算①!A63=\"60100\",1,\"\")","v":""},{"$f":"IF(計算①!A63=\"60300\",1,\"\")","v":""}]
[{"$f":"IF(計算①!J64=\"\",\"\",\"128\"&初期設定!$C$4&RIGHT(計算①!J64,2))","v":""},{"$f":"IF(A65=\"\",\"\",計算①!K64)","v":""},{"$f":"IF(A65=\"\",\"\",VLOOKUP(G65,男子選手!$B$5:$E$103,3,FALSE))","v":""},"",{"$f":"IF(OR(A65=\"\",計算①!B64=\"\"),\"\",28)","v":""},{"$f":"IF(A65=\"\",\"\",\"28\"&初期設定!$C$4)","v":""},{"$f":"IF(A65=\"\",\"\",計算①!J64)","v":""},{"$f":"IF(OR(A65=\"\",LEFT(計算①!A64,1)=\"6\"),\"\",LEFT(計算①!A64,4)&計算①!B64&\" \"&IF(計算①!D64=\"01T\",TEXT(計算①!N64,\"0000000\"),TEXT(計算①!N64,\"00000\")))","v":""},{"$f":"IF(計算①!A64=\"60100\",1,\"\")","v":""},{"$f":"IF(計算①!A64=\"60300\",1,\"\")","v":""}]
[{"$f":"IF(計算①!J65=\"\",\"\",\"128\"&初期設定!$C$4&RIGHT(計算①!J65,2))","v":""},{"$f":"IF(A66=\"\",\"\",計算①!K65)","v":""},{"$f":"IF(A66=\"\",\"\",VLOOKUP(G66,男子選手!$B$5:$E$103,3,FALSE))","v":""},"",{"$f":"IF(OR(A66=\"\",計算①!B65=\"\"),\"\",28)","v":""},{"$f":"IF(A66=\"\",\"\",\"28\"&初期設定!$C$4)","v":""},{"$f":"IF(A66=\"\",\"\",計算①!J65)","v":""},{"$f":"IF(OR(A66=\"\",LEFT(計算①!A65,1)=\"6\"),\"\",LEFT(計算①!A65,4)&計算①!B65&\" \"&IF(計算①!D65=\"01T\",TEXT(計算①!N65,\"0000000\"),TEXT(計算①!N65,\"00000\")))","v":""},{"$f":"IF(計算①!A65=\"60100\",1,\"\")","v":""},{"$f":"IF(計算①!A65=\"60300\",1,\"\")","v":""}]
[{"$f":"IF(計算①!J66=\"\",\"\",\"128\"&初期設定!$C$4&RIGHT(計算①!J66,2))","v":""},{"$f":"IF(A67=\"\",\"\",計算①!K66)","v":""},{"$f":"IF(A67=\"\",\"\",VLOOKUP(G67,男子選手!$B$5:$E$103,3,FALSE))","v":""},{"$f":"IF(A67=\"\",\"\",1)","v":""},{"$f":"IF(OR(A67=\"\",計算①!B66=\"\"),\"\",28)","v":""},{"$f":"IF(A67=\"\",\"\",\"28\"&初期設定!$C$4)","v":""},{"$f":"IF(A67=\"\",\"\",計算①!J66)","v":""},{"$f":"IF(OR(A67=\"\",LEFT(計算①!A66,1)=\"6\"),\"\",LEFT(計算①!A66,4)&計算①!B66&\" \"&IF(計算①!D66=\"01T\",TEXT(計算①!N66,\"0000000\"),TEXT(計算①!N66,\"00000\")))","v":""},{"$f":"IF(計算①!A66=\"60100\",1,\"\")","v":""},{"$f":"IF(計算①!A66=\"60300\",1,\"\")","v":""}]
[{"$f":"IF(計算①!J67=\"\",\"\",\"128\"&初期設定!$C$4&RIGHT(計算①!J67,2))","v":""},{"$f":"IF(A68=\"\",\"\",計算①!K67)","v":""},{"$f":"IF(A68=\"\",\"\",VLOOKUP(G68,男子選手!$B$5:$E$103,3,FALSE))","v":""},"",{"$f":"IF(OR(A68=\"\",計算①!B67=\"\"),\"\",28)","v":""},{"$f":"IF(A68=\"\",\"\",LEFT(計算①!A67,4)&計算①!B67&\" \"&IF(計算①!D67=\"01T\",TEXT(計算①!N67,\"0000000\"),TEXT(計算①!N67,\"00000\")))","v":""},{"$f":"IF(A68=\"\",\"\",計算①!J67)","v":""},null,{"$f":"IF(計算①!A67=\"60100\",1,\"\")","v":""},{"$f":"IF(計算①!A67=\"60300\",1,\"\")","v":""}]
[{"$f":"IF(計算①!J68=\"\",\"\",\"128\"&初期設定!$C$4&RIGHT(計算①!J68,2))","v":""},{"$f":"IF(A69=\"\",\"\",計算①!K68)","v":""},{"$f":"IF(A69=\"\",\"\",VLOOKUP(G69,男子選手!$B$5:$E$103,3,FALSE))","v":""},"",{"$f":"IF(OR(A69=\"\",計算①!B68=\"\"),\"\",28)","v":""},{"$f":"IF(A69=\"\",\"\",LEFT(計算①!A68,4)&計算①!B68&\" \"&IF(計算①!D68=\"01T\",TEXT(計算①!N68,\"0000000\"),TEXT(計算①!N68,\"00000\")))","v":""},{"$f":"IF(A69=\"\",\"\",計算①!J68)","v":""},null,{"$f":"IF(計算①!A68=\"60100\",1,\"\")","v":""},{"$f":"IF(計算①!A68=\"60300\",1,\"\")","v":""}]
[{"$f":"IF(計算①!J69=\"\",\"\",\"128\"&初期設定!$C$4&RIGHT(計算①!J69,2))","v":""},{"$f":"IF(A70=\"\",\"\",計算①!K69)","v":""},{"$f":"IF(A70=\"\",\"\",VLOOKUP(G70,男子選手!$B$5:$E$103,3,FALSE))","v":""},"",{"$f":"IF(OR(A70=\"\",計算①!B69=\"\"),\"\",28)","v":""},{"$f":"IF(A70=\"\",\"\",LEFT(計算①!A69,4)&計算①!B69&\" \"&IF(計算①!D69=\"01T\",TEXT(計算①!N69,\"0000000\"),TEXT(計算①!N69,\"00000\")))","v":""},{"$f":"IF(A70=\"\",\"\",計算①!J69)","v":""},null,{"$f":"IF(計算①!A69=\"60100\",1,\"\")","v":""},{"$f":"IF(計算①!A69=\"60300\",1,\"\")","v":""}]
[{"$f":"IF(計算①!J70=\"\",\"\",\"128\"&初期設定!$C$4&RIGHT(計算①!J70,2))","v":""},{"$f":"IF(A71=\"\",\"\",計算①!K70)","v":""},{"$f":"IF(A71=\"\",\"\",VLOOKUP(G71,男子選手!$B$5:$E$103,3,FALSE))","v":""},"",{"$f":"IF(OR(A71=\"\",計算①!B70=\"\"),\"\",28)","v":""},{"$f":"IF(A71=\"\",\"\",LEFT(計算①!A70,4)&計算①!B70&\" \"&IF(計算①!D70=\"01T\",TEXT(計算①!N70,\"0000000\"),TEXT(計算①!N70,\"00000\")))","v":""},{"$f":"IF(A71=\"\",\"\",計算①!J70)","v":""},null,{"$f":"IF(計算①!A70=\"60100\",1,\"\")","v":""},{"$f":"IF(計算①!A70=\"60300\",1,\"\")","v":""}]
[{"$f":"IF(計算①!J71=\"\",\"\",\"128\"&初期設定!$C$4&RIGHT(計算①!J71,2))","v":""},{"$f":"IF(A72=\"\",\"\",計算①!K71)","v":""},{"$f":"IF(A72=\"\",\"\",VLOOKUP(G72,男子選手!$B$5:$E$103,3,FALSE))","v":""},"",{"$f":"IF(OR(A72=\"\",計算①!B71=\"\"),\"\",28)","v":""},{"$f":"IF(A72=\"\",\"\",LEFT(計算①!A71,4)&計算①!B71&\" \"&IF(計算①!D71=\"01T\",TEXT(計算①!N71,\"0000000\"),TEXT(計算①!N71,\"00000\")))","v":""},{"$f":"IF(A72=\"\",\"\",計算①!J71)","v":""},null,{"$f":"IF(計算①!A71=\"60100\",1,\"\")","v":""},{"$f":"IF(計算①!A71=\"60300\",1,\"\")","v":""}]
[{"$f":"IF(計算①!J72=\"\",\"\",\"128\"&初期設定!$C$4&RIGHT(計算①!J72,2))","v":""},{"$f":"IF(A73=\"\",\"\",計算①!K72)","v":""},{"$f":"IF(A73=\"\",\"\",VLOOKUP(G73,男子選手!$B$5:$E$103,3,FALSE))","v":""},"",{"$f":"IF(OR(A73=\"\",計算①!B72=\"\"),\"\",28)","v":""},{"$f":"IF(A73=\"\",\"\",LEFT(計算①!A72,4)&計算①!B72&\" \"&IF(計算①!D72=\"01T\",TEXT(計算①!N72,\"0000000\"),TEXT(計算①!N72,\"00000\")))","v":""},{"$f":"IF(A73=\"\",\"\",計算①!J72)","v":""},null,{"$f":"IF(計算①!A72=\"60100\",1,\"\")","v":""},{"$f":"IF(計算①!A72=\"60300\",1,\"\")","v":""}]
[{"$f":"IF(計算①!J73=\"\",\"\",\"128\"&初期設定!$C$4&RIGHT(計算①!J73,2))","v":""},{"$f":"IF(A74=\"\",\"\",計算①!K73)","v":""},{"$f":"IF(A74=\"\",\"\",VLOOKUP(G74,男子選手!$B$5:$E$103,3,FALSE))","v":""},"",{"$f":"IF(OR(A74=\"\",計算①!B73=\"\"),\"\",28)","v":""},{"$f":"IF(A74=\"\",\"\",LEFT(計算①!A73,4)&計算①!B73&\" \"&IF(計算①!D73=\"01T\",TEXT(計算①!N73,\"0000000\"),TEXT(計算①!N73,\"00000\")))","v":""},{"$f":"IF(A74=\"\",\"\",計算①!J73)","v":""},null,{"$f":"IF(計算①!A73=\"60100\",1,\"\")","v":""},{"$f":"IF(計算①!A73=\"60300\",1,\"\")","v":""}]
[{"$f":"IF(計算①!J74=\"\",\"\",\"128\"&初期設定!$C$4&RIGHT(計算①!J74,2))","v":""},{"$f":"IF(A75=\"\",\"\",計算①!K74)","v":""},{"$f":"IF(A75=\"\",\"\",VLOOKUP(G75,男子選手!$B$5:$E$103,3,FALSE))","v":""},"",{"$f":"IF(OR(A75=\"\",計算①!B74=\"\"),\"\",28)","v":""},{"$f":"IF(A75=\"\",\"\",LEFT(計算①!A74,4)&計算①!B74&\" \"&IF(計算①!D74=\"01T\",TEXT(計算①!N74,\"0000000\"),TEXT(計算①!N74,\"00000\")))","v":""},{"$f":"IF(A75=\"\",\"\",計算①!J74)","v":""},null,{"$f":"IF(計算①!A74=\"60100\",1,\"\")","v":""},{"$f":"IF(計算①!A74=\"60300\",1,\"\")","v":""}]
[{"$f":"IF(計算①!J75=\"\",\"\",\"128\"&初期設定!$C$4&RIGHT(計算①!J75,2))","v":""},{"$f":"IF(A76=\"\",\"\",計算①!K75)","v":""},{"$f":"IF(A76=\"\",\"\",VLOOKUP(G76,男子選手!$B$5:$E$103,3,FALSE))","v":""},"",{"$f":"IF(OR(A76=\"\",計算①!B75=\"\"),\"\",28)","v":""},{"$f":"IF(A76=\"\",\"\",LEFT(計算①!A75,4)&計算①!B75&\" \"&IF(計算①!D75=\"01T\",TEXT(計算①!N75,\"0000000\"),TEXT(計算①!N75,\"00000\")))","v":""},{"$f":"IF(A76=\"\",\"\",計算①!J75)","v":""},null,{"$f":"IF(計算①!A75=\"60100\",1,\"\")","v":""},{"$f":"IF(計算①!A75=\"60300\",1,\"\")","v":""}]
[{"$f":"IF(計算①!J76=\"\",\"\",\"128\"&初期設定!$C$4&RIGHT(計算①!J76,2))","v":""},{"$f":"IF(A77=\"\",\"\",計算①!K76)","v":""},{"$f":"IF(A77=\"\",\"\",VLOOKUP(G77,男子選手!$B$5:$E$103,3,FALSE))","v":""},"",{"$f":"IF(OR(A77=\"\",計算①!B76=\"\"),\"\",28)","v":""},{"$f":"IF(A77=\"\",\"\",LEFT(計算①!A76,4)&計算①!B76&\" \"&IF(計算①!D76=\"01T\",TEXT(計算①!N76,\"0000000\"),TEXT(計算①!N76,\"00000\")))","v":""},{"$f":"IF(A77=\"\",\"\",計算①!J76)","v":""},null,{"$f":"IF(計算①!A76=\"60100\",1,\"\")","v":""},{"$f":"IF(計算①!A76=\"60300\",1,\"\")","v":""}]
[{"$f":"IF(計算①!J77=\"\",\"\",\"128\"&初期設定!$C$4&RIGHT(計算①!J77,2))","v":""},{"$f":"IF(A78=\"\",\"\",計算①!K77)","v":""},{"$f":"IF(A78=\"\",\"\",VLOOKUP(G78,男子選手!$B$5:$E$103,3,FALSE))","v":""},"",{"$f":"IF(OR(A78=\"\",計算①!B77=\"\"),\"\",28)","v":""},{"$f":"IF(A78=\"\",\"\",LEFT(計算①!A77,4)&計算①!B77&\" \"&IF(計算①!D77=\"01T\",TEXT(計算①!N77,\"0000000\"),TEXT(計算①!N77,\"00000\")))","v":""},{"$f":"IF(A78=\"\",\"\",計算①!J77)","v":""},null,{"$f":"IF(計算①!A77=\"60100\",1,\"\")","v":""},{"$f":"IF(計算①!A77=\"60300\",1,\"\")","v":""}]
[{"$f":"IF(計算①!J78=\"\",\"\",\"128\"&初期設定!$C$4&RIGHT(計算①!J78,2))","v":""},{"$f":"IF(A79=\"\",\"\",計算①!K78)","v":""},{"$f":"IF(A79=\"\",\"\",VLOOKUP(G79,男子選手!$B$5:$E$103,3,FALSE))","v":""},"",{"$f":"IF(OR(A79=\"\",計算①!B78=\"\"),\"\",28)","v":""},{"$f":"IF(A79=\"\",\"\",LEFT(計算①!A78,4)&計算①!B78&\" \"&IF(計算①!D78=\"01T\",TEXT(計算①!N78,\"0000000\"),TEXT(計算①!N78,\"00000\")))","v":""},{"$f":"IF(A79=\"\",\"\",計算①!J78)","v":""},null,{"$f":"IF(計算①!A78=\"60100\",1,\"\")","v":""},{"$f":"IF(計算①!A78=\"60300\",1,\"\")","v":""}]
[{"$f":"IF(計算①!J79=\"\",\"\",\"128\"&初期設定!$C$4&RIGHT(計算①!J79,2))","v":""},{"$f":"IF(A80=\"\",\"\",計算①!K79)","v":""},{"$f":"IF(A80=\"\",\"\",VLOOKUP(G80,男子選手!$B$5:$E$103,3,FALSE))","v":""},"",{"$f":"IF(OR(A80=\"\",計算①!B79=\"\"),\"\",28)","v":""},{"$f":"IF(A80=\"\",\"\",LEFT(計算①!A79,4)&計算①!B79&\" \"&IF(計算①!D79=\"01T\",TEXT(計算①!N79,\"0000000\"),TEXT(計算①!N79,\"00000\")))","v":""},{"$f":"IF(A80=\"\",\"\",計算①!J79)","v":""},null,{"$f":"IF(計算①!A79=\"60100\",1,\"\")","v":""},{"$f":"IF(計算①!A79=\"60300\",1,\"\")","v":""}]
[{"$f":"IF(計算①!J80=\"\",\"\",\"128\"&初期設定!$C$4&RIGHT(計算①!J80,2))","v":""},{"$f":"IF(A81=\"\",\"\",計算①!K80)","v":""},{"$f":"IF(A81=\"\",\"\",VLOOKUP(G81,男子選手!$B$5:$E$103,3,FALSE))","v":""},"",{"$f":"IF(OR(A81=\"\",計算①!B80=\"\"),\"\",28)","v":""},{"$f":"IF(A81=\"\",\"\",LEFT(計算①!A80,4)&計算①!B80&\" \"&IF(計算①!D80=\"01T\",TEXT(計算①!N80,\"0000000\"),TEXT(計算①!N80,\"00000\")))","v":""},{"$f":"IF(A81=\"\",\"\",計算①!J80)","v":""},null,{"$f":"IF(計算①!A80=\"60100\",1,\"\")","v":""},{"$f":"IF(計算①!A80=\"60300\",1,\"\")","v":""}]
[{"$f":"IF(計算①!J81=\"\",\"\",\"128\"&初期設定!$C$4&RIGHT(計算①!J81,2))","v":""},{"$f":"IF(A82=\"\",\"\",計算①!K81)","v":""},{"$f":"IF(A82=\"\",\"\",VLOOKUP(G82,男子選手!$B$5:$E$103,3,FALSE))","v":""},"",{"$f":"IF(OR(A82=\"\",計算①!B81=\"\"),\"\",28)","v":""},{"$f":"IF(A82=\"\",\"\",LEFT(計算①!A81,4)&計算①!B81&\" \"&IF(計算①!D81=\"01T\",TEXT(計算①!N81,\"0000000\"),TEXT(計算①!N81,\"00000\")))","v":""},{"$f":"IF(A82=\"\",\"\",計算①!J81)","v":""},null,{"$f":"IF(計算①!A81=\"60100\",1,\"\")","v":""},{"$f":"IF(計算①!A81=\"60300\",1,\"\")","v":""}]
[{"$f":"IF(計算①!J82=\"\",\"\",\"128\"&初期設定!$C$4&RIGHT(計算①!J82,2))","v":""},{"$f":"IF(A83=\"\",\"\",計算①!K82)","v":""},{"$f":"IF(A83=\"\",\"\",VLOOKUP(G83,男子選手!$B$5:$E$103,3,FALSE))","v":""},"",{"$f":"IF(OR(A83=\"\",計算①!B82=\"\"),\"\",28)","v":""},{"$f":"IF(A83=\"\",\"\",LEFT(計算①!A82,4)&計算①!B82&\" \"&IF(計算①!D82=\"01T\",TEXT(計算①!N82,\"0000000\"),TEXT(計算①!N82,\"00000\")))","v":""},{"$f":"IF(A83=\"\",\"\",計算①!J82)","v":""},null,{"$f":"IF(計算①!A82=\"60100\",1,\"\")","v":""},{"$f":"IF(計算①!A82=\"60300\",1,\"\")","v":""}]
[{"$f":"IF(計算①!J83=\"\",\"\",\"128\"&初期設定!$C$4&RIGHT(計算①!J83,2))","v":""},{"$f":"IF(A84=\"\",\"\",計算①!K83)","v":""},{"$f":"IF(A84=\"\",\"\",VLOOKUP(G84,男子選手!$B$5:$E$103,3,FALSE))","v":""},"",{"$f":"IF(OR(A84=\"\",計算①!B83=\"\"),\"\",28)","v":""},{"$f":"IF(A84=\"\",\"\",LEFT(計算①!A83,4)&計算①!B83&\" \"&IF(計算①!D83=\"01T\",TEXT(計算①!N83,\"0000000\"),TEXT(計算①!N83,\"00000\")))","v":""},{"$f":"IF(A84=\"\",\"\",計算①!J83)","v":""},null,{"$f":"IF(計算①!A83=\"60100\",1,\"\")","v":""},{"$f":"IF(計算①!A83=\"60300\",1,\"\")","v":""}]
[{"$f":"IF(計算①!J84=\"\",\"\",\"128\"&初期設定!$C$4&RIGHT(計算①!J84,2))","v":""},{"$f":"IF(A85=\"\",\"\",計算①!K84)","v":""},{"$f":"IF(A85=\"\",\"\",VLOOKUP(G85,男子選手!$B$5:$E$103,3,FALSE))","v":""},"",{"$f":"IF(OR(A85=\"\",計算①!B84=\"\"),\"\",28)","v":""},{"$f":"IF(A85=\"\",\"\",LEFT(計算①!A84,4)&計算①!B84&\" \"&IF(計算①!D84=\"01T\",TEXT(計算①!N84,\"0000000\"),TEXT(計算①!N84,\"00000\")))","v":""},{"$f":"IF(A85=\"\",\"\",計算①!J84)","v":""},null,{"$f":"IF(計算①!A84=\"60100\",1,\"\")","v":""},{"$f":"IF(計算①!A84=\"60300\",1,\"\")","v":""}]
[{"$f":"IF(計算①!J85=\"\",\"\",\"128\"&初期設定!$C$4&RIGHT(計算①!J85,2))","v":""},{"$f":"IF(A86=\"\",\"\",計算①!K85)","v":""},{"$f":"IF(A86=\"\",\"\",VLOOKUP(G86,男子選手!$B$5:$E$103,3,FALSE))","v":""},"",{"$f":"IF(OR(A86=\"\",計算①!B85=\"\"),\"\",28)","v":""},{"$f":"IF(A86=\"\",\"\",LEFT(計算①!A85,4)&計算①!B85&\" \"&IF(計算①!D85=\"01T\",TEXT(計算①!N85,\"0000000\"),TEXT(計算①!N85,\"00000\")))","v":""},{"$f":"IF(A86=\"\",\"\",計算①!J85)","v":""},null,{"$f":"IF(計算①!A85=\"60100\",1,\"\")","v":""},{"$f":"IF(計算①!A85=\"60300\",1,\"\")","v":""}]
[{"$f":"IF(計算①!J86=\"\",\"\",\"128\"&初期設定!$C$4&RIGHT(計算①!J86,2))","v":""},{"$f":"IF(A87=\"\",\"\",計算①!K86)","v":""},{"$f":"IF(A87=\"\",\"\",VLOOKUP(G87,男子選手!$B$5:$E$103,3,FALSE))","v":""},"",{"$f":"IF(OR(A87=\"\",計算①!B86=\"\"),\"\",28)","v":""},{"$f":"IF(A87=\"\",\"\",LEFT(計算①!A86,4)&計算①!B86&\" \"&IF(計算①!D86=\"01T\",TEXT(計算①!N86,\"0000000\"),TEXT(計算①!N86,\"00000\")))","v":""},{"$f":"IF(A87=\"\",\"\",計算①!J86)","v":""},null,{"$f":"IF(計算①!A86=\"60100\",1,\"\")","v":""},{"$f":"IF(計算①!A86=\"60300\",1,\"\")","v":""}]
[{"$f":"IF(計算①!J87=\"\",\"\",\"128\"&初期設定!$C$4&RIGHT(計算①!J87,2))","v":""},{"$f":"IF(A88=\"\",\"\",計算①!K87)","v":""},{"$f":"IF(A88=\"\",\"\",VLOOKUP(G88,男子選手!$B$5:$E$103,3,FALSE))","v":""},"",{"$f":"IF(OR(A88=\"\",計算①!B87=\"\"),\"\",28)","v":""},{"$f":"IF(A88=\"\",\"\",LEFT(計算①!A87,4)&計算①!B87&\" \"&IF(計算①!D87=\"01T\",TEXT(計算①!N87,\"0000000\"),TEXT(計算①!N87,\"00000\")))","v":""},{"$f":"IF(A88=\"\",\"\",計算①!J87)","v":""},null,{"$f":"IF(計算①!A87=\"60100\",1,\"\")","v":""},{"$f":"IF(計算①!A87=\"60300\",1,\"\")","v":""}]
[{"$f":"IF(計算①!J88=\"\",\"\",\"128\"&初期設定!$C$4&RIGHT(計算①!J88,2))","v":""},{"$f":"IF(A89=\"\",\"\",計算①!K88)","v":""},{"$f":"IF(A89=\"\",\"\",VLOOKUP(G89,男子選手!$B$5:$E$103,3,FALSE))","v":""},"",{"$f":"IF(OR(A89=\"\",計算①!B88=\"\"),\"\",28)","v":""},{"$f":"IF(A89=\"\",\"\",LEFT(計算①!A88,4)&計算①!B88&\" \"&IF(計算①!D88=\"01T\",TEXT(計算①!N88,\"0000000\"),TEXT(計算①!N88,\"00000\")))","v":""},{"$f":"IF(A89=\"\",\"\",計算①!J88)","v":""},null,{"$f":"IF(計算①!A88=\"60100\",1,\"\")","v":""},{"$f":"IF(計算①!A88=\"60300\",1,\"\")","v":""}]
[{"$f":"IF(計算①!J89=\"\",\"\",\"128\"&初期設定!$C$4&RIGHT(計算①!J89,2))","v":""},{"$f":"IF(A90=\"\",\"\",計算①!K89)","v":""},{"$f":"IF(A90=\"\",\"\",VLOOKUP(G90,男子選手!$B$5:$E$103,3,FALSE))","v":""},"",{"$f":"IF(OR(A90=\"\",計算①!B89=\"\"),\"\",28)","v":""},{"$f":"IF(A90=\"\",\"\",LEFT(計算①!A89,4)&計算①!B89&\" \"&IF(計算①!D89=\"01T\",TEXT(計算①!N89,\"0000000\"),TEXT(計算①!N89,\"00000\")))","v":""},{"$f":"IF(A90=\"\",\"\",計算①!J89)","v":""},null,{"$f":"IF(計算①!A89=\"60100\",1,\"\")","v":""},{"$f":"IF(計算①!A89=\"60300\",1,\"\")","v":""}]
[{"$f":"IF(計算①!J90=\"\",\"\",\"128\"&初期設定!$C$4&RIGHT(計算①!J90,2))","v":""},{"$f":"IF(A91=\"\",\"\",計算①!K90)","v":""},{"$f":"IF(A91=\"\",\"\",VLOOKUP(G91,男子選手!$B$5:$E$103,3,FALSE))","v":""},"",{"$f":"IF(OR(A91=\"\",計算①!B90=\"\"),\"\",28)","v":""},{"$f":"IF(A91=\"\",\"\",LEFT(計算①!A90,4)&計算①!B90&\" \"&IF(計算①!D90=\"01T\",TEXT(計算①!N90,\"0000000\"),TEXT(計算①!N90,\"00000\")))","v":""},{"$f":"IF(A91=\"\",\"\",計算①!J90)","v":""},null,{"$f":"IF(計算①!A90=\"60100\",1,\"\")","v":""},{"$f":"IF(計算①!A90=\"60300\",1,\"\")","v":""}]
[{"$f":"IF(計算①!J91=\"\",\"\",\"128\"&初期設定!$C$4&RIGHT(計算①!J91,2))","v":""},{"$f":"IF(A92=\"\",\"\",計算①!K91)","v":""},{"$f":"IF(A92=\"\",\"\",VLOOKUP(G92,男子選手!$B$5:$E$103,3,FALSE))","v":""},"",{"$f":"IF(OR(A92=\"\",計算①!B91=\"\"),\"\",28)","v":""},{"$f":"IF(A92=\"\",\"\",LEFT(計算①!A91,4)&計算①!B91&\" \"&IF(計算①!D91=\"01T\",TEXT(計算①!N91,\"0000000\"),TEXT(計算①!N91,\"00000\")))","v":""},{"$f":"IF(A92=\"\",\"\",計算①!J91)","v":""},null,{"$f":"IF(計算①!A91=\"60100\",1,\"\")","v":""},{"$f":"IF(計算①!A91=\"60300\",1,\"\")","v":""}]
[{"$f":"IF(計算①!J92=\"\",\"\",\"128\"&初期設定!$C$4&RIGHT(計算①!J92,2))","v":""},{"$f":"IF(A93=\"\",\"\",計算①!K92)","v":""},{"$f":"IF(A93=\"\",\"\",VLOOKUP(G93,男子選手!$B$5:$E$103,3,FALSE))","v":""},"",{"$f":"IF(OR(A93=\"\",計算①!B92=\"\"),\"\",28)","v":""},{"$f":"IF(A93=\"\",\"\",LEFT(計算①!A92,4)&計算①!B92&\" \"&IF(計算①!D92=\"01T\",TEXT(計算①!N92,\"0000000\"),TEXT(計算①!N92,\"00000\")))","v":""},{"$f":"IF(A93=\"\",\"\",計算①!J92)","v":""},null,{"$f":"IF(計算①!A92=\"60100\",1,\"\")","v":""},{"$f":"IF(計算①!A92=\"60300\",1,\"\")","v":""}]
[{"$f":"IF(計算①!J93=\"\",\"\",\"128\"&初期設定!$C$4&RIGHT(計算①!J93,2))","v":""},{"$f":"IF(A94=\"\",\"\",計算①!K93)","v":""},{"$f":"IF(A94=\"\",\"\",VLOOKUP(G94,男子選手!$B$5:$E$103,3,FALSE))","v":""},"",{"$f":"IF(OR(A94=\"\",計算①!B93=\"\"),\"\",28)","v":""},{"$f":"IF(A94=\"\",\"\",LEFT(計算①!A93,4)&計算①!B93&\" \"&IF(計算①!D93=\"01T\",TEXT(計算①!N93,\"0000000\"),TEXT(計算①!N93,\"00000\")))","v":""},{"$f":"IF(A94=\"\",\"\",計算①!J93)","v":""},null,{"$f":"IF(計算①!A93=\"60100\",1,\"\")","v":""},{"$f":"IF(計算①!A93=\"60300\",1,\"\")","v":""}]
[{"$f":"IF(計算①!J94=\"\",\"\",\"128\"&初期設定!$C$4&RIGHT(計算①!J94,2))","v":""},{"$f":"IF(A95=\"\",\"\",計算①!K94)","v":""},{"$f":"IF(A95=\"\",\"\",VLOOKUP(G95,男子選手!$B$5:$E$103,3,FALSE))","v":""},"",{"$f":"IF(OR(A95=\"\",計算①!B94=\"\"),\"\",28)","v":""},{"$f":"IF(A95=\"\",\"\",LEFT(計算①!A94,4)&計算①!B94&\" \"&IF(計算①!D94=\"01T\",TEXT(計算①!N94,\"0000000\"),TEXT(計算①!N94,\"00000\")))","v":""},{"$f":"IF(A95=\"\",\"\",計算①!J94)","v":""},null,{"$f":"IF(計算①!A94=\"60100\",1,\"\")","v":""},{"$f":"IF(計算①!A94=\"60300\",1,\"\")","v":""}]
[{"$f":"IF(計算①!J95=\"\",\"\",\"128\"&初期設定!$C$4&RIGHT(計算①!J95,2))","v":""},{"$f":"IF(A96=\"\",\"\",計算①!K95)","v":""},{"$f":"IF(A96=\"\",\"\",VLOOKUP(G96,男子選手!$B$5:$E$103,3,FALSE))","v":""},"",{"$f":"IF(OR(A96=\"\",計算①!B95=\"\"),\"\",28)","v":""},{"$f":"IF(A96=\"\",\"\",LEFT(計算①!A95,4)&計算①!B95&\" \"&IF(計算①!D95=\"01T\",TEXT(計算①!N95,\"0000000\"),TEXT(計算①!N95,\"00000\")))","v":""},{"$f":"IF(A96=\"\",\"\",計算①!J95)","v":""},null,{"$f":"IF(計算①!A95=\"60100\",1,\"\")","v":""},{"$f":"IF(計算①!A95=\"60300\",1,\"\")","v":""}]
[{"$f":"IF(計算①!J96=\"\",\"\",\"128\"&初期設定!$C$4&RIGHT(計算①!J96,2))","v":""},{"$f":"IF(A97=\"\",\"\",計算①!K96)","v":""},{"$f":"IF(A97=\"\",\"\",VLOOKUP(G97,男子選手!$B$5:$E$103,3,FALSE))","v":""},"",{"$f":"IF(OR(A97=\"\",計算①!B96=\"\"),\"\",28)","v":""},{"$f":"IF(A97=\"\",\"\",LEFT(計算①!A96,4)&計算①!B96&\" \"&IF(計算①!D96=\"01T\",TEXT(計算①!N96,\"0000000\"),TEXT(計算①!N96,\"00000\")))","v":""},{"$f":"IF(A97=\"\",\"\",計算①!J96)","v":""},null,{"$f":"IF(計算①!A96=\"60100\",1,\"\")","v":""},{"$f":"IF(計算①!A96=\"60300\",1,\"\")","v":""}]
[{"$f":"IF(計算①!J97=\"\",\"\",\"128\"&初期設定!$C$4&RIGHT(計算①!J97,2))","v":""},{"$f":"IF(A98=\"\",\"\",計算①!K97)","v":""},{"$f":"IF(A98=\"\",\"\",VLOOKUP(G98,男子選手!$B$5:$E$103,3,FALSE))","v":""},"",{"$f":"IF(OR(A98=\"\",計算①!B97=\"\"),\"\",28)","v":""},{"$f":"IF(A98=\"\",\"\",LEFT(計算①!A97,4)&計算①!B97&\" \"&IF(計算①!D97=\"01T\",TEXT(計算①!N97,\"0000000\"),TEXT(計算①!N97,\"00000\")))","v":""},{"$f":"IF(A98=\"\",\"\",計算①!J97)","v":""},null,{"$f":"IF(計算①!A97=\"60100\",1,\"\")","v":""},{"$f":"IF(計算①!A97=\"60300\",1,\"\")","v":""}]
[{"$f":"IF(計算①!J98=\"\",\"\",\"128\"&初期設定!$C$4&RIGHT(計算①!J98,2))","v":""},{"$f":"IF(A99=\"\",\"\",計算①!K98)","v":""},{"$f":"IF(A99=\"\",\"\",VLOOKUP(G99,男子選手!$B$5:$E$103,3,FALSE))","v":""},"",{"$f":"IF(OR(A99=\"\",計算①!B98=\"\"),\"\",28)","v":""},{"$f":"IF(A99=\"\",\"\",LEFT(計算①!A98,4)&計算①!B98&\" \"&IF(計算①!D98=\"01T\",TEXT(計算①!N98,\"0000000\"),TEXT(計算①!N98,\"00000\")))","v":""},{"$f":"IF(A99=\"\",\"\",計算①!J98)","v":""},null,{"$f":"IF(計算①!A98=\"60100\",1,\"\")","v":""},{"$f":"IF(計算①!A98=\"60300\",1,\"\")","v":""}]
[{"$f":"IF(計算①!J99=\"\",\"\",\"128\"&初期設定!$C$4&RIGHT(計算①!J99,2))","v":""},{"$f":"IF(A100=\"\",\"\",計算①!K99)","v":""},{"$f":"IF(A100=\"\",\"\",VLOOKUP(G100,男子選手!$B$5:$E$103,3,FALSE))","v":""},"",{"$f":"IF(OR(A100=\"\",計算①!B99=\"\"),\"\",28)","v":""},{"$f":"IF(A100=\"\",\"\",LEFT(計算①!A99,4)&計算①!B99&\" \"&IF(計算①!D99=\"01T\",TEXT(計算①!N99,\"0000000\"),TEXT(計算①!N99,\"00000\")))","v":""},{"$f":"IF(A100=\"\",\"\",計算①!J99)","v":""},null,{"$f":"IF(計算①!A99=\"60100\",1,\"\")","v":""},{"$f":"IF(計算①!A99=\"60300\",1,\"\")","v":""}]
[{"$f":"IF(計算①!J100=\"\",\"\",\"128\"&初期設定!$C$4&RIGHT(計算①!J100,2))","v":""},{"$f":"IF(A101=\"\",\"\",計算①!K100)","v":""},{"$f":"IF(A101=\"\",\"\",VLOOKUP(G101,男子選手!$B$5:$E$103,3,FALSE))","v":""},null,{"$f":"IF(OR(A101=\"\",計算①!B100=\"\"),\"\",28)","v":""},{"$f":"IF(A101=\"\",\"\",LEFT(計算①!A100,4)&計算①!B100&\" \"&IF(計算①!D100=\"01T\",TEXT(計算①!N100,\"0000000\"),TEXT(計算①!N100,\"00000\")))","v":""},{"$f":"IF(A101=\"\",\"\",計算①!J100)","v":""},null,{"$f":"IF(計算①!A100=\"60100\",1,\"\")","v":""},{"$f":"IF(計算①!A100=\"60300\",1,\"\")","v":""}]
[{"$f":"IF(計算①!J101=\"\",\"\",\"128\"&初期設定!$C$4&RIGHT(計算①!J101,2))","v":""},{"$f":"IF(A102=\"\",\"\",計算①!K101)","v":""},{"$f":"IF(A102=\"\",\"\",VLOOKUP(G102,男子選手!$B$5:$E$103,3,FALSE))","v":""},null,{"$f":"IF(OR(A102=\"\",計算①!B101=\"\"),\"\",28)","v":""},{"$f":"IF(A102=\"\",\"\",LEFT(計算①!A101,4)&計算①!B101&\" \"&IF(計算①!D101=\"01T\",TEXT(計算①!N101,\"0000000\"),TEXT(計算①!N101,\"00000\")))","v":""},{"$f":"IF(A102=\"\",\"\",計算①!J101)","v":""},null,{"$f":"IF(計算①!A101=\"60100\",1,\"\")","v":""},{"$f":"IF(計算①!A101=\"60300\",1,\"\")","v":""}]
[{"$f":"IF(計算①!J102=\"\",\"\",\"128\"&初期設定!$C$4&RIGHT(計算①!J102,2))","v":""},{"$f":"IF(A103=\"\",\"\",計算①!K102)","v":""},{"$f":"IF(A103=\"\",\"\",VLOOKUP(G103,男子選手!$B$5:$E$103,3,FALSE))","v":""},null,{"$f":"IF(OR(A103=\"\",計算①!B102=\"\"),\"\",28)","v":""},{"$f":"IF(A103=\"\",\"\",LEFT(計算①!A102,4)&計算①!B102&\" \"&IF(計算①!D102=\"01T\",TEXT(計算①!N102,\"0000000\"),TEXT(計算①!N102,\"00000\")))","v":""},{"$f":"IF(A103=\"\",\"\",計算①!J102)","v":""},null,{"$f":"IF(計算①!A102=\"60100\",1,\"\")","v":""},{"$f":"IF(計算①!A102=\"60300\",1,\"\")","v":""}]
[{"$f":"IF(計算①!J103=\"\",\"\",\"128\"&初期設定!$C$4&RIGHT(計算①!J103,2))","v":""},{"$f":"IF(A104=\"\",\"\",計算①!K103)","v":""},{"$f":"IF(A104=\"\",\"\",VLOOKUP(G104,男子選手!$B$5:$E$103,3,FALSE))","v":""},null,{"$f":"IF(OR(A104=\"\",計算①!B103=\"\"),\"\",28)","v":""},{"$f":"IF(A104=\"\",\"\",LEFT(計算①!A103,4)&計算①!B103&\" \"&IF(計算①!D103=\"01T\",TEXT(計算①!N103,\"0000000\"),TEXT(計算①!N103,\"00000\")))","v":""},{"$f":"IF(A104=\"\",\"\",計算①!J103)","v":""},null,{"$f":"IF(計算①!A103=\"60100\",1,\"\")","v":""},{"$f":"IF(計算①!A103=\"60300\",1,\"\")","v":""}]
[{"$f":"IF(計算①!J104=\"\",\"\",\"128\"&初期設定!$C$4&RIGHT(計算①!J104,2))","v":""},{"$f":"IF(A105=\"\",\"\",計算①!K104)","v":""},{"$f":"IF(A105=\"\",\"\",VLOOKUP(G105,男子選手!$B$5:$E$103,3,FALSE))","v":""},null,{"$f":"IF(OR(A105=\"\",計算①!B104=\"\"),\"\",28)","v":""},{"$f":"IF(A105=\"\",\"\",LEFT(計算①!A104,4)&計算①!B104&\" \"&IF(計算①!D104=\"01T\",TEXT(計算①!N104,\"0000000\"),TEXT(計算①!N104,\"00000\")))","v":""},{"$f":"IF(A105=\"\",\"\",計算①!J104)","v":""},null,{"$f":"IF(計算①!A104=\"60100\",1,\"\")","v":""},{"$f":"IF(計算①!A104=\"60300\",1,\"\")","v":""}]
[{"$f":"IF(計算①!J105=\"\",\"\",\"128\"&初期設定!$C$4&RIGHT(計算①!J105,2))","v":""},{"$f":"IF(A106=\"\",\"\",計算①!K105)","v":""},{"$f":"IF(A106=\"\",\"\",VLOOKUP(G106,男子選手!$B$5:$E$103,3,FALSE))","v":""},null,{"$f":"IF(OR(A106=\"\",計算①!B105=\"\"),\"\",28)","v":""},{"$f":"IF(A106=\"\",\"\",LEFT(計算①!A105,4)&計算①!B105&\" \"&IF(計算①!D105=\"01T\",TEXT(計算①!N105,\"0000000\"),TEXT(計算①!N105,\"00000\")))","v":""},{"$f":"IF(A106=\"\",\"\",計算①!J105)","v":""},null,{"$f":"IF(計算①!A105=\"60100\",1,\"\")","v":""},{"$f":"IF(計算①!A105=\"60300\",1,\"\")","v":""}]
[{"$f":"IF(計算①!J106=\"\",\"\",\"128\"&初期設定!$C$4&RIGHT(計算①!J106,2))","v":""},{"$f":"IF(A107=\"\",\"\",計算①!K106)","v":""},{"$f":"IF(A107=\"\",\"\",VLOOKUP(G107,男子選手!$B$5:$E$103,3,FALSE))","v":""},null,{"$f":"IF(OR(A107=\"\",計算①!B106=\"\"),\"\",28)","v":""},{"$f":"IF(A107=\"\",\"\",LEFT(計算①!A106,4)&計算①!B106&\" \"&IF(計算①!D106=\"01T\",TEXT(計算①!N106,\"0000000\"),TEXT(計算①!N106,\"00000\")))","v":""},{"$f":"IF(A107=\"\",\"\",計算①!J106)","v":""},null,{"$f":"IF(計算①!A106=\"60100\",1,\"\")","v":""},{"$f":"IF(計算①!A106=\"60300\",1,\"\")","v":""}]
[{"$f":"IF(計算①!J107=\"\",\"\",\"128\"&初期設定!$C$4&RIGHT(計算①!J107,2))","v":""},{"$f":"IF(A108=\"\",\"\",計算①!K107)","v":""},{"$f":"IF(A108=\"\",\"\",VLOOKUP(G108,男子選手!$B$5:$E$103,3,FALSE))","v":""},null,{"$f":"IF(OR(A108=\"\",計算①!B107=\"\"),\"\",28)","v":""},{"$f":"IF(A108=\"\",\"\",LEFT(計算①!A107,4)&計算①!B107&\" \"&IF(計算①!D107=\"01T\",TEXT(計算①!N107,\"0000000\"),TEXT(計算①!N107,\"00000\")))","v":""},{"$f":"IF(A108=\"\",\"\",計算①!J107)","v":""},null,{"$f":"IF(計算①!A107=\"60100\",1,\"\")","v":""},{"$f":"IF(計算①!A107=\"60300\",1,\"\")","v":""}]
[{"$f":"IF(計算①!J108=\"\",\"\",\"128\"&初期設定!$C$4&RIGHT(計算①!J108,2))","v":""},{"$f":"IF(A109=\"\",\"\",計算①!K108)","v":""},{"$f":"IF(A109=\"\",\"\",VLOOKUP(G109,男子選手!$B$5:$E$103,3,FALSE))","v":""},null,{"$f":"IF(OR(A109=\"\",計算①!B108=\"\"),\"\",28)","v":""},{"$f":"IF(A109=\"\",\"\",LEFT(計算①!A108,4)&計算①!B108&\" \"&IF(計算①!D108=\"01T\",TEXT(計算①!N108,\"0000000\"),TEXT(計算①!N108,\"00000\")))","v":""},{"$f":"IF(A109=\"\",\"\",計算①!J108)","v":""},null,{"$f":"IF(計算①!A108=\"60100\",1,\"\")","v":""},{"$f":"IF(計算①!A108=\"60300\",1,\"\")","v":""}]
[{"$f":"IF(計算①!J109=\"\",\"\",\"128\"&初期設定!$C$4&RIGHT(計算①!J109,2))","v":""},{"$f":"IF(A110=\"\",\"\",計算①!K109)","v":""},{"$f":"IF(A110=\"\",\"\",VLOOKUP(G110,男子選手!$B$5:$E$103,3,FALSE))","v":""},null,{"$f":"IF(OR(A110=\"\",計算①!B109=\"\"),\"\",28)","v":""},{"$f":"IF(A110=\"\",\"\",LEFT(計算①!A109,4)&計算①!B109&\" \"&IF(計算①!D109=\"01T\",TEXT(計算①!N109,\"0000000\"),TEXT(計算①!N109,\"00000\")))","v":""},{"$f":"IF(A110=\"\",\"\",計算①!J109)","v":""},null,{"$f":"IF(計算①!A109=\"60100\",1,\"\")","v":""},{"$f":"IF(計算①!A109=\"60300\",1,\"\")","v":""}]