{"text_format":"1","workbook":"xlsx","n_sheets":12,"sheets":["初期設定","入力","申込書","男子選手","女子選手","男子選手追加","女子選手追加","学校番号","種目","作業用","CSV","作業領域"],"not_rendered":{"charts":0,"images":1,"macros":1,"external_links":0,"defined_names":0,"comments":0,"pivot_tables":0},"unopened":[],"bounds":{"document_bytes":16777216,"sheet_cells":100000,"rows_first":2000,"rows_last":500,"rows_between":2000,"halvings":0,"cell_chars":16384,"cell_head_chars":4096},"cells_cut":0,"cells_raw":0,"read":"whole","date_system":"1900"}

{"sheet":"初期設定","index":0,"n_rows":10,"n_cols":10,"rows_kept":10,"cut":false,"hidden":false,"merged":[[8,2,8,3],[9,2,9,3],[6,1,9,1],[5,5,5,7],[2,3,2,6],[4,2,4,3],[5,2,5,3],[6,2,6,3],[7,2,7,3]]}
[]
[]
[null,"学校番号",null,{"$f":"IFERROR(VLOOKUP(C3,学校番号!A3:B50,2,FALSE),\"\")","v":""},null,null,null,{"$f":"IFERROR(VLOOKUP(C3,学校番号!A3:D50,4,FALSE),\"\")","v":""},null,"①学校番号等を入力してください。"]
[]
[null,"顧問名",null,null,null,null,null,null,null,"②入力シートに必要事項を入力してください。"]
[null,"記載責任者",null,null,"携帯番号",null,null,null,null,"③「データ作成」ボタンをクリックし、申込書を印刷して下さい。"]
[null,"審判員",null,null,null,null,null,null,null,"№と性別を入力しても名前が表示されない場合は男子選手追加（または女子選手追加）に入力してください"]
[null,null,null,null,null,null,null,null,null,"このファイルと出力されたCSVファイルをtandf@ichiita.comに送信してください"]
[null,null,null,null,null,null,null,null,null,"ファイル名は「学校番号・学校略称・大会名」でお願いします　　例）4136川西北陵地区別記録会"]
[null,null,null,null,null,null,null,null,null,"※公認記録がない場合でも必ず参考記録を入力して下さい"]

{"sheet":"入力","index":1,"n_rows":150,"n_cols":15,"rows_kept":150,"cut":false,"hidden":false,"merged":[]}
["登録番号","名前","フリガナ","学年","性別","種目①","記録","種目②","記録","4×100R","4×400R","リレーの記録"]
[null,{"$f":"IFERROR(IF($E2=\"男\",(VLOOKUP($A2,男子選手!$B$5:$G$103,6,FALSE)),VLOOKUP($A2,女子選手!$B$5:$H$103,6,FALSE)),\"\")","v":""},{"$f":"IFERROR(IF($E2=\"男\",(VLOOKUP($A2,男子選手!$B$5:$D$103,3,FALSE)),VLOOKUP($A2,女子選手!$B$5:$D$103,3,FALSE)),\"\")","v":""},{"$f":"IFERROR(IF($E2=\"男\",(VLOOKUP($A2,男子選手!$B$5:$E$103,4,FALSE)),VLOOKUP($A2,女子選手!$B$5:$E$103,4,FALSE)),\"\")","v":""},null,null,null,null,null,null,null,"男子4×100R",null,"男子4×400R"]
[null,{"$f":"IFERROR(IF($E3=\"男\",(VLOOKUP($A3,男子選手!$B$5:$G$103,6,FALSE)),VLOOKUP($A3,女子選手!$B$5:$H$103,6,FALSE)),\"\")","v":""},{"$f":"IFERROR(IF($E3=\"男\",(VLOOKUP($A3,男子選手!$B$5:$D$103,3,FALSE)),VLOOKUP($A3,女子選手!$B$5:$D$103,3,FALSE)),\"\")","v":""},{"$f":"IFERROR(IF($E3=\"男\",(VLOOKUP($A3,男子選手!$B$5:$E$103,4,FALSE)),VLOOKUP($A3,女子選手!$B$5:$E$103,4,FALSE)),\"\")","v":""},null,null,null,null,null,null,null,"チーム","記録","チーム","記録"]
[null,{"$f":"IFERROR(IF($E4=\"男\",(VLOOKUP($A4,男子選手!$B$5:$G$103,6,FALSE)),VLOOKUP($A4,女子選手!$B$5:$H$103,6,FALSE)),\"\")","v":""},{"$f":"IFERROR(IF($E4=\"男\",(VLOOKUP($A4,男子選手!$B$5:$D$103,3,FALSE)),VLOOKUP($A4,女子選手!$B$5:$D$103,3,FALSE)),\"\")","v":""},{"$f":"IFERROR(IF($E4=\"男\",(VLOOKUP($A4,男子選手!$B$5:$E$103,4,FALSE)),VLOOKUP($A4,女子選手!$B$5:$E$103,4,FALSE)),\"\")","v":""},null,null,null,null,null,null,null,"A",null,"A"]
[null,{"$f":"IFERROR(IF($E5=\"男\",(VLOOKUP($A5,男子選手!$B$5:$G$103,6,FALSE)),VLOOKUP($A5,女子選手!$B$5:$H$103,6,FALSE)),\"\")","v":""},{"$f":"IFERROR(IF($E5=\"男\",(VLOOKUP($A5,男子選手!$B$5:$D$103,3,FALSE)),VLOOKUP($A5,女子選手!$B$5:$D$103,3,FALSE)),\"\")","v":""},{"$f":"IFERROR(IF($E5=\"男\",(VLOOKUP($A5,男子選手!$B$5:$E$103,4,FALSE)),VLOOKUP($A5,女子選手!$B$5:$E$103,4,FALSE)),\"\")","v":""},null,null,null,null,null,null,null,"B",null,"B"]
[null,{"$f":"IFERROR(IF($E6=\"男\",(VLOOKUP($A6,男子選手!$B$5:$G$103,6,FALSE)),VLOOKUP($A6,女子選手!$B$5:$H$103,6,FALSE)),\"\")","v":""},{"$f":"IFERROR(IF($E6=\"男\",(VLOOKUP($A6,男子選手!$B$5:$D$103,3,FALSE)),VLOOKUP($A6,女子選手!$B$5:$D$103,3,FALSE)),\"\")","v":""},{"$f":"IFERROR(IF($E6=\"男\",(VLOOKUP($A6,男子選手!$B$5:$E$103,4,FALSE)),VLOOKUP($A6,女子選手!$B$5:$E$103,4,FALSE)),\"\")","v":""},null,null,null,null,null,null,null,"C",null,"C"]
[null,{"$f":"IFERROR(IF($E7=\"男\",(VLOOKUP($A7,男子選手!$B$5:$G$103,6,FALSE)),VLOOKUP($A7,女子選手!$B$5:$H$103,6,FALSE)),\"\")","v":""},{"$f":"IFERROR(IF($E7=\"男\",(VLOOKUP($A7,男子選手!$B$5:$D$103,3,FALSE)),VLOOKUP($A7,女子選手!$B$5:$D$103,3,FALSE)),\"\")","v":""},{"$f":"IFERROR(IF($E7=\"男\",(VLOOKUP($A7,男子選手!$B$5:$E$103,4,FALSE)),VLOOKUP($A7,女子選手!$B$5:$E$103,4,FALSE)),\"\")","v":""},null,null,null,null,null,null,null,"D",null,"D"]
[null,{"$f":"IFERROR(IF($E8=\"男\",(VLOOKUP($A8,男子選手!$B$5:$G$103,6,FALSE)),VLOOKUP($A8,女子選手!$B$5:$H$103,6,FALSE)),\"\")","v":""},{"$f":"IFERROR(IF($E8=\"男\",(VLOOKUP($A8,男子選手!$B$5:$D$103,3,FALSE)),VLOOKUP($A8,女子選手!$B$5:$D$103,3,FALSE)),\"\")","v":""},{"$f":"IFERROR(IF($E8=\"男\",(VLOOKUP($A8,男子選手!$B$5:$E$103,4,FALSE)),VLOOKUP($A8,女子選手!$B$5:$E$103,4,FALSE)),\"\")","v":""},null,null,null,null,null,null,null,"E",null,"E"]
[null,{"$f":"IFERROR(IF($E9=\"男\",(VLOOKUP($A9,男子選手!$B$5:$G$103,6,FALSE)),VLOOKUP($A9,女子選手!$B$5:$H$103,6,FALSE)),\"\")","v":""},{"$f":"IFERROR(IF($E9=\"男\",(VLOOKUP($A9,男子選手!$B$5:$D$103,3,FALSE)),VLOOKUP($A9,女子選手!$B$5:$D$103,3,FALSE)),\"\")","v":""},{"$f":"IFERROR(IF($E9=\"男\",(VLOOKUP($A9,男子選手!$B$5:$E$103,4,FALSE)),VLOOKUP($A9,女子選手!$B$5:$E$103,4,FALSE)),\"\")","v":""},null,null,null,null,null,null,null,"F",null,"F"]
[null,{"$f":"IFERROR(IF($E10=\"男\",(VLOOKUP($A10,男子選手!$B$5:$G$103,6,FALSE)),VLOOKUP($A10,女子選手!$B$5:$H$103,6,FALSE)),\"\")","v":""},{"$f":"IFERROR(IF($E10=\"男\",(VLOOKUP($A10,男子選手!$B$5:$D$103,3,FALSE)),VLOOKUP($A10,女子選手!$B$5:$D$103,3,FALSE)),\"\")","v":""},{"$f":"IFERROR(IF($E10=\"男\",(VLOOKUP($A10,男子選手!$B$5:$E$103,4,FALSE)),VLOOKUP($A10,女子選手!$B$5:$E$103,4,FALSE)),\"\")","v":""},null,null,null,null,null,null,null,"女子4×100R",null,"女子4×400R"]
[null,{"$f":"IFERROR(IF($E11=\"男\",(VLOOKUP($A11,男子選手!$B$5:$G$103,6,FALSE)),VLOOKUP($A11,女子選手!$B$5:$H$103,6,FALSE)),\"\")","v":""},{"$f":"IFERROR(IF($E11=\"男\",(VLOOKUP($A11,男子選手!$B$5:$D$103,3,FALSE)),VLOOKUP($A11,女子選手!$B$5:$D$103,3,FALSE)),\"\")","v":""},{"$f":"IFERROR(IF($E11=\"男\",(VLOOKUP($A11,男子選手!$B$5:$E$103,4,FALSE)),VLOOKUP($A11,女子選手!$B$5:$E$103,4,FALSE)),\"\")","v":""},null,null,null,null,null,null,null,"チーム","記録","チーム","記録"]
[null,{"$f":"IFERROR(IF($E12=\"男\",(VLOOKUP($A12,男子選手!$B$5:$G$103,6,FALSE)),VLOOKUP($A12,女子選手!$B$5:$H$103,6,FALSE)),\"\")","v":""},{"$f":"IFERROR(IF($E12=\"男\",(VLOOKUP($A12,男子選手!$B$5:$D$103,3,FALSE)),VLOOKUP($A12,女子選手!$B$5:$D$103,3,FALSE)),\"\")","v":""},{"$f":"IFERROR(IF($E12=\"男\",(VLOOKUP($A12,男子選手!$B$5:$E$103,4,FALSE)),VLOOKUP($A12,女子選手!$B$5:$E$103,4,FALSE)),\"\")","v":""},null,null,null,null,null,null,null,"A",null,"A"]
[null,{"$f":"IFERROR(IF($E13=\"男\",(VLOOKUP($A13,男子選手!$B$5:$G$103,6,FALSE)),VLOOKUP($A13,女子選手!$B$5:$H$103,6,FALSE)),\"\")","v":""},{"$f":"IFERROR(IF($E13=\"男\",(VLOOKUP($A13,男子選手!$B$5:$D$103,3,FALSE)),VLOOKUP($A13,女子選手!$B$5:$D$103,3,FALSE)),\"\")","v":""},{"$f":"IFERROR(IF($E13=\"男\",(VLOOKUP($A13,男子選手!$B$5:$E$103,4,FALSE)),VLOOKUP($A13,女子選手!$B$5:$E$103,4,FALSE)),\"\")","v":""},null,null,null,null,null,null,null,"B",null,"B"]
[null,{"$f":"IFERROR(IF($E14=\"男\",(VLOOKUP($A14,男子選手!$B$5:$G$103,6,FALSE)),VLOOKUP($A14,女子選手!$B$5:$H$103,6,FALSE)),\"\")","v":""},{"$f":"IFERROR(IF($E14=\"男\",(VLOOKUP($A14,男子選手!$B$5:$D$103,3,FALSE)),VLOOKUP($A14,女子選手!$B$5:$D$103,3,FALSE)),\"\")","v":""},{"$f":"IFERROR(IF($E14=\"男\",(VLOOKUP($A14,男子選手!$B$5:$E$103,4,FALSE)),VLOOKUP($A14,女子選手!$B$5:$E$103,4,FALSE)),\"\")","v":""},null,null,null,null,null,null,null,"C",null,"C"]
[null,{"$f":"IFERROR(IF($E15=\"男\",(VLOOKUP($A15,男子選手!$B$5:$G$103,6,FALSE)),VLOOKUP($A15,女子選手!$B$5:$H$103,6,FALSE)),\"\")","v":""},{"$f":"IFERROR(IF($E15=\"男\",(VLOOKUP($A15,男子選手!$B$5:$D$103,3,FALSE)),VLOOKUP($A15,女子選手!$B$5:$D$103,3,FALSE)),\"\")","v":""},{"$f":"IFERROR(IF($E15=\"男\",(VLOOKUP($A15,男子選手!$B$5:$E$103,4,FALSE)),VLOOKUP($A15,女子選手!$B$5:$E$103,4,FALSE)),\"\")","v":""},null,null,null,null,null,null,null,"D",null,"D"]
[null,{"$f":"IFERROR(IF($E16=\"男\",(VLOOKUP($A16,男子選手!$B$5:$G$103,6,FALSE)),VLOOKUP($A16,女子選手!$B$5:$H$103,6,FALSE)),\"\")","v":""},{"$f":"IFERROR(IF($E16=\"男\",(VLOOKUP($A16,男子選手!$B$5:$D$103,3,FALSE)),VLOOKUP($A16,女子選手!$B$5:$D$103,3,FALSE)),\"\")","v":""},{"$f":"IFERROR(IF($E16=\"男\",(VLOOKUP($A16,男子選手!$B$5:$E$103,4,FALSE)),VLOOKUP($A16,女子選手!$B$5:$E$103,4,FALSE)),\"\")","v":""},null,null,null,null,null,null,null,"E",null,"E"]
[null,{"$f":"IFERROR(IF($E17=\"男\",(VLOOKUP($A17,男子選手!$B$5:$G$103,6,FALSE)),VLOOKUP($A17,女子選手!$B$5:$H$103,6,FALSE)),\"\")","v":""},{"$f":"IFERROR(IF($E17=\"男\",(VLOOKUP($A17,男子選手!$B$5:$D$103,3,FALSE)),VLOOKUP($A17,女子選手!$B$5:$D$103,3,FALSE)),\"\")","v":""},{"$f":"IFERROR(IF($E17=\"男\",(VLOOKUP($A17,男子選手!$B$5:$E$103,4,FALSE)),VLOOKUP($A17,女子選手!$B$5:$E$103,4,FALSE)),\"\")","v":""},null,null,null,null,null,null,null,"F",null,"F"]
[null,{"$f":"IFERROR(IF($E18=\"男\",(VLOOKUP($A18,男子選手!$B$5:$G$103,6,FALSE)),VLOOKUP($A18,女子選手!$B$5:$H$103,6,FALSE)),\"\")","v":""},{"$f":"IFERROR(IF($E18=\"男\",(VLOOKUP($A18,男子選手!$B$5:$D$103,3,FALSE)),VLOOKUP($A18,女子選手!$B$5:$D$103,3,FALSE)),\"\")","v":""},{"$f":"IFERROR(IF($E18=\"男\",(VLOOKUP($A18,男子選手!$B$5:$E$103,4,FALSE)),VLOOKUP($A18,女子選手!$B$5:$E$103,4,FALSE)),\"\")","v":""}]
[null,{"$f":"IFERROR(IF($E19=\"男\",(VLOOKUP($A19,男子選手!$B$5:$G$103,6,FALSE)),VLOOKUP($A19,女子選手!$B$5:$H$103,6,FALSE)),\"\")","v":""},{"$f":"IFERROR(IF($E19=\"男\",(VLOOKUP($A19,男子選手!$B$5:$D$103,3,FALSE)),VLOOKUP($A19,女子選手!$B$5:$D$103,3,FALSE)),\"\")","v":""},{"$f":"IFERROR(IF($E19=\"男\",(VLOOKUP($A19,男子選手!$B$5:$E$103,4,FALSE)),VLOOKUP($A19,女子選手!$B$5:$E$103,4,FALSE)),\"\")","v":""}]
[null,{"$f":"IFERROR(IF($E20=\"男\",(VLOOKUP($A20,男子選手!$B$5:$G$103,6,FALSE)),VLOOKUP($A20,女子選手!$B$5:$H$103,6,FALSE)),\"\")","v":""},{"$f":"IFERROR(IF($E20=\"男\",(VLOOKUP($A20,男子選手!$B$5:$D$103,3,FALSE)),VLOOKUP($A20,女子選手!$B$5:$D$103,3,FALSE)),\"\")","v":""},{"$f":"IFERROR(IF($E20=\"男\",(VLOOKUP($A20,男子選手!$B$5:$E$103,4,FALSE)),VLOOKUP($A20,女子選手!$B$5:$E$103,4,FALSE)),\"\")","v":""}]
[null,{"$f":"IFERROR(IF($E21=\"男\",(VLOOKUP($A21,男子選手!$B$5:$G$103,6,FALSE)),VLOOKUP($A21,女子選手!$B$5:$H$103,6,FALSE)),\"\")","v":""},{"$f":"IFERROR(IF($E21=\"男\",(VLOOKUP($A21,男子選手!$B$5:$D$103,3,FALSE)),VLOOKUP($A21,女子選手!$B$5:$D$103,3,FALSE)),\"\")","v":""},{"$f":"IFERROR(IF($E21=\"男\",(VLOOKUP($A21,男子選手!$B$5:$E$103,4,FALSE)),VLOOKUP($A21,女子選手!$B$5:$E$103,4,FALSE)),\"\")","v":""}]
[null,{"$f":"IFERROR(IF($E22=\"男\",(VLOOKUP($A22,男子選手!$B$5:$G$103,6,FALSE)),VLOOKUP($A22,女子選手!$B$5:$H$103,6,FALSE)),\"\")","v":""},{"$f":"IFERROR(IF($E22=\"男\",(VLOOKUP($A22,男子選手!$B$5:$D$103,3,FALSE)),VLOOKUP($A22,女子選手!$B$5:$D$103,3,FALSE)),\"\")","v":""},{"$f":"IFERROR(IF($E22=\"男\",(VLOOKUP($A22,男子選手!$B$5:$E$103,4,FALSE)),VLOOKUP($A22,女子選手!$B$5:$E$103,4,FALSE)),\"\")","v":""},null,null,null,null,null,null,null,"記録の記入方法"]
[null,{"$f":"IFERROR(IF($E23=\"男\",(VLOOKUP($A23,男子選手!$B$5:$G$103,6,FALSE)),VLOOKUP($A23,女子選手!$B$5:$H$103,6,FALSE)),\"\")","v":""},{"$f":"IFERROR(IF($E23=\"男\",(VLOOKUP($A23,男子選手!$B$5:$D$103,3,FALSE)),VLOOKUP($A23,女子選手!$B$5:$D$103,3,FALSE)),\"\")","v":""},{"$f":"IFERROR(IF($E23=\"男\",(VLOOKUP($A23,男子選手!$B$5:$E$103,4,FALSE)),VLOOKUP($A23,女子選手!$B$5:$E$103,4,FALSE)),\"\")","v":""},null,null,null,null,null,null,null,"12\"39→1239"]
[null,{"$f":"IFERROR(IF($E24=\"男\",(VLOOKUP($A24,男子選手!$B$5:$G$103,6,FALSE)),VLOOKUP($A24,女子選手!$B$5:$H$103,6,FALSE)),\"\")","v":""},{"$f":"IFERROR(IF($E24=\"男\",(VLOOKUP($A24,男子選手!$B$5:$D$103,3,FALSE)),VLOOKUP($A24,女子選手!$B$5:$D$103,3,FALSE)),\"\")","v":""},{"$f":"IFERROR(IF($E24=\"男\",(VLOOKUP($A24,男子選手!$B$5:$E$103,4,FALSE)),VLOOKUP($A24,女子選手!$B$5:$E$103,4,FALSE)),\"\")","v":""},null,null,null,null,null,null,null,"15'45\"53→154553"]
[null,{"$f":"IFERROR(IF($E25=\"男\",(VLOOKUP($A25,男子選手!$B$5:$G$103,6,FALSE)),VLOOKUP($A25,女子選手!$B$5:$H$103,6,FALSE)),\"\")","v":""},{"$f":"IFERROR(IF($E25=\"男\",(VLOOKUP($A25,男子選手!$B$5:$D$103,3,FALSE)),VLOOKUP($A25,女子選手!$B$5:$D$103,3,FALSE)),\"\")","v":""},{"$f":"IFERROR(IF($E25=\"男\",(VLOOKUP($A25,男子選手!$B$5:$E$103,4,FALSE)),VLOOKUP($A25,女子選手!$B$5:$E$103,4,FALSE)),\"\")","v":""},null,null,null,null,null,null,null,"32m92→3292"]
[null,{"$f":"IFERROR(IF($E26=\"男\",(VLOOKUP($A26,男子選手!$B$5:$G$103,6,FALSE)),VLOOKUP($A26,女子選手!$B$5:$H$103,6,FALSE)),\"\")","v":""},{"$f":"IFERROR(IF($E26=\"男\",(VLOOKUP($A26,男子選手!$B$5:$D$103,3,FALSE)),VLOOKUP($A26,女子選手!$B$5:$D$103,3,FALSE)),\"\")","v":""},{"$f":"IFERROR(IF($E26=\"男\",(VLOOKUP($A26,男子選手!$B$5:$E$103,4,FALSE)),VLOOKUP($A26,女子選手!$B$5:$E$103,4,FALSE)),\"\")","v":""}]
[null,{"$f":"IFERROR(IF($E27=\"男\",(VLOOKUP($A27,男子選手!$B$5:$G$103,6,FALSE)),VLOOKUP($A27,女子選手!$B$5:$H$103,6,FALSE)),\"\")","v":""},{"$f":"IFERROR(IF($E27=\"男\",(VLOOKUP($A27,男子選手!$B$5:$D$103,3,FALSE)),VLOOKUP($A27,女子選手!$B$5:$D$103,3,FALSE)),\"\")","v":""},{"$f":"IFERROR(IF($E27=\"男\",(VLOOKUP($A27,男子選手!$B$5:$E$103,4,FALSE)),VLOOKUP($A27,女子選手!$B$5:$E$103,4,FALSE)),\"\")","v":""}]
[null,{"$f":"IFERROR(IF($E28=\"男\",(VLOOKUP($A28,男子選手!$B$5:$G$103,6,FALSE)),VLOOKUP($A28,女子選手!$B$5:$H$103,6,FALSE)),\"\")","v":""},{"$f":"IFERROR(IF($E28=\"男\",(VLOOKUP($A28,男子選手!$B$5:$D$103,3,FALSE)),VLOOKUP($A28,女子選手!$B$5:$D$103,3,FALSE)),\"\")","v":""},{"$f":"IFERROR(IF($E28=\"男\",(VLOOKUP($A28,男子選手!$B$5:$E$103,4,FALSE)),VLOOKUP($A28,女子選手!$B$5:$E$103,4,FALSE)),\"\")","v":""}]
[null,{"$f":"IFERROR(IF($E29=\"男\",(VLOOKUP($A29,男子選手!$B$5:$G$103,6,FALSE)),VLOOKUP($A29,女子選手!$B$5:$H$103,6,FALSE)),\"\")","v":""},{"$f":"IFERROR(IF($E29=\"男\",(VLOOKUP($A29,男子選手!$B$5:$D$103,3,FALSE)),VLOOKUP($A29,女子選手!$B$5:$D$103,3,FALSE)),\"\")","v":""},{"$f":"IFERROR(IF($E29=\"男\",(VLOOKUP($A29,男子選手!$B$5:$E$103,4,FALSE)),VLOOKUP($A29,女子選手!$B$5:$E$103,4,FALSE)),\"\")","v":""}]
[null,{"$f":"IFERROR(IF($E30=\"男\",(VLOOKUP($A30,男子選手!$B$5:$G$103,6,FALSE)),VLOOKUP($A30,女子選手!$B$5:$H$103,6,FALSE)),\"\")","v":""},{"$f":"IFERROR(IF($E30=\"男\",(VLOOKUP($A30,男子選手!$B$5:$D$103,3,FALSE)),VLOOKUP($A30,女子選手!$B$5:$D$103,3,FALSE)),\"\")","v":""},{"$f":"IFERROR(IF($E30=\"男\",(VLOOKUP($A30,男子選手!$B$5:$E$103,4,FALSE)),VLOOKUP($A30,女子選手!$B$5:$E$103,4,FALSE)),\"\")","v":""}]
[null,{"$f":"IFERROR(IF($E31=\"男\",(VLOOKUP($A31,男子選手!$B$5:$G$103,6,FALSE)),VLOOKUP($A31,女子選手!$B$5:$H$103,6,FALSE)),\"\")","v":""},{"$f":"IFERROR(IF($E31=\"男\",(VLOOKUP($A31,男子選手!$B$5:$D$103,3,FALSE)),VLOOKUP($A31,女子選手!$B$5:$D$103,3,FALSE)),\"\")","v":""},{"$f":"IFERROR(IF($E31=\"男\",(VLOOKUP($A31,男子選手!$B$5:$E$103,4,FALSE)),VLOOKUP($A31,女子選手!$B$5:$E$103,4,FALSE)),\"\")","v":""},null," ",null," "]
[null,{"$f":"IFERROR(IF($E32=\"男\",(VLOOKUP($A32,男子選手!$B$5:$G$103,6,FALSE)),VLOOKUP($A32,女子選手!$B$5:$H$103,6,FALSE)),\"\")","v":""},{"$f":"IFERROR(IF($E32=\"男\",(VLOOKUP($A32,男子選手!$B$5:$D$103,3,FALSE)),VLOOKUP($A32,女子選手!$B$5:$D$103,3,FALSE)),\"\")","v":""},{"$f":"IFERROR(IF($E32=\"男\",(VLOOKUP($A32,男子選手!$B$5:$E$103,4,FALSE)),VLOOKUP($A32,女子選手!$B$5:$E$103,4,FALSE)),\"\")","v":""},null," ",null," "]
[null,{"$f":"IFERROR(IF($E33=\"男\",(VLOOKUP($A33,男子選手!$B$5:$G$103,6,FALSE)),VLOOKUP($A33,女子選手!$B$5:$H$103,6,FALSE)),\"\")","v":""},{"$f":"IFERROR(IF($E33=\"男\",(VLOOKUP($A33,男子選手!$B$5:$D$103,3,FALSE)),VLOOKUP($A33,女子選手!$B$5:$D$103,3,FALSE)),\"\")","v":""},{"$f":"IFERROR(IF($E33=\"男\",(VLOOKUP($A33,男子選手!$B$5:$E$103,4,FALSE)),VLOOKUP($A33,女子選手!$B$5:$E$103,4,FALSE)),\"\")","v":""}," "," ",null," "]
[null,{"$f":"IFERROR(IF($E34=\"男\",(VLOOKUP($A34,男子選手!$B$5:$G$103,6,FALSE)),VLOOKUP($A34,女子選手!$B$5:$H$103,6,FALSE)),\"\")","v":""},{"$f":"IFERROR(IF($E34=\"男\",(VLOOKUP($A34,男子選手!$B$5:$D$103,3,FALSE)),VLOOKUP($A34,女子選手!$B$5:$D$103,3,FALSE)),\"\")","v":""},{"$f":"IFERROR(IF($E34=\"男\",(VLOOKUP($A34,男子選手!$B$5:$E$103,4,FALSE)),VLOOKUP($A34,女子選手!$B$5:$E$103,4,FALSE)),\"\")","v":""}," "," ",null," "]
[null,{"$f":"IFERROR(IF($E35=\"男\",(VLOOKUP($A35,男子選手!$B$5:$G$103,6,FALSE)),VLOOKUP($A35,女子選手!$B$5:$H$103,6,FALSE)),\"\")","v":""},{"$f":"IFERROR(IF($E35=\"男\",(VLOOKUP($A35,男子選手!$B$5:$D$103,3,FALSE)),VLOOKUP($A35,女子選手!$B$5:$D$103,3,FALSE)),\"\")","v":""},{"$f":"IFERROR(IF($E35=\"男\",(VLOOKUP($A35,男子選手!$B$5:$E$103,4,FALSE)),VLOOKUP($A35,女子選手!$B$5:$E$103,4,FALSE)),\"\")","v":""}," "," ",null," "]
[null,{"$f":"IFERROR(IF($E36=\"男\",(VLOOKUP($A36,男子選手!$B$5:$G$103,6,FALSE)),VLOOKUP($A36,女子選手!$B$5:$H$103,6,FALSE)),\"\")","v":""},{"$f":"IFERROR(IF($E36=\"男\",(VLOOKUP($A36,男子選手!$B$5:$D$103,3,FALSE)),VLOOKUP($A36,女子選手!$B$5:$D$103,3,FALSE)),\"\")","v":""},{"$f":"IFERROR(IF($E36=\"男\",(VLOOKUP($A36,男子選手!$B$5:$E$103,4,FALSE)),VLOOKUP($A36,女子選手!$B$5:$E$103,4,FALSE)),\"\")","v":""}," "," ",null," "]
[null,{"$f":"IFERROR(IF($E37=\"男\",(VLOOKUP($A37,男子選手!$B$5:$G$103,6,FALSE)),VLOOKUP($A37,女子選手!$B$5:$H$103,6,FALSE)),\"\")","v":""},{"$f":"IFERROR(IF($E37=\"男\",(VLOOKUP($A37,男子選手!$B$5:$D$103,3,FALSE)),VLOOKUP($A37,女子選手!$B$5:$D$103,3,FALSE)),\"\")","v":""},{"$f":"IFERROR(IF($E37=\"男\",(VLOOKUP($A37,男子選手!$B$5:$E$103,4,FALSE)),VLOOKUP($A37,女子選手!$B$5:$E$103,4,FALSE)),\"\")","v":""}," "," ",null," "]
[null,{"$f":"IFERROR(IF($E38=\"男\",(VLOOKUP($A38,男子選手!$B$5:$G$103,6,FALSE)),VLOOKUP($A38,女子選手!$B$5:$H$103,6,FALSE)),\"\")","v":""},{"$f":"IFERROR(IF($E38=\"男\",(VLOOKUP($A38,男子選手!$B$5:$D$103,3,FALSE)),VLOOKUP($A38,女子選手!$B$5:$D$103,3,FALSE)),\"\")","v":""},{"$f":"IFERROR(IF($E38=\"男\",(VLOOKUP($A38,男子選手!$B$5:$E$103,4,FALSE)),VLOOKUP($A38,女子選手!$B$5:$E$103,4,FALSE)),\"\")","v":""}," "," ",null," "]
[null,{"$f":"IFERROR(IF($E39=\"男\",(VLOOKUP($A39,男子選手!$B$5:$G$103,6,FALSE)),VLOOKUP($A39,女子選手!$B$5:$H$103,6,FALSE)),\"\")","v":""},{"$f":"IFERROR(IF($E39=\"男\",(VLOOKUP($A39,男子選手!$B$5:$D$103,3,FALSE)),VLOOKUP($A39,女子選手!$B$5:$D$103,3,FALSE)),\"\")","v":""},{"$f":"IFERROR(IF($E39=\"男\",(VLOOKUP($A39,男子選手!$B$5:$E$103,4,FALSE)),VLOOKUP($A39,女子選手!$B$5:$E$103,4,FALSE)),\"\")","v":""}," "," ",null," "]
[null,{"$f":"IFERROR(IF($E40=\"男\",(VLOOKUP($A40,男子選手!$B$5:$G$103,6,FALSE)),VLOOKUP($A40,女子選手!$B$5:$H$103,6,FALSE)),\"\")","v":""},{"$f":"IFERROR(IF($E40=\"男\",(VLOOKUP($A40,男子選手!$B$5:$D$103,3,FALSE)),VLOOKUP($A40,女子選手!$B$5:$D$103,3,FALSE)),\"\")","v":""},{"$f":"IFERROR(IF($E40=\"男\",(VLOOKUP($A40,男子選手!$B$5:$E$103,4,FALSE)),VLOOKUP($A40,女子選手!$B$5:$E$103,4,FALSE)),\"\")","v":""}," "," ",null," "]
[null,{"$f":"IFERROR(IF($E41=\"男\",(VLOOKUP($A41,男子選手!$B$5:$G$103,6,FALSE)),VLOOKUP($A41,女子選手!$B$5:$H$103,6,FALSE)),\"\")","v":""},{"$f":"IFERROR(IF($E41=\"男\",(VLOOKUP($A41,男子選手!$B$5:$D$103,3,FALSE)),VLOOKUP($A41,女子選手!$B$5:$D$103,3,FALSE)),\"\")","v":""},{"$f":"IFERROR(IF($E41=\"男\",(VLOOKUP($A41,男子選手!$B$5:$E$103,4,FALSE)),VLOOKUP($A41,女子選手!$B$5:$E$103,4,FALSE)),\"\")","v":""}," "," ",null," "]
[null,{"$f":"IFERROR(IF($E42=\"男\",(VLOOKUP($A42,男子選手!$B$5:$G$103,6,FALSE)),VLOOKUP($A42,女子選手!$B$5:$H$103,6,FALSE)),\"\")","v":""},{"$f":"IFERROR(IF($E42=\"男\",(VLOOKUP($A42,男子選手!$B$5:$D$103,3,FALSE)),VLOOKUP($A42,女子選手!$B$5:$D$103,3,FALSE)),\"\")","v":""},{"$f":"IFERROR(IF($E42=\"男\",(VLOOKUP($A42,男子選手!$B$5:$E$103,4,FALSE)),VLOOKUP($A42,女子選手!$B$5:$E$103,4,FALSE)),\"\")","v":""}," "," ",null," "]
[null,{"$f":"IFERROR(IF($E43=\"男\",(VLOOKUP($A43,男子選手!$B$5:$G$103,6,FALSE)),VLOOKUP($A43,女子選手!$B$5:$H$103,6,FALSE)),\"\")","v":""},{"$f":"IFERROR(IF($E43=\"男\",(VLOOKUP($A43,男子選手!$B$5:$D$103,3,FALSE)),VLOOKUP($A43,女子選手!$B$5:$D$103,3,FALSE)),\"\")","v":""},{"$f":"IFERROR(IF($E43=\"男\",(VLOOKUP($A43,男子選手!$B$5:$E$103,4,FALSE)),VLOOKUP($A43,女子選手!$B$5:$E$103,4,FALSE)),\"\")","v":""}," "," ",null," "]
[null,{"$f":"IFERROR(IF($E44=\"男\",(VLOOKUP($A44,男子選手!$B$5:$G$103,6,FALSE)),VLOOKUP($A44,女子選手!$B$5:$H$103,6,FALSE)),\"\")","v":""},{"$f":"IFERROR(IF($E44=\"男\",(VLOOKUP($A44,男子選手!$B$5:$D$103,3,FALSE)),VLOOKUP($A44,女子選手!$B$5:$D$103,3,FALSE)),\"\")","v":""},{"$f":"IFERROR(IF($E44=\"男\",(VLOOKUP($A44,男子選手!$B$5:$E$103,4,FALSE)),VLOOKUP($A44,女子選手!$B$5:$E$103,4,FALSE)),\"\")","v":""}," "," ",null," "]
[null,{"$f":"IFERROR(IF($E45=\"男\",(VLOOKUP($A45,男子選手!$B$5:$G$103,6,FALSE)),VLOOKUP($A45,女子選手!$B$5:$H$103,6,FALSE)),\"\")","v":""},{"$f":"IFERROR(IF($E45=\"男\",(VLOOKUP($A45,男子選手!$B$5:$D$103,3,FALSE)),VLOOKUP($A45,女子選手!$B$5:$D$103,3,FALSE)),\"\")","v":""},{"$f":"IFERROR(IF($E45=\"男\",(VLOOKUP($A45,男子選手!$B$5:$E$103,4,FALSE)),VLOOKUP($A45,女子選手!$B$5:$E$103,4,FALSE)),\"\")","v":""}," "," ",null," "]
[null,{"$f":"IFERROR(IF($E46=\"男\",(VLOOKUP($A46,男子選手!$B$5:$G$103,6,FALSE)),VLOOKUP($A46,女子選手!$B$5:$H$103,6,FALSE)),\"\")","v":""},{"$f":"IFERROR(IF($E46=\"男\",(VLOOKUP($A46,男子選手!$B$5:$D$103,3,FALSE)),VLOOKUP($A46,女子選手!$B$5:$D$103,3,FALSE)),\"\")","v":""},{"$f":"IFERROR(IF($E46=\"男\",(VLOOKUP($A46,男子選手!$B$5:$E$103,4,FALSE)),VLOOKUP($A46,女子選手!$B$5:$E$103,4,FALSE)),\"\")","v":""}," "," ",null," "]
[null,{"$f":"IFERROR(IF($E47=\"男\",(VLOOKUP($A47,男子選手!$B$5:$G$103,6,FALSE)),VLOOKUP($A47,女子選手!$B$5:$H$103,6,FALSE)),\"\")","v":""},{"$f":"IFERROR(IF($E47=\"男\",(VLOOKUP($A47,男子選手!$B$5:$D$103,3,FALSE)),VLOOKUP($A47,女子選手!$B$5:$D$103,3,FALSE)),\"\")","v":""},{"$f":"IFERROR(IF($E47=\"男\",(VLOOKUP($A47,男子選手!$B$5:$E$103,4,FALSE)),VLOOKUP($A47,女子選手!$B$5:$E$103,4,FALSE)),\"\")","v":""}," "," ",null," "]
[null,{"$f":"IFERROR(IF($E48=\"男\",(VLOOKUP($A48,男子選手!$B$5:$G$103,6,FALSE)),VLOOKUP($A48,女子選手!$B$5:$H$103,6,FALSE)),\"\")","v":""},{"$f":"IFERROR(IF($E48=\"男\",(VLOOKUP($A48,男子選手!$B$5:$D$103,3,FALSE)),VLOOKUP($A48,女子選手!$B$5:$D$103,3,FALSE)),\"\")","v":""},{"$f":"IFERROR(IF($E48=\"男\",(VLOOKUP($A48,男子選手!$B$5:$E$103,4,FALSE)),VLOOKUP($A48,女子選手!$B$5:$E$103,4,FALSE)),\"\")","v":""}," "," ",null," "]
[null,{"$f":"IFERROR(IF($E49=\"男\",(VLOOKUP($A49,男子選手!$B$5:$G$103,6,FALSE)),VLOOKUP($A49,女子選手!$B$5:$H$103,6,FALSE)),\"\")","v":""},{"$f":"IFERROR(IF($E49=\"男\",(VLOOKUP($A49,男子選手!$B$5:$D$103,3,FALSE)),VLOOKUP($A49,女子選手!$B$5:$D$103,3,FALSE)),\"\")","v":""},{"$f":"IFERROR(IF($E49=\"男\",(VLOOKUP($A49,男子選手!$B$5:$E$103,4,FALSE)),VLOOKUP($A49,女子選手!$B$5:$E$103,4,FALSE)),\"\")","v":""}," "," ",null," "]
[null,{"$f":"IFERROR(IF($E50=\"男\",(VLOOKUP($A50,男子選手!$B$5:$G$103,6,FALSE)),VLOOKUP($A50,女子選手!$B$5:$H$103,6,FALSE)),\"\")","v":""},{"$f":"IFERROR(IF($E50=\"男\",(VLOOKUP($A50,男子選手!$B$5:$D$103,3,FALSE)),VLOOKUP($A50,女子選手!$B$5:$D$103,3,FALSE)),\"\")","v":""},{"$f":"IFERROR(IF($E50=\"男\",(VLOOKUP($A50,男子選手!$B$5:$E$103,4,FALSE)),VLOOKUP($A50,女子選手!$B$5:$E$103,4,FALSE)),\"\")","v":""}," "," ",null," "]
[null,{"$f":"IFERROR(IF($E51=\"男\",(VLOOKUP($A51,男子選手!$B$5:$G$103,6,FALSE)),VLOOKUP($A51,女子選手!$B$5:$H$103,6,FALSE)),\"\")","v":""},{"$f":"IFERROR(IF($E51=\"男\",(VLOOKUP($A51,男子選手!$B$5:$D$103,3,FALSE)),VLOOKUP($A51,女子選手!$B$5:$D$103,3,FALSE)),\"\")","v":""},{"$f":"IFERROR(IF($E51=\"男\",(VLOOKUP($A51,男子選手!$B$5:$E$103,4,FALSE)),VLOOKUP($A51,女子選手!$B$5:$E$103,4,FALSE)),\"\")","v":""}," "," ",null," "]
[null,{"$f":"IFERROR(IF($E52=\"男\",(VLOOKUP($A52,男子選手!$B$5:$G$103,6,FALSE)),VLOOKUP($A52,女子選手!$B$5:$H$103,6,FALSE)),\"\")","v":""},{"$f":"IFERROR(IF($E52=\"男\",(VLOOKUP($A52,男子選手!$B$5:$D$103,3,FALSE)),VLOOKUP($A52,女子選手!$B$5:$D$103,3,FALSE)),\"\")","v":""},{"$f":"IFERROR(IF($E52=\"男\",(VLOOKUP($A52,男子選手!$B$5:$E$103,4,FALSE)),VLOOKUP($A52,女子選手!$B$5:$E$103,4,FALSE)),\"\")","v":""}," "," ",null," "]
[null,{"$f":"IFERROR(IF($E53=\"男\",(VLOOKUP($A53,男子選手!$B$5:$G$103,6,FALSE)),VLOOKUP($A53,女子選手!$B$5:$H$103,6,FALSE)),\"\")","v":""},{"$f":"IFERROR(IF($E53=\"男\",(VLOOKUP($A53,男子選手!$B$5:$D$103,3,FALSE)),VLOOKUP($A53,女子選手!$B$5:$D$103,3,FALSE)),\"\")","v":""},{"$f":"IFERROR(IF($E53=\"男\",(VLOOKUP($A53,男子選手!$B$5:$E$103,4,FALSE)),VLOOKUP($A53,女子選手!$B$5:$E$103,4,FALSE)),\"\")","v":""}," "," ",null," "]
[null,{"$f":"IFERROR(IF($E54=\"男\",(VLOOKUP($A54,男子選手!$B$5:$G$103,6,FALSE)),VLOOKUP($A54,女子選手!$B$5:$H$103,6,FALSE)),\"\")","v":""},{"$f":"IFERROR(IF($E54=\"男\",(VLOOKUP($A54,男子選手!$B$5:$D$103,3,FALSE)),VLOOKUP($A54,女子選手!$B$5:$D$103,3,FALSE)),\"\")","v":""},{"$f":"IFERROR(IF($E54=\"男\",(VLOOKUP($A54,男子選手!$B$5:$E$103,4,FALSE)),VLOOKUP($A54,女子選手!$B$5:$E$103,4,FALSE)),\"\")","v":""}," "," ",null," "]
[null,{"$f":"IFERROR(IF($E55=\"男\",(VLOOKUP($A55,男子選手!$B$5:$G$103,6,FALSE)),VLOOKUP($A55,女子選手!$B$5:$H$103,6,FALSE)),\"\")","v":""},{"$f":"IFERROR(IF($E55=\"男\",(VLOOKUP($A55,男子選手!$B$5:$D$103,3,FALSE)),VLOOKUP($A55,女子選手!$B$5:$D$103,3,FALSE)),\"\")","v":""},{"$f":"IFERROR(IF($E55=\"男\",(VLOOKUP($A55,男子選手!$B$5:$E$103,4,FALSE)),VLOOKUP($A55,女子選手!$B$5:$E$103,4,FALSE)),\"\")","v":""}," "," ",null," "]
[null,{"$f":"IFERROR(IF($E56=\"男\",(VLOOKUP($A56,男子選手!$B$5:$G$103,6,FALSE)),VLOOKUP($A56,女子選手!$B$5:$H$103,6,FALSE)),\"\")","v":""},{"$f":"IFERROR(IF($E56=\"男\",(VLOOKUP($A56,男子選手!$B$5:$D$103,3,FALSE)),VLOOKUP($A56,女子選手!$B$5:$D$103,3,FALSE)),\"\")","v":""},{"$f":"IFERROR(IF($E56=\"男\",(VLOOKUP($A56,男子選手!$B$5:$E$103,4,FALSE)),VLOOKUP($A56,女子選手!$B$5:$E$103,4,FALSE)),\"\")","v":""}," "," ",null," "]
[null,{"$f":"IFERROR(IF($E57=\"男\",(VLOOKUP($A57,男子選手!$B$5:$G$103,6,FALSE)),VLOOKUP($A57,女子選手!$B$5:$H$103,6,FALSE)),\"\")","v":""},{"$f":"IFERROR(IF($E57=\"男\",(VLOOKUP($A57,男子選手!$B$5:$D$103,3,FALSE)),VLOOKUP($A57,女子選手!$B$5:$D$103,3,FALSE)),\"\")","v":""},{"$f":"IFERROR(IF($E57=\"男\",(VLOOKUP($A57,男子選手!$B$5:$E$103,4,FALSE)),VLOOKUP($A57,女子選手!$B$5:$E$103,4,FALSE)),\"\")","v":""}," "," ",null," "]
[null,{"$f":"IFERROR(IF($E58=\"男\",(VLOOKUP($A58,男子選手!$B$5:$G$103,6,FALSE)),VLOOKUP($A58,女子選手!$B$5:$H$103,6,FALSE)),\"\")","v":""},{"$f":"IFERROR(IF($E58=\"男\",(VLOOKUP($A58,男子選手!$B$5:$D$103,3,FALSE)),VLOOKUP($A58,女子選手!$B$5:$D$103,3,FALSE)),\"\")","v":""},{"$f":"IFERROR(IF($E58=\"男\",(VLOOKUP($A58,男子選手!$B$5:$E$103,4,FALSE)),VLOOKUP($A58,女子選手!$B$5:$E$103,4,FALSE)),\"\")","v":""}," "," ",null," "]
[null,{"$f":"IFERROR(IF($E59=\"男\",(VLOOKUP($A59,男子選手!$B$5:$G$103,6,FALSE)),VLOOKUP($A59,女子選手!$B$5:$H$103,6,FALSE)),\"\")","v":""},{"$f":"IFERROR(IF($E59=\"男\",(VLOOKUP($A59,男子選手!$B$5:$D$103,3,FALSE)),VLOOKUP($A59,女子選手!$B$5:$D$103,3,FALSE)),\"\")","v":""},{"$f":"IFERROR(IF($E59=\"男\",(VLOOKUP($A59,男子選手!$B$5:$E$103,4,FALSE)),VLOOKUP($A59,女子選手!$B$5:$E$103,4,FALSE)),\"\")","v":""}," "," ",null," "]
[null,{"$f":"IFERROR(IF($E60=\"男\",(VLOOKUP($A60,男子選手!$B$5:$G$103,6,FALSE)),VLOOKUP($A60,女子選手!$B$5:$H$103,6,FALSE)),\"\")","v":""},{"$f":"IFERROR(IF($E60=\"男\",(VLOOKUP($A60,男子選手!$B$5:$D$103,3,FALSE)),VLOOKUP($A60,女子選手!$B$5:$D$103,3,FALSE)),\"\")","v":""},{"$f":"IFERROR(IF($E60=\"男\",(VLOOKUP($A60,男子選手!$B$5:$E$103,4,FALSE)),VLOOKUP($A60,女子選手!$B$5:$E$103,4,FALSE)),\"\")","v":""}," "," ",null," "]
[null,{"$f":"IFERROR(IF($E61=\"男\",(VLOOKUP($A61,男子選手!$B$5:$G$103,6,FALSE)),VLOOKUP($A61,女子選手!$B$5:$H$103,6,FALSE)),\"\")","v":""},{"$f":"IFERROR(IF($E61=\"男\",(VLOOKUP($A61,男子選手!$B$5:$D$103,3,FALSE)),VLOOKUP($A61,女子選手!$B$5:$D$103,3,FALSE)),\"\")","v":""},{"$f":"IFERROR(IF($E61=\"男\",(VLOOKUP($A61,男子選手!$B$5:$E$103,4,FALSE)),VLOOKUP($A61,女子選手!$B$5:$E$103,4,FALSE)),\"\")","v":""}," "," ",null," "]
[null,{"$f":"IFERROR(IF($E62=\"男\",(VLOOKUP($A62,男子選手!$B$5:$G$103,6,FALSE)),VLOOKUP($A62,女子選手!$B$5:$H$103,6,FALSE)),\"\")","v":""},{"$f":"IFERROR(IF($E62=\"男\",(VLOOKUP($A62,男子選手!$B$5:$D$103,3,FALSE)),VLOOKUP($A62,女子選手!$B$5:$D$103,3,FALSE)),\"\")","v":""},{"$f":"IFERROR(IF($E62=\"男\",(VLOOKUP($A62,男子選手!$B$5:$E$103,4,FALSE)),VLOOKUP($A62,女子選手!$B$5:$E$103,4,FALSE)),\"\")","v":""}," "," ",null," "]
[null,{"$f":"IFERROR(IF($E63=\"男\",(VLOOKUP($A63,男子選手!$B$5:$G$103,6,FALSE)),VLOOKUP($A63,女子選手!$B$5:$H$103,6,FALSE)),\"\")","v":""},{"$f":"IFERROR(IF($E63=\"男\",(VLOOKUP($A63,男子選手!$B$5:$D$103,3,FALSE)),VLOOKUP($A63,女子選手!$B$5:$D$103,3,FALSE)),\"\")","v":""},{"$f":"IFERROR(IF($E63=\"男\",(VLOOKUP($A63,男子選手!$B$5:$E$103,4,FALSE)),VLOOKUP($A63,女子選手!$B$5:$E$103,4,FALSE)),\"\")","v":""}," "," ",null," "]
[null,{"$f":"IFERROR(IF($E64=\"男\",(VLOOKUP($A64,男子選手!$B$5:$G$103,6,FALSE)),VLOOKUP($A64,女子選手!$B$5:$H$103,6,FALSE)),\"\")","v":""},{"$f":"IFERROR(IF($E64=\"男\",(VLOOKUP($A64,男子選手!$B$5:$D$103,3,FALSE)),VLOOKUP($A64,女子選手!$B$5:$D$103,3,FALSE)),\"\")","v":""},{"$f":"IFERROR(IF($E64=\"男\",(VLOOKUP($A64,男子選手!$B$5:$E$103,4,FALSE)),VLOOKUP($A64,女子選手!$B$5:$E$103,4,FALSE)),\"\")","v":""}," "," ",null," "]
[null,{"$f":"IFERROR(IF($E65=\"男\",(VLOOKUP($A65,男子選手!$B$5:$G$103,6,FALSE)),VLOOKUP($A65,女子選手!$B$5:$H$103,6,FALSE)),\"\")","v":""},{"$f":"IFERROR(IF($E65=\"男\",(VLOOKUP($A65,男子選手!$B$5:$D$103,3,FALSE)),VLOOKUP($A65,女子選手!$B$5:$D$103,3,FALSE)),\"\")","v":""},{"$f":"IFERROR(IF($E65=\"男\",(VLOOKUP($A65,男子選手!$B$5:$E$103,4,FALSE)),VLOOKUP($A65,女子選手!$B$5:$E$103,4,FALSE)),\"\")","v":""}," "," ",null," "]
[null,{"$f":"IFERROR(IF($E66=\"男\",(VLOOKUP($A66,男子選手!$B$5:$G$103,6,FALSE)),VLOOKUP($A66,女子選手!$B$5:$H$103,6,FALSE)),\"\")","v":""},{"$f":"IFERROR(IF($E66=\"男\",(VLOOKUP($A66,男子選手!$B$5:$D$103,3,FALSE)),VLOOKUP($A66,女子選手!$B$5:$D$103,3,FALSE)),\"\")","v":""},{"$f":"IFERROR(IF($E66=\"男\",(VLOOKUP($A66,男子選手!$B$5:$E$103,4,FALSE)),VLOOKUP($A66,女子選手!$B$5:$E$103,4,FALSE)),\"\")","v":""}," "," ",null," "]
[null,{"$f":"IFERROR(IF($E67=\"男\",(VLOOKUP($A67,男子選手!$B$5:$G$103,6,FALSE)),VLOOKUP($A67,女子選手!$B$5:$H$103,6,FALSE)),\"\")","v":""},{"$f":"IFERROR(IF($E67=\"男\",(VLOOKUP($A67,男子選手!$B$5:$D$103,3,FALSE)),VLOOKUP($A67,女子選手!$B$5:$D$103,3,FALSE)),\"\")","v":""},{"$f":"IFERROR(IF($E67=\"男\",(VLOOKUP($A67,男子選手!$B$5:$E$103,4,FALSE)),VLOOKUP($A67,女子選手!$B$5:$E$103,4,FALSE)),\"\")","v":""}," "," ",null," "]
[null,{"$f":"IFERROR(IF($E68=\"男\",(VLOOKUP($A68,男子選手!$B$5:$G$103,6,FALSE)),VLOOKUP($A68,女子選手!$B$5:$H$103,6,FALSE)),\"\")","v":""},{"$f":"IFERROR(IF($E68=\"男\",(VLOOKUP($A68,男子選手!$B$5:$D$103,3,FALSE)),VLOOKUP($A68,女子選手!$B$5:$D$103,3,FALSE)),\"\")","v":""},{"$f":"IFERROR(IF($E68=\"男\",(VLOOKUP($A68,男子選手!$B$5:$E$103,4,FALSE)),VLOOKUP($A68,女子選手!$B$5:$E$103,4,FALSE)),\"\")","v":""}," "," ",null," "]
[null,{"$f":"IFERROR(IF($E69=\"男\",(VLOOKUP($A69,男子選手!$B$5:$G$103,6,FALSE)),VLOOKUP($A69,女子選手!$B$5:$H$103,6,FALSE)),\"\")","v":""},{"$f":"IFERROR(IF($E69=\"男\",(VLOOKUP($A69,男子選手!$B$5:$D$103,3,FALSE)),VLOOKUP($A69,女子選手!$B$5:$D$103,3,FALSE)),\"\")","v":""},{"$f":"IFERROR(IF($E69=\"男\",(VLOOKUP($A69,男子選手!$B$5:$E$103,4,FALSE)),VLOOKUP($A69,女子選手!$B$5:$E$103,4,FALSE)),\"\")","v":""}," "," ",null," "]
[null,{"$f":"IFERROR(IF($E70=\"男\",(VLOOKUP($A70,男子選手!$B$5:$G$103,6,FALSE)),VLOOKUP($A70,女子選手!$B$5:$H$103,6,FALSE)),\"\")","v":""},{"$f":"IFERROR(IF($E70=\"男\",(VLOOKUP($A70,男子選手!$B$5:$D$103,3,FALSE)),VLOOKUP($A70,女子選手!$B$5:$D$103,3,FALSE)),\"\")","v":""},{"$f":"IFERROR(IF($E70=\"男\",(VLOOKUP($A70,男子選手!$B$5:$E$103,4,FALSE)),VLOOKUP($A70,女子選手!$B$5:$E$103,4,FALSE)),\"\")","v":""}," "," ",null," "]
[null,{"$f":"IFERROR(IF($E71=\"男\",(VLOOKUP($A71,男子選手!$B$5:$G$103,6,FALSE)),VLOOKUP($A71,女子選手!$B$5:$H$103,6,FALSE)),\"\")","v":""},{"$f":"IFERROR(IF($E71=\"男\",(VLOOKUP($A71,男子選手!$B$5:$D$103,3,FALSE)),VLOOKUP($A71,女子選手!$B$5:$D$103,3,FALSE)),\"\")","v":""},{"$f":"IFERROR(IF($E71=\"男\",(VLOOKUP($A71,男子選手!$B$5:$E$103,4,FALSE)),VLOOKUP($A71,女子選手!$B$5:$E$103,4,FALSE)),\"\")","v":""}," "," ",null," "]
[null,{"$f":"IFERROR(IF($E72=\"男\",(VLOOKUP($A72,男子選手!$B$5:$G$103,6,FALSE)),VLOOKUP($A72,女子選手!$B$5:$H$103,6,FALSE)),\"\")","v":""},{"$f":"IFERROR(IF($E72=\"男\",(VLOOKUP($A72,男子選手!$B$5:$D$103,3,FALSE)),VLOOKUP($A72,女子選手!$B$5:$D$103,3,FALSE)),\"\")","v":""},{"$f":"IFERROR(IF($E72=\"男\",(VLOOKUP($A72,男子選手!$B$5:$E$103,4,FALSE)),VLOOKUP($A72,女子選手!$B$5:$E$103,4,FALSE)),\"\")","v":""}," "," ",null," "]
[null,{"$f":"IFERROR(IF($E73=\"男\",(VLOOKUP($A73,男子選手!$B$5:$G$103,6,FALSE)),VLOOKUP($A73,女子選手!$B$5:$H$103,6,FALSE)),\"\")","v":""},{"$f":"IFERROR(IF($E73=\"男\",(VLOOKUP($A73,男子選手!$B$5:$D$103,3,FALSE)),VLOOKUP($A73,女子選手!$B$5:$D$103,3,FALSE)),\"\")","v":""},{"$f":"IFERROR(IF($E73=\"男\",(VLOOKUP($A73,男子選手!$B$5:$E$103,4,FALSE)),VLOOKUP($A73,女子選手!$B$5:$E$103,4,FALSE)),\"\")","v":""}," "," ",null," "]
[null,{"$f":"IFERROR(IF($E74=\"男\",(VLOOKUP($A74,男子選手!$B$5:$G$103,6,FALSE)),VLOOKUP($A74,女子選手!$B$5:$H$103,6,FALSE)),\"\")","v":""},{"$f":"IFERROR(IF($E74=\"男\",(VLOOKUP($A74,男子選手!$B$5:$D$103,3,FALSE)),VLOOKUP($A74,女子選手!$B$5:$D$103,3,FALSE)),\"\")","v":""},{"$f":"IFERROR(IF($E74=\"男\",(VLOOKUP($A74,男子選手!$B$5:$E$103,4,FALSE)),VLOOKUP($A74,女子選手!$B$5:$E$103,4,FALSE)),\"\")","v":""}," "," ",null," "]
[null,{"$f":"IFERROR(IF($E75=\"男\",(VLOOKUP($A75,男子選手!$B$5:$G$103,6,FALSE)),VLOOKUP($A75,女子選手!$B$5:$H$103,6,FALSE)),\"\")","v":""},{"$f":"IFERROR(IF($E75=\"男\",(VLOOKUP($A75,男子選手!$B$5:$D$103,3,FALSE)),VLOOKUP($A75,女子選手!$B$5:$D$103,3,FALSE)),\"\")","v":""},{"$f":"IFERROR(IF($E75=\"男\",(VLOOKUP($A75,男子選手!$B$5:$E$103,4,FALSE)),VLOOKUP($A75,女子選手!$B$5:$E$103,4,FALSE)),\"\")","v":""}," "," ",null," "]
[null,{"$f":"IFERROR(IF($E76=\"男\",(VLOOKUP($A76,男子選手!$B$5:$G$103,6,FALSE)),VLOOKUP($A76,女子選手!$B$5:$H$103,6,FALSE)),\"\")","v":""},{"$f":"IFERROR(IF($E76=\"男\",(VLOOKUP($A76,男子選手!$B$5:$D$103,3,FALSE)),VLOOKUP($A76,女子選手!$B$5:$D$103,3,FALSE)),\"\")","v":""},{"$f":"IFERROR(IF($E76=\"男\",(VLOOKUP($A76,男子選手!$B$5:$E$103,4,FALSE)),VLOOKUP($A76,女子選手!$B$5:$E$103,4,FALSE)),\"\")","v":""}," "," ",null," "]
[null,{"$f":"IFERROR(IF($E77=\"男\",(VLOOKUP($A77,男子選手!$B$5:$G$103,6,FALSE)),VLOOKUP($A77,女子選手!$B$5:$H$103,6,FALSE)),\"\")","v":""},{"$f":"IFERROR(IF($E77=\"男\",(VLOOKUP($A77,男子選手!$B$5:$D$103,3,FALSE)),VLOOKUP($A77,女子選手!$B$5:$D$103,3,FALSE)),\"\")","v":""},{"$f":"IFERROR(IF($E77=\"男\",(VLOOKUP($A77,男子選手!$B$5:$E$103,4,FALSE)),VLOOKUP($A77,女子選手!$B$5:$E$103,4,FALSE)),\"\")","v":""}," "," ",null," "]
[null,{"$f":"IFERROR(IF($E78=\"男\",(VLOOKUP($A78,男子選手!$B$5:$G$103,6,FALSE)),VLOOKUP($A78,女子選手!$B$5:$H$103,6,FALSE)),\"\")","v":""},{"$f":"IFERROR(IF($E78=\"男\",(VLOOKUP($A78,男子選手!$B$5:$D$103,3,FALSE)),VLOOKUP($A78,女子選手!$B$5:$D$103,3,FALSE)),\"\")","v":""},{"$f":"IFERROR(IF($E78=\"男\",(VLOOKUP($A78,男子選手!$B$5:$E$103,4,FALSE)),VLOOKUP($A78,女子選手!$B$5:$E$103,4,FALSE)),\"\")","v":""}," "," ",null," "]
[null,{"$f":"IFERROR(IF($E79=\"男\",(VLOOKUP($A79,男子選手!$B$5:$G$103,6,FALSE)),VLOOKUP($A79,女子選手!$B$5:$H$103,6,FALSE)),\"\")","v":""},{"$f":"IFERROR(IF($E79=\"男\",(VLOOKUP($A79,男子選手!$B$5:$D$103,3,FALSE)),VLOOKUP($A79,女子選手!$B$5:$D$103,3,FALSE)),\"\")","v":""},{"$f":"IFERROR(IF($E79=\"男\",(VLOOKUP($A79,男子選手!$B$5:$E$103,4,FALSE)),VLOOKUP($A79,女子選手!$B$5:$E$103,4,FALSE)),\"\")","v":""}," "," ",null," "]
[null,{"$f":"IFERROR(IF($E80=\"男\",(VLOOKUP($A80,男子選手!$B$5:$G$103,6,FALSE)),VLOOKUP($A80,女子選手!$B$5:$H$103,6,FALSE)),\"\")","v":""},{"$f":"IFERROR(IF($E80=\"男\",(VLOOKUP($A80,男子選手!$B$5:$D$103,3,FALSE)),VLOOKUP($A80,女子選手!$B$5:$D$103,3,FALSE)),\"\")","v":""},{"$f":"IFERROR(IF($E80=\"男\",(VLOOKUP($A80,男子選手!$B$5:$E$103,4,FALSE)),VLOOKUP($A80,女子選手!$B$5:$E$103,4,FALSE)),\"\")","v":""}," "," ",null," "]
[null,{"$f":"IFERROR(IF($E81=\"男\",(VLOOKUP($A81,男子選手!$B$5:$G$103,6,FALSE)),VLOOKUP($A81,女子選手!$B$5:$H$103,6,FALSE)),\"\")","v":""},{"$f":"IFERROR(IF($E81=\"男\",(VLOOKUP($A81,男子選手!$B$5:$D$103,3,FALSE)),VLOOKUP($A81,女子選手!$B$5:$D$103,3,FALSE)),\"\")","v":""},{"$f":"IFERROR(IF($E81=\"男\",(VLOOKUP($A81,男子選手!$B$5:$E$103,4,FALSE)),VLOOKUP($A81,女子選手!$B$5:$E$103,4,FALSE)),\"\")","v":""}," "," ",null," "]
[null,{"$f":"IFERROR(IF($E82=\"男\",(VLOOKUP($A82,男子選手!$B$5:$G$103,6,FALSE)),VLOOKUP($A82,女子選手!$B$5:$H$103,6,FALSE)),\"\")","v":""},{"$f":"IFERROR(IF($E82=\"男\",(VLOOKUP($A82,男子選手!$B$5:$D$103,3,FALSE)),VLOOKUP($A82,女子選手!$B$5:$D$103,3,FALSE)),\"\")","v":""},{"$f":"IFERROR(IF($E82=\"男\",(VLOOKUP($A82,男子選手!$B$5:$E$103,4,FALSE)),VLOOKUP($A82,女子選手!$B$5:$E$103,4,FALSE)),\"\")","v":""}," "," ",null," "]
[null,{"$f":"IFERROR(IF($E83=\"男\",(VLOOKUP($A83,男子選手!$B$5:$G$103,6,FALSE)),VLOOKUP($A83,女子選手!$B$5:$H$103,6,FALSE)),\"\")","v":""},{"$f":"IFERROR(IF($E83=\"男\",(VLOOKUP($A83,男子選手!$B$5:$D$103,3,FALSE)),VLOOKUP($A83,女子選手!$B$5:$D$103,3,FALSE)),\"\")","v":""},{"$f":"IFERROR(IF($E83=\"男\",(VLOOKUP($A83,男子選手!$B$5:$E$103,4,FALSE)),VLOOKUP($A83,女子選手!$B$5:$E$103,4,FALSE)),\"\")","v":""}," "," ",null," "]
[null,{"$f":"IFERROR(IF($E84=\"男\",(VLOOKUP($A84,男子選手!$B$5:$G$103,6,FALSE)),VLOOKUP($A84,女子選手!$B$5:$H$103,6,FALSE)),\"\")","v":""},{"$f":"IFERROR(IF($E84=\"男\",(VLOOKUP($A84,男子選手!$B$5:$D$103,3,FALSE)),VLOOKUP($A84,女子選手!$B$5:$D$103,3,FALSE)),\"\")","v":""},{"$f":"IFERROR(IF($E84=\"男\",(VLOOKUP($A84,男子選手!$B$5:$E$103,4,FALSE)),VLOOKUP($A84,女子選手!$B$5:$E$103,4,FALSE)),\"\")","v":""}," "," ",null," "]
[null,{"$f":"IFERROR(IF($E85=\"男\",(VLOOKUP($A85,男子選手!$B$5:$G$103,6,FALSE)),VLOOKUP($A85,女子選手!$B$5:$H$103,6,FALSE)),\"\")","v":""},{"$f":"IFERROR(IF($E85=\"男\",(VLOOKUP($A85,男子選手!$B$5:$D$103,3,FALSE)),VLOOKUP($A85,女子選手!$B$5:$D$103,3,FALSE)),\"\")","v":""},{"$f":"IFERROR(IF($E85=\"男\",(VLOOKUP($A85,男子選手!$B$5:$E$103,4,FALSE)),VLOOKUP($A85,女子選手!$B$5:$E$103,4,FALSE)),\"\")","v":""}," "," ",null," "]
[null,{"$f":"IFERROR(IF($E86=\"男\",(VLOOKUP($A86,男子選手!$B$5:$G$103,6,FALSE)),VLOOKUP($A86,女子選手!$B$5:$H$103,6,FALSE)),\"\")","v":""},{"$f":"IFERROR(IF($E86=\"男\",(VLOOKUP($A86,男子選手!$B$5:$D$103,3,FALSE)),VLOOKUP($A86,女子選手!$B$5:$D$103,3,FALSE)),\"\")","v":""},{"$f":"IFERROR(IF($E86=\"男\",(VLOOKUP($A86,男子選手!$B$5:$E$103,4,FALSE)),VLOOKUP($A86,女子選手!$B$5:$E$103,4,FALSE)),\"\")","v":""}," "," ",null," "]
[null,{"$f":"IFERROR(IF($E87=\"男\",(VLOOKUP($A87,男子選手!$B$5:$G$103,6,FALSE)),VLOOKUP($A87,女子選手!$B$5:$H$103,6,FALSE)),\"\")","v":""},{"$f":"IFERROR(IF($E87=\"男\",(VLOOKUP($A87,男子選手!$B$5:$D$103,3,FALSE)),VLOOKUP($A87,女子選手!$B$5:$D$103,3,FALSE)),\"\")","v":""},{"$f":"IFERROR(IF($E87=\"男\",(VLOOKUP($A87,男子選手!$B$5:$E$103,4,FALSE)),VLOOKUP($A87,女子選手!$B$5:$E$103,4,FALSE)),\"\")","v":""}," "," ",null," "]
[null,{"$f":"IFERROR(IF($E88=\"男\",(VLOOKUP($A88,男子選手!$B$5:$G$103,6,FALSE)),VLOOKUP($A88,女子選手!$B$5:$H$103,6,FALSE)),\"\")","v":""},{"$f":"IFERROR(IF($E88=\"男\",(VLOOKUP($A88,男子選手!$B$5:$D$103,3,FALSE)),VLOOKUP($A88,女子選手!$B$5:$D$103,3,FALSE)),\"\")","v":""},{"$f":"IFERROR(IF($E88=\"男\",(VLOOKUP($A88,男子選手!$B$5:$E$103,4,FALSE)),VLOOKUP($A88,女子選手!$B$5:$E$103,4,FALSE)),\"\")","v":""}," "," ",null," "]
[null,{"$f":"IFERROR(IF($E89=\"男\",(VLOOKUP($A89,男子選手!$B$5:$G$103,6,FALSE)),VLOOKUP($A89,女子選手!$B$5:$H$103,6,FALSE)),\"\")","v":""},{"$f":"IFERROR(IF($E89=\"男\",(VLOOKUP($A89,男子選手!$B$5:$D$103,3,FALSE)),VLOOKUP($A89,女子選手!$B$5:$D$103,3,FALSE)),\"\")","v":""},{"$f":"IFERROR(IF($E89=\"男\",(VLOOKUP($A89,男子選手!$B$5:$E$103,4,FALSE)),VLOOKUP($A89,女子選手!$B$5:$E$103,4,FALSE)),\"\")","v":""}," "," ",null," "]
[null,{"$f":"IFERROR(IF($E90=\"男\",(VLOOKUP($A90,男子選手!$B$5:$G$103,6,FALSE)),VLOOKUP($A90,女子選手!$B$5:$H$103,6,FALSE)),\"\")","v":""},{"$f":"IFERROR(IF($E90=\"男\",(VLOOKUP($A90,男子選手!$B$5:$D$103,3,FALSE)),VLOOKUP($A90,女子選手!$B$5:$D$103,3,FALSE)),\"\")","v":""},{"$f":"IFERROR(IF($E90=\"男\",(VLOOKUP($A90,男子選手!$B$5:$E$103,4,FALSE)),VLOOKUP($A90,女子選手!$B$5:$E$103,4,FALSE)),\"\")","v":""}," "," ",null," "]
[null,{"$f":"IFERROR(IF($E91=\"男\",(VLOOKUP($A91,男子選手!$B$5:$G$103,6,FALSE)),VLOOKUP($A91,女子選手!$B$5:$H$103,6,FALSE)),\"\")","v":""},{"$f":"IFERROR(IF($E91=\"男\",(VLOOKUP($A91,男子選手!$B$5:$D$103,3,FALSE)),VLOOKUP($A91,女子選手!$B$5:$D$103,3,FALSE)),\"\")","v":""},{"$f":"IFERROR(IF($E91=\"男\",(VLOOKUP($A91,男子選手!$B$5:$E$103,4,FALSE)),VLOOKUP($A91,女子選手!$B$5:$E$103,4,FALSE)),\"\")","v":""}," "," ",null," "]
[null,{"$f":"IFERROR(IF($E92=\"男\",(VLOOKUP($A92,男子選手!$B$5:$G$103,6,FALSE)),VLOOKUP($A92,女子選手!$B$5:$H$103,6,FALSE)),\"\")","v":""},{"$f":"IFERROR(IF($E92=\"男\",(VLOOKUP($A92,男子選手!$B$5:$D$103,3,FALSE)),VLOOKUP($A92,女子選手!$B$5:$D$103,3,FALSE)),\"\")","v":""},{"$f":"IFERROR(IF($E92=\"男\",(VLOOKUP($A92,男子選手!$B$5:$E$103,4,FALSE)),VLOOKUP($A92,女子選手!$B$5:$E$103,4,FALSE)),\"\")","v":""}," "," ",null," "]
[null,{"$f":"IFERROR(IF($E93=\"男\",(VLOOKUP($A93,男子選手!$B$5:$G$103,6,FALSE)),VLOOKUP($A93,女子選手!$B$5:$H$103,6,FALSE)),\"\")","v":""},{"$f":"IFERROR(IF($E93=\"男\",(VLOOKUP($A93,男子選手!$B$5:$D$103,3,FALSE)),VLOOKUP($A93,女子選手!$B$5:$D$103,3,FALSE)),\"\")","v":""},{"$f":"IFERROR(IF($E93=\"男\",(VLOOKUP($A93,男子選手!$B$5:$E$103,4,FALSE)),VLOOKUP($A93,女子選手!$B$5:$E$103,4,FALSE)),\"\")","v":""}," "," ",null," "]
[null,{"$f":"IFERROR(IF($E94=\"男\",(VLOOKUP($A94,男子選手!$B$5:$G$103,6,FALSE)),VLOOKUP($A94,女子選手!$B$5:$H$103,6,FALSE)),\"\")","v":""},{"$f":"IFERROR(IF($E94=\"男\",(VLOOKUP($A94,男子選手!$B$5:$D$103,3,FALSE)),VLOOKUP($A94,女子選手!$B$5:$D$103,3,FALSE)),\"\")","v":""},{"$f":"IFERROR(IF($E94=\"男\",(VLOOKUP($A94,男子選手!$B$5:$E$103,4,FALSE)),VLOOKUP($A94,女子選手!$B$5:$E$103,4,FALSE)),\"\")","v":""}," "," ",null," "]
[null,{"$f":"IFERROR(IF($E95=\"男\",(VLOOKUP($A95,男子選手!$B$5:$G$103,6,FALSE)),VLOOKUP($A95,女子選手!$B$5:$H$103,6,FALSE)),\"\")","v":""},{"$f":"IFERROR(IF($E95=\"男\",(VLOOKUP($A95,男子選手!$B$5:$D$103,3,FALSE)),VLOOKUP($A95,女子選手!$B$5:$D$103,3,FALSE)),\"\")","v":""},{"$f":"IFERROR(IF($E95=\"男\",(VLOOKUP($A95,男子選手!$B$5:$E$103,4,FALSE)),VLOOKUP($A95,女子選手!$B$5:$E$103,4,FALSE)),\"\")","v":""}," "," ",null," "]
[null,{"$f":"IFERROR(IF($E96=\"男\",(VLOOKUP($A96,男子選手!$B$5:$G$103,6,FALSE)),VLOOKUP($A96,女子選手!$B$5:$H$103,6,FALSE)),\"\")","v":""},{"$f":"IFERROR(IF($E96=\"男\",(VLOOKUP($A96,男子選手!$B$5:$D$103,3,FALSE)),VLOOKUP($A96,女子選手!$B$5:$D$103,3,FALSE)),\"\")","v":""},{"$f":"IFERROR(IF($E96=\"男\",(VLOOKUP($A96,男子選手!$B$5:$E$103,4,FALSE)),VLOOKUP($A96,女子選手!$B$5:$E$103,4,FALSE)),\"\")","v":""}," "," ",null," "]
[null,{"$f":"IFERROR(IF($E97=\"男\",(VLOOKUP($A97,男子選手!$B$5:$G$103,6,FALSE)),VLOOKUP($A97,女子選手!$B$5:$H$103,6,FALSE)),\"\")","v":""},{"$f":"IFERROR(IF($E97=\"男\",(VLOOKUP($A97,男子選手!$B$5:$D$103,3,FALSE)),VLOOKUP($A97,女子選手!$B$5:$D$103,3,FALSE)),\"\")","v":""},{"$f":"IFERROR(IF($E97=\"男\",(VLOOKUP($A97,男子選手!$B$5:$E$103,4,FALSE)),VLOOKUP($A97,女子選手!$B$5:$E$103,4,FALSE)),\"\")","v":""}," "," ",null," "]
[null,{"$f":"IFERROR(IF($E98=\"男\",(VLOOKUP($A98,男子選手!$B$5:$G$103,6,FALSE)),VLOOKUP($A98,女子選手!$B$5:$H$103,6,FALSE)),\"\")","v":""},{"$f":"IFERROR(IF($E98=\"男\",(VLOOKUP($A98,男子選手!$B$5:$D$103,3,FALSE)),VLOOKUP($A98,女子選手!$B$5:$D$103,3,FALSE)),\"\")","v":""},{"$f":"IFERROR(IF($E98=\"男\",(VLOOKUP($A98,男子選手!$B$5:$E$103,4,FALSE)),VLOOKUP($A98,女子選手!$B$5:$E$103,4,FALSE)),\"\")","v":""}," "," ",null," "]
[null,{"$f":"IFERROR(IF($E99=\"男\",(VLOOKUP($A99,男子選手!$B$5:$G$103,6,FALSE)),VLOOKUP($A99,女子選手!$B$5:$H$103,6,FALSE)),\"\")","v":""},{"$f":"IFERROR(IF($E99=\"男\",(VLOOKUP($A99,男子選手!$B$5:$D$103,3,FALSE)),VLOOKUP($A99,女子選手!$B$5:$D$103,3,FALSE)),\"\")","v":""},{"$f":"IFERROR(IF($E99=\"男\",(VLOOKUP($A99,男子選手!$B$5:$E$103,4,FALSE)),VLOOKUP($A99,女子選手!$B$5:$E$103,4,FALSE)),\"\")","v":""}," "," ",null," "]
[null,{"$f":"IFERROR(IF($E100=\"男\",(VLOOKUP($A100,男子選手!$B$5:$G$103,6,FALSE)),VLOOKUP($A100,女子選手!$B$5:$H$103,6,FALSE)),\"\")","v":""},{"$f":"IFERROR(IF($E100=\"男\",(VLOOKUP($A100,男子選手!$B$5:$D$103,3,FALSE)),VLOOKUP($A100,女子選手!$B$5:$D$103,3,FALSE)),\"\")","v":""},{"$f":"IFERROR(IF($E100=\"男\",(VLOOKUP($A100,男子選手!$B$5:$E$103,4,FALSE)),VLOOKUP($A100,女子選手!$B$5:$E$103,4,FALSE)),\"\")","v":""}," "," ",null," "]
[null,{"$f":"IFERROR(IF($E101=\"男\",(VLOOKUP($A101,男子選手!$B$5:$G$103,6,FALSE)),VLOOKUP($A101,女子選手!$B$5:$H$103,6,FALSE)),\"\")","v":""},{"$f":"IFERROR(IF($E101=\"男\",(VLOOKUP($A101,男子選手!$B$5:$D$103,3,FALSE)),VLOOKUP($A101,女子選手!$B$5:$D$103,3,FALSE)),\"\")","v":""},{"$f":"IFERROR(IF($E101=\"男\",(VLOOKUP($A101,男子選手!$B$5:$E$103,4,FALSE)),VLOOKUP($A101,女子選手!$B$5:$E$103,4,FALSE)),\"\")","v":""}," "," ",null," "]
[null,{"$f":"IFERROR(IF($E102=\"男\",(VLOOKUP($A102,男子選手!$B$5:$G$103,6,FALSE)),VLOOKUP($A102,女子選手!$B$5:$H$103,6,FALSE)),\"\")","v":""},{"$f":"IFERROR(IF($E102=\"男\",(VLOOKUP($A102,男子選手!$B$5:$D$103,3,FALSE)),VLOOKUP($A102,女子選手!$B$5:$D$103,3,FALSE)),\"\")","v":""},{"$f":"IFERROR(IF($E102=\"男\",(VLOOKUP($A102,男子選手!$B$5:$E$103,4,FALSE)),VLOOKUP($A102,女子選手!$B$5:$E$103,4,FALSE)),\"\")","v":""}," "," ",null," "]
[null,{"$f":"IFERROR(IF($E103=\"男\",(VLOOKUP($A103,男子選手!$B$5:$G$103,6,FALSE)),VLOOKUP($A103,女子選手!$B$5:$H$103,6,FALSE)),\"\")","v":""},{"$f":"IFERROR(IF($E103=\"男\",(VLOOKUP($A103,男子選手!$B$5:$D$103,3,FALSE)),VLOOKUP($A103,女子選手!$B$5:$D$103,3,FALSE)),\"\")","v":""},{"$f":"IFERROR(IF($E103=\"男\",(VLOOKUP($A103,男子選手!$B$5:$E$103,4,FALSE)),VLOOKUP($A103,女子選手!$B$5:$E$103,4,FALSE)),\"\")","v":""}," "," ",null," "]
[null,{"$f":"IFERROR(IF($E104=\"男\",(VLOOKUP($A104,男子選手!$B$5:$G$103,6,FALSE)),VLOOKUP($A104,女子選手!$B$5:$H$103,6,FALSE)),\"\")","v":""},{"$f":"IFERROR(IF($E104=\"男\",(VLOOKUP($A104,男子選手!$B$5:$D$103,3,FALSE)),VLOOKUP($A104,女子選手!$B$5:$D$103,3,FALSE)),\"\")","v":""},{"$f":"IFERROR(IF($E104=\"男\",(VLOOKUP($A104,男子選手!$B$5:$E$103,4,FALSE)),VLOOKUP($A104,女子選手!$B$5:$E$103,4,FALSE)),\"\")","v":""}," "," ",null," "]
[null,{"$f":"IFERROR(IF($E105=\"男\",(VLOOKUP($A105,男子選手!$B$5:$G$103,6,FALSE)),VLOOKUP($A105,女子選手!$B$5:$H$103,6,FALSE)),\"\")","v":""},{"$f":"IFERROR(IF($E105=\"男\",(VLOOKUP($A105,男子選手!$B$5:$D$103,3,FALSE)),VLOOKUP($A105,女子選手!$B$5:$D$103,3,FALSE)),\"\")","v":""},{"$f":"IFERROR(IF($E105=\"男\",(VLOOKUP($A105,男子選手!$B$5:$E$103,4,FALSE)),VLOOKUP($A105,女子選手!$B$5:$E$103,4,FALSE)),\"\")","v":""}," "," ",null," "]
[null,{"$f":"IFERROR(IF($E106=\"男\",(VLOOKUP($A106,男子選手!$B$5:$G$103,6,FALSE)),VLOOKUP($A106,女子選手!$B$5:$H$103,6,FALSE)),\"\")","v":""},{"$f":"IFERROR(IF($E106=\"男\",(VLOOKUP($A106,男子選手!$B$5:$D$103,3,FALSE)),VLOOKUP($A106,女子選手!$B$5:$D$103,3,FALSE)),\"\")","v":""},{"$f":"IFERROR(IF($E106=\"男\",(VLOOKUP($A106,男子選手!$B$5:$E$103,4,FALSE)),VLOOKUP($A106,女子選手!$B$5:$E$103,4,FALSE)),\"\")","v":""}," "," ",null," "]
[null,{"$f":"IFERROR(IF($E107=\"男\",(VLOOKUP($A107,男子選手!$B$5:$G$103,6,FALSE)),VLOOKUP($A107,女子選手!$B$5:$H$103,6,FALSE)),\"\")","v":""},{"$f":"IFERROR(IF($E107=\"男\",(VLOOKUP($A107,男子選手!$B$5:$D$103,3,FALSE)),VLOOKUP($A107,女子選手!$B$5:$D$103,3,FALSE)),\"\")","v":""},{"$f":"IFERROR(IF($E107=\"男\",(VLOOKUP($A107,男子選手!$B$5:$E$103,4,FALSE)),VLOOKUP($A107,女子選手!$B$5:$E$103,4,FALSE)),\"\")","v":""}," "," ",null," "]
[null,{"$f":"IFERROR(IF($E108=\"男\",(VLOOKUP($A108,男子選手!$B$5:$G$103,6,FALSE)),VLOOKUP($A108,女子選手!$B$5:$H$103,6,FALSE)),\"\")","v":""},{"$f":"IFERROR(IF($E108=\"男\",(VLOOKUP($A108,男子選手!$B$5:$D$103,3,FALSE)),VLOOKUP($A108,女子選手!$B$5:$D$103,3,FALSE)),\"\")","v":""},{"$f":"IFERROR(IF($E108=\"男\",(VLOOKUP($A108,男子選手!$B$5:$E$103,4,FALSE)),VLOOKUP($A108,女子選手!$B$5:$E$103,4,FALSE)),\"\")","v":""}," "," ",null," "]
[null,{"$f":"IFERROR(IF($E109=\"男\",(VLOOKUP($A109,男子選手!$B$5:$G$103,6,FALSE)),VLOOKUP($A109,女子選手!$B$5:$H$103,6,FALSE)),\"\")","v":""},{"$f":"IFERROR(IF($E109=\"男\",(VLOOKUP($A109,男子選手!$B$5:$D$103,3,FALSE)),VLOOKUP($A109,女子選手!$B$5:$D$103,3,FALSE)),\"\")","v":""},{"$f":"IFERROR(IF($E109=\"男\",(VLOOKUP($A109,男子選手!$B$5:$E$103,4,FALSE)),VLOOKUP($A109,女子選手!$B$5:$E$103,4,FALSE)),\"\")","v":""}," "," ",null," "]
[null,{"$f":"IFERROR(IF($E110=\"男\",(VLOOKUP($A110,男子選手!$B$5:$G$103,6,FALSE)),VLOOKUP($A110,女子選手!$B$5:$H$103,6,FALSE)),\"\")","v":""},{"$f":"IFERROR(IF($E110=\"男\",(VLOOKUP($A110,男子選手!$B$5:$D$103,3,FALSE)),VLOOKUP($A110,女子選手!$B$5:$D$103,3,FALSE)),\"\")","v":""},{"$f":"IFERROR(IF($E110=\"男\",(VLOOKUP($A110,男子選手!$B$5:$E$103,4,FALSE)),VLOOKUP($A110,女子選手!$B$5:$E$103,4,FALSE)),\"\")","v":""}," "," ",null," "]
[null,{"$f":"IFERROR(IF($E111=\"男\",(VLOOKUP($A111,男子選手!$B$5:$G$103,6,FALSE)),VLOOKUP($A111,女子選手!$B$5:$H$103,6,FALSE)),\"\")","v":""},{"$f":"IFERROR(IF($E111=\"男\",(VLOOKUP($A111,男子選手!$B$5:$D$103,3,FALSE)),VLOOKUP($A111,女子選手!$B$5:$D$103,3,FALSE)),\"\")","v":""},{"$f":"IFERROR(IF($E111=\"男\",(VLOOKUP($A111,男子選手!$B$5:$E$103,4,FALSE)),VLOOKUP($A111,女子選手!$B$5:$E$103,4,FALSE)),\"\")","v":""}," "," ",null," "]
[null,{"$f":"IFERROR(IF($E112=\"男\",(VLOOKUP($A112,男子選手!$B$5:$G$103,6,FALSE)),VLOOKUP($A112,女子選手!$B$5:$H$103,6,FALSE)),\"\")","v":""},{"$f":"IFERROR(IF($E112=\"男\",(VLOOKUP($A112,男子選手!$B$5:$D$103,3,FALSE)),VLOOKUP($A112,女子選手!$B$5:$D$103,3,FALSE)),\"\")","v":""},{"$f":"IFERROR(IF($E112=\"男\",(VLOOKUP($A112,男子選手!$B$5:$E$103,4,FALSE)),VLOOKUP($A112,女子選手!$B$5:$E$103,4,FALSE)),\"\")","v":""}," "," ",null," "]
[null,{"$f":"IFERROR(IF($E113=\"男\",(VLOOKUP($A113,男子選手!$B$5:$G$103,6,FALSE)),VLOOKUP($A113,女子選手!$B$5:$H$103,6,FALSE)),\"\")","v":""},{"$f":"IFERROR(IF($E113=\"男\",(VLOOKUP($A113,男子選手!$B$5:$D$103,3,FALSE)),VLOOKUP($A113,女子選手!$B$5:$D$103,3,FALSE)),\"\")","v":""},{"$f":"IFERROR(IF($E113=\"男\",(VLOOKUP($A113,男子選手!$B$5:$E$103,4,FALSE)),VLOOKUP($A113,女子選手!$B$5:$E$103,4,FALSE)),\"\")","v":""}," "," ",null," "]
[null,{"$f":"IFERROR(IF($E114=\"男\",(VLOOKUP($A114,男子選手!$B$5:$G$103,6,FALSE)),VLOOKUP($A114,女子選手!$B$5:$H$103,6,FALSE)),\"\")","v":""},{"$f":"IFERROR(IF($E114=\"男\",(VLOOKUP($A114,男子選手!$B$5:$D$103,3,FALSE)),VLOOKUP($A114,女子選手!$B$5:$D$103,3,FALSE)),\"\")","v":""},{"$f":"IFERROR(IF($E114=\"男\",(VLOOKUP($A114,男子選手!$B$5:$E$103,4,FALSE)),VLOOKUP($A114,女子選手!$B$5:$E$103,4,FALSE)),\"\")","v":""}," "," ",null," "]
[null,{"$f":"IFERROR(IF($E115=\"男\",(VLOOKUP($A115,男子選手!$B$5:$G$103,6,FALSE)),VLOOKUP($A115,女子選手!$B$5:$H$103,6,FALSE)),\"\")","v":""},{"$f":"IFERROR(IF($E115=\"男\",(VLOOKUP($A115,男子選手!$B$5:$D$103,3,FALSE)),VLOOKUP($A115,女子選手!$B$5:$D$103,3,FALSE)),\"\")","v":""},{"$f":"IFERROR(IF($E115=\"男\",(VLOOKUP($A115,男子選手!$B$5:$E$103,4,FALSE)),VLOOKUP($A115,女子選手!$B$5:$E$103,4,FALSE)),\"\")","v":""}," "," ",null," "]
[null,{"$f":"IFERROR(IF($E116=\"男\",(VLOOKUP($A116,男子選手!$B$5:$G$103,6,FALSE)),VLOOKUP($A116,女子選手!$B$5:$H$103,6,FALSE)),\"\")","v":""},{"$f":"IFERROR(IF($E116=\"男\",(VLOOKUP($A116,男子選手!$B$5:$D$103,3,FALSE)),VLOOKUP($A116,女子選手!$B$5:$D$103,3,FALSE)),\"\")","v":""},{"$f":"IFERROR(IF($E116=\"男\",(VLOOKUP($A116,男子選手!$B$5:$E$103,4,FALSE)),VLOOKUP($A116,女子選手!$B$5:$E$103,4,FALSE)),\"\")","v":""}," "," ",null," "]
[null,{"$f":"IFERROR(IF($E117=\"男\",(VLOOKUP($A117,男子選手!$B$5:$G$103,6,FALSE)),VLOOKUP($A117,女子選手!$B$5:$H$103,6,FALSE)),\"\")","v":""},{"$f":"IFERROR(IF($E117=\"男\",(VLOOKUP($A117,男子選手!$B$5:$D$103,3,FALSE)),VLOOKUP($A117,女子選手!$B$5:$D$103,3,FALSE)),\"\")","v":""},{"$f":"IFERROR(IF($E117=\"男\",(VLOOKUP($A117,男子選手!$B$5:$E$103,4,FALSE)),VLOOKUP($A117,女子選手!$B$5:$E$103,4,FALSE)),\"\")","v":""}," "," ",null," "]
[null,{"$f":"IFERROR(IF($E118=\"男\",(VLOOKUP($A118,男子選手!$B$5:$G$103,6,FALSE)),VLOOKUP($A118,女子選手!$B$5:$H$103,6,FALSE)),\"\")","v":""},{"$f":"IFERROR(IF($E118=\"男\",(VLOOKUP($A118,男子選手!$B$5:$D$103,3,FALSE)),VLOOKUP($A118,女子選手!$B$5:$D$103,3,FALSE)),\"\")","v":""},{"$f":"IFERROR(IF($E118=\"男\",(VLOOKUP($A118,男子選手!$B$5:$E$103,4,FALSE)),VLOOKUP($A118,女子選手!$B$5:$E$103,4,FALSE)),\"\")","v":""}," "," ",null," "]
[null,{"$f":"IFERROR(IF($E119=\"男\",(VLOOKUP($A119,男子選手!$B$5:$G$103,6,FALSE)),VLOOKUP($A119,女子選手!$B$5:$H$103,6,FALSE)),\"\")","v":""},{"$f":"IFERROR(IF($E119=\"男\",(VLOOKUP($A119,男子選手!$B$5:$D$103,3,FALSE)),VLOOKUP($A119,女子選手!$B$5:$D$103,3,FALSE)),\"\")","v":""},{"$f":"IFERROR(IF($E119=\"男\",(VLOOKUP($A119,男子選手!$B$5:$E$103,4,FALSE)),VLOOKUP($A119,女子選手!$B$5:$E$103,4,FALSE)),\"\")","v":""}," "," ",null," "]
[null,{"$f":"IFERROR(IF($E120=\"男\",(VLOOKUP($A120,男子選手!$B$5:$G$103,6,FALSE)),VLOOKUP($A120,女子選手!$B$5:$H$103,6,FALSE)),\"\")","v":""},{"$f":"IFERROR(IF($E120=\"男\",(VLOOKUP($A120,男子選手!$B$5:$D$103,3,FALSE)),VLOOKUP($A120,女子選手!$B$5:$D$103,3,FALSE)),\"\")","v":""},{"$f":"IFERROR(IF($E120=\"男\",(VLOOKUP($A120,男子選手!$B$5:$E$103,4,FALSE)),VLOOKUP($A120,女子選手!$B$5:$E$103,4,FALSE)),\"\")","v":""}," "," ",null," "]
[null,{"$f":"IFERROR(IF($E121=\"男\",(VLOOKUP($A121,男子選手!$B$5:$G$103,6,FALSE)),VLOOKUP($A121,女子選手!$B$5:$H$103,6,FALSE)),\"\")","v":""},{"$f":"IFERROR(IF($E121=\"男\",(VLOOKUP($A121,男子選手!$B$5:$D$103,3,FALSE)),VLOOKUP($A121,女子選手!$B$5:$D$103,3,FALSE)),\"\")","v":""},{"$f":"IFERROR(IF($E121=\"男\",(VLOOKUP($A121,男子選手!$B$5:$E$103,4,FALSE)),VLOOKUP($A121,女子選手!$B$5:$E$103,4,FALSE)),\"\")","v":""}," "," ",null," "]
[null,{"$f":"IFERROR(IF($E122=\"男\",(VLOOKUP($A122,男子選手!$B$5:$G$103,6,FALSE)),VLOOKUP($A122,女子選手!$B$5:$H$103,6,FALSE)),\"\")","v":""},{"$f":"IFERROR(IF($E122=\"男\",(VLOOKUP($A122,男子選手!$B$5:$D$103,3,FALSE)),VLOOKUP($A122,女子選手!$B$5:$D$103,3,FALSE)),\"\")","v":""},{"$f":"IFERROR(IF($E122=\"男\",(VLOOKUP($A122,男子選手!$B$5:$E$103,4,FALSE)),VLOOKUP($A122,女子選手!$B$5:$E$103,4,FALSE)),\"\")","v":""}," "," ",null," "]
[null,{"$f":"IFERROR(IF($E123=\"男\",(VLOOKUP($A123,男子選手!$B$5:$G$103,6,FALSE)),VLOOKUP($A123,女子選手!$B$5:$H$103,6,FALSE)),\"\")","v":""},{"$f":"IFERROR(IF($E123=\"男\",(VLOOKUP($A123,男子選手!$B$5:$D$103,3,FALSE)),VLOOKUP($A123,女子選手!$B$5:$D$103,3,FALSE)),\"\")","v":""},{"$f":"IFERROR(IF($E123=\"男\",(VLOOKUP($A123,男子選手!$B$5:$E$103,4,FALSE)),VLOOKUP($A123,女子選手!$B$5:$E$103,4,FALSE)),\"\")","v":""}," "," ",null," "]
[null,{"$f":"IFERROR(IF($E124=\"男\",(VLOOKUP($A124,男子選手!$B$5:$G$103,6,FALSE)),VLOOKUP($A124,女子選手!$B$5:$H$103,6,FALSE)),\"\")","v":""},{"$f":"IFERROR(IF($E124=\"男\",(VLOOKUP($A124,男子選手!$B$5:$D$103,3,FALSE)),VLOOKUP($A124,女子選手!$B$5:$D$103,3,FALSE)),\"\")","v":""},{"$f":"IFERROR(IF($E124=\"男\",(VLOOKUP($A124,男子選手!$B$5:$E$103,4,FALSE)),VLOOKUP($A124,女子選手!$B$5:$E$103,4,FALSE)),\"\")","v":""}," "," ",null," "]
[null,{"$f":"IFERROR(IF($E125=\"男\",(VLOOKUP($A125,男子選手!$B$5:$G$103,6,FALSE)),VLOOKUP($A125,女子選手!$B$5:$H$103,6,FALSE)),\"\")","v":""},{"$f":"IFERROR(IF($E125=\"男\",(VLOOKUP($A125,男子選手!$B$5:$D$103,3,FALSE)),VLOOKUP($A125,女子選手!$B$5:$D$103,3,FALSE)),\"\")","v":""},{"$f":"IFERROR(IF($E125=\"男\",(VLOOKUP($A125,男子選手!$B$5:$E$103,4,FALSE)),VLOOKUP($A125,女子選手!$B$5:$E$103,4,FALSE)),\"\")","v":""}," "," ",null," "]
[null,{"$f":"IFERROR(IF($E126=\"男\",(VLOOKUP($A126,男子選手!$B$5:$G$103,6,FALSE)),VLOOKUP($A126,女子選手!$B$5:$H$103,6,FALSE)),\"\")","v":""},{"$f":"IFERROR(IF($E126=\"男\",(VLOOKUP($A126,男子選手!$B$5:$D$103,3,FALSE)),VLOOKUP($A126,女子選手!$B$5:$D$103,3,FALSE)),\"\")","v":""},{"$f":"IFERROR(IF($E126=\"男\",(VLOOKUP($A126,男子選手!$B$5:$E$103,4,FALSE)),VLOOKUP($A126,女子選手!$B$5:$E$103,4,FALSE)),\"\")","v":""}," "," ",null," "]
[null,{"$f":"IFERROR(IF($E127=\"男\",(VLOOKUP($A127,男子選手!$B$5:$G$103,6,FALSE)),VLOOKUP($A127,女子選手!$B$5:$H$103,6,FALSE)),\"\")","v":""},{"$f":"IFERROR(IF($E127=\"男\",(VLOOKUP($A127,男子選手!$B$5:$D$103,3,FALSE)),VLOOKUP($A127,女子選手!$B$5:$D$103,3,FALSE)),\"\")","v":""},{"$f":"IFERROR(IF($E127=\"男\",(VLOOKUP($A127,男子選手!$B$5:$E$103,4,FALSE)),VLOOKUP($A127,女子選手!$B$5:$E$103,4,FALSE)),\"\")","v":""}," "," ",null," "]
[null,{"$f":"IFERROR(IF($E128=\"男\",(VLOOKUP($A128,男子選手!$B$5:$G$103,6,FALSE)),VLOOKUP($A128,女子選手!$B$5:$H$103,6,FALSE)),\"\")","v":""},{"$f":"IFERROR(IF($E128=\"男\",(VLOOKUP($A128,男子選手!$B$5:$D$103,3,FALSE)),VLOOKUP($A128,女子選手!$B$5:$D$103,3,FALSE)),\"\")","v":""},{"$f":"IFERROR(IF($E128=\"男\",(VLOOKUP($A128,男子選手!$B$5:$E$103,4,FALSE)),VLOOKUP($A128,女子選手!$B$5:$E$103,4,FALSE)),\"\")","v":""}," "," ",null," "]
[null,{"$f":"IFERROR(IF($E129=\"男\",(VLOOKUP($A129,男子選手!$B$5:$G$103,6,FALSE)),VLOOKUP($A129,女子選手!$B$5:$H$103,6,FALSE)),\"\")","v":""},{"$f":"IFERROR(IF($E129=\"男\",(VLOOKUP($A129,男子選手!$B$5:$D$103,3,FALSE)),VLOOKUP($A129,女子選手!$B$5:$D$103,3,FALSE)),\"\")","v":""},{"$f":"IFERROR(IF($E129=\"男\",(VLOOKUP($A129,男子選手!$B$5:$E$103,4,FALSE)),VLOOKUP($A129,女子選手!$B$5:$E$103,4,FALSE)),\"\")","v":""}," "," ",null," "]
[null,{"$f":"IFERROR(IF($E130=\"男\",(VLOOKUP($A130,男子選手!$B$5:$G$103,6,FALSE)),VLOOKUP($A130,女子選手!$B$5:$H$103,6,FALSE)),\"\")","v":""},{"$f":"IFERROR(IF($E130=\"男\",(VLOOKUP($A130,男子選手!$B$5:$D$103,3,FALSE)),VLOOKUP($A130,女子選手!$B$5:$D$103,3,FALSE)),\"\")","v":""},{"$f":"IFERROR(IF($E130=\"男\",(VLOOKUP($A130,男子選手!$B$5:$E$103,4,FALSE)),VLOOKUP($A130,女子選手!$B$5:$E$103,4,FALSE)),\"\")","v":""}," "," ",null," "]
[null,{"$f":"IFERROR(IF($E131=\"男\",(VLOOKUP($A131,男子選手!$B$5:$G$103,6,FALSE)),VLOOKUP($A131,女子選手!$B$5:$H$103,6,FALSE)),\"\")","v":""},{"$f":"IFERROR(IF($E131=\"男\",(VLOOKUP($A131,男子選手!$B$5:$D$103,3,FALSE)),VLOOKUP($A131,女子選手!$B$5:$D$103,3,FALSE)),\"\")","v":""},{"$f":"IFERROR(IF($E131=\"男\",(VLOOKUP($A131,男子選手!$B$5:$E$103,4,FALSE)),VLOOKUP($A131,女子選手!$B$5:$E$103,4,FALSE)),\"\")","v":""}," "," ",null," "]
[null,{"$f":"IFERROR(IF($E132=\"男\",(VLOOKUP($A132,男子選手!$B$5:$G$103,6,FALSE)),VLOOKUP($A132,女子選手!$B$5:$H$103,6,FALSE)),\"\")","v":""},{"$f":"IFERROR(IF($E132=\"男\",(VLOOKUP($A132,男子選手!$B$5:$D$103,3,FALSE)),VLOOKUP($A132,女子選手!$B$5:$D$103,3,FALSE)),\"\")","v":""},{"$f":"IFERROR(IF($E132=\"男\",(VLOOKUP($A132,男子選手!$B$5:$E$103,4,FALSE)),VLOOKUP($A132,女子選手!$B$5:$E$103,4,FALSE)),\"\")","v":""}," "," ",null," "]
[null,{"$f":"IFERROR(IF($E133=\"男\",(VLOOKUP($A133,男子選手!$B$5:$G$103,6,FALSE)),VLOOKUP($A133,女子選手!$B$5:$H$103,6,FALSE)),\"\")","v":""},{"$f":"IFERROR(IF($E133=\"男\",(VLOOKUP($A133,男子選手!$B$5:$D$103,3,FALSE)),VLOOKUP($A133,女子選手!$B$5:$D$103,3,FALSE)),\"\")","v":""},{"$f":"IFERROR(IF($E133=\"男\",(VLOOKUP($A133,男子選手!$B$5:$E$103,4,FALSE)),VLOOKUP($A133,女子選手!$B$5:$E$103,4,FALSE)),\"\")","v":""}," "," ",null," "]
[null,{"$f":"IFERROR(IF($E134=\"男\",(VLOOKUP($A134,男子選手!$B$5:$G$103,6,FALSE)),VLOOKUP($A134,女子選手!$B$5:$H$103,6,FALSE)),\"\")","v":""},{"$f":"IFERROR(IF($E134=\"男\",(VLOOKUP($A134,男子選手!$B$5:$D$103,3,FALSE)),VLOOKUP($A134,女子選手!$B$5:$D$103,3,FALSE)),\"\")","v":""},{"$f":"IFERROR(IF($E134=\"男\",(VLOOKUP($A134,男子選手!$B$5:$E$103,4,FALSE)),VLOOKUP($A134,女子選手!$B$5:$E$103,4,FALSE)),\"\")","v":""}," "," ",null," "]
[null,{"$f":"IFERROR(IF($E135=\"男\",(VLOOKUP($A135,男子選手!$B$5:$G$103,6,FALSE)),VLOOKUP($A135,女子選手!$B$5:$H$103,6,FALSE)),\"\")","v":""},{"$f":"IFERROR(IF($E135=\"男\",(VLOOKUP($A135,男子選手!$B$5:$D$103,3,FALSE)),VLOOKUP($A135,女子選手!$B$5:$D$103,3,FALSE)),\"\")","v":""},{"$f":"IFERROR(IF($E135=\"男\",(VLOOKUP($A135,男子選手!$B$5:$E$103,4,FALSE)),VLOOKUP($A135,女子選手!$B$5:$E$103,4,FALSE)),\"\")","v":""}," "," ",null," "]
[null,{"$f":"IFERROR(IF($E136=\"男\",(VLOOKUP($A136,男子選手!$B$5:$G$103,6,FALSE)),VLOOKUP($A136,女子選手!$B$5:$H$103,6,FALSE)),\"\")","v":""},{"$f":"IFERROR(IF($E136=\"男\",(VLOOKUP($A136,男子選手!$B$5:$D$103,3,FALSE)),VLOOKUP($A136,女子選手!$B$5:$D$103,3,FALSE)),\"\")","v":""},{"$f":"IFERROR(IF($E136=\"男\",(VLOOKUP($A136,男子選手!$B$5:$E$103,4,FALSE)),VLOOKUP($A136,女子選手!$B$5:$E$103,4,FALSE)),\"\")","v":""}," "," ",null," "]
[null,{"$f":"IFERROR(IF($E137=\"男\",(VLOOKUP($A137,男子選手!$B$5:$G$103,6,FALSE)),VLOOKUP($A137,女子選手!$B$5:$H$103,6,FALSE)),\"\")","v":""},{"$f":"IFERROR(IF($E137=\"男\",(VLOOKUP($A137,男子選手!$B$5:$D$103,3,FALSE)),VLOOKUP($A137,女子選手!$B$5:$D$103,3,FALSE)),\"\")","v":""},{"$f":"IFERROR(IF($E137=\"男\",(VLOOKUP($A137,男子選手!$B$5:$E$103,4,FALSE)),VLOOKUP($A137,女子選手!$B$5:$E$103,4,FALSE)),\"\")","v":""}," "," ",null," "]
[null,{"$f":"IFERROR(IF($E138=\"男\",(VLOOKUP($A138,男子選手!$B$5:$G$103,6,FALSE)),VLOOKUP($A138,女子選手!$B$5:$H$103,6,FALSE)),\"\")","v":""},{"$f":"IFERROR(IF($E138=\"男\",(VLOOKUP($A138,男子選手!$B$5:$D$103,3,FALSE)),VLOOKUP($A138,女子選手!$B$5:$D$103,3,FALSE)),\"\")","v":""},{"$f":"IFERROR(IF($E138=\"男\",(VLOOKUP($A138,男子選手!$B$5:$E$103,4,FALSE)),VLOOKUP($A138,女子選手!$B$5:$E$103,4,FALSE)),\"\")","v":""}," "," ",null," "]
[null,{"$f":"IFERROR(IF($E139=\"男\",(VLOOKUP($A139,男子選手!$B$5:$G$103,6,FALSE)),VLOOKUP($A139,女子選手!$B$5:$H$103,6,FALSE)),\"\")","v":""},{"$f":"IFERROR(IF($E139=\"男\",(VLOOKUP($A139,男子選手!$B$5:$D$103,3,FALSE)),VLOOKUP($A139,女子選手!$B$5:$D$103,3,FALSE)),\"\")","v":""},{"$f":"IFERROR(IF($E139=\"男\",(VLOOKUP($A139,男子選手!$B$5:$E$103,4,FALSE)),VLOOKUP($A139,女子選手!$B$5:$E$103,4,FALSE)),\"\")","v":""}," "," ",null," "]
[null,{"$f":"IFERROR(IF($E140=\"男\",(VLOOKUP($A140,男子選手!$B$5:$G$103,6,FALSE)),VLOOKUP($A140,女子選手!$B$5:$H$103,6,FALSE)),\"\")","v":""},{"$f":"IFERROR(IF($E140=\"男\",(VLOOKUP($A140,男子選手!$B$5:$D$103,3,FALSE)),VLOOKUP($A140,女子選手!$B$5:$D$103,3,FALSE)),\"\")","v":""},{"$f":"IFERROR(IF($E140=\"男\",(VLOOKUP($A140,男子選手!$B$5:$E$103,4,FALSE)),VLOOKUP($A140,女子選手!$B$5:$E$103,4,FALSE)),\"\")","v":""}," "," ",null," "]
[null,{"$f":"IFERROR(IF($E141=\"男\",(VLOOKUP($A141,男子選手!$B$5:$G$103,6,FALSE)),VLOOKUP($A141,女子選手!$B$5:$H$103,6,FALSE)),\"\")","v":""},{"$f":"IFERROR(IF($E141=\"男\",(VLOOKUP($A141,男子選手!$B$5:$D$103,3,FALSE)),VLOOKUP($A141,女子選手!$B$5:$D$103,3,FALSE)),\"\")","v":""},{"$f":"IFERROR(IF($E141=\"男\",(VLOOKUP($A141,男子選手!$B$5:$E$103,4,FALSE)),VLOOKUP($A141,女子選手!$B$5:$E$103,4,FALSE)),\"\")","v":""}," "," ",null," "]
[null,{"$f":"IFERROR(IF($E142=\"男\",(VLOOKUP($A142,男子選手!$B$5:$G$103,6,FALSE)),VLOOKUP($A142,女子選手!$B$5:$H$103,6,FALSE)),\"\")","v":""},{"$f":"IFERROR(IF($E142=\"男\",(VLOOKUP($A142,男子選手!$B$5:$D$103,3,FALSE)),VLOOKUP($A142,女子選手!$B$5:$D$103,3,FALSE)),\"\")","v":""},{"$f":"IFERROR(IF($E142=\"男\",(VLOOKUP($A142,男子選手!$B$5:$E$103,4,FALSE)),VLOOKUP($A142,女子選手!$B$5:$E$103,4,FALSE)),\"\")","v":""}," "," ",null," "]
[null,{"$f":"IFERROR(IF($E143=\"男\",(VLOOKUP($A143,男子選手!$B$5:$G$103,6,FALSE)),VLOOKUP($A143,女子選手!$B$5:$H$103,6,FALSE)),\"\")","v":""},{"$f":"IFERROR(IF($E143=\"男\",(VLOOKUP($A143,男子選手!$B$5:$D$103,3,FALSE)),VLOOKUP($A143,女子選手!$B$5:$D$103,3,FALSE)),\"\")","v":""},{"$f":"IFERROR(IF($E143=\"男\",(VLOOKUP($A143,男子選手!$B$5:$E$103,4,FALSE)),VLOOKUP($A143,女子選手!$B$5:$E$103,4,FALSE)),\"\")","v":""}," "," ",null," "]
[null,{"$f":"IFERROR(IF($E144=\"男\",(VLOOKUP($A144,男子選手!$B$5:$G$103,6,FALSE)),VLOOKUP($A144,女子選手!$B$5:$H$103,6,FALSE)),\"\")","v":""},{"$f":"IFERROR(IF($E144=\"男\",(VLOOKUP($A144,男子選手!$B$5:$D$103,3,FALSE)),VLOOKUP($A144,女子選手!$B$5:$D$103,3,FALSE)),\"\")","v":""},{"$f":"IFERROR(IF($E144=\"男\",(VLOOKUP($A144,男子選手!$B$5:$E$103,4,FALSE)),VLOOKUP($A144,女子選手!$B$5:$E$103,4,FALSE)),\"\")","v":""}," "," ",null," "]
[null,{"$f":"IFERROR(IF($E145=\"男\",(VLOOKUP($A145,男子選手!$B$5:$G$103,6,FALSE)),VLOOKUP($A145,女子選手!$B$5:$H$103,6,FALSE)),\"\")","v":""},{"$f":"IFERROR(IF($E145=\"男\",(VLOOKUP($A145,男子選手!$B$5:$D$103,3,FALSE)),VLOOKUP($A145,女子選手!$B$5:$D$103,3,FALSE)),\"\")","v":""},{"$f":"IFERROR(IF($E145=\"男\",(VLOOKUP($A145,男子選手!$B$5:$E$103,4,FALSE)),VLOOKUP($A145,女子選手!$B$5:$E$103,4,FALSE)),\"\")","v":""}," "," ",null," "]
[null,{"$f":"IFERROR(IF($E146=\"男\",(VLOOKUP($A146,男子選手!$B$5:$G$103,6,FALSE)),VLOOKUP($A146,女子選手!$B$5:$H$103,6,FALSE)),\"\")","v":""},{"$f":"IFERROR(IF($E146=\"男\",(VLOOKUP($A146,男子選手!$B$5:$D$103,3,FALSE)),VLOOKUP($A146,女子選手!$B$5:$D$103,3,FALSE)),\"\")","v":""},{"$f":"IFERROR(IF($E146=\"男\",(VLOOKUP($A146,男子選手!$B$5:$E$103,4,FALSE)),VLOOKUP($A146,女子選手!$B$5:$E$103,4,FALSE)),\"\")","v":""}," "," ",null," "]
[null,{"$f":"IFERROR(IF($E147=\"男\",(VLOOKUP($A147,男子選手!$B$5:$G$103,6,FALSE)),VLOOKUP($A147,女子選手!$B$5:$H$103,6,FALSE)),\"\")","v":""},{"$f":"IFERROR(IF($E147=\"男\",(VLOOKUP($A147,男子選手!$B$5:$D$103,3,FALSE)),VLOOKUP($A147,女子選手!$B$5:$D$103,3,FALSE)),\"\")","v":""},{"$f":"IFERROR(IF($E147=\"男\",(VLOOKUP($A147,男子選手!$B$5:$E$103,4,FALSE)),VLOOKUP($A147,女子選手!$B$5:$E$103,4,FALSE)),\"\")","v":""}," "," ",null," "]
[null,{"$f":"IFERROR(IF($E148=\"男\",(VLOOKUP($A148,男子選手!$B$5:$G$103,6,FALSE)),VLOOKUP($A148,女子選手!$B$5:$H$103,6,FALSE)),\"\")","v":""},{"$f":"IFERROR(IF($E148=\"男\",(VLOOKUP($A148,男子選手!$B$5:$D$103,3,FALSE)),VLOOKUP($A148,女子選手!$B$5:$D$103,3,FALSE)),\"\")","v":""},{"$f":"IFERROR(IF($E148=\"男\",(VLOOKUP($A148,男子選手!$B$5:$E$103,4,FALSE)),VLOOKUP($A148,女子選手!$B$5:$E$103,4,FALSE)),\"\")","v":""}," "," ",null," "]
[null,{"$f":"IFERROR(IF($E149=\"男\",(VLOOKUP($A149,男子選手!$B$5:$G$103,6,FALSE)),VLOOKUP($A149,女子選手!$B$5:$H$103,6,FALSE)),\"\")","v":""},{"$f":"IFERROR(IF($E149=\"男\",(VLOOKUP($A149,男子選手!$B$5:$D$103,3,FALSE)),VLOOKUP($A149,女子選手!$B$5:$D$103,3,FALSE)),\"\")","v":""},{"$f":"IFERROR(IF($E149=\"男\",(VLOOKUP($A149,男子選手!$B$5:$E$103,4,FALSE)),VLOOKUP($A149,女子選手!$B$5:$E$103,4,FALSE)),\"\")","v":""}," "," ",null," "]
[null,{"$f":"IFERROR(IF($E150=\"男\",(VLOOKUP($A150,男子選手!$B$5:$G$103,6,FALSE)),VLOOKUP($A150,女子選手!$B$5:$H$103,6,FALSE)),\"\")","v":""},{"$f":"IFERROR(IF($E150=\"男\",(VLOOKUP($A150,男子選手!$B$5:$D$103,3,FALSE)),VLOOKUP($A150,女子選手!$B$5:$D$103,3,FALSE)),\"\")","v":""},{"$f":"IFERROR(IF($E150=\"男\",(VLOOKUP($A150,男子選手!$B$5:$E$103,4,FALSE)),VLOOKUP($A150,女子選手!$B$5:$E$103,4,FALSE)),\"\")","v":""}," "," ",null," "]

{"sheet":"申込書","index":2,"n_rows":116,"n_cols":13,"rows_kept":116,"cut":false,"hidden":false,"merged":[[14,5,15,5],[0,0,1,12],[2,11,3,12],[3,0,3,1],[4,0,4,1],[6,0,6,1],[6,2,6,4],[6,5,6,6],[6,9,6,11],[14,0,15,0],[14,1,15,1],[14,2,15,2],[14,3,15,3],[14,4,15,4],[14,6,15,6],[14,7,14,8],[16,10,16,12],[44,10,44,11],[9,7,9,8],[9,9,9,11],[10,7,10,8],[10,9,10,12]]}
["2025年度　兵庫県高等学校地区別記録会（阪神地区）　　申込一覧表"]
[]
[null,null,null,null,null,null,null,null,null,null,null,"（様式１）"]
["学校コード"]
[{"$f":"初期設定!C3","v":0}]
[]
["学校名",null,{"$f":"初期設定!D3","v":""},null,null,"学校長承認印",null,null,"顧問名",{"$f":"初期設定!C5","v":0},null,null,"印"]
[]
[null,null,"推薦審判員"]
[null,null,{"$f":"初期設定!C7","v":0},null,null,null,null,"記載責任者",null,{"$f":"初期設定!C6","v":0},null,null,"印"]
[null,null,{"$f":"初期設定!C8","v":0},null,null,null,null,"携 帯 番 号",null,{"$f":"初期設定!F6","v":0}]
[null,null,{"$f":"初期設定!C9","v":0}]
[null,null,{"$f":"初期設定!C10","v":0}]
[]
["№","登録番号","名前","性別","学年","種目①","種目②","リレー申込"]
[null,null,null,null,null,null,null,"4×100","4×400"]
[{"$f":"IF(C17=\"\",\"\",1)","v":""},{"$f":"入力!A2","v":0},{"$f":"入力!B2","v":""},{"$f":"IF(C17=\"\",\"\",入力!E2)","v":""},{"$f":"入力!D2","v":""},{"$f":"入力!F2","v":0},{"$f":"入力!H2","v":0},{"$f":"IF($B17=\"\",\"\",入力!J2)","v":0},{"$f":"IF($B17=\"\",\"\",入力!K2)","v":0},null,"個人種目申込数"]
[{"$f":"IF(C18=\"\",\"\",A17+1)","v":""},{"$f":"入力!A3","v":0},{"$f":"入力!B3","v":""},{"$f":"IF(C18=\"\",\"\",入力!E3)","v":""},{"$f":"入力!D3","v":""},{"$f":"入力!F3","v":0},{"$f":"入力!H3","v":0},{"$f":"IF($B18=\"\",\"\",入力!J3)","v":0},{"$f":"IF($B18=\"\",\"\",入力!K3)","v":0},null,null,"男子","女子"]
[{"$f":"IF(C19=\"\",\"\",A18+1)","v":""},{"$f":"入力!A4","v":0},{"$f":"入力!B4","v":""},{"$f":"IF(C19=\"\",\"\",入力!E4)","v":""},{"$f":"入力!D4","v":""},{"$f":"入力!F4","v":0},{"$f":"入力!H4","v":0},{"$f":"IF($B19=\"\",\"\",入力!J4)","v":0},{"$f":"IF($B19=\"\",\"\",入力!K4)","v":0},null,"100ｍ",{"$f":"COUNTIF(作業領域!$B$2:$C$151,作業領域!E2)","v":0},{"$f":"COUNTIF(作業領域!$B$2:$C$151,作業領域!F2)","v":0}]
["",{"$f":"入力!A5","v":0},{"$f":"入力!B5","v":""},{"$f":"IF(C20=\"\",\"\",入力!E5)","v":""},{"$f":"入力!D5","v":""},{"$f":"入力!F5","v":0},{"$f":"入力!H5","v":0},{"$f":"IF($B20=\"\",\"\",入力!J5)","v":0},{"$f":"IF($B20=\"\",\"\",入力!K5)","v":0},null,"200ｍ",{"$f":"COUNTIF(作業領域!$B$2:$C$151,作業領域!E3)","v":0},{"$f":"COUNTIF(作業領域!$B$2:$C$151,作業領域!F3)","v":0}]
["",{"$f":"入力!A6","v":0},{"$f":"入力!B6","v":""},{"$f":"IF(C21=\"\",\"\",入力!E6)","v":""},{"$f":"入力!D6","v":""},{"$f":"入力!F6","v":0},{"$f":"入力!H6","v":0},{"$f":"IF($B21=\"\",\"\",入力!J6)","v":0},{"$f":"IF($B21=\"\",\"\",入力!K6)","v":0},null,"400ｍ",{"$f":"COUNTIF(作業領域!$B$2:$C$151,作業領域!E4)","v":0},{"$f":"COUNTIF(作業領域!$B$2:$C$151,作業領域!F4)","v":0}]
["",{"$f":"入力!A7","v":0},{"$f":"入力!B7","v":""},{"$f":"IF(C22=\"\",\"\",入力!E7)","v":""},{"$f":"入力!D7","v":""},{"$f":"入力!F7","v":0},{"$f":"入力!H7","v":0},{"$f":"IF($B22=\"\",\"\",入力!J7)","v":0},{"$f":"IF($B22=\"\",\"\",入力!K7)","v":0},null,"800ｍ",{"$f":"COUNTIF(作業領域!$B$2:$C$151,作業領域!E5)","v":0},{"$f":"COUNTIF(作業領域!$B$2:$C$151,作業領域!F5)","v":0}]
["",{"$f":"入力!A8","v":0},{"$f":"入力!B8","v":""},{"$f":"IF(C23=\"\",\"\",入力!E8)","v":""},{"$f":"入力!D8","v":""},{"$f":"入力!F8","v":0},{"$f":"入力!H8","v":0},{"$f":"IF($B23=\"\",\"\",入力!J8)","v":0},{"$f":"IF($B23=\"\",\"\",入力!K8)","v":0},null,"1500ｍ",{"$f":"COUNTIF(作業領域!$B$2:$C$151,作業領域!E6)","v":0},{"$f":"COUNTIF(作業領域!$B$2:$C$151,作業領域!F6)","v":0}]
["",{"$f":"入力!A9","v":0},{"$f":"入力!B9","v":""},{"$f":"IF(C24=\"\",\"\",入力!E9)","v":""},{"$f":"入力!D9","v":""},{"$f":"入力!F9","v":0},{"$f":"入力!H9","v":0},{"$f":"IF($B24=\"\",\"\",入力!J9)","v":0},{"$f":"IF($B24=\"\",\"\",入力!K9)","v":0},null,"3000ｍ",null,{"$f":"COUNTIF(作業領域!$B$2:$C$151,作業領域!F7)","v":0}]
["",{"$f":"入力!A10","v":0},{"$f":"入力!B10","v":""},{"$f":"IF(C25=\"\",\"\",入力!E10)","v":""},{"$f":"入力!D10","v":""},{"$f":"入力!F10","v":0},{"$f":"入力!H10","v":0},{"$f":"IF($B25=\"\",\"\",入力!J10)","v":0},{"$f":"IF($B25=\"\",\"\",入力!K10)","v":0},null,"5000ｍ",{"$f":"COUNTIF(作業領域!$B$2:$C$151,作業領域!E8)","v":0}]
["",{"$f":"入力!A11","v":0},{"$f":"入力!B11","v":""},{"$f":"IF(C26=\"\",\"\",入力!E11)","v":""},{"$f":"入力!D11","v":""},{"$f":"入力!F11","v":0},{"$f":"入力!H11","v":0},{"$f":"IF($B26=\"\",\"\",入力!J11)","v":0},{"$f":"IF($B26=\"\",\"\",入力!K11)","v":0},null,"100ｍＨ",null,{"$f":"COUNTIF(作業領域!$B$2:$C$151,作業領域!F9)","v":0}]
["",{"$f":"入力!A12","v":0},{"$f":"入力!B12","v":""},{"$f":"IF(C27=\"\",\"\",入力!E12)","v":""},{"$f":"入力!D12","v":""},{"$f":"入力!F12","v":0},{"$f":"入力!H12","v":0},{"$f":"IF($B27=\"\",\"\",入力!J12)","v":0},{"$f":"IF($B27=\"\",\"\",入力!K12)","v":0},null,"110ｍＨ",{"$f":"COUNTIF(作業領域!$B$2:$C$151,作業領域!E10)","v":0}]
["",{"$f":"入力!A13","v":0},{"$f":"入力!B13","v":""},{"$f":"IF(C28=\"\",\"\",入力!E13)","v":""},{"$f":"入力!D13","v":""},{"$f":"入力!F13","v":0},{"$f":"入力!H13","v":0},{"$f":"IF($B28=\"\",\"\",入力!J13)","v":0},{"$f":"IF($B28=\"\",\"\",入力!K13)","v":0},null,"400ｍＨ",{"$f":"COUNTIF(作業領域!$B$2:$C$151,作業領域!E11)","v":0},{"$f":"COUNTIF(作業領域!$B$2:$C$151,作業領域!F11)","v":0}]
["",{"$f":"入力!A14","v":0},{"$f":"入力!B14","v":""},{"$f":"IF(C29=\"\",\"\",入力!E14)","v":""},{"$f":"入力!D14","v":""},{"$f":"入力!F14","v":0},{"$f":"入力!H14","v":0},{"$f":"IF($B29=\"\",\"\",入力!J14)","v":0},{"$f":"IF($B29=\"\",\"\",入力!K14)","v":0},null,"3000ｍSC",{"$f":"COUNTIF(作業領域!$B$2:$C$151,作業領域!E12)","v":0}]
["",{"$f":"入力!A15","v":0},{"$f":"入力!B15","v":""},{"$f":"IF(C30=\"\",\"\",入力!E15)","v":""},{"$f":"入力!D15","v":""},{"$f":"入力!F15","v":0},{"$f":"入力!H15","v":0},{"$f":"IF($B30=\"\",\"\",入力!J15)","v":0},{"$f":"IF($B30=\"\",\"\",入力!K15)","v":0},null,"5000ｍW",{"$f":"COUNTIF(作業領域!$B$2:$C$151,作業領域!E13)","v":0},{"$f":"COUNTIF(作業領域!$B$2:$C$151,作業領域!F13)","v":0}]
["",{"$f":"入力!A16","v":0},{"$f":"入力!B16","v":""},{"$f":"IF(C31=\"\",\"\",入力!E16)","v":""},{"$f":"入力!D16","v":""},{"$f":"入力!F16","v":0},{"$f":"入力!H16","v":0},{"$f":"IF($B31=\"\",\"\",入力!J16)","v":0},{"$f":"IF($B31=\"\",\"\",入力!K16)","v":0},null,"棒高跳",{"$f":"COUNTIF(作業領域!$B$2:$C$151,作業領域!E14)","v":0},{"$f":"COUNTIF(作業領域!$B$2:$C$151,作業領域!F14)","v":0}]
["",{"$f":"入力!A17","v":0},{"$f":"入力!B17","v":""},{"$f":"IF(C32=\"\",\"\",入力!E17)","v":""},{"$f":"入力!D17","v":""},{"$f":"入力!F17","v":0},{"$f":"入力!H17","v":0},{"$f":"IF($B32=\"\",\"\",入力!J17)","v":0},{"$f":"IF($B32=\"\",\"\",入力!K17)","v":0},null,"走高跳",{"$f":"COUNTIF(作業領域!$B$2:$C$151,作業領域!E15)","v":0},{"$f":"COUNTIF(作業領域!$B$2:$C$151,作業領域!F15)","v":0}]
["",{"$f":"入力!A18","v":0},{"$f":"入力!B18","v":""},{"$f":"IF(C33=\"\",\"\",入力!E18)","v":""},{"$f":"入力!D18","v":""},{"$f":"入力!F18","v":0},{"$f":"入力!H18","v":0},{"$f":"IF($B33=\"\",\"\",入力!J18)","v":0},{"$f":"IF($B33=\"\",\"\",入力!K18)","v":0},null,"走幅跳",{"$f":"COUNTIF(作業領域!$B$2:$C$151,作業領域!E16)","v":0},{"$f":"COUNTIF(作業領域!$B$2:$C$151,作業領域!F16)","v":0}]
["",{"$f":"入力!A19","v":0},{"$f":"入力!B19","v":""},{"$f":"IF(C34=\"\",\"\",入力!E19)","v":""},{"$f":"入力!D19","v":""},{"$f":"入力!F19","v":0},{"$f":"入力!H19","v":0},{"$f":"IF($B34=\"\",\"\",入力!J19)","v":0},{"$f":"IF($B34=\"\",\"\",入力!K19)","v":0},null,"三段跳",{"$f":"COUNTIF(作業領域!$B$2:$C$151,作業領域!E17)","v":0},{"$f":"COUNTIF(作業領域!$B$2:$C$151,作業領域!F17)","v":0}]
["",{"$f":"入力!A20","v":0},{"$f":"入力!B20","v":""},{"$f":"IF(C35=\"\",\"\",入力!E20)","v":""},{"$f":"入力!D20","v":""},{"$f":"入力!F20","v":0},{"$f":"入力!H20","v":0},{"$f":"IF($B35=\"\",\"\",入力!J20)","v":0},{"$f":"IF($B35=\"\",\"\",入力!K20)","v":0},null,"砲丸投",{"$f":"COUNTIF(作業領域!$B$2:$C$151,作業領域!E18)","v":0},{"$f":"COUNTIF(作業領域!$B$2:$C$151,作業領域!F18)","v":0}]
["",{"$f":"入力!A21","v":0},{"$f":"入力!B21","v":""},{"$f":"IF(C36=\"\",\"\",入力!E21)","v":""},{"$f":"入力!D21","v":""},{"$f":"入力!F21","v":0},{"$f":"入力!H21","v":0},{"$f":"IF($B36=\"\",\"\",入力!J21)","v":0},{"$f":"IF($B36=\"\",\"\",入力!K21)","v":0},null,"円盤投",{"$f":"COUNTIF(作業領域!$B$2:$C$151,作業領域!E19)","v":0},{"$f":"COUNTIF(作業領域!$B$2:$C$151,作業領域!F19)","v":0}]
["",{"$f":"入力!A22","v":0},{"$f":"入力!B22","v":""},{"$f":"IF(C37=\"\",\"\",入力!E22)","v":""},{"$f":"入力!D22","v":""},{"$f":"入力!F22","v":0},{"$f":"入力!H22","v":0},{"$f":"IF($B37=\"\",\"\",入力!J22)","v":0},{"$f":"IF($B37=\"\",\"\",入力!K22)","v":0},null,"ﾊﾝﾏｰ投",{"$f":"COUNTIF(作業領域!$B$2:$C$151,作業領域!E20)","v":0},{"$f":"COUNTIF(作業領域!$B$2:$C$151,作業領域!F20)","v":0}]
["",{"$f":"入力!A23","v":0},{"$f":"入力!B23","v":""},{"$f":"IF(C38=\"\",\"\",入力!E23)","v":""},{"$f":"入力!D23","v":""},{"$f":"入力!F23","v":0},{"$f":"入力!H23","v":0},{"$f":"IF($B38=\"\",\"\",入力!J23)","v":0},{"$f":"IF($B38=\"\",\"\",入力!K23)","v":0},null,"やり投",{"$f":"COUNTIF(作業領域!$B$2:$C$151,作業領域!E21)","v":0},{"$f":"COUNTIF(作業領域!$B$2:$C$151,作業領域!F21)","v":0}]
["",{"$f":"入力!A24","v":0},{"$f":"入力!B24","v":""},{"$f":"IF(C39=\"\",\"\",入力!E24)","v":""},{"$f":"入力!D24","v":""},{"$f":"入力!F24","v":0},{"$f":"入力!H24","v":0},{"$f":"IF($B39=\"\",\"\",入力!J24)","v":0},{"$f":"IF($B39=\"\",\"\",入力!K24)","v":0}]
["",{"$f":"入力!A25","v":0},{"$f":"入力!B25","v":""},{"$f":"IF(C40=\"\",\"\",入力!E25)","v":""},{"$f":"入力!D25","v":""},{"$f":"入力!F25","v":0},{"$f":"入力!H25","v":0},{"$f":"IF($B40=\"\",\"\",入力!J25)","v":0},{"$f":"IF($B40=\"\",\"\",入力!K25)","v":0}]
["",{"$f":"入力!A26","v":0},{"$f":"入力!B26","v":""},{"$f":"IF(C41=\"\",\"\",入力!E26)","v":""},{"$f":"入力!D26","v":""},{"$f":"入力!F26","v":0},{"$f":"入力!H26","v":0},{"$f":"IF($B41=\"\",\"\",入力!J26)","v":0},{"$f":"IF($B41=\"\",\"\",入力!K26)","v":0}]
["",{"$f":"入力!A27","v":0},{"$f":"入力!B27","v":""},{"$f":"IF(C42=\"\",\"\",入力!E27)","v":""},{"$f":"入力!D27","v":""},{"$f":"入力!F27","v":0},{"$f":"入力!H27","v":0},{"$f":"IF($B42=\"\",\"\",入力!J27)","v":0},{"$f":"IF($B42=\"\",\"\",入力!K27)","v":0}]
["",{"$f":"入力!A28","v":0},{"$f":"入力!B28","v":""},{"$f":"IF(C43=\"\",\"\",入力!E28)","v":""},{"$f":"入力!D28","v":""},{"$f":"入力!F28","v":0},{"$f":"入力!H28","v":0},{"$f":"IF($B43=\"\",\"\",入力!J28)","v":0},{"$f":"IF($B43=\"\",\"\",入力!K28)","v":0}]
["",{"$f":"入力!A29","v":0},{"$f":"入力!B29","v":""},{"$f":"IF(C44=\"\",\"\",入力!E29)","v":""},{"$f":"入力!D29","v":""},{"$f":"入力!F29","v":0},{"$f":"入力!H29","v":0},{"$f":"IF($B44=\"\",\"\",入力!J29)","v":0},{"$f":"IF($B44=\"\",\"\",入力!K29)","v":0}]
["",{"$f":"入力!A30","v":0},{"$f":"入力!B30","v":""},{"$f":"IF(C45=\"\",\"\",入力!E30)","v":""},{"$f":"入力!D30","v":""},{"$f":"入力!F30","v":0},{"$f":"入力!H30","v":0},{"$f":"IF($B45=\"\",\"\",入力!J30)","v":0},{"$f":"IF($B45=\"\",\"\",入力!K30)","v":0},null,"申込人数"]
["",{"$f":"入力!A31","v":0},{"$f":"入力!B31","v":""},{"$f":"IF(C46=\"\",\"\",入力!E31)","v":""},{"$f":"入力!D31","v":""},{"$f":"入力!F31","v":" "},{"$f":"入力!H31","v":" "},{"$f":"IF($B46=\"\",\"\",入力!J31)","v":0},{"$f":"IF($B46=\"\",\"\",入力!K31)","v":0},null,"男子",{"$f":"COUNTIF($D$17:$D$116,\"男\")&\"名\"","v":"0名"}]
["",{"$f":"入力!A32","v":0},{"$f":"入力!B32","v":""},{"$f":"IF(C47=\"\",\"\",入力!E32)","v":""},{"$f":"入力!D32","v":""},{"$f":"入力!F32","v":" "},{"$f":"入力!H32","v":" "},{"$f":"IF($B47=\"\",\"\",入力!J32)","v":0},{"$f":"IF($B47=\"\",\"\",入力!K32)","v":0},null,"女子",{"$f":"COUNTIF($D$17:$D$116,\"女\")&\"名\"","v":"0名"}]
["",{"$f":"入力!A33","v":0},{"$f":"入力!B33","v":""},{"$f":"IF(C48=\"\",\"\",入力!E33)","v":""},{"$f":"入力!D33","v":""},{"$f":"入力!F33","v":" "},{"$f":"入力!H33","v":" "},{"$f":"IF($B48=\"\",\"\",入力!J33)","v":0},{"$f":"IF($B48=\"\",\"\",入力!K33)","v":0}]
["",{"$f":"入力!A34","v":0},{"$f":"入力!B34","v":""},{"$f":"IF(C49=\"\",\"\",入力!E34)","v":""},{"$f":"入力!D34","v":""},{"$f":"入力!F34","v":" "},{"$f":"入力!H34","v":" "},{"$f":"IF($B49=\"\",\"\",入力!J34)","v":0},{"$f":"IF($B49=\"\",\"\",入力!K34)","v":0}]
["",{"$f":"入力!A35","v":0},{"$f":"入力!B35","v":""},{"$f":"IF(C50=\"\",\"\",入力!E35)","v":""},{"$f":"入力!D35","v":""},{"$f":"入力!F35","v":" "},{"$f":"入力!H35","v":" "},{"$f":"IF($B50=\"\",\"\",入力!J35)","v":0},{"$f":"IF($B50=\"\",\"\",入力!K35)","v":0}]
["",{"$f":"入力!A36","v":0},{"$f":"入力!B36","v":""},{"$f":"IF(C51=\"\",\"\",入力!E36)","v":""},{"$f":"入力!D36","v":""},{"$f":"入力!F36","v":" "},{"$f":"入力!H36","v":" "},{"$f":"IF($B51=\"\",\"\",入力!J36)","v":0},{"$f":"IF($B51=\"\",\"\",入力!K36)","v":0}]
["",{"$f":"入力!A37","v":0},{"$f":"入力!B37","v":""},{"$f":"IF(C52=\"\",\"\",入力!E37)","v":""},{"$f":"入力!D37","v":""},{"$f":"入力!F37","v":" "},{"$f":"入力!H37","v":" "},{"$f":"IF($B52=\"\",\"\",入力!J37)","v":0},{"$f":"IF($B52=\"\",\"\",入力!K37)","v":0}]
["",{"$f":"入力!A38","v":0},{"$f":"入力!B38","v":""},{"$f":"IF(C53=\"\",\"\",入力!E38)","v":""},{"$f":"入力!D38","v":""},{"$f":"入力!F38","v":" "},{"$f":"入力!H38","v":" "},{"$f":"IF($B53=\"\",\"\",入力!J38)","v":0},{"$f":"IF($B53=\"\",\"\",入力!K38)","v":0}]
["",{"$f":"入力!A39","v":0},{"$f":"入力!B39","v":""},{"$f":"IF(C54=\"\",\"\",入力!E39)","v":""},{"$f":"入力!D39","v":""},{"$f":"入力!F39","v":" "},{"$f":"入力!H39","v":" "},{"$f":"IF($B54=\"\",\"\",入力!J39)","v":0},{"$f":"IF($B54=\"\",\"\",入力!K39)","v":0}]
["",{"$f":"入力!A40","v":0},{"$f":"入力!B40","v":""},{"$f":"IF(C55=\"\",\"\",入力!E40)","v":""},{"$f":"入力!D40","v":""},{"$f":"入力!F40","v":" "},{"$f":"入力!H40","v":" "},{"$f":"IF($B55=\"\",\"\",入力!J40)","v":0},{"$f":"IF($B55=\"\",\"\",入力!K40)","v":0}]
["",{"$f":"入力!A41","v":0},{"$f":"入力!B41","v":""},{"$f":"IF(C56=\"\",\"\",入力!E41)","v":""},{"$f":"入力!D41","v":""},{"$f":"入力!F41","v":" "},{"$f":"入力!H41","v":" "},{"$f":"IF($B56=\"\",\"\",入力!J41)","v":0},{"$f":"IF($B56=\"\",\"\",入力!K41)","v":0}]
["",{"$f":"入力!A42","v":0},{"$f":"入力!B42","v":""},{"$f":"IF(C57=\"\",\"\",入力!E42)","v":""},{"$f":"入力!D42","v":""},{"$f":"入力!F42","v":" "},{"$f":"入力!H42","v":" "},{"$f":"IF($B57=\"\",\"\",入力!J42)","v":0},{"$f":"IF($B57=\"\",\"\",入力!K42)","v":0}]
["",{"$f":"入力!A43","v":0},{"$f":"入力!B43","v":""},{"$f":"IF(C58=\"\",\"\",入力!E43)","v":""},{"$f":"入力!D43","v":""},{"$f":"入力!F43","v":" "},{"$f":"入力!H43","v":" "},{"$f":"IF($B58=\"\",\"\",入力!J43)","v":0},{"$f":"IF($B58=\"\",\"\",入力!K43)","v":0}]
["",{"$f":"入力!A44","v":0},{"$f":"入力!B44","v":""},{"$f":"IF(C59=\"\",\"\",入力!E44)","v":""},{"$f":"入力!D44","v":""},{"$f":"入力!F44","v":" "},{"$f":"入力!H44","v":" "},{"$f":"IF($B59=\"\",\"\",入力!J44)","v":0},{"$f":"IF($B59=\"\",\"\",入力!K44)","v":0}]
["",{"$f":"入力!A45","v":0},{"$f":"入力!B45","v":""},{"$f":"IF(C60=\"\",\"\",入力!E45)","v":""},{"$f":"入力!D45","v":""},{"$f":"入力!F45","v":" "},{"$f":"入力!H45","v":" "},{"$f":"IF($B60=\"\",\"\",入力!J45)","v":0},{"$f":"IF($B60=\"\",\"\",入力!K45)","v":0}]
["",{"$f":"入力!A46","v":0},{"$f":"入力!B46","v":""},{"$f":"IF(C61=\"\",\"\",入力!E46)","v":""},{"$f":"入力!D46","v":""},{"$f":"入力!F46","v":" "},{"$f":"入力!H46","v":" "},{"$f":"IF($B61=\"\",\"\",入力!J46)","v":0},{"$f":"IF($B61=\"\",\"\",入力!K46)","v":0}]
["",{"$f":"入力!A47","v":0},{"$f":"入力!B47","v":""},{"$f":"IF(C62=\"\",\"\",入力!E47)","v":""},{"$f":"入力!D47","v":""},{"$f":"入力!F47","v":" "},{"$f":"入力!H47","v":" "},{"$f":"IF($B62=\"\",\"\",入力!J47)","v":0},{"$f":"IF($B62=\"\",\"\",入力!K47)","v":0}]
["",{"$f":"入力!A48","v":0},{"$f":"入力!B48","v":""},{"$f":"IF(C63=\"\",\"\",入力!E48)","v":""},{"$f":"入力!D48","v":""},{"$f":"入力!F48","v":" "},{"$f":"入力!H48","v":" "},{"$f":"IF($B63=\"\",\"\",入力!J48)","v":0},{"$f":"IF($B63=\"\",\"\",入力!K48)","v":0}]
["",{"$f":"入力!A49","v":0},{"$f":"入力!B49","v":""},{"$f":"IF(C64=\"\",\"\",入力!E49)","v":""},{"$f":"入力!D49","v":""},{"$f":"入力!F49","v":" "},{"$f":"入力!H49","v":" "},{"$f":"IF($B64=\"\",\"\",入力!J49)","v":0},{"$f":"IF($B64=\"\",\"\",入力!K49)","v":0}]
["",{"$f":"入力!A50","v":0},{"$f":"入力!B50","v":""},{"$f":"IF(C65=\"\",\"\",入力!E50)","v":""},{"$f":"入力!D50","v":""},{"$f":"入力!F50","v":" "},{"$f":"入力!H50","v":" "},{"$f":"IF($B65=\"\",\"\",入力!J50)","v":0},{"$f":"IF($B65=\"\",\"\",入力!K50)","v":0}]
["",{"$f":"入力!A51","v":0},{"$f":"入力!B51","v":""},{"$f":"IF(C66=\"\",\"\",入力!E51)","v":""},{"$f":"入力!D51","v":""},{"$f":"入力!F51","v":" "},{"$f":"入力!H51","v":" "},{"$f":"IF($B66=\"\",\"\",入力!J51)","v":0},{"$f":"IF($B66=\"\",\"\",入力!K51)","v":0}]
["",{"$f":"入力!A52","v":0},{"$f":"入力!B52","v":""},{"$f":"IF(C67=\"\",\"\",入力!E52)","v":""},{"$f":"入力!D52","v":""},{"$f":"入力!F52","v":" "},{"$f":"入力!H52","v":" "},{"$f":"IF($B67=\"\",\"\",入力!J52)","v":0},{"$f":"IF($B67=\"\",\"\",入力!K52)","v":0}]
["",{"$f":"入力!A53","v":0},{"$f":"入力!B53","v":""},{"$f":"IF(C68=\"\",\"\",入力!E53)","v":""},{"$f":"入力!D53","v":""},{"$f":"入力!F53","v":" "},{"$f":"入力!H53","v":" "},{"$f":"IF($B68=\"\",\"\",入力!J53)","v":0},{"$f":"IF($B68=\"\",\"\",入力!K53)","v":0}]
["",{"$f":"入力!A54","v":0},{"$f":"入力!B54","v":""},{"$f":"IF(C69=\"\",\"\",入力!E54)","v":""},{"$f":"入力!D54","v":""},{"$f":"入力!F54","v":" "},{"$f":"入力!H54","v":" "},{"$f":"IF($B69=\"\",\"\",入力!J54)","v":0},{"$f":"IF($B69=\"\",\"\",入力!K54)","v":0}]
["",{"$f":"入力!A55","v":0},{"$f":"入力!B55","v":""},{"$f":"IF(C70=\"\",\"\",入力!E55)","v":""},{"$f":"入力!D55","v":""},{"$f":"入力!F55","v":" "},{"$f":"入力!H55","v":" "},{"$f":"IF($B70=\"\",\"\",入力!J55)","v":0},{"$f":"IF($B70=\"\",\"\",入力!K55)","v":0}]
["",{"$f":"入力!A56","v":0},{"$f":"入力!B56","v":""},{"$f":"IF(C71=\"\",\"\",入力!E56)","v":""},{"$f":"入力!D56","v":""},{"$f":"入力!F56","v":" "},{"$f":"入力!H56","v":" "},{"$f":"IF($B71=\"\",\"\",入力!J56)","v":0},{"$f":"IF($B71=\"\",\"\",入力!K56)","v":0}]
["",{"$f":"入力!A57","v":0},{"$f":"入力!B57","v":""},{"$f":"IF(C72=\"\",\"\",入力!E57)","v":""},{"$f":"入力!D57","v":""},{"$f":"入力!F57","v":" "},{"$f":"入力!H57","v":" "},{"$f":"IF($B72=\"\",\"\",入力!J57)","v":0},{"$f":"IF($B72=\"\",\"\",入力!K57)","v":0}]
["",{"$f":"入力!A58","v":0},{"$f":"入力!B58","v":""},{"$f":"IF(C73=\"\",\"\",入力!E58)","v":""},{"$f":"入力!D58","v":""},{"$f":"入力!F58","v":" "},{"$f":"入力!H58","v":" "},{"$f":"IF($B73=\"\",\"\",入力!J58)","v":0},{"$f":"IF($B73=\"\",\"\",入力!K58)","v":0}]
["",{"$f":"入力!A59","v":0},{"$f":"入力!B59","v":""},{"$f":"IF(C74=\"\",\"\",入力!E59)","v":""},{"$f":"入力!D59","v":""},{"$f":"入力!F59","v":" "},{"$f":"入力!H59","v":" "},{"$f":"IF($B74=\"\",\"\",入力!J59)","v":0},{"$f":"IF($B74=\"\",\"\",入力!K59)","v":0}]
["",{"$f":"入力!A60","v":0},{"$f":"入力!B60","v":""},{"$f":"IF(C75=\"\",\"\",入力!E60)","v":""},{"$f":"入力!D60","v":""},{"$f":"入力!F60","v":" "},{"$f":"入力!H60","v":" "},{"$f":"IF($B75=\"\",\"\",入力!J60)","v":0},{"$f":"IF($B75=\"\",\"\",入力!K60)","v":0}]
["",{"$f":"入力!A61","v":0},{"$f":"入力!B61","v":""},{"$f":"IF(C76=\"\",\"\",入力!E61)","v":""},{"$f":"入力!D61","v":""},{"$f":"入力!F61","v":" "},{"$f":"入力!H61","v":" "},{"$f":"IF($B76=\"\",\"\",入力!J61)","v":0},{"$f":"IF($B76=\"\",\"\",入力!K61)","v":0}]
["",{"$f":"入力!A62","v":0},{"$f":"入力!B62","v":""},{"$f":"IF(C77=\"\",\"\",入力!E62)","v":""},{"$f":"入力!D62","v":""},{"$f":"入力!F62","v":" "},{"$f":"入力!H62","v":" "},{"$f":"IF($B77=\"\",\"\",入力!J62)","v":0},{"$f":"IF($B77=\"\",\"\",入力!K62)","v":0}]
["",{"$f":"入力!A63","v":0},{"$f":"入力!B63","v":""},{"$f":"IF(C78=\"\",\"\",入力!E63)","v":""},{"$f":"入力!D63","v":""},{"$f":"入力!F63","v":" "},{"$f":"入力!H63","v":" "},{"$f":"IF($B78=\"\",\"\",入力!J63)","v":0},{"$f":"IF($B78=\"\",\"\",入力!K63)","v":0}]
["",{"$f":"入力!A64","v":0},{"$f":"入力!B64","v":""},{"$f":"IF(C79=\"\",\"\",入力!E64)","v":""},{"$f":"入力!D64","v":""},{"$f":"入力!F64","v":" "},{"$f":"入力!H64","v":" "},{"$f":"IF($B79=\"\",\"\",入力!J64)","v":0},{"$f":"IF($B79=\"\",\"\",入力!K64)","v":0}]
["",{"$f":"入力!A65","v":0},{"$f":"入力!B65","v":""},{"$f":"IF(C80=\"\",\"\",入力!E65)","v":""},{"$f":"入力!D65","v":""},{"$f":"入力!F65","v":" "},{"$f":"入力!H65","v":" "},{"$f":"IF($B80=\"\",\"\",入力!J65)","v":0},{"$f":"IF($B80=\"\",\"\",入力!K65)","v":0}]
["",{"$f":"入力!A66","v":0},{"$f":"入力!B66","v":""},{"$f":"IF(C81=\"\",\"\",入力!E66)","v":""},{"$f":"入力!D66","v":""},{"$f":"入力!F66","v":" "},{"$f":"入力!H66","v":" "},{"$f":"IF($B81=\"\",\"\",入力!J66)","v":0},{"$f":"IF($B81=\"\",\"\",入力!K66)","v":0}]
["",{"$f":"入力!A67","v":0},{"$f":"入力!B67","v":""},{"$f":"IF(C82=\"\",\"\",入力!E67)","v":""},{"$f":"入力!D67","v":""},{"$f":"入力!F67","v":" "},{"$f":"入力!H67","v":" "},{"$f":"IF($B82=\"\",\"\",入力!J67)","v":0},{"$f":"IF($B82=\"\",\"\",入力!K67)","v":0}]
[{"$f":"IF(C83=\"\",\"\",A82+1)","v":""},{"$f":"入力!A68","v":0},{"$f":"入力!B68","v":""},{"$f":"IF(C83=\"\",\"\",入力!E68)","v":""},{"$f":"入力!D68","v":""},{"$f":"入力!F68","v":" "},{"$f":"入力!H68","v":" "},{"$f":"IF($B83=\"\",\"\",入力!J68)","v":0},{"$f":"IF($B83=\"\",\"\",入力!K68)","v":0}]
["",{"$f":"入力!A69","v":0},{"$f":"入力!B69","v":""},{"$f":"IF(C84=\"\",\"\",入力!E69)","v":""},{"$f":"入力!D69","v":""},{"$f":"入力!F69","v":" "},{"$f":"入力!H69","v":" "},{"$f":"IF($B84=\"\",\"\",入力!J69)","v":0},{"$f":"IF($B84=\"\",\"\",入力!K69)","v":0}]
["",{"$f":"入力!A70","v":0},{"$f":"入力!B70","v":""},{"$f":"IF(C85=\"\",\"\",入力!E70)","v":""},{"$f":"入力!D70","v":""},{"$f":"入力!F70","v":" "},{"$f":"入力!H70","v":" "},{"$f":"IF($B85=\"\",\"\",入力!J70)","v":0},{"$f":"IF($B85=\"\",\"\",入力!K70)","v":0}]
["",{"$f":"入力!A71","v":0},{"$f":"入力!B71","v":""},{"$f":"IF(C86=\"\",\"\",入力!E71)","v":""},{"$f":"入力!D71","v":""},{"$f":"入力!F71","v":" "},{"$f":"入力!H71","v":" "},{"$f":"IF($B86=\"\",\"\",入力!J71)","v":0},{"$f":"IF($B86=\"\",\"\",入力!K71)","v":0}]
["",{"$f":"入力!A72","v":0},{"$f":"入力!B72","v":""},{"$f":"IF(C87=\"\",\"\",入力!E72)","v":""},{"$f":"入力!D72","v":""},{"$f":"入力!F72","v":" "},{"$f":"入力!H72","v":" "},{"$f":"IF($B87=\"\",\"\",入力!J72)","v":0},{"$f":"IF($B87=\"\",\"\",入力!K72)","v":0}]
["",{"$f":"入力!A73","v":0},{"$f":"入力!B73","v":""},{"$f":"IF(C88=\"\",\"\",入力!E73)","v":""},{"$f":"入力!D73","v":""},{"$f":"入力!F73","v":" "},{"$f":"入力!H73","v":" "},{"$f":"IF($B88=\"\",\"\",入力!J73)","v":0},{"$f":"IF($B88=\"\",\"\",入力!K73)","v":0}]
["",{"$f":"入力!A74","v":0},{"$f":"入力!B74","v":""},{"$f":"IF(C89=\"\",\"\",入力!E74)","v":""},{"$f":"入力!D74","v":""},{"$f":"入力!F74","v":" "},{"$f":"入力!H74","v":" "},{"$f":"IF($B89=\"\",\"\",入力!J74)","v":0},{"$f":"IF($B89=\"\",\"\",入力!K74)","v":0}]
["",{"$f":"入力!A75","v":0},{"$f":"入力!B75","v":""},{"$f":"IF(C90=\"\",\"\",入力!E75)","v":""},{"$f":"入力!D75","v":""},{"$f":"入力!F75","v":" "},{"$f":"入力!H75","v":" "},{"$f":"IF($B90=\"\",\"\",入力!J75)","v":0},{"$f":"IF($B90=\"\",\"\",入力!K75)","v":0}]
["",{"$f":"入力!A76","v":0},{"$f":"入力!B76","v":""},{"$f":"IF(C91=\"\",\"\",入力!E76)","v":""},{"$f":"入力!D76","v":""},{"$f":"入力!F76","v":" "},{"$f":"入力!H76","v":" "},{"$f":"IF($B91=\"\",\"\",入力!J76)","v":0},{"$f":"IF($B91=\"\",\"\",入力!K76)","v":0}]
["",{"$f":"入力!A77","v":0},{"$f":"入力!B77","v":""},{"$f":"IF(C92=\"\",\"\",入力!E77)","v":""},{"$f":"入力!D77","v":""},{"$f":"入力!F77","v":" "},{"$f":"入力!H77","v":" "},{"$f":"IF($B92=\"\",\"\",入力!J77)","v":0},{"$f":"IF($B92=\"\",\"\",入力!K77)","v":0}]
["",{"$f":"入力!A78","v":0},{"$f":"入力!B78","v":""},{"$f":"IF(C93=\"\",\"\",入力!E78)","v":""},{"$f":"入力!D78","v":""},{"$f":"入力!F78","v":" "},{"$f":"入力!H78","v":" "},{"$f":"IF($B93=\"\",\"\",入力!J78)","v":0},{"$f":"IF($B93=\"\",\"\",入力!K78)","v":0}]
["",{"$f":"入力!A79","v":0},{"$f":"入力!B79","v":""},{"$f":"IF(C94=\"\",\"\",入力!E79)","v":""},{"$f":"入力!D79","v":""},{"$f":"入力!F79","v":" "},{"$f":"入力!H79","v":" "},{"$f":"IF($B94=\"\",\"\",入力!J79)","v":0},{"$f":"IF($B94=\"\",\"\",入力!K79)","v":0}]
["",{"$f":"入力!A80","v":0},{"$f":"入力!B80","v":""},{"$f":"IF(C95=\"\",\"\",入力!E80)","v":""},{"$f":"入力!D80","v":""},{"$f":"入力!F80","v":" "},{"$f":"入力!H80","v":" "},{"$f":"IF($B95=\"\",\"\",入力!J80)","v":0},{"$f":"IF($B95=\"\",\"\",入力!K80)","v":0}]
["",{"$f":"入力!A81","v":0},{"$f":"入力!B81","v":""},{"$f":"IF(C96=\"\",\"\",入力!E81)","v":""},{"$f":"入力!D81","v":""},{"$f":"入力!F81","v":" "},{"$f":"入力!H81","v":" "},{"$f":"IF($B96=\"\",\"\",入力!J81)","v":0},{"$f":"IF($B96=\"\",\"\",入力!K81)","v":0}]
["",{"$f":"入力!A82","v":0},{"$f":"入力!B82","v":""},{"$f":"IF(C97=\"\",\"\",入力!E82)","v":""},{"$f":"入力!D82","v":""},{"$f":"入力!F82","v":" "},{"$f":"入力!H82","v":" "},{"$f":"IF($B97=\"\",\"\",入力!J82)","v":0},{"$f":"IF($B97=\"\",\"\",入力!K82)","v":0}]
["",{"$f":"入力!A83","v":0},{"$f":"入力!B83","v":""},{"$f":"IF(C98=\"\",\"\",入力!E83)","v":""},{"$f":"入力!D83","v":""},{"$f":"入力!F83","v":" "},{"$f":"入力!H83","v":" "},{"$f":"IF($B98=\"\",\"\",入力!J83)","v":0},{"$f":"IF($B98=\"\",\"\",入力!K83)","v":0}]
["",{"$f":"入力!A84","v":0},{"$f":"入力!B84","v":""},{"$f":"IF(C99=\"\",\"\",入力!E84)","v":""},{"$f":"入力!D84","v":""},{"$f":"入力!F84","v":" "},{"$f":"入力!H84","v":" "},{"$f":"IF($B99=\"\",\"\",入力!J84)","v":0},{"$f":"IF($B99=\"\",\"\",入力!K84)","v":0}]
["",{"$f":"入力!A85","v":0},{"$f":"入力!B85","v":""},{"$f":"IF(C100=\"\",\"\",入力!E85)","v":""},{"$f":"入力!D85","v":""},{"$f":"入力!F85","v":" "},{"$f":"入力!H85","v":" "},{"$f":"IF($B100=\"\",\"\",入力!J85)","v":0},{"$f":"IF($B100=\"\",\"\",入力!K85)","v":0}]
["",{"$f":"入力!A86","v":0},{"$f":"入力!B86","v":""},{"$f":"IF(C101=\"\",\"\",入力!E86)","v":""},{"$f":"入力!D86","v":""},{"$f":"入力!F86","v":" "},{"$f":"入力!H86","v":" "},{"$f":"IF($B101=\"\",\"\",入力!J86)","v":0},{"$f":"IF($B101=\"\",\"\",入力!K86)","v":0}]
["",{"$f":"入力!A87","v":0},{"$f":"入力!B87","v":""},{"$f":"IF(C102=\"\",\"\",入力!E87)","v":""},{"$f":"入力!D87","v":""},{"$f":"入力!F87","v":" "},{"$f":"入力!H87","v":" "},{"$f":"IF($B102=\"\",\"\",入力!J87)","v":0},{"$f":"IF($B102=\"\",\"\",入力!K87)","v":0}]
["",{"$f":"入力!A88","v":0},{"$f":"入力!B88","v":""},{"$f":"IF(C103=\"\",\"\",入力!E88)","v":""},{"$f":"入力!D88","v":""},{"$f":"入力!F88","v":" "},{"$f":"入力!H88","v":" "},{"$f":"IF($B103=\"\",\"\",入力!J88)","v":0},{"$f":"IF($B103=\"\",\"\",入力!K88)","v":0}]
["",{"$f":"入力!A89","v":0},{"$f":"入力!B89","v":""},{"$f":"IF(C104=\"\",\"\",入力!E89)","v":""},{"$f":"入力!D89","v":""},{"$f":"入力!F89","v":" "},{"$f":"入力!H89","v":" "},{"$f":"IF($B104=\"\",\"\",入力!J89)","v":0},{"$f":"IF($B104=\"\",\"\",入力!K89)","v":0}]
["",{"$f":"入力!A90","v":0},{"$f":"入力!B90","v":""},{"$f":"IF(C105=\"\",\"\",入力!E90)","v":""},{"$f":"入力!D90","v":""},{"$f":"入力!F90","v":" "},{"$f":"入力!H90","v":" "},{"$f":"IF($B105=\"\",\"\",入力!J90)","v":0},{"$f":"IF($B105=\"\",\"\",入力!K90)","v":0}]
["",{"$f":"入力!A91","v":0},{"$f":"入力!B91","v":""},{"$f":"IF(C106=\"\",\"\",入力!E91)","v":""},{"$f":"入力!D91","v":""},{"$f":"入力!F91","v":" "},{"$f":"入力!H91","v":" "},{"$f":"IF($B106=\"\",\"\",入力!J91)","v":0},{"$f":"IF($B106=\"\",\"\",入力!K91)","v":0}]
["",{"$f":"入力!A92","v":0},{"$f":"入力!B92","v":""},{"$f":"IF(C107=\"\",\"\",入力!E92)","v":""},{"$f":"入力!D92","v":""},{"$f":"入力!F92","v":" "},{"$f":"入力!H92","v":" "},{"$f":"IF($B107=\"\",\"\",入力!J92)","v":0},{"$f":"IF($B107=\"\",\"\",入力!K92)","v":0}]
["",{"$f":"入力!A93","v":0},{"$f":"入力!B93","v":""},{"$f":"IF(C108=\"\",\"\",入力!E93)","v":""},{"$f":"入力!D93","v":""},{"$f":"入力!F93","v":" "},{"$f":"入力!H93","v":" "},{"$f":"IF($B108=\"\",\"\",入力!J93)","v":0},{"$f":"IF($B108=\"\",\"\",入力!K93)","v":0}]
["",{"$f":"入力!A94","v":0},{"$f":"入力!B94","v":""},{"$f":"IF(C109=\"\",\"\",入力!E94)","v":""},{"$f":"入力!D94","v":""},{"$f":"入力!F94","v":" "},{"$f":"入力!H94","v":" "},{"$f":"IF($B109=\"\",\"\",入力!J94)","v":0},{"$f":"IF($B109=\"\",\"\",入力!K94)","v":0}]
["",{"$f":"入力!A95","v":0},{"$f":"入力!B95","v":""},{"$f":"IF(C110=\"\",\"\",入力!E95)","v":""},{"$f":"入力!D95","v":""},{"$f":"入力!F95","v":" "},{"$f":"入力!H95","v":" "},{"$f":"IF($B110=\"\",\"\",入力!J95)","v":0},{"$f":"IF($B110=\"\",\"\",入力!K95)","v":0}]
["",{"$f":"入力!A96","v":0},{"$f":"入力!B96","v":""},{"$f":"IF(C111=\"\",\"\",入力!E96)","v":""},{"$f":"入力!D96","v":""},{"$f":"入力!F96","v":" "},{"$f":"入力!H96","v":" "},{"$f":"IF($B111=\"\",\"\",入力!J96)","v":0},{"$f":"IF($B111=\"\",\"\",入力!K96)","v":0}]
["",{"$f":"入力!A97","v":0},{"$f":"入力!B97","v":""},{"$f":"IF(C112=\"\",\"\",入力!E97)","v":""},{"$f":"入力!D97","v":""},{"$f":"入力!F97","v":" "},{"$f":"入力!H97","v":" "},{"$f":"IF($B112=\"\",\"\",入力!J97)","v":0},{"$f":"IF($B112=\"\",\"\",入力!K97)","v":0}]
["",{"$f":"入力!A98","v":0},{"$f":"入力!B98","v":""},{"$f":"IF(C113=\"\",\"\",入力!E98)","v":""},{"$f":"入力!D98","v":""},{"$f":"入力!F98","v":" "},{"$f":"入力!H98","v":" "},{"$f":"IF($B113=\"\",\"\",入力!J98)","v":0},{"$f":"IF($B113=\"\",\"\",入力!K98)","v":0}]
["",{"$f":"入力!A99","v":0},{"$f":"入力!B99","v":""},{"$f":"IF(C114=\"\",\"\",入力!E99)","v":""},{"$f":"入力!D99","v":""},{"$f":"入力!F99","v":" "},{"$f":"入力!H99","v":" "},{"$f":"IF($B114=\"\",\"\",入力!J99)","v":0},{"$f":"IF($B114=\"\",\"\",入力!K99)","v":0}]
["",{"$f":"入力!A100","v":0},{"$f":"入力!B100","v":""},{"$f":"IF(C115=\"\",\"\",入力!E100)","v":""},{"$f":"入力!D100","v":""},{"$f":"入力!F100","v":" "},{"$f":"入力!H100","v":" "},{"$f":"IF($B115=\"\",\"\",入力!J100)","v":0},{"$f":"IF($B115=\"\",\"\",入力!K100)","v":0}]
["",{"$f":"入力!A101","v":0},{"$f":"入力!B101","v":""},{"$f":"IF(C116=\"\",\"\",入力!E101)","v":""},{"$f":"入力!D101","v":""},{"$f":"入力!F101","v":" "},{"$f":"入力!H101","v":" "},{"$f":"IF($B116=\"\",\"\",入力!J101)","v":0},{"$f":"IF($B116=\"\",\"\",入力!K101)","v":0}]

{"sheet":"男子選手","index":3,"n_rows":103,"n_cols":7,"rows_kept":103,"cut":false,"hidden":false,"merged":[]}
[]
[]
[]
[{"$f":"VLOOKUP(初期設定!C3,学校番号!A3:D50,3,FALSE)","v":{"$error":"#N/A"}},"登録番号","名前","ﾌﾘｶﾞﾅ","学年","性別"]
[1,{"$f":"$A$4+A5","v":{"$error":"#N/A"}},{"$f":"IFERROR(VLOOKUP(B5,男子選手追加!$A$1:$D$900,2,FALSE),\"\")","v":""},{"$f":"IFERROR(VLOOKUP(B5,男子選手追加!$A$1:$D$900,3,FALSE),\"\")","v":""},{"$f":"RIGHT(C5)","v":""},"男",{"$f":"IF(C5=\"\",\"\",LEFT(C5,LEN(C5)-2)&\"(\"&E5&\")\")","v":""}]
[2,{"$f":"$A$4+A6","v":{"$error":"#N/A"}},{"$f":"IFERROR(VLOOKUP(B6,男子選手追加!$A$1:$D$900,2,FALSE),\"\")","v":""},{"$f":"IFERROR(VLOOKUP(B6,男子選手追加!$A$1:$D$900,3,FALSE),\"\")","v":""},{"$f":"RIGHT(C6)","v":""},"男",{"$f":"IF(C6=\"\",\"\",LEFT(C6,LEN(C6)-2)&\"(\"&E6&\")\")","v":""}]
[3,{"$error":"#N/A"},{"$f":"IFERROR(VLOOKUP(B7,男子選手追加!$A$1:$D$900,2,FALSE),\"\")","v":""},{"$f":"IFERROR(VLOOKUP(B7,男子選手追加!$A$1:$D$900,3,FALSE),\"\")","v":""},"","男",""]
[4,{"$error":"#N/A"},{"$f":"IFERROR(VLOOKUP(B8,男子選手追加!$A$1:$D$900,2,FALSE),\"\")","v":""},{"$f":"IFERROR(VLOOKUP(B8,男子選手追加!$A$1:$D$900,3,FALSE),\"\")","v":""},"","男",""]
[5,{"$error":"#N/A"},{"$f":"IFERROR(VLOOKUP(B9,男子選手追加!$A$1:$D$900,2,FALSE),\"\")","v":""},{"$f":"IFERROR(VLOOKUP(B9,男子選手追加!$A$1:$D$900,3,FALSE),\"\")","v":""},"","男",""]
[6,{"$error":"#N/A"},{"$f":"IFERROR(VLOOKUP(B10,男子選手追加!$A$1:$D$900,2,FALSE),\"\")","v":""},{"$f":"IFERROR(VLOOKUP(B10,男子選手追加!$A$1:$D$900,3,FALSE),\"\")","v":""},"","男",""]
[7,{"$error":"#N/A"},{"$f":"IFERROR(VLOOKUP(B11,男子選手追加!$A$1:$D$900,2,FALSE),\"\")","v":""},{"$f":"IFERROR(VLOOKUP(B11,男子選手追加!$A$1:$D$900,3,FALSE),\"\")","v":""},"","男",""]
[8,{"$error":"#N/A"},{"$f":"IFERROR(VLOOKUP(B12,男子選手追加!$A$1:$D$900,2,FALSE),\"\")","v":""},{"$f":"IFERROR(VLOOKUP(B12,男子選手追加!$A$1:$D$900,3,FALSE),\"\")","v":""},"","男",""]
[9,{"$error":"#N/A"},{"$f":"IFERROR(VLOOKUP(B13,男子選手追加!$A$1:$D$900,2,FALSE),\"\")","v":""},{"$f":"IFERROR(VLOOKUP(B13,男子選手追加!$A$1:$D$900,3,FALSE),\"\")","v":""},"","男",""]
[10,{"$error":"#N/A"},{"$f":"IFERROR(VLOOKUP(B14,男子選手追加!$A$1:$D$900,2,FALSE),\"\")","v":""},{"$f":"IFERROR(VLOOKUP(B14,男子選手追加!$A$1:$D$900,3,FALSE),\"\")","v":""},"","男",""]
[11,{"$error":"#N/A"},{"$f":"IFERROR(VLOOKUP(B15,男子選手追加!$A$1:$D$900,2,FALSE),\"\")","v":""},{"$f":"IFERROR(VLOOKUP(B15,男子選手追加!$A$1:$D$900,3,FALSE),\"\")","v":""},"","男",""]
[12,{"$error":"#N/A"},{"$f":"IFERROR(VLOOKUP(B16,男子選手追加!$A$1:$D$900,2,FALSE),\"\")","v":""},{"$f":"IFERROR(VLOOKUP(B16,男子選手追加!$A$1:$D$900,3,FALSE),\"\")","v":""},"","男",""]
[13,{"$error":"#N/A"},{"$f":"IFERROR(VLOOKUP(B17,男子選手追加!$A$1:$D$900,2,FALSE),\"\")","v":""},{"$f":"IFERROR(VLOOKUP(B17,男子選手追加!$A$1:$D$900,3,FALSE),\"\")","v":""},"","男",""]
[14,{"$error":"#N/A"},{"$f":"IFERROR(VLOOKUP(B18,男子選手追加!$A$1:$D$900,2,FALSE),\"\")","v":""},{"$f":"IFERROR(VLOOKUP(B18,男子選手追加!$A$1:$D$900,3,FALSE),\"\")","v":""},"","男",""]
[15,{"$error":"#N/A"},{"$f":"IFERROR(VLOOKUP(B19,男子選手追加!$A$1:$D$900,2,FALSE),\"\")","v":""},{"$f":"IFERROR(VLOOKUP(B19,男子選手追加!$A$1:$D$900,3,FALSE),\"\")","v":""},"","男",""]
[16,{"$error":"#N/A"},{"$f":"IFERROR(VLOOKUP(B20,男子選手追加!$A$1:$D$900,2,FALSE),\"\")","v":""},{"$f":"IFERROR(VLOOKUP(B20,男子選手追加!$A$1:$D$900,3,FALSE),\"\")","v":""},"","男",""]
[17,{"$error":"#N/A"},{"$f":"IFERROR(VLOOKUP(B21,男子選手追加!$A$1:$D$900,2,FALSE),\"\")","v":""},{"$f":"IFERROR(VLOOKUP(B21,男子選手追加!$A$1:$D$900,3,FALSE),\"\")","v":""},"","男",""]
[18,{"$error":"#N/A"},{"$f":"IFERROR(VLOOKUP(B22,男子選手追加!$A$1:$D$900,2,FALSE),\"\")","v":""},{"$f":"IFERROR(VLOOKUP(B22,男子選手追加!$A$1:$D$900,3,FALSE),\"\")","v":""},"","男",""]
[19,{"$error":"#N/A"},{"$f":"IFERROR(VLOOKUP(B23,男子選手追加!$A$1:$D$900,2,FALSE),\"\")","v":""},{"$f":"IFERROR(VLOOKUP(B23,男子選手追加!$A$1:$D$900,3,FALSE),\"\")","v":""},"","男",""]
[20,{"$error":"#N/A"},{"$f":"IFERROR(VLOOKUP(B24,男子選手追加!$A$1:$D$900,2,FALSE),\"\")","v":""},{"$f":"IFERROR(VLOOKUP(B24,男子選手追加!$A$1:$D$900,3,FALSE),\"\")","v":""},"","男",""]
[21,{"$error":"#N/A"},{"$f":"IFERROR(VLOOKUP(B25,男子選手追加!$A$1:$D$900,2,FALSE),\"\")","v":""},{"$f":"IFERROR(VLOOKUP(B25,男子選手追加!$A$1:$D$900,3,FALSE),\"\")","v":""},"","男",""]
[22,{"$error":"#N/A"},{"$f":"IFERROR(VLOOKUP(B26,男子選手追加!$A$1:$D$900,2,FALSE),\"\")","v":""},{"$f":"IFERROR(VLOOKUP(B26,男子選手追加!$A$1:$D$900,3,FALSE),\"\")","v":""},"","男",""]
[23,{"$error":"#N/A"},{"$f":"IFERROR(VLOOKUP(B27,男子選手追加!$A$1:$D$900,2,FALSE),\"\")","v":""},{"$f":"IFERROR(VLOOKUP(B27,男子選手追加!$A$1:$D$900,3,FALSE),\"\")","v":""},"","男",""]
[24,{"$error":"#N/A"},{"$f":"IFERROR(VLOOKUP(B28,男子選手追加!$A$1:$D$900,2,FALSE),\"\")","v":""},{"$f":"IFERROR(VLOOKUP(B28,男子選手追加!$A$1:$D$900,3,FALSE),\"\")","v":""},"","男",""]
[25,{"$error":"#N/A"},{"$f":"IFERROR(VLOOKUP(B29,男子選手追加!$A$1:$D$900,2,FALSE),\"\")","v":""},{"$f":"IFERROR(VLOOKUP(B29,男子選手追加!$A$1:$D$900,3,FALSE),\"\")","v":""},"","男",""]
[26,{"$error":"#N/A"},{"$f":"IFERROR(VLOOKUP(B30,男子選手追加!$A$1:$D$900,2,FALSE),\"\")","v":""},{"$f":"IFERROR(VLOOKUP(B30,男子選手追加!$A$1:$D$900,3,FALSE),\"\")","v":""},"","男",""]
[27,{"$error":"#N/A"},{"$f":"IFERROR(VLOOKUP(B31,男子選手追加!$A$1:$D$900,2,FALSE),\"\")","v":""},{"$f":"IFERROR(VLOOKUP(B31,男子選手追加!$A$1:$D$900,3,FALSE),\"\")","v":""},"","男",""]
[28,{"$error":"#N/A"},{"$f":"IFERROR(VLOOKUP(B32,男子選手追加!$A$1:$D$900,2,FALSE),\"\")","v":""},{"$f":"IFERROR(VLOOKUP(B32,男子選手追加!$A$1:$D$900,3,FALSE),\"\")","v":""},"","男",""]
[29,{"$error":"#N/A"},{"$f":"IFERROR(VLOOKUP(B33,男子選手追加!$A$1:$D$900,2,FALSE),\"\")","v":""},{"$f":"IFERROR(VLOOKUP(B33,男子選手追加!$A$1:$D$900,3,FALSE),\"\")","v":""},"","男",""]
[30,{"$error":"#N/A"},{"$f":"IFERROR(VLOOKUP(B34,男子選手追加!$A$1:$D$900,2,FALSE),\"\")","v":""},{"$f":"IFERROR(VLOOKUP(B34,男子選手追加!$A$1:$D$900,3,FALSE),\"\")","v":""},"","男",""]
[31,{"$error":"#N/A"},{"$f":"IFERROR(VLOOKUP(B35,男子選手追加!$A$1:$D$900,2,FALSE),\"\")","v":""},{"$f":"IFERROR(VLOOKUP(B35,男子選手追加!$A$1:$D$900,3,FALSE),\"\")","v":""},"","男",""]
[32,{"$error":"#N/A"},{"$f":"IFERROR(VLOOKUP(B36,男子選手追加!$A$1:$D$900,2,FALSE),\"\")","v":""},{"$f":"IFERROR(VLOOKUP(B36,男子選手追加!$A$1:$D$900,3,FALSE),\"\")","v":""},"","男",""]
[33,{"$error":"#N/A"},{"$f":"IFERROR(VLOOKUP(B37,男子選手追加!$A$1:$D$900,2,FALSE),\"\")","v":""},{"$f":"IFERROR(VLOOKUP(B37,男子選手追加!$A$1:$D$900,3,FALSE),\"\")","v":""},"","男",""]
[34,{"$error":"#N/A"},{"$f":"IFERROR(VLOOKUP(B38,男子選手追加!$A$1:$D$900,2,FALSE),\"\")","v":""},{"$f":"IFERROR(VLOOKUP(B38,男子選手追加!$A$1:$D$900,3,FALSE),\"\")","v":""},"","男",""]
[35,{"$error":"#N/A"},{"$f":"IFERROR(VLOOKUP(B39,男子選手追加!$A$1:$D$900,2,FALSE),\"\")","v":""},{"$f":"IFERROR(VLOOKUP(B39,男子選手追加!$A$1:$D$900,3,FALSE),\"\")","v":""},"","男",""]
[36,{"$error":"#N/A"},{"$f":"IFERROR(VLOOKUP(B40,男子選手追加!$A$1:$D$900,2,FALSE),\"\")","v":""},{"$f":"IFERROR(VLOOKUP(B40,男子選手追加!$A$1:$D$900,3,FALSE),\"\")","v":""},"","男",""]
[37,{"$error":"#N/A"},{"$f":"IFERROR(VLOOKUP(B41,男子選手追加!$A$1:$D$900,2,FALSE),\"\")","v":""},{"$f":"IFERROR(VLOOKUP(B41,男子選手追加!$A$1:$D$900,3,FALSE),\"\")","v":""},"","男",""]
[38,{"$error":"#N/A"},{"$f":"IFERROR(VLOOKUP(B42,男子選手追加!$A$1:$D$900,2,FALSE),\"\")","v":""},{"$f":"IFERROR(VLOOKUP(B42,男子選手追加!$A$1:$D$900,3,FALSE),\"\")","v":""},"","男",""]
[39,{"$error":"#N/A"},{"$f":"IFERROR(VLOOKUP(B43,男子選手追加!$A$1:$D$900,2,FALSE),\"\")","v":""},{"$f":"IFERROR(VLOOKUP(B43,男子選手追加!$A$1:$D$900,3,FALSE),\"\")","v":""},"","男",""]
[40,{"$error":"#N/A"},{"$f":"IFERROR(VLOOKUP(B44,男子選手追加!$A$1:$D$900,2,FALSE),\"\")","v":""},{"$f":"IFERROR(VLOOKUP(B44,男子選手追加!$A$1:$D$900,3,FALSE),\"\")","v":""},"","男",""]
[41,{"$error":"#N/A"},{"$f":"IFERROR(VLOOKUP(B45,男子選手追加!$A$1:$D$900,2,FALSE),\"\")","v":""},{"$f":"IFERROR(VLOOKUP(B45,男子選手追加!$A$1:$D$900,3,FALSE),\"\")","v":""},"","男",""]
[42,{"$error":"#N/A"},{"$f":"IFERROR(VLOOKUP(B46,男子選手追加!$A$1:$D$900,2,FALSE),\"\")","v":""},{"$f":"IFERROR(VLOOKUP(B46,男子選手追加!$A$1:$D$900,3,FALSE),\"\")","v":""},"","男",""]
[43,{"$error":"#N/A"},{"$f":"IFERROR(VLOOKUP(B47,男子選手追加!$A$1:$D$900,2,FALSE),\"\")","v":""},{"$f":"IFERROR(VLOOKUP(B47,男子選手追加!$A$1:$D$900,3,FALSE),\"\")","v":""},"","男",""]
[44,{"$error":"#N/A"},{"$f":"IFERROR(VLOOKUP(B48,男子選手追加!$A$1:$D$900,2,FALSE),\"\")","v":""},{"$f":"IFERROR(VLOOKUP(B48,男子選手追加!$A$1:$D$900,3,FALSE),\"\")","v":""},"","男",""]
[45,{"$error":"#N/A"},{"$f":"IFERROR(VLOOKUP(B49,男子選手追加!$A$1:$D$900,2,FALSE),\"\")","v":""},{"$f":"IFERROR(VLOOKUP(B49,男子選手追加!$A$1:$D$900,3,FALSE),\"\")","v":""},"","男",""]
[46,{"$error":"#N/A"},{"$f":"IFERROR(VLOOKUP(B50,男子選手追加!$A$1:$D$900,2,FALSE),\"\")","v":""},{"$f":"IFERROR(VLOOKUP(B50,男子選手追加!$A$1:$D$900,3,FALSE),\"\")","v":""},"","男",""]
[47,{"$error":"#N/A"},{"$f":"IFERROR(VLOOKUP(B51,男子選手追加!$A$1:$D$900,2,FALSE),\"\")","v":""},{"$f":"IFERROR(VLOOKUP(B51,男子選手追加!$A$1:$D$900,3,FALSE),\"\")","v":""},"","男",""]
[48,{"$error":"#N/A"},{"$f":"IFERROR(VLOOKUP(B52,男子選手追加!$A$1:$D$900,2,FALSE),\"\")","v":""},{"$f":"IFERROR(VLOOKUP(B52,男子選手追加!$A$1:$D$900,3,FALSE),\"\")","v":""},"","男",""]
[49,{"$error":"#N/A"},{"$f":"IFERROR(VLOOKUP(B53,男子選手追加!$A$1:$D$900,2,FALSE),\"\")","v":""},{"$f":"IFERROR(VLOOKUP(B53,男子選手追加!$A$1:$D$900,3,FALSE),\"\")","v":""},"","男",""]
[50,{"$error":"#N/A"},{"$f":"IFERROR(VLOOKUP(B54,男子選手追加!$A$1:$D$900,2,FALSE),\"\")","v":""},{"$f":"IFERROR(VLOOKUP(B54,男子選手追加!$A$1:$D$900,3,FALSE),\"\")","v":""},"","男",""]
[51,{"$error":"#N/A"},{"$f":"IFERROR(VLOOKUP(B55,男子選手追加!$A$1:$D$900,2,FALSE),\"\")","v":""},{"$f":"IFERROR(VLOOKUP(B55,男子選手追加!$A$1:$D$900,3,FALSE),\"\")","v":""},"","男",""]
[52,{"$error":"#N/A"},{"$f":"IFERROR(VLOOKUP(B56,男子選手追加!$A$1:$D$900,2,FALSE),\"\")","v":""},{"$f":"IFERROR(VLOOKUP(B56,男子選手追加!$A$1:$D$900,3,FALSE),\"\")","v":""},"","男",""]
[53,{"$error":"#N/A"},{"$f":"IFERROR(VLOOKUP(B57,男子選手追加!$A$1:$D$900,2,FALSE),\"\")","v":""},{"$f":"IFERROR(VLOOKUP(B57,男子選手追加!$A$1:$D$900,3,FALSE),\"\")","v":""},"","男",""]
[54,{"$error":"#N/A"},{"$f":"IFERROR(VLOOKUP(B58,男子選手追加!$A$1:$D$900,2,FALSE),\"\")","v":""},{"$f":"IFERROR(VLOOKUP(B58,男子選手追加!$A$1:$D$900,3,FALSE),\"\")","v":""},"","男",""]
[55,{"$error":"#N/A"},{"$f":"IFERROR(VLOOKUP(B59,男子選手追加!$A$1:$D$900,2,FALSE),\"\")","v":""},{"$f":"IFERROR(VLOOKUP(B59,男子選手追加!$A$1:$D$900,3,FALSE),\"\")","v":""},"","男",""]
[56,{"$error":"#N/A"},{"$f":"IFERROR(VLOOKUP(B60,男子選手追加!$A$1:$D$900,2,FALSE),\"\")","v":""},{"$f":"IFERROR(VLOOKUP(B60,男子選手追加!$A$1:$D$900,3,FALSE),\"\")","v":""},"","男",""]
[57,{"$error":"#N/A"},{"$f":"IFERROR(VLOOKUP(B61,男子選手追加!$A$1:$D$900,2,FALSE),\"\")","v":""},{"$f":"IFERROR(VLOOKUP(B61,男子選手追加!$A$1:$D$900,3,FALSE),\"\")","v":""},"","男",""]
[58,{"$error":"#N/A"},{"$f":"IFERROR(VLOOKUP(B62,男子選手追加!$A$1:$D$900,2,FALSE),\"\")","v":""},{"$f":"IFERROR(VLOOKUP(B62,男子選手追加!$A$1:$D$900,3,FALSE),\"\")","v":""},"","男",""]
[59,{"$error":"#N/A"},{"$f":"IFERROR(VLOOKUP(B63,男子選手追加!$A$1:$D$900,2,FALSE),\"\")","v":""},{"$f":"IFERROR(VLOOKUP(B63,男子選手追加!$A$1:$D$900,3,FALSE),\"\")","v":""},"","男",""]
[60,{"$error":"#N/A"},{"$f":"IFERROR(VLOOKUP(B64,男子選手追加!$A$1:$D$900,2,FALSE),\"\")","v":""},{"$f":"IFERROR(VLOOKUP(B64,男子選手追加!$A$1:$D$900,3,FALSE),\"\")","v":""},"","男",""]
[61,{"$error":"#N/A"},{"$f":"IFERROR(VLOOKUP(B65,男子選手追加!$A$1:$D$900,2,FALSE),\"\")","v":""},{"$f":"IFERROR(VLOOKUP(B65,男子選手追加!$A$1:$D$900,3,FALSE),\"\")","v":""},"","男",""]
[62,{"$error":"#N/A"},{"$f":"IFERROR(VLOOKUP(B66,男子選手追加!$A$1:$D$900,2,FALSE),\"\")","v":""},{"$f":"IFERROR(VLOOKUP(B66,男子選手追加!$A$1:$D$900,3,FALSE),\"\")","v":""},"","男",""]
[63,{"$error":"#N/A"},{"$f":"IFERROR(VLOOKUP(B67,男子選手追加!$A$1:$D$900,2,FALSE),\"\")","v":""},{"$f":"IFERROR(VLOOKUP(B67,男子選手追加!$A$1:$D$900,3,FALSE),\"\")","v":""},"","男",""]
[64,{"$error":"#N/A"},{"$f":"IFERROR(VLOOKUP(B68,男子選手追加!$A$1:$D$900,2,FALSE),\"\")","v":""},{"$f":"IFERROR(VLOOKUP(B68,男子選手追加!$A$1:$D$900,3,FALSE),\"\")","v":""},"","男",""]
[65,{"$error":"#N/A"},{"$f":"IFERROR(VLOOKUP(B69,男子選手追加!$A$1:$D$900,2,FALSE),\"\")","v":""},{"$f":"IFERROR(VLOOKUP(B69,男子選手追加!$A$1:$D$900,3,FALSE),\"\")","v":""},"","男",""]
[66,{"$f":"$A$4+A70","v":{"$error":"#N/A"}},{"$f":"IFERROR(VLOOKUP(B70,男子選手追加!$A$1:$D$900,2,FALSE),\"\")","v":""},{"$f":"IFERROR(VLOOKUP(B70,男子選手追加!$A$1:$D$900,3,FALSE),\"\")","v":""},{"$f":"RIGHT(C70)","v":""},"男",{"$f":"IF(C70=\"\",\"\",LEFT(C70,LEN(C70)-2)&\"(\"&E70&\")\")","v":""}]
[67,{"$error":"#N/A"},{"$f":"IFERROR(VLOOKUP(B71,男子選手追加!$A$1:$D$900,2,FALSE),\"\")","v":""},{"$f":"IFERROR(VLOOKUP(B71,男子選手追加!$A$1:$D$900,3,FALSE),\"\")","v":""},"","男",""]
[68,{"$error":"#N/A"},{"$f":"IFERROR(VLOOKUP(B72,男子選手追加!$A$1:$D$900,2,FALSE),\"\")","v":""},{"$f":"IFERROR(VLOOKUP(B72,男子選手追加!$A$1:$D$900,3,FALSE),\"\")","v":""},"","男",""]
[69,{"$error":"#N/A"},{"$f":"IFERROR(VLOOKUP(B73,男子選手追加!$A$1:$D$900,2,FALSE),\"\")","v":""},{"$f":"IFERROR(VLOOKUP(B73,男子選手追加!$A$1:$D$900,3,FALSE),\"\")","v":""},"","男",""]
[70,{"$error":"#N/A"},{"$f":"IFERROR(VLOOKUP(B74,男子選手追加!$A$1:$D$900,2,FALSE),\"\")","v":""},{"$f":"IFERROR(VLOOKUP(B74,男子選手追加!$A$1:$D$900,3,FALSE),\"\")","v":""},"","男",""]
[71,{"$error":"#N/A"},{"$f":"IFERROR(VLOOKUP(B75,男子選手追加!$A$1:$D$900,2,FALSE),\"\")","v":""},{"$f":"IFERROR(VLOOKUP(B75,男子選手追加!$A$1:$D$900,3,FALSE),\"\")","v":""},"","男",""]
[72,{"$error":"#N/A"},{"$f":"IFERROR(VLOOKUP(B76,男子選手追加!$A$1:$D$900,2,FALSE),\"\")","v":""},{"$f":"IFERROR(VLOOKUP(B76,男子選手追加!$A$1:$D$900,3,FALSE),\"\")","v":""},"","男",""]
[73,{"$error":"#N/A"},{"$f":"IFERROR(VLOOKUP(B77,男子選手追加!$A$1:$D$900,2,FALSE),\"\")","v":""},{"$f":"IFERROR(VLOOKUP(B77,男子選手追加!$A$1:$D$900,3,FALSE),\"\")","v":""},"","男",""]
[74,{"$error":"#N/A"},{"$f":"IFERROR(VLOOKUP(B78,男子選手追加!$A$1:$D$900,2,FALSE),\"\")","v":""},{"$f":"IFERROR(VLOOKUP(B78,男子選手追加!$A$1:$D$900,3,FALSE),\"\")","v":""},"","男",""]
[75,{"$error":"#N/A"},{"$f":"IFERROR(VLOOKUP(B79,男子選手追加!$A$1:$D$900,2,FALSE),\"\")","v":""},{"$f":"IFERROR(VLOOKUP(B79,男子選手追加!$A$1:$D$900,3,FALSE),\"\")","v":""},"","男",""]
[76,{"$error":"#N/A"},{"$f":"IFERROR(VLOOKUP(B80,男子選手追加!$A$1:$D$900,2,FALSE),\"\")","v":""},{"$f":"IFERROR(VLOOKUP(B80,男子選手追加!$A$1:$D$900,3,FALSE),\"\")","v":""},"","男",""]
[77,{"$error":"#N/A"},{"$f":"IFERROR(VLOOKUP(B81,男子選手追加!$A$1:$D$900,2,FALSE),\"\")","v":""},{"$f":"IFERROR(VLOOKUP(B81,男子選手追加!$A$1:$D$900,3,FALSE),\"\")","v":""},"","男",""]
[78,{"$error":"#N/A"},{"$f":"IFERROR(VLOOKUP(B82,男子選手追加!$A$1:$D$900,2,FALSE),\"\")","v":""},{"$f":"IFERROR(VLOOKUP(B82,男子選手追加!$A$1:$D$900,3,FALSE),\"\")","v":""},"","男",""]
[79,{"$error":"#N/A"},{"$f":"IFERROR(VLOOKUP(B83,男子選手追加!$A$1:$D$900,2,FALSE),\"\")","v":""},{"$f":"IFERROR(VLOOKUP(B83,男子選手追加!$A$1:$D$900,3,FALSE),\"\")","v":""},"","男",""]
[80,{"$error":"#N/A"},{"$f":"IFERROR(VLOOKUP(B84,男子選手追加!$A$1:$D$900,2,FALSE),\"\")","v":""},{"$f":"IFERROR(VLOOKUP(B84,男子選手追加!$A$1:$D$900,3,FALSE),\"\")","v":""},"","男",""]
[81,{"$error":"#N/A"},{"$f":"IFERROR(VLOOKUP(B85,男子選手追加!$A$1:$D$900,2,FALSE),\"\")","v":""},{"$f":"IFERROR(VLOOKUP(B85,男子選手追加!$A$1:$D$900,3,FALSE),\"\")","v":""},"","男",""]
[82,{"$error":"#N/A"},{"$f":"IFERROR(VLOOKUP(B86,男子選手追加!$A$1:$D$900,2,FALSE),\"\")","v":""},{"$f":"IFERROR(VLOOKUP(B86,男子選手追加!$A$1:$D$900,3,FALSE),\"\")","v":""},"","男",""]
[83,{"$error":"#N/A"},{"$f":"IFERROR(VLOOKUP(B87,男子選手追加!$A$1:$D$900,2,FALSE),\"\")","v":""},{"$f":"IFERROR(VLOOKUP(B87,男子選手追加!$A$1:$D$900,3,FALSE),\"\")","v":""},"","男",""]
[84,{"$error":"#N/A"},{"$f":"IFERROR(VLOOKUP(B88,男子選手追加!$A$1:$D$900,2,FALSE),\"\")","v":""},{"$f":"IFERROR(VLOOKUP(B88,男子選手追加!$A$1:$D$900,3,FALSE),\"\")","v":""},"","男",""]
[85,{"$error":"#N/A"},{"$f":"IFERROR(VLOOKUP(B89,男子選手追加!$A$1:$D$900,2,FALSE),\"\")","v":""},{"$f":"IFERROR(VLOOKUP(B89,男子選手追加!$A$1:$D$900,3,FALSE),\"\")","v":""},"","男",""]
[86,{"$error":"#N/A"},{"$f":"IFERROR(VLOOKUP(B90,男子選手追加!$A$1:$D$900,2,FALSE),\"\")","v":""},{"$f":"IFERROR(VLOOKUP(B90,男子選手追加!$A$1:$D$900,3,FALSE),\"\")","v":""},"","男",""]
[87,{"$error":"#N/A"},{"$f":"IFERROR(VLOOKUP(B91,男子選手追加!$A$1:$D$900,2,FALSE),\"\")","v":""},{"$f":"IFERROR(VLOOKUP(B91,男子選手追加!$A$1:$D$900,3,FALSE),\"\")","v":""},"","男",""]
[88,{"$error":"#N/A"},{"$f":"IFERROR(VLOOKUP(B92,男子選手追加!$A$1:$D$900,2,FALSE),\"\")","v":""},{"$f":"IFERROR(VLOOKUP(B92,男子選手追加!$A$1:$D$900,3,FALSE),\"\")","v":""},"","男",""]
[89,{"$error":"#N/A"},{"$f":"IFERROR(VLOOKUP(B93,男子選手追加!$A$1:$D$900,2,FALSE),\"\")","v":""},{"$f":"IFERROR(VLOOKUP(B93,男子選手追加!$A$1:$D$900,3,FALSE),\"\")","v":""},"","男",""]
[90,{"$error":"#N/A"},{"$f":"IFERROR(VLOOKUP(B94,男子選手追加!$A$1:$D$900,2,FALSE),\"\")","v":""},{"$f":"IFERROR(VLOOKUP(B94,男子選手追加!$A$1:$D$900,3,FALSE),\"\")","v":""},"","男",""]
[91,{"$error":"#N/A"},{"$f":"IFERROR(VLOOKUP(B95,男子選手追加!$A$1:$D$900,2,FALSE),\"\")","v":""},{"$f":"IFERROR(VLOOKUP(B95,男子選手追加!$A$1:$D$900,3,FALSE),\"\")","v":""},"","男",""]
[92,{"$error":"#N/A"},{"$f":"IFERROR(VLOOKUP(B96,男子選手追加!$A$1:$D$900,2,FALSE),\"\")","v":""},{"$f":"IFERROR(VLOOKUP(B96,男子選手追加!$A$1:$D$900,3,FALSE),\"\")","v":""},"","男",""]
[93,{"$error":"#N/A"},{"$f":"IFERROR(VLOOKUP(B97,男子選手追加!$A$1:$D$900,2,FALSE),\"\")","v":""},{"$f":"IFERROR(VLOOKUP(B97,男子選手追加!$A$1:$D$900,3,FALSE),\"\")","v":""},"","男",""]
[94,{"$error":"#N/A"},{"$f":"IFERROR(VLOOKUP(B98,男子選手追加!$A$1:$D$900,2,FALSE),\"\")","v":""},{"$f":"IFERROR(VLOOKUP(B98,男子選手追加!$A$1:$D$900,3,FALSE),\"\")","v":""},"","男",""]
[95,{"$error":"#N/A"},{"$f":"IFERROR(VLOOKUP(B99,男子選手追加!$A$1:$D$900,2,FALSE),\"\")","v":""},{"$f":"IFERROR(VLOOKUP(B99,男子選手追加!$A$1:$D$900,3,FALSE),\"\")","v":""},"","男",""]
[96,{"$error":"#N/A"},{"$f":"IFERROR(VLOOKUP(B100,男子選手追加!$A$1:$D$900,2,FALSE),\"\")","v":""},{"$f":"IFERROR(VLOOKUP(B100,男子選手追加!$A$1:$D$900,3,FALSE),\"\")","v":""},"","男",""]
[97,{"$error":"#N/A"},{"$f":"IFERROR(VLOOKUP(B101,男子選手追加!$A$1:$D$900,2,FALSE),\"\")","v":""},{"$f":"IFERROR(VLOOKUP(B101,男子選手追加!$A$1:$D$900,3,FALSE),\"\")","v":""},"","男",""]
[98,{"$error":"#N/A"},{"$f":"IFERROR(VLOOKUP(B102,男子選手追加!$A$1:$D$900,2,FALSE),\"\")","v":""},{"$f":"IFERROR(VLOOKUP(B102,男子選手追加!$A$1:$D$900,3,FALSE),\"\")","v":""},"","男",""]
[99,{"$error":"#N/A"},{"$f":"IFERROR(VLOOKUP(B103,男子選手追加!$A$1:$D$900,2,FALSE),\"\")","v":""},{"$f":"IFERROR(VLOOKUP(B103,男子選手追加!$A$1:$D$900,3,FALSE),\"\")","v":""},"","男",""]

{"sheet":"女子選手","index":4,"n_rows":103,"n_cols":7,"rows_kept":103,"cut":false,"hidden":false,"merged":[]}
[]
[]
[]
[{"$f":"VLOOKUP(初期設定!C3,学校番号!A3:D50,3,FALSE)","v":{"$error":"#N/A"}},"登録番号","名前","ﾌﾘｶﾞﾅ","学年","性別"]
[1,{"$f":"$A$4+A5","v":{"$error":"#N/A"}},{"$f":"IFERROR(VLOOKUP(B5,女子選手追加!$A$1:$D$900,2,FALSE),\"\")","v":""},{"$f":"IFERROR(VLOOKUP(B5,女子選手追加!$A$1:$D$900,3,FALSE),\"\")","v":""},{"$f":"RIGHT(C5)","v":""},"女",{"$f":"IF(C5=\"\",\"\",LEFT(C5,LEN(C5)-2)&\"(\"&E5&\")\")","v":""}]
[2,{"$f":"$A$4+A6","v":{"$error":"#N/A"}},{"$f":"IFERROR(VLOOKUP(B6,女子選手追加!$A$1:$D$900,2,FALSE),\"\")","v":""},{"$f":"IFERROR(VLOOKUP(B6,女子選手追加!$A$1:$D$900,3,FALSE),\"\")","v":""},{"$f":"RIGHT(C6)","v":""},"女",{"$f":"IF(C6=\"\",\"\",LEFT(C6,LEN(C6)-2)&\"(\"&E6&\")\")","v":""}]
[3,{"$error":"#N/A"},{"$f":"IFERROR(VLOOKUP(B7,女子選手追加!$A$1:$D$900,2,FALSE),\"\")","v":""},{"$f":"IFERROR(VLOOKUP(B7,女子選手追加!$A$1:$D$900,3,FALSE),\"\")","v":""},"","女",""]
[4,{"$error":"#N/A"},{"$f":"IFERROR(VLOOKUP(B8,女子選手追加!$A$1:$D$900,2,FALSE),\"\")","v":""},{"$f":"IFERROR(VLOOKUP(B8,女子選手追加!$A$1:$D$900,3,FALSE),\"\")","v":""},"","女",""]
[5,{"$error":"#N/A"},{"$f":"IFERROR(VLOOKUP(B9,女子選手追加!$A$1:$D$900,2,FALSE),\"\")","v":""},{"$f":"IFERROR(VLOOKUP(B9,女子選手追加!$A$1:$D$900,3,FALSE),\"\")","v":""},"","女",""]
[6,{"$error":"#N/A"},{"$f":"IFERROR(VLOOKUP(B10,女子選手追加!$A$1:$D$900,2,FALSE),\"\")","v":""},{"$f":"IFERROR(VLOOKUP(B10,女子選手追加!$A$1:$D$900,3,FALSE),\"\")","v":""},"","女",""]
[7,{"$error":"#N/A"},{"$f":"IFERROR(VLOOKUP(B11,女子選手追加!$A$1:$D$900,2,FALSE),\"\")","v":""},{"$f":"IFERROR(VLOOKUP(B11,女子選手追加!$A$1:$D$900,3,FALSE),\"\")","v":""},"","女",""]
[8,{"$error":"#N/A"},{"$f":"IFERROR(VLOOKUP(B12,女子選手追加!$A$1:$D$900,2,FALSE),\"\")","v":""},{"$f":"IFERROR(VLOOKUP(B12,女子選手追加!$A$1:$D$900,3,FALSE),\"\")","v":""},"","女",""]
[9,{"$error":"#N/A"},{"$f":"IFERROR(VLOOKUP(B13,女子選手追加!$A$1:$D$900,2,FALSE),\"\")","v":""},{"$f":"IFERROR(VLOOKUP(B13,女子選手追加!$A$1:$D$900,3,FALSE),\"\")","v":""},"","女",""]
[10,{"$error":"#N/A"},{"$f":"IFERROR(VLOOKUP(B14,女子選手追加!$A$1:$D$900,2,FALSE),\"\")","v":""},{"$f":"IFERROR(VLOOKUP(B14,女子選手追加!$A$1:$D$900,3,FALSE),\"\")","v":""},"","女",""]
[11,{"$error":"#N/A"},{"$f":"IFERROR(VLOOKUP(B15,女子選手追加!$A$1:$D$900,2,FALSE),\"\")","v":""},{"$f":"IFERROR(VLOOKUP(B15,女子選手追加!$A$1:$D$900,3,FALSE),\"\")","v":""},"","女",""]
[12,{"$error":"#N/A"},{"$f":"IFERROR(VLOOKUP(B16,女子選手追加!$A$1:$D$900,2,FALSE),\"\")","v":""},{"$f":"IFERROR(VLOOKUP(B16,女子選手追加!$A$1:$D$900,3,FALSE),\"\")","v":""},"","女",""]
[13,{"$error":"#N/A"},{"$f":"IFERROR(VLOOKUP(B17,女子選手追加!$A$1:$D$900,2,FALSE),\"\")","v":""},{"$f":"IFERROR(VLOOKUP(B17,女子選手追加!$A$1:$D$900,3,FALSE),\"\")","v":""},"","女",""]
[14,{"$error":"#N/A"},{"$f":"IFERROR(VLOOKUP(B18,女子選手追加!$A$1:$D$900,2,FALSE),\"\")","v":""},{"$f":"IFERROR(VLOOKUP(B18,女子選手追加!$A$1:$D$900,3,FALSE),\"\")","v":""},"","女",""]
[15,{"$error":"#N/A"},{"$f":"IFERROR(VLOOKUP(B19,女子選手追加!$A$1:$D$900,2,FALSE),\"\")","v":""},{"$f":"IFERROR(VLOOKUP(B19,女子選手追加!$A$1:$D$900,3,FALSE),\"\")","v":""},"","女",""]
[16,{"$error":"#N/A"},{"$f":"IFERROR(VLOOKUP(B20,女子選手追加!$A$1:$D$900,2,FALSE),\"\")","v":""},{"$f":"IFERROR(VLOOKUP(B20,女子選手追加!$A$1:$D$900,3,FALSE),\"\")","v":""},"","女",""]
[17,{"$error":"#N/A"},{"$f":"IFERROR(VLOOKUP(B21,女子選手追加!$A$1:$D$900,2,FALSE),\"\")","v":""},{"$f":"IFERROR(VLOOKUP(B21,女子選手追加!$A$1:$D$900,3,FALSE),\"\")","v":""},"","女",""]
[18,{"$error":"#N/A"},{"$f":"IFERROR(VLOOKUP(B22,女子選手追加!$A$1:$D$900,2,FALSE),\"\")","v":""},{"$f":"IFERROR(VLOOKUP(B22,女子選手追加!$A$1:$D$900,3,FALSE),\"\")","v":""},"","女",""]
[19,{"$error":"#N/A"},{"$f":"IFERROR(VLOOKUP(B23,女子選手追加!$A$1:$D$900,2,FALSE),\"\")","v":""},{"$f":"IFERROR(VLOOKUP(B23,女子選手追加!$A$1:$D$900,3,FALSE),\"\")","v":""},"","女",""]
[20,{"$error":"#N/A"},{"$f":"IFERROR(VLOOKUP(B24,女子選手追加!$A$1:$D$900,2,FALSE),\"\")","v":""},{"$f":"IFERROR(VLOOKUP(B24,女子選手追加!$A$1:$D$900,3,FALSE),\"\")","v":""},"","女",""]
[21,{"$error":"#N/A"},{"$f":"IFERROR(VLOOKUP(B25,女子選手追加!$A$1:$D$900,2,FALSE),\"\")","v":""},{"$f":"IFERROR(VLOOKUP(B25,女子選手追加!$A$1:$D$900,3,FALSE),\"\")","v":""},"","女",""]
[22,{"$error":"#N/A"},{"$f":"IFERROR(VLOOKUP(B26,女子選手追加!$A$1:$D$900,2,FALSE),\"\")","v":""},{"$f":"IFERROR(VLOOKUP(B26,女子選手追加!$A$1:$D$900,3,FALSE),\"\")","v":""},"","女",""]
[23,{"$error":"#N/A"},{"$f":"IFERROR(VLOOKUP(B27,女子選手追加!$A$1:$D$900,2,FALSE),\"\")","v":""},{"$f":"IFERROR(VLOOKUP(B27,女子選手追加!$A$1:$D$900,3,FALSE),\"\")","v":""},"","女",""]
[24,{"$error":"#N/A"},{"$f":"IFERROR(VLOOKUP(B28,女子選手追加!$A$1:$D$900,2,FALSE),\"\")","v":""},{"$f":"IFERROR(VLOOKUP(B28,女子選手追加!$A$1:$D$900,3,FALSE),\"\")","v":""},"","女",""]
[25,{"$error":"#N/A"},{"$f":"IFERROR(VLOOKUP(B29,女子選手追加!$A$1:$D$900,2,FALSE),\"\")","v":""},{"$f":"IFERROR(VLOOKUP(B29,女子選手追加!$A$1:$D$900,3,FALSE),\"\")","v":""},"","女",""]
[26,{"$error":"#N/A"},{"$f":"IFERROR(VLOOKUP(B30,女子選手追加!$A$1:$D$900,2,FALSE),\"\")","v":""},{"$f":"IFERROR(VLOOKUP(B30,女子選手追加!$A$1:$D$900,3,FALSE),\"\")","v":""},"","女",""]
[27,{"$error":"#N/A"},{"$f":"IFERROR(VLOOKUP(B31,女子選手追加!$A$1:$D$900,2,FALSE),\"\")","v":""},{"$f":"IFERROR(VLOOKUP(B31,女子選手追加!$A$1:$D$900,3,FALSE),\"\")","v":""},"","女",""]
[28,{"$error":"#N/A"},{"$f":"IFERROR(VLOOKUP(B32,女子選手追加!$A$1:$D$900,2,FALSE),\"\")","v":""},{"$f":"IFERROR(VLOOKUP(B32,女子選手追加!$A$1:$D$900,3,FALSE),\"\")","v":""},"","女",""]
[29,{"$error":"#N/A"},{"$f":"IFERROR(VLOOKUP(B33,女子選手追加!$A$1:$D$900,2,FALSE),\"\")","v":""},{"$f":"IFERROR(VLOOKUP(B33,女子選手追加!$A$1:$D$900,3,FALSE),\"\")","v":""},"","女",""]
[30,{"$error":"#N/A"},{"$f":"IFERROR(VLOOKUP(B34,女子選手追加!$A$1:$D$900,2,FALSE),\"\")","v":""},{"$f":"IFERROR(VLOOKUP(B34,女子選手追加!$A$1:$D$900,3,FALSE),\"\")","v":""},"","女",""]
[31,{"$error":"#N/A"},{"$f":"IFERROR(VLOOKUP(B35,女子選手追加!$A$1:$D$900,2,FALSE),\"\")","v":""},{"$f":"IFERROR(VLOOKUP(B35,女子選手追加!$A$1:$D$900,3,FALSE),\"\")","v":""},"","女",""]
[32,{"$error":"#N/A"},{"$f":"IFERROR(VLOOKUP(B36,女子選手追加!$A$1:$D$900,2,FALSE),\"\")","v":""},{"$f":"IFERROR(VLOOKUP(B36,女子選手追加!$A$1:$D$900,3,FALSE),\"\")","v":""},"","女",""]
[33,{"$error":"#N/A"},{"$f":"IFERROR(VLOOKUP(B37,女子選手追加!$A$1:$D$900,2,FALSE),\"\")","v":""},{"$f":"IFERROR(VLOOKUP(B37,女子選手追加!$A$1:$D$900,3,FALSE),\"\")","v":""},"","女",""]
[34,{"$error":"#N/A"},{"$f":"IFERROR(VLOOKUP(B38,女子選手追加!$A$1:$D$900,2,FALSE),\"\")","v":""},{"$f":"IFERROR(VLOOKUP(B38,女子選手追加!$A$1:$D$900,3,FALSE),\"\")","v":""},"","女",""]
[35,{"$error":"#N/A"},{"$f":"IFERROR(VLOOKUP(B39,女子選手追加!$A$1:$D$900,2,FALSE),\"\")","v":""},{"$f":"IFERROR(VLOOKUP(B39,女子選手追加!$A$1:$D$900,3,FALSE),\"\")","v":""},"","女",""]
[36,{"$error":"#N/A"},{"$f":"IFERROR(VLOOKUP(B40,女子選手追加!$A$1:$D$900,2,FALSE),\"\")","v":""},{"$f":"IFERROR(VLOOKUP(B40,女子選手追加!$A$1:$D$900,3,FALSE),\"\")","v":""},"","女",""]
[37,{"$error":"#N/A"},{"$f":"IFERROR(VLOOKUP(B41,女子選手追加!$A$1:$D$900,2,FALSE),\"\")","v":""},{"$f":"IFERROR(VLOOKUP(B41,女子選手追加!$A$1:$D$900,3,FALSE),\"\")","v":""},"","女",""]
[38,{"$error":"#N/A"},{"$f":"IFERROR(VLOOKUP(B42,女子選手追加!$A$1:$D$900,2,FALSE),\"\")","v":""},{"$f":"IFERROR(VLOOKUP(B42,女子選手追加!$A$1:$D$900,3,FALSE),\"\")","v":""},"","女",""]
[39,{"$error":"#N/A"},{"$f":"IFERROR(VLOOKUP(B43,女子選手追加!$A$1:$D$900,2,FALSE),\"\")","v":""},{"$f":"IFERROR(VLOOKUP(B43,女子選手追加!$A$1:$D$900,3,FALSE),\"\")","v":""},"","女",""]
[40,{"$error":"#N/A"},{"$f":"IFERROR(VLOOKUP(B44,女子選手追加!$A$1:$D$900,2,FALSE),\"\")","v":""},{"$f":"IFERROR(VLOOKUP(B44,女子選手追加!$A$1:$D$900,3,FALSE),\"\")","v":""},"","女",""]
[41,{"$error":"#N/A"},{"$f":"IFERROR(VLOOKUP(B45,女子選手追加!$A$1:$D$900,2,FALSE),\"\")","v":""},{"$f":"IFERROR(VLOOKUP(B45,女子選手追加!$A$1:$D$900,3,FALSE),\"\")","v":""},"","女",""]
[42,{"$error":"#N/A"},{"$f":"IFERROR(VLOOKUP(B46,女子選手追加!$A$1:$D$900,2,FALSE),\"\")","v":""},{"$f":"IFERROR(VLOOKUP(B46,女子選手追加!$A$1:$D$900,3,FALSE),\"\")","v":""},"","女",""]
[43,{"$error":"#N/A"},{"$f":"IFERROR(VLOOKUP(B47,女子選手追加!$A$1:$D$900,2,FALSE),\"\")","v":""},{"$f":"IFERROR(VLOOKUP(B47,女子選手追加!$A$1:$D$900,3,FALSE),\"\")","v":""},"","女",""]
[44,{"$error":"#N/A"},{"$f":"IFERROR(VLOOKUP(B48,女子選手追加!$A$1:$D$900,2,FALSE),\"\")","v":""},{"$f":"IFERROR(VLOOKUP(B48,女子選手追加!$A$1:$D$900,3,FALSE),\"\")","v":""},"","女",""]
[45,{"$error":"#N/A"},{"$f":"IFERROR(VLOOKUP(B49,女子選手追加!$A$1:$D$900,2,FALSE),\"\")","v":""},{"$f":"IFERROR(VLOOKUP(B49,女子選手追加!$A$1:$D$900,3,FALSE),\"\")","v":""},"","女",""]
[46,{"$error":"#N/A"},{"$f":"IFERROR(VLOOKUP(B50,女子選手追加!$A$1:$D$900,2,FALSE),\"\")","v":""},{"$f":"IFERROR(VLOOKUP(B50,女子選手追加!$A$1:$D$900,3,FALSE),\"\")","v":""},"","女",""]
[47,{"$error":"#N/A"},{"$f":"IFERROR(VLOOKUP(B51,女子選手追加!$A$1:$D$900,2,FALSE),\"\")","v":""},{"$f":"IFERROR(VLOOKUP(B51,女子選手追加!$A$1:$D$900,3,FALSE),\"\")","v":""},"","女",""]
[48,{"$error":"#N/A"},{"$f":"IFERROR(VLOOKUP(B52,女子選手追加!$A$1:$D$900,2,FALSE),\"\")","v":""},{"$f":"IFERROR(VLOOKUP(B52,女子選手追加!$A$1:$D$900,3,FALSE),\"\")","v":""},"","女",""]
[49,{"$error":"#N/A"},{"$f":"IFERROR(VLOOKUP(B53,女子選手追加!$A$1:$D$900,2,FALSE),\"\")","v":""},{"$f":"IFERROR(VLOOKUP(B53,女子選手追加!$A$1:$D$900,3,FALSE),\"\")","v":""},"","女",""]
[50,{"$error":"#N/A"},{"$f":"IFERROR(VLOOKUP(B54,女子選手追加!$A$1:$D$900,2,FALSE),\"\")","v":""},{"$f":"IFERROR(VLOOKUP(B54,女子選手追加!$A$1:$D$900,3,FALSE),\"\")","v":""},"","女",""]
[51,{"$error":"#N/A"},{"$f":"IFERROR(VLOOKUP(B55,女子選手追加!$A$1:$D$900,2,FALSE),\"\")","v":""},{"$f":"IFERROR(VLOOKUP(B55,女子選手追加!$A$1:$D$900,3,FALSE),\"\")","v":""},"","女",""]
[52,{"$error":"#N/A"},{"$f":"IFERROR(VLOOKUP(B56,女子選手追加!$A$1:$D$900,2,FALSE),\"\")","v":""},{"$f":"IFERROR(VLOOKUP(B56,女子選手追加!$A$1:$D$900,3,FALSE),\"\")","v":""},"","女",""]
[53,{"$error":"#N/A"},{"$f":"IFERROR(VLOOKUP(B57,女子選手追加!$A$1:$D$900,2,FALSE),\"\")","v":""},{"$f":"IFERROR(VLOOKUP(B57,女子選手追加!$A$1:$D$900,3,FALSE),\"\")","v":""},"","女",""]
[54,{"$error":"#N/A"},{"$f":"IFERROR(VLOOKUP(B58,女子選手追加!$A$1:$D$900,2,FALSE),\"\")","v":""},{"$f":"IFERROR(VLOOKUP(B58,女子選手追加!$A$1:$D$900,3,FALSE),\"\")","v":""},"","女",""]
[55,{"$error":"#N/A"},{"$f":"IFERROR(VLOOKUP(B59,女子選手追加!$A$1:$D$900,2,FALSE),\"\")","v":""},{"$f":"IFERROR(VLOOKUP(B59,女子選手追加!$A$1:$D$900,3,FALSE),\"\")","v":""},"","女",""]
[56,{"$error":"#N/A"},{"$f":"IFERROR(VLOOKUP(B60,女子選手追加!$A$1:$D$900,2,FALSE),\"\")","v":""},{"$f":"IFERROR(VLOOKUP(B60,女子選手追加!$A$1:$D$900,3,FALSE),\"\")","v":""},"","女",""]
[57,{"$error":"#N/A"},{"$f":"IFERROR(VLOOKUP(B61,女子選手追加!$A$1:$D$900,2,FALSE),\"\")","v":""},{"$f":"IFERROR(VLOOKUP(B61,女子選手追加!$A$1:$D$900,3,FALSE),\"\")","v":""},"","女",""]
[58,{"$error":"#N/A"},{"$f":"IFERROR(VLOOKUP(B62,女子選手追加!$A$1:$D$900,2,FALSE),\"\")","v":""},{"$f":"IFERROR(VLOOKUP(B62,女子選手追加!$A$1:$D$900,3,FALSE),\"\")","v":""},"","女",""]
[59,{"$error":"#N/A"},{"$f":"IFERROR(VLOOKUP(B63,女子選手追加!$A$1:$D$900,2,FALSE),\"\")","v":""},{"$f":"IFERROR(VLOOKUP(B63,女子選手追加!$A$1:$D$900,3,FALSE),\"\")","v":""},"","女",""]
[60,{"$error":"#N/A"},{"$f":"IFERROR(VLOOKUP(B64,女子選手追加!$A$1:$D$900,2,FALSE),\"\")","v":""},{"$f":"IFERROR(VLOOKUP(B64,女子選手追加!$A$1:$D$900,3,FALSE),\"\")","v":""},"","女",""]
[61,{"$error":"#N/A"},{"$f":"IFERROR(VLOOKUP(B65,女子選手追加!$A$1:$D$900,2,FALSE),\"\")","v":""},{"$f":"IFERROR(VLOOKUP(B65,女子選手追加!$A$1:$D$900,3,FALSE),\"\")","v":""},"","女",""]
[62,{"$error":"#N/A"},{"$f":"IFERROR(VLOOKUP(B66,女子選手追加!$A$1:$D$900,2,FALSE),\"\")","v":""},{"$f":"IFERROR(VLOOKUP(B66,女子選手追加!$A$1:$D$900,3,FALSE),\"\")","v":""},"","女",""]
[63,{"$error":"#N/A"},{"$f":"IFERROR(VLOOKUP(B67,女子選手追加!$A$1:$D$900,2,FALSE),\"\")","v":""},{"$f":"IFERROR(VLOOKUP(B67,女子選手追加!$A$1:$D$900,3,FALSE),\"\")","v":""},"","女",""]
[64,{"$error":"#N/A"},{"$f":"IFERROR(VLOOKUP(B68,女子選手追加!$A$1:$D$900,2,FALSE),\"\")","v":""},{"$f":"IFERROR(VLOOKUP(B68,女子選手追加!$A$1:$D$900,3,FALSE),\"\")","v":""},"","女",""]
[65,{"$error":"#N/A"},{"$f":"IFERROR(VLOOKUP(B69,女子選手追加!$A$1:$D$900,2,FALSE),\"\")","v":""},{"$f":"IFERROR(VLOOKUP(B69,女子選手追加!$A$1:$D$900,3,FALSE),\"\")","v":""},"","女",""]
[66,{"$f":"$A$4+A70","v":{"$error":"#N/A"}},{"$f":"IFERROR(VLOOKUP(B70,女子選手追加!$A$1:$D$900,2,FALSE),\"\")","v":""},{"$f":"IFERROR(VLOOKUP(B70,女子選手追加!$A$1:$D$900,3,FALSE),\"\")","v":""},{"$f":"RIGHT(C70)","v":""},"女",{"$f":"IF(C70=\"\",\"\",LEFT(C70,LEN(C70)-2)&\"(\"&E70&\")\")","v":""}]
[67,{"$error":"#N/A"},{"$f":"IFERROR(VLOOKUP(B71,女子選手追加!$A$1:$D$900,2,FALSE),\"\")","v":""},{"$f":"IFERROR(VLOOKUP(B71,女子選手追加!$A$1:$D$900,3,FALSE),\"\")","v":""},"","女",""]
[68,{"$error":"#N/A"},{"$f":"IFERROR(VLOOKUP(B72,女子選手追加!$A$1:$D$900,2,FALSE),\"\")","v":""},{"$f":"IFERROR(VLOOKUP(B72,女子選手追加!$A$1:$D$900,3,FALSE),\"\")","v":""},"","女",""]
[69,{"$error":"#N/A"},{"$f":"IFERROR(VLOOKUP(B73,女子選手追加!$A$1:$D$900,2,FALSE),\"\")","v":""},{"$f":"IFERROR(VLOOKUP(B73,女子選手追加!$A$1:$D$900,3,FALSE),\"\")","v":""},"","女",""]
[70,{"$error":"#N/A"},{"$f":"IFERROR(VLOOKUP(B74,女子選手追加!$A$1:$D$900,2,FALSE),\"\")","v":""},{"$f":"IFERROR(VLOOKUP(B74,女子選手追加!$A$1:$D$900,3,FALSE),\"\")","v":""},"","女",""]
[71,{"$error":"#N/A"},{"$f":"IFERROR(VLOOKUP(B75,女子選手追加!$A$1:$D$900,2,FALSE),\"\")","v":""},{"$f":"IFERROR(VLOOKUP(B75,女子選手追加!$A$1:$D$900,3,FALSE),\"\")","v":""},"","女",""]
[72,{"$error":"#N/A"},{"$f":"IFERROR(VLOOKUP(B76,女子選手追加!$A$1:$D$900,2,FALSE),\"\")","v":""},{"$f":"IFERROR(VLOOKUP(B76,女子選手追加!$A$1:$D$900,3,FALSE),\"\")","v":""},"","女",""]
[73,{"$error":"#N/A"},{"$f":"IFERROR(VLOOKUP(B77,女子選手追加!$A$1:$D$900,2,FALSE),\"\")","v":""},{"$f":"IFERROR(VLOOKUP(B77,女子選手追加!$A$1:$D$900,3,FALSE),\"\")","v":""},"","女",""]
[74,{"$error":"#N/A"},{"$f":"IFERROR(VLOOKUP(B78,女子選手追加!$A$1:$D$900,2,FALSE),\"\")","v":""},{"$f":"IFERROR(VLOOKUP(B78,女子選手追加!$A$1:$D$900,3,FALSE),\"\")","v":""},"","女",""]
[75,{"$error":"#N/A"},{"$f":"IFERROR(VLOOKUP(B79,女子選手追加!$A$1:$D$900,2,FALSE),\"\")","v":""},{"$f":"IFERROR(VLOOKUP(B79,女子選手追加!$A$1:$D$900,3,FALSE),\"\")","v":""},"","女",""]
[76,{"$error":"#N/A"},{"$f":"IFERROR(VLOOKUP(B80,女子選手追加!$A$1:$D$900,2,FALSE),\"\")","v":""},{"$f":"IFERROR(VLOOKUP(B80,女子選手追加!$A$1:$D$900,3,FALSE),\"\")","v":""},"","女",""]
[77,{"$error":"#N/A"},{"$f":"IFERROR(VLOOKUP(B81,女子選手追加!$A$1:$D$900,2,FALSE),\"\")","v":""},{"$f":"IFERROR(VLOOKUP(B81,女子選手追加!$A$1:$D$900,3,FALSE),\"\")","v":""},"","女",""]
[78,{"$error":"#N/A"},{"$f":"IFERROR(VLOOKUP(B82,女子選手追加!$A$1:$D$900,2,FALSE),\"\")","v":""},{"$f":"IFERROR(VLOOKUP(B82,女子選手追加!$A$1:$D$900,3,FALSE),\"\")","v":""},"","女",""]
[79,{"$error":"#N/A"},{"$f":"IFERROR(VLOOKUP(B83,女子選手追加!$A$1:$D$900,2,FALSE),\"\")","v":""},{"$f":"IFERROR(VLOOKUP(B83,女子選手追加!$A$1:$D$900,3,FALSE),\"\")","v":""},"","女",""]
[80,{"$error":"#N/A"},{"$f":"IFERROR(VLOOKUP(B84,女子選手追加!$A$1:$D$900,2,FALSE),\"\")","v":""},{"$f":"IFERROR(VLOOKUP(B84,女子選手追加!$A$1:$D$900,3,FALSE),\"\")","v":""},"","女",""]
[81,{"$error":"#N/A"},{"$f":"IFERROR(VLOOKUP(B85,女子選手追加!$A$1:$D$900,2,FALSE),\"\")","v":""},{"$f":"IFERROR(VLOOKUP(B85,女子選手追加!$A$1:$D$900,3,FALSE),\"\")","v":""},"","女",""]
[82,{"$error":"#N/A"},{"$f":"IFERROR(VLOOKUP(B86,女子選手追加!$A$1:$D$900,2,FALSE),\"\")","v":""},{"$f":"IFERROR(VLOOKUP(B86,女子選手追加!$A$1:$D$900,3,FALSE),\"\")","v":""},"","女",""]
[83,{"$error":"#N/A"},{"$f":"IFERROR(VLOOKUP(B87,女子選手追加!$A$1:$D$900,2,FALSE),\"\")","v":""},{"$f":"IFERROR(VLOOKUP(B87,女子選手追加!$A$1:$D$900,3,FALSE),\"\")","v":""},"","女",""]
[84,{"$error":"#N/A"},{"$f":"IFERROR(VLOOKUP(B88,女子選手追加!$A$1:$D$900,2,FALSE),\"\")","v":""},{"$f":"IFERROR(VLOOKUP(B88,女子選手追加!$A$1:$D$900,3,FALSE),\"\")","v":""},"","女",""]
[85,{"$error":"#N/A"},{"$f":"IFERROR(VLOOKUP(B89,女子選手追加!$A$1:$D$900,2,FALSE),\"\")","v":""},{"$f":"IFERROR(VLOOKUP(B89,女子選手追加!$A$1:$D$900,3,FALSE),\"\")","v":""},"","女",""]
[86,{"$error":"#N/A"},{"$f":"IFERROR(VLOOKUP(B90,女子選手追加!$A$1:$D$900,2,FALSE),\"\")","v":""},{"$f":"IFERROR(VLOOKUP(B90,女子選手追加!$A$1:$D$900,3,FALSE),\"\")","v":""},"","女",""]
[87,{"$error":"#N/A"},{"$f":"IFERROR(VLOOKUP(B91,女子選手追加!$A$1:$D$900,2,FALSE),\"\")","v":""},{"$f":"IFERROR(VLOOKUP(B91,女子選手追加!$A$1:$D$900,3,FALSE),\"\")","v":""},"","女",""]
[88,{"$error":"#N/A"},{"$f":"IFERROR(VLOOKUP(B92,女子選手追加!$A$1:$D$900,2,FALSE),\"\")","v":""},{"$f":"IFERROR(VLOOKUP(B92,女子選手追加!$A$1:$D$900,3,FALSE),\"\")","v":""},"","女",""]
[89,{"$error":"#N/A"},{"$f":"IFERROR(VLOOKUP(B93,女子選手追加!$A$1:$D$900,2,FALSE),\"\")","v":""},{"$f":"IFERROR(VLOOKUP(B93,女子選手追加!$A$1:$D$900,3,FALSE),\"\")","v":""},"","女",""]
[90,{"$error":"#N/A"},{"$f":"IFERROR(VLOOKUP(B94,女子選手追加!$A$1:$D$900,2,FALSE),\"\")","v":""},{"$f":"IFERROR(VLOOKUP(B94,女子選手追加!$A$1:$D$900,3,FALSE),\"\")","v":""},"","女",""]
[91,{"$error":"#N/A"},{"$f":"IFERROR(VLOOKUP(B95,女子選手追加!$A$1:$D$900,2,FALSE),\"\")","v":""},{"$f":"IFERROR(VLOOKUP(B95,女子選手追加!$A$1:$D$900,3,FALSE),\"\")","v":""},"","女",""]
[92,{"$error":"#N/A"},{"$f":"IFERROR(VLOOKUP(B96,女子選手追加!$A$1:$D$900,2,FALSE),\"\")","v":""},{"$f":"IFERROR(VLOOKUP(B96,女子選手追加!$A$1:$D$900,3,FALSE),\"\")","v":""},"","女",""]
[93,{"$error":"#N/A"},{"$f":"IFERROR(VLOOKUP(B97,女子選手追加!$A$1:$D$900,2,FALSE),\"\")","v":""},{"$f":"IFERROR(VLOOKUP(B97,女子選手追加!$A$1:$D$900,3,FALSE),\"\")","v":""},"","女",""]
[94,{"$error":"#N/A"},{"$f":"IFERROR(VLOOKUP(B98,女子選手追加!$A$1:$D$900,2,FALSE),\"\")","v":""},{"$f":"IFERROR(VLOOKUP(B98,女子選手追加!$A$1:$D$900,3,FALSE),\"\")","v":""},"","女",""]
[95,{"$error":"#N/A"},{"$f":"IFERROR(VLOOKUP(B99,女子選手追加!$A$1:$D$900,2,FALSE),\"\")","v":""},{"$f":"IFERROR(VLOOKUP(B99,女子選手追加!$A$1:$D$900,3,FALSE),\"\")","v":""},"","女",""]
[96,{"$error":"#N/A"},{"$f":"IFERROR(VLOOKUP(B100,女子選手追加!$A$1:$D$900,2,FALSE),\"\")","v":""},{"$f":"IFERROR(VLOOKUP(B100,女子選手追加!$A$1:$D$900,3,FALSE),\"\")","v":""},"","女",""]
[97,{"$error":"#N/A"},{"$f":"IFERROR(VLOOKUP(B101,女子選手追加!$A$1:$D$900,2,FALSE),\"\")","v":""},{"$f":"IFERROR(VLOOKUP(B101,女子選手追加!$A$1:$D$900,3,FALSE),\"\")","v":""},"","女",""]
[98,{"$error":"#N/A"},{"$f":"IFERROR(VLOOKUP(B102,女子選手追加!$A$1:$D$900,2,FALSE),\"\")","v":""},{"$f":"IFERROR(VLOOKUP(B102,女子選手追加!$A$1:$D$900,3,FALSE),\"\")","v":""},"","女",""]
[99,{"$error":"#N/A"},{"$f":"IFERROR(VLOOKUP(B103,女子選手追加!$A$1:$D$900,2,FALSE),\"\")","v":""},{"$f":"IFERROR(VLOOKUP(B103,女子選手追加!$A$1:$D$900,3,FALSE),\"\")","v":""},"","女",""]

{"sheet":"男子選手追加","index":5,"n_rows":880,"n_cols":14,"rows_kept":880,"cut":false,"hidden":false,"merged":[]}
[160,"杉本  匠斗 4","ｽｷﾞﾓﾄ ﾀｸﾄ","県尼崎"]
[161,"河野  泰地 4","ｺｳﾉ ﾀｲﾁ","県尼崎"]
[162,"中山  鷹暁 4","ﾅｶﾔﾏ ﾀｶｱｷ","県尼崎"]
[166,"山本  祥慶 4","ﾔﾏﾓﾄ ﾖｼﾁｶ","県尼崎"]
[167,"奥屋敷海斗 4","ｵｸﾔｼｷ ｶｲﾄ","県尼崎"]
[168,"城ケ原楽人 3","ｼﾞｮｳｶﾞﾊﾗ ﾗｸﾄ","県尼崎"]
[170,"大橋  優人 3","ｵｵﾊｼ ﾏｻﾄ","県尼崎"]
[172,"松田  優輝 3","ﾏﾂﾀﾞ ﾕｳｷ","県尼崎"]
[173,"藤田  凌翔 4","ﾌｼﾞﾀ ﾘｮｳｶﾞ","県尼崎"]
[178,"小林  哲大 2","ｺﾊﾞﾔｼ ﾃｯﾀ","県尼崎"]
[179,"矢吹  亮磨 2","ﾔﾌﾞｷ ﾘｮｳﾏ","県尼崎"]
[180,"杉村  聡太 2","ｽｷﾞﾑﾗ ｿｳﾀ","県尼崎"]
[181,"片岡    歌 2","ｶﾀｵｶ ｳﾀ","県尼崎"]
[182,"谷口朔太郎 2","ﾀﾆｸﾞﾁ ｻｸﾀﾛｳ","県尼崎"]
[183,"長岡  琉惺 2","ﾅｶﾞｵｶ ﾘｭｳｾｲ","県尼崎"]
[184,"長谷川銀平 2","ﾊｾｶﾞﾜ ｷﾞﾝﾍﾟｲ","県尼崎"]
[185,"東    亘佑 2","ｱｽﾞﾏ ｺｳｽｹ","県尼崎"]
[186,"有本  椿季 2","ｱﾘﾓﾄ ﾂﾊﾞｷ","県尼崎"]
[258,"岡田  晴希 4","ｵｶﾀﾞ ﾊﾙｷ","市尼崎"]
[259,"秋岡    円 4","ｱｷｵｶ ﾏﾙｲ","市尼崎"]
[260,"中本  飛羽 4","ﾅｶﾓﾄ ﾄﾜ","市尼崎"]
[261,"寺本  優輝 4","ﾃﾗﾓﾄ ﾕｳｷ","市尼崎"]
[262,"松本  幸誠 4","ﾏﾂﾓﾄ ｺｳｾｲ","市尼崎"]
[263,"鈴木  恭介 4","ｽｽﾞｷ ｷｮｳｽｹ","市尼崎"]
[265,"金重  颯人 4","ｶﾈｼｹﾞ ﾊﾔﾄ","市尼崎"]
[267,"丸井  蒼空 3","ﾏﾙｲ ｿﾗ","市尼崎"]
[268,"西浦  瑞貴 3","ﾆｼｳﾗ ﾐｽﾞｷ","市尼崎"]
[269,"澁谷    煌 3","ｼﾌﾞﾔ ｷﾗ","市尼崎"]
[270,"三木  翔真 3","ﾐｷ ｼｮｳﾏ","市尼崎"]
[271,"藤本  駿希 3","ﾌｼﾞﾓﾄ ｼｭﾝｷ","市尼崎"]
[272,"山本琥太朗 3","ﾔﾏﾓﾄ ｺﾀﾛｳ","市尼崎"]
[273,"桑田  龍哉 3","ｸﾜﾀ ﾘｭｳﾔ","市尼崎"]
[274,"杉山  嵐士 3","ｽｷﾞﾔﾏ ｱﾗｼ","市尼崎"]
[275,"松田  哉郁 3","ﾏﾂﾀﾞ ﾔﾌﾐ","市尼崎"]
[276,"西田  大勢 3","ﾆｼﾀﾞ ﾀｲｾｲ","市尼崎"]
[277,"野口  和暉 3","ﾉｸﾞﾁ ｶｽﾞｷ","市尼崎"]
[278,"新崎  肇士 3","ｱﾗｻｷ ﾊﾂｼ","市尼崎"]
[279,"古谷  栄昇 3","ﾌﾙﾔ ｴｲｼｮｳ","市尼崎"]
[280,"有井  慈瑛 2","ｱﾘｲ ｼﾞｴｲ","市尼崎"]
[281,"上原  和希 2","ｳｴﾊﾗ ｶｽﾞｷ","市尼崎"]
[282,"奥田  春稀 2","ｵｸﾀﾞ ﾊﾙｷ","市尼崎"]
[283,"駒井  響季 2","ｺﾏｲ ﾋﾋﾞｷ","市尼崎"]
[284,"松本  蒼大 2","ﾏﾂﾓﾄ ｿｳﾀ","市尼崎"]
[285,"古田  紀貴 2","ﾌﾙﾀ ｶｽﾞｷ","市尼崎"]
[286,"今屋  瑛都 2","ｲﾏﾔ ｴｲﾄ","市尼崎"]
[287,"壽崎  大学 2","ｽｻﾞｷ ﾀﾞｲｶﾞｸ","市尼崎"]
[288,"原田  惇輝 2","ﾊﾗﾀﾞ ｱﾂｷ","市尼崎"]
[289,"三谷宗太郎 2","ﾐﾀﾆ ｿｳﾀﾛｳ","市尼崎"]
[290,"宮垣    湊 2","ﾐﾔｶﾞｷ ﾐﾅﾄ","市尼崎"]
[291,"竹内  勇人 2","ﾀｹｳﾁ ﾊﾔﾄ","市尼崎"]
[292,"森    亮輔 2","ﾓﾘ ﾘｮｳｽｹ","市尼崎"]
[293,"脇    祥太 2","ﾜｷ ｼｮｳﾀ","市尼崎"]
[294,"佐藤  壮真 2","ｻﾄｳ ｿｳﾏ","市尼崎"]
[295,"森本  颯翔 2","ﾓﾘﾓﾄ ﾊﾔﾄ","市尼崎"]
[296,"辰巳  昊晴 2","ﾀﾂﾐ ｺｳｾｲ","市尼崎"]
[297,"石井  理久 2","ｲｼｲ ﾘｸ","市尼崎"]
[298,"榎本壮一郎 2","ｴﾉﾓﾄ ｿｳｲﾁﾛｳ","市尼崎"]
[299,"赤瀬    奨 2","ｱｶｾ ｼｮｳ","市尼崎"]
[320,"松山  陽路 4","ﾏﾂﾔﾏ ﾋｲﾛ","尼崎双星"]
[321,"安本  翔咲 3","ﾔｽﾓﾄ ﾂﾊﾞｻ","尼崎双星"]
[322,"加治屋光明 4","ｶｼﾞﾔ ｺｱ","尼崎双星"]
[323,"村本  悠吹 3","ﾑﾗﾓﾄ ﾕﾌﾞｷ","尼崎双星"]
[324,"永留  慶成 3","ﾅｶﾞﾄﾒ ﾖｼﾅﾘ","尼崎双星"]
[325,"安井  慶真 3","ﾔｽｲ ｹｲｼﾝ","尼崎双星"]
[326,"圓句  起大 3","ｴﾝｸ ﾀﾂﾋﾛ","尼崎双星"]
[327,"古宅  諒成 3","ﾌﾙﾀｸ ﾘｮｳｾｲ","尼崎双星"]
[328,"森本  幸文 3","ﾓﾘﾓﾄ ﾕｷﾌﾐ","尼崎双星"]
[329,"杉野  陽一 2","ｽｷﾞﾉ ﾖｳｲﾁ","尼崎双星"]
[330,"池内  琉奏 2","ｲｹｳﾁ ﾙｶﾅ","尼崎双星"]
[331,"大﨑  一輝 2","ｵｵｻｷ ｶｽﾞｷ","尼崎双星"]
[332,"小川  大貴 2","ｵｶﾞﾜ ﾀﾞｲｷ","尼崎双星"]
[333,"角谷  凪冴 2","ｶｸﾀﾆ ﾅｷﾞｻ","尼崎双星"]
[334,"兼原  昌宏 2","ｶﾈﾊﾗ ﾏｻﾋﾛ","尼崎双星"]
[335,"高面椋太郎 2","ｺｳﾒﾝ ﾘｮｳﾀﾛｳ","尼崎双星"]
[336,"瀬良  七瀬 2","ｾﾗ ﾅﾅｾ","尼崎双星"]
[337,"辰巳  颯太 2","ﾀﾂﾐ ｿｳﾀ","尼崎双星"]
[338,"本道  樟磨 2","ﾎﾝﾄﾞｳ ｼｮｳﾏ","尼崎双星"]
[339,"矢橋  大樹 2","ﾔﾊｼ ﾀｲｼﾞｭ","尼崎双星"]
[340,"梅島悠一郎 2","ｳﾒｼﾞﾏ ﾕｳｲﾁﾛｳ","尼崎双星"]
[461,"民本    純 4","ﾀﾐﾓﾄ ｼﾞｭﾝ","尼崎西"]
[462,"播摩  奏人 4","ﾊﾘﾏ ｶﾅﾄ","尼崎西"]
[463,"宮下  航平 3","ﾐﾔｼﾀ ｺｳﾍｲ","尼崎西"]
[464,"髙橋    響 3","ﾀｶﾊｼ ﾋﾋﾞｷ","尼崎西"]
[465,"野津  昊希 3","ﾉﾂﾞ ｺｳｷ","尼崎西"]
[466,"貴島  大翔 3","ｷｼﾏ ﾀﾞｲﾄ","尼崎西"]
[467,"森  琉輝亜 3","ﾓﾘ ﾙｷｱ","尼崎西"]
[468,"井上  人斉 3","ｲﾉｳｴ ｼﾞﾝｾｲ","尼崎西"]
[469,"政木  元汰 2","ﾏｻｷ ｹﾞﾝﾀ","尼崎西"]
[470,"宮本  琉誠 2","ﾐﾔﾓﾄ ﾘｭｳｾｲ","尼崎西"]
[471,"渡部  遥人 2","ﾜﾀﾅﾍﾞ ﾊﾙﾋﾄ","尼崎西"]
[472,"本村  優斗 2","ﾓﾄﾑﾗ ﾕｳﾄ","尼崎西"]
[501,"内藤  有汰 3","ﾅｲﾄｳ ﾕｳﾀ","尼崎北"]
[502,"岡村  成龍 3","ｵｶﾑﾗ ｾｲﾘｭｳ","尼崎北"]
[503,"岨    広毅 3","ｿﾜ ﾋﾛｷ","尼崎北"]
[504,"掛田  大和 3","ｶｹﾀﾞ ﾋﾛﾄ","尼崎北"]
[505,"沖見    朗 3","ｵｷﾐ ｱｷﾗ","尼崎北"]
[506,"笠見  篤志 3","ｶｻﾐ ｱﾂｼ","尼崎北"]
[507,"北野  景大 2","ｷﾀﾉ ｹｲﾀ","尼崎北"]
[508,"田中  大輔 2","ﾀﾅｶ ﾀﾞｲｽｹ","尼崎北"]
[509,"中島  瞭佑 2","ﾅｶｼﾏ ﾘｮｳｽｹ","尼崎北"]
[510,"武雄  悠人 2","ﾀｹｵ ﾊﾙﾄ","尼崎北"]
[511,"杉山晟一朗 2","ｽｷﾞﾔﾏ ｾｲｲﾁﾛｳ","尼崎北"]
[512,"吉田  伊吹 2","ﾖｼﾀﾞ ｲﾌﾞｷ","尼崎北"]
[513,"山本  佳知 2","ﾔﾏﾓﾄ ｶｲﾁ","尼崎北"]
[514,"本田  琉徠 2","ﾎﾝﾀﾞ ﾘｷ","尼崎北"]
[515,"川久保颯真 2","ｶﾜｸﾎﾞ ｿｳﾏ","尼崎北"]
[516,"宇野  陽登 2","ｳﾉ ﾊﾙﾄ","尼崎北"]
[517,"小坂  瑛史 2","ｺｻｶ ｴｲｼﾞ","尼崎北"]
[518,"小山  拓紀 2","ｺﾔﾏ ﾀｸｷ","尼崎北"]
[519,"白數  楓真 2","ｼﾗｽ ﾌｳﾏ","尼崎北"]
[594,"尾﨑    亘 4","ｵｻﾞｷ ﾜﾀﾙ","尼崎北"]
[595,"片島  憲弘 4","ｶﾀｼﾏ ﾉﾘﾋﾛ","尼崎北"]
[596,"杉山淳一郎 4","ｽｷﾞﾔﾏ ｼﾞｭﾝｲﾁﾛｳ","尼崎北"]
[597,"山本  陽介 4","ﾔﾏﾓﾄ ﾖｳｽｹ","尼崎北"]
[598,"松村  亮佑 4","ﾏﾂﾑﾗ ﾘｮｳｽｹ","尼崎北"]
[599,"栗田  悠幹 3","ｸﾘﾀ ﾕｳｷ","尼崎北"]
[621,"髙橋  大翔 4","ﾀｶﾊｼ ﾋﾛﾄ","尼崎稲園"]
[622,"小此木直仁 4","ｵｺﾉｷﾞ ﾅｵﾋﾄ","尼崎稲園"]
[623,"山﨑  聖雄 4","ﾔﾏｻｷ ｾｲﾕｳ","尼崎稲園"]
[624,"古賀  優希 4","ｺｶﾞ ﾕｳｷ","尼崎稲園"]
[626,"久保  一輝 3","ｸﾎﾞ ｶｽﾞｷ","尼崎稲園"]
[627,"山方    悠 3","ﾔﾏｶﾀ ﾕｳ","尼崎稲園"]
[628,"松井  響己 3","ﾏﾂｲ ﾋﾋﾞｷ","尼崎稲園"]
[629,"金森  優斗 3","ｶﾅﾓﾘ ﾕｳﾄ","尼崎稲園"]
[630,"藤岡  大雅 3","ﾌｼﾞｵｶ ﾀｲｶﾞ","尼崎稲園"]
[631,"山口  遥冬 3","ﾔﾏｸﾞﾁ ﾊﾙﾄ","尼崎稲園"]
[632,"酒井    優 3","ｻｶｲ ﾕｳ","尼崎稲園"]
[633,"東谷  恵汰 3","ﾋｶﾞｼﾀﾆ ｹｲﾀ","尼崎稲園"]
[634,"葉山洸千代 2","ﾊﾔﾏ ﾀｹﾁﾖ","尼崎稲園"]
[635,"市島  優樹 2","ｲﾁｼﾞﾏ ﾕｳｷ","尼崎稲園"]
[636,"佐藤  和哉 2","ｻﾄｳ ｶｽﾞﾔ","尼崎稲園"]
[637,"森    悠登 2","ﾓﾘ ﾕｳﾄ","尼崎稲園"]
[638,"西村  颯真 2","ﾆｼﾑﾗ ｿｳﾏ","尼崎稲園"]
[639,"簑田  昊汰 2","ﾐﾉﾀﾞ ｺｳﾀ","尼崎稲園"]
[640,"別芝  諒也 2","ﾍﾞｯｼ ﾘｮｳﾔ","尼崎稲園"]
[641,"南野  翔太 2","ﾅﾝﾉ ｼｮｳﾀ","尼崎稲園"]
[642,"大出  悠人 2","ｵｵﾃﾞ ﾕｳﾄ","尼崎稲園"]
[643,"荒井  大輝 2","ｱﾗｲ ﾀﾞｲｷ","尼崎稲園"]
[644,"村井  新汰 2","ﾑﾗｲ ｱﾗﾀ","尼崎稲園"]
[645,"伊藤  立希 2","ｲﾄｳ ﾘﾂｷ","尼崎稲園"]
[646,"品川    蓮 2","ｼﾅｶﾞﾜ ﾚﾝ","尼崎稲園"]
[647,"釘宮  壮佑 2","ｸｷﾞﾐﾔ ｿｳｽｹ","尼崎稲園"]
[648,"橋    陸仁 2","ﾊｼ ﾘｸﾄ","尼崎稲園"]
[715,"市岡  将護 4","ｲﾁｵｶ ｼｮｳｺﾞ","尼崎小田"]
[716,"船奥  凛斗 4","ﾌﾅｵｸ ﾘﾝﾄ","尼崎小田"]
[717,"雀部  秀太 4","ｻｻﾍﾞ ｼｭｳﾀ","尼崎小田"]
[718,"河野  陽仁 4","ｺｳﾉ ﾊﾙﾋﾄ","尼崎小田"]
[719,"矢来  拓己 4","ﾔｷﾞ ﾀｸﾐ","尼崎小田"]
[720,"福留  拓歩 3","ﾌｸﾄﾞﾒ ﾀｸﾎ","尼崎小田"]
[721,"岩崎  泰己 3","ｲﾜｻｷ ﾀｲｷ","尼崎小田"]
[722,"德田  直人 2","ﾄｸﾀﾞ ﾅｵﾄ","尼崎小田"]
[952,"足立  涼太 4","ｱﾀﾞﾁ ﾘｮｳﾀ","武庫荘総合"]
[953,"上中龍優有 4","ｳｴﾅｶ ﾙｷｱ","武庫荘総合"]
[955,"古本  一磨 4","ﾌﾙﾓﾄ ｶｽﾞﾏ","武庫荘総合"]
[956,"丸山  真幸 4","ﾏﾙﾔﾏ ﾏｻﾕｷ","武庫荘総合"]
[957,"目代  尚也 4","ﾓｸﾀﾞｲ ﾅｵﾔ","武庫荘総合"]
[958,"中島    颯 3","ﾅｶｼﾞﾏ ﾊﾔﾃ","武庫荘総合"]
[1049,"大竹  敦士 4","ｵｵﾀｹ ｱﾂｼ","尼崎工"]
[1050,"新居  蒼惟 4","ｼﾝｲ ｱｵｲ","尼崎工"]
[1051,"中田    翔 4","ﾅｶﾀ ｼｮｳ","尼崎工"]
[1052,"細川  光輝 4","ﾎｿｶﾜ ｺｳｷ","尼崎工"]
[1054,"田中  元気 4","ﾀﾅｶ ｹﾞﾝｷ","尼崎工"]
[1055,"竹内  知輝 3","ﾀｹｳﾁ ﾄﾓｷ","尼崎工"]
[1056,"東地  陽大 3","ﾄｳﾁ ﾊﾙﾄ","尼崎工"]
[1063,"新垣  丈琉 2","ｼﾝｶﾞｷ ﾀｹﾙ","尼崎工"]
[1064,"佐藤    隼 2","ｻﾄｳ ｼｭﾝ","尼崎工"]
[1401,"岡本  充禄 3","ｵｶﾓﾄ ﾐﾛｸ","県西宮"]
[1402,"小林  侑樹 3","ｺﾊﾞﾔｼ ﾕｳｷ","県西宮"]
[1403,"田中  陽仁 3","ﾀﾅｶ ﾊﾙﾄ","県西宮"]
[1404,"野崎  惣大 3","ﾉｻﾞｷ ｿｳﾀ","県西宮"]
[1405,"福井  涼大 3","ﾌｸｲ ﾘｮｳﾀﾞｲ","県西宮"]
[1406,"森    一樹 3","ﾓﾘ ｶｽﾞｷ","県西宮"]
[1407,"森田  聖硫 3","ﾓﾘﾀ ｻﾄﾙ","県西宮"]
[1408,"丸小野亘兼 3","ﾏﾙｵﾉ ｺｳｹﾝ","県西宮"]
[1409,"山下市太郎 3","ﾔﾏｼﾀ ｲﾁﾀﾛｳ","県西宮"]
[1410,"山本  景太 3","ﾔﾏﾓﾄ ｹｲﾀ","県西宮"]
[1412,"夏目  太陽 3","ﾅﾂﾒ ﾀｲﾖｳ","県西宮"]
[1413,"植田  葉瑠 2","ｳｴﾀﾞ ﾊﾙ","県西宮"]
[1414,"大庭  佑月 2","ｵｵﾊﾞ ﾕﾂﾞｷ","県西宮"]
[1415,"鎌倉    希 2","ｶﾏｸﾗ ﾉｿﾞﾑ","県西宮"]
[1416,"鎌田  蒼平 2","ｶﾏﾀ ｿｳﾍｲ","県西宮"]
[1417,"國本    駿 2","ｸﾆﾓﾄ ｼｭﾝ","県西宮"]
[1418,"坂本  悠真 2","ｻｶﾓﾄ ﾕｳﾏ","県西宮"]
[1419,"城屋敷  篤 2","ｼﾞｮｳﾔｼｷ ｱﾂｼ","県西宮"]
[1420,"中島  慶悟 2","ﾅｶｼﾏ ｹｲｺﾞ","県西宮"]
[1421,"中村    旬 2","ﾅｶﾑﾗ ｼｭﾝ","県西宮"]
[1422,"藤村航太郎 2","ﾌｼﾞﾑﾗ ｺｳﾀﾛｳ","県西宮"]
[1423,"槇野晄太郎 2","ﾏｷﾉ ｺｳﾀﾛｳ","県西宮"]
[1424,"宮本  武典 2","ﾐﾔﾓﾄ ﾀｹﾉﾘ","県西宮"]
[1425,"向井  恒稀 2","ﾑｶｲ ｺｳｷ","県西宮"]
[1426,"三浦  維央 2","ﾐｳﾗ ｲｵ","県西宮"]
[1486,"石田  宇登 4","ｲｼﾀﾞ ﾀｶﾄ","県西宮"]
[1487,"井上  朔冶 4","ｲﾉｳｴ ｻｸﾔ","県西宮"]
[1488,"飯降蒼一郎 4","ｲﾌﾞﾘ ｿｳｲﾁﾛｳ","県西宮"]
[1489,"小林  温眞 4","ｺﾊﾞﾔｼ ﾊﾙﾏ","県西宮"]
[1490,"髙田  瑞季 4","ﾀｶﾀﾞ ﾐｽﾞｷ","県西宮"]
[1491,"井形  蒼空 4","ｲｶﾞﾀ ｿﾗ","県西宮"]
[1492,"山﨑    慧 4","ﾔﾏｻｷ ｻﾄｲ","県西宮"]
[1493,"茶谷  泰生 4","ﾁｬﾀﾆ ﾀｲｾｲ","県西宮"]
[1494,"福田  瑛人 4","ﾌｸﾀﾞ ｱｷﾄ","県西宮"]
[1495,"小東    蓮 4","ｺﾋｶﾞｼ ﾚﾝ","県西宮"]
[1497,"田口  隼也 4","ﾀｸﾞﾁ ｼｭﾝﾔ","県西宮"]
[1498,"横山  敬大 4","ﾖｺﾔﾏ ﾀｶﾋﾛ","県西宮"]
[1499,"浅野  大智 3","ｱｻﾉ ﾀﾞｲﾁ","県西宮"]
[1501,"増井  晴太 3","ﾏｽｲ ｾｲﾀ","市西宮"]
[1502,"松風    海 2","ｼｮｳﾌｳ ｶｲ","市西宮"]
[1503,"今西  勇葵 2","ｲﾏﾆｼ ﾕｳｷ","市西宮"]
[1504,"辰己  恭一 2","ﾀﾂﾐ ｷｮｳｲﾁ","市西宮"]
[1505,"前田朔太朗 2","ﾏｴﾀﾞ ｻｸﾀﾛｳ","市西宮"]
[1506,"本池  柚太 2","ﾓﾄｲｹ ﾕｳﾀ","市西宮"]
[1507,"米澤  隼人 2","ﾖﾈｻﾞﾜ ﾊﾔﾄ","市西宮"]
[1508,"上田禮次郎 2","ｳｴﾀﾞ ﾚｲｼﾞﾛｳ","市西宮"]
[1509,"土井  優太 2","ﾄﾞｲ ﾕｳﾀ","市西宮"]
[1510,"丸山  結翔 2","ﾏﾙﾔﾏ ﾕｲﾄ","市西宮"]
[1511,"森本  啓太 2","ﾓﾘﾓﾄ ｹｲﾀ","市西宮"]
[1512,"阿部  真士 2","ｱﾍﾞ ﾏﾅﾄ","市西宮"]
[1513,"小原  匠海 2","ｵﾊﾗ ﾀｸﾐ","市西宮"]
[1514,"辻  那悠太 2","ﾂｼﾞ ﾅﾕﾀ","市西宮"]
[1515,"向井    円 2","ﾑｶｲ ﾏﾄﾞｶ","市西宮"]
[1516,"村上  直也 2","ﾑﾗｶﾐ ﾅｵﾔ","市西宮"]
[1517,"森    太亮 2","ﾓﾘ ﾀｲｽｹ","市西宮"]
[1518,"山中  秀真 2","ﾔﾏﾅｶ ｼｭｳﾏ","市西宮"]
[1578,"西岡  寛貴 4","ﾆｼｵｶ ﾋﾛｷ","市西宮"]
[1579,"菅野  晴心 4","ｶﾝﾉ ｾｲｼﾝ","市西宮"]
[1580,"明尾  匡樹 4","ｱｹｵ ﾏｻｷ","市西宮"]
[1581,"井上  友寛 4","ｲﾉｳｴ ﾄﾓﾋﾛ","市西宮"]
[1582,"植野  琉青 4","ｳｴﾉ ﾘｭｳｾｲ","市西宮"]
[1583,"大枝  颯太 4","ｵｵｴﾀﾞ ｿｳﾀ","市西宮"]
[1584,"大上翔太郎 4","ｵｵｶﾞﾐ ｼｮｳﾀﾛｳ","市西宮"]
[1585,"加瀬  出帆 4","ｶｾ ｲｽﾞﾎ","市西宮"]
[1587,"田中  康生 4","ﾀﾅｶ ｺｳｾｲ","市西宮"]
[1588,"山中  一凜 4","ﾔﾏﾅｶ ｲﾁﾘﾝ","市西宮"]
[1589,"大谷凜太郎 4","ｵｵﾀﾆ ﾘﾝﾀﾛｳ","市西宮"]
[1590,"粟野  幹太 3","ｱﾜﾉ ｶﾝﾀ","市西宮"]
[1591,"今田  暁久 3","ｲﾏﾀﾞ ｱｷﾋｻ","市西宮"]
[1592,"髙田悠一郎 3","ﾀｶﾀ ﾕｳｲﾁﾛｳ","市西宮"]
[1593,"濵田  颯馬 3","ﾊﾏﾀﾞ ｿｳﾏ","市西宮"]
[1595,"森  馨一郎 3","ﾓﾘ ｹｲｲﾁﾛｳ","市西宮"]
[1596,"天野  翔太 3","ｱﾏﾉ ｼｮｳﾀ","市西宮"]
[1597,"大﨑  壮真 3","ｵｵｻｷ ｿｳﾏ","市西宮"]
[1598,"谷本  有輝 3","ﾀﾆﾓﾄ ﾕｳｷ","市西宮"]
[1599,"徳山  博貴 3","ﾄｸﾔﾏ ﾋﾛｷ","市西宮"]
[1601,"西田  温哉 2","ﾆｼﾀﾞ ﾊﾙﾔ","西宮東"]
[1602,"廣田  大珂 2","ﾋﾛﾀ ﾀｲｶﾞ","西宮東"]
[1603,"松林  和哉 2","ﾏﾂﾊﾞﾔｼ ｶｽﾞﾔ","西宮東"]
[1604,"権田  雅暉 2","ｺﾞﾝﾀﾞ ﾏｻｷ","西宮東"]
[1605,"小柳  柊那 2","ｵﾔﾅｷﾞ ﾄｳﾅ","西宮東"]
[1673,"天野  大馳 4","ｱﾏﾉ ﾀﾞｲﾁ","西宮東"]
[1675,"山口  光政 4","ﾔﾏｸﾞﾁ ｺｳｾｲ","西宮東"]
[1682,"大山  時和 3","ｵｵﾔﾏ ﾄｷﾄ","西宮東"]
[1683,"磯山福太郎 3","ｲｿﾔﾏ ﾌｸﾀﾛｳ","西宮東"]
[1684,"去来川都雅 3","ｲｻｶﾞﾜ ﾄｶﾞ","西宮東"]
[1685,"八田  将吾 3","ﾊｯﾀ ｼｮｳｺﾞ","西宮東"]
[1686,"岡本    怜 3","ｵｶﾓﾄ ﾚｲ","西宮東"]
[1687,"安達  琉惺 3","ｱﾀﾞﾁ ﾘｭｳｾｲ","西宮東"]
[1688,"具    宥聖 3","ｸ ﾕｿﾝ","西宮東"]
[1689,"江口  遥都 3","ｴｸﾞﾁ ﾊﾙﾄ","西宮東"]
[1690,"田中  智大 3","ﾀﾅｶ ﾁﾋﾛ","西宮東"]
[1691,"今井  駿志 3","ｲﾏｲ ｼｭﾝｼﾞ","西宮東"]
[1692,"近藤  佑哉 3","ｺﾝﾄﾞｳ ﾕｳﾔ","西宮東"]
[1693,"須﨑  悠斗 3","ｽｻﾞｷ ﾕｳﾄ","西宮東"]
[1694,"上瀧理一郎 3","ｺｳﾀｷ ﾘｲﾁﾛｳ","西宮東"]
[1695,"尾上  航大 2","ｵﾉｳｴ ｺｳﾀﾞｲ","西宮東"]
[1696,"木宮  肇太 2","ｷﾐﾔ ﾊｼﾞﾒ","西宮東"]
[1697,"溝邉  翔大 2","ﾐｿﾞﾍﾞ ｼｮｳﾀ","西宮東"]
[1698,"浅井  蒼天 2","ｱｻｲ ｿｳﾏ","西宮東"]
[1699,"春田  圭悟 2","ﾊﾙﾀ ｹｲｺﾞ","西宮東"]
[1774,"小池  理生 4","ｺｲｹ ﾘｵ","西宮南"]
[1775,"橋本  拓真 3","ﾊｼﾓﾄ ﾀｸﾏ","西宮南"]
[1776,"荒井  翔揮 3","ｱﾗｲ ｼｮｳｷ","西宮南"]
[1777,"赤堀  勇狼 3","ｱｶﾎﾘ ﾕｳﾄ","西宮南"]
[1778,"大村  准弥 3","ｵｵﾑﾗ ｼﾞｭﾝﾔ","西宮南"]
[1779,"下山  潤也 3","ｼﾓﾔﾏ ｼﾞｭﾝﾔ","西宮南"]
[1780,"松原  奏汰 3","ﾏﾂﾊﾞﾗ ｶﾅﾀ","西宮南"]
[1781,"池原  大牙 3","ｲｹﾊﾗ ﾀｲｶﾞ","西宮南"]
[1782,"濵    英汰 2","ﾊﾏ ｴｲﾀ","西宮南"]
[1783,"藤本  光祐 2","ﾌｼﾞﾓﾄ ｺｳｽｹ","西宮南"]
[1784,"神木  彗汰 2","ｶﾐｷ ｹｲﾀ","西宮南"]
[1785,"山橋  颯斗 2","ﾔﾏﾊｼ ﾊﾔﾄ","西宮南"]
[1786,"松田  大空 2","ﾏﾂﾀﾞ ｿﾗ","西宮南"]
[1787,"上舞  創愛 2","ｶﾐﾏｲ ｿｳｱ","西宮南"]
[1788,"佐藤  由朔 2","ｻﾄｳ ﾕｳｻｸ","西宮南"]
[1789,"山内  悠生 2","ﾔﾏｳﾁ ﾕｳｷ","西宮南"]
[1791,"平木  大智 2","ﾋﾗｷ ﾀﾞｲﾁ","西宮南"]
[1792,"秋元  優太 2","ｱｷﾓﾄ ﾕｳﾀ","西宮南"]
[1793,"田村  駿英 2","ﾀﾑﾗ ﾄｼﾋﾃﾞ","西宮南"]
[1865,"佐田  遥音 4","ｻﾀﾞ ﾊﾙﾄ","西宮北"]
[1866,"柿崎    湘 4","ｶｷｻﾞｷ ｼｮｳ","西宮北"]
[1867,"安藤  圭吾 4","ｱﾝﾄﾞｳ ｹｲｺﾞ","西宮北"]
[1868,"池原  竜也 4","ｲｹﾊﾗ ﾘｭｳﾔ","西宮北"]
[1869,"永井  俊充 4","ﾅｶﾞｲ ﾄｼﾐﾂ","西宮北"]
[1870,"山本  大智 4","ﾔﾏﾓﾄ ﾀﾞｲﾁ","西宮北"]
[1871,"増田  和志 4","ﾏｽﾀﾞ ｶｽﾞｼ","西宮北"]
[1873,"天野  翔太 4","ｱﾏﾉ ｼｮｳﾀ","西宮北"]
[1875,"澤村    昊 3","ｻﾜﾑﾗ ｺｳ","西宮北"]
[1876,"田中  滉人 3","ﾀﾅｶ ﾋﾛﾄ","西宮北"]
[1877,"田中  俊丞 3","ﾀﾅｶ ｼｭﾝｽｹ","西宮北"]
[1878,"中島  圭梧 3","ﾅｶｼﾞﾏ ｹｲｺﾞ","西宮北"]
[1880,"石井    駿 3","ｲｼｲ ﾊﾔﾄ","西宮北"]
[1881,"足立    葵 2","ｱﾀﾞﾁ ﾏﾓﾙ","西宮北"]
[1882,"清水  昊雄 2","ｼﾐｽﾞ ｿﾗｵ","西宮北"]
[1883,"竹本  理玖 2","ﾀｹﾓﾄ ﾘｸ","西宮北"]
[1884,"栁川  文吾 2","ﾔﾅｶﾞﾜ ﾌﾞﾝｺﾞ","西宮北"]
[1885,"鈴池  研徳 2","ｽｽﾞｲｹ ｹﾝﾄｸ","西宮北"]
[1886,"蕨野  凌多 2","ﾜﾗﾋﾞﾉ ﾘｮｳﾀ","西宮北"]
[1901,"嶋田    陸 2","ｼﾏﾀﾞ ﾘｸ","鳴尾"]
[1902,"杉本  賢祐 2","ｽｷﾞﾓﾄ ｹﾝｽｹ","鳴尾"]
[1903,"三浦  瞬成 2","ﾐｳﾗ ｼｭﾝｾｲ","鳴尾"]
[1904,"中川健志朗 2","ﾅｶｶﾞﾜ ｹﾝｼﾛｳ","鳴尾"]
[1905,"竹村  晃琉 2","ﾀｹﾑﾗ ﾃﾙ","鳴尾"]
[1906,"河    旺佑 2","ｶﾜ ｵｳｽｹ","鳴尾"]
[1984,"川北  謙吾 4","ｶﾜｷﾀ ｹﾝｺﾞ","鳴尾"]
[1985,"中田  琉斗 4","ﾅｶﾀ ﾘｭｳﾄ","鳴尾"]
[1986,"前田  一樹 4","ﾏｴﾀﾞ ｲﾂｷ","鳴尾"]
[1991,"知足  宏太 3","ﾁｱｼ ｺｳﾀ","鳴尾"]
[1993,"古里  太瑛 3","ﾌﾙｻﾄ ﾀｲﾖｳ","鳴尾"]
[1994,"曽野  詩音 3","ｿﾉ ｼｵﾝ","鳴尾"]
[1995,"小板橋  歩 3","ｺｲﾀﾊﾞｼ ｱﾕﾑ","鳴尾"]
[1996,"岡本  朝樹 3","ｵｶﾓﾄ ﾄﾓｷ","鳴尾"]
[1997,"志賀  凌太 3","ｼｶﾞ ﾘｮｳﾀ","鳴尾"]
[1998,"築部  佑藏 3","ﾂｸﾍﾞ ﾕｳｿﾞｳ","鳴尾"]
[1999,"射場  涼成 2","ｲﾊﾞ ﾘｮｳｾｲ","鳴尾"]
[2068,"梶田  康耀 4","ｶｼﾞﾀ ｺｳﾖｳ","西宮今津"]
[2069,"細井  杜晄 4","ﾎｿｲ ﾄｱ","西宮今津"]
[2070,"重田  大雅 4","ｼｹﾞﾀ ﾀｲｶﾞ","西宮今津"]
[2071,"渡邉  乙史 4","ﾜﾀﾅﾍﾞ ｲﾁｶ","西宮今津"]
[2072,"中川  拓麿 4","ﾅｶｶﾞﾜ ﾀｸﾏ","西宮今津"]
[2073,"吉田    凌 4","ﾖｼﾀﾞ ﾘｮｳ","西宮今津"]
[2074,"奥野  陽成 4","ｵｸﾉ ﾖｳｾｲ","西宮今津"]
[2075,"久保  雅虎 4","ｸﾎﾞ ﾏｻﾄﾗ","西宮今津"]
[2076,"小松  直人 4","ｺﾏﾂ ﾅｵﾄ","西宮今津"]
[2077,"宮路  渉汰 4","ﾐﾔｼﾞ ｼｮｳﾀ","西宮今津"]
[2078,"牧野  智紘 4","ﾏｷﾉ ﾄﾓﾋﾛ","西宮今津"]
[2079,"吉成  英春 4","ﾖｼﾅﾘ ﾋﾃﾞﾊﾙ","西宮今津"]
[2080,"阿部  希琥 3","ｱﾍﾞ ｷｸ","西宮今津"]
[2081,"宇都  篤基 3","ｳﾄ ｱﾂｷ","西宮今津"]
[2082,"下口  一樹 3","ｼﾓｸﾞﾁ ｶｽﾞｷ","西宮今津"]
[2083,"長崎  想空 3","ﾅｶﾞｻｷ ｿﾗ","西宮今津"]
[2085,"平山    浬 3","ﾋﾗﾔﾏ ｶｲﾘ","西宮今津"]
[2086,"東田  一希 3","ﾋｶﾞｼﾀﾞ ｶｽﾞｷ","西宮今津"]
[2087,"奥橋  勇志 3","ｵｸﾊｼ ﾕｳｼﾞ","西宮今津"]
[2088,"越智  誉太 3","ｵﾁ ﾖｼﾄ","西宮今津"]
[2089,"宮内伸太朗 3","ﾐﾔｳﾁ ｼﾝﾀﾛｳ","西宮今津"]
[2090,"川口    陸 3","ｶﾜｸﾞﾁ ﾘｸ","西宮今津"]
[2092,"菅沼    剛 2","ｽｶﾞﾇﾏ ﾂﾖｼ","西宮今津"]
[2093,"大谷  祐晴 2","ｵｵﾀﾆ ﾕｳｾｲ","西宮今津"]
[2094,"加藤  友斗 2","ｶﾄｳ ﾕｳﾄ","西宮今津"]
[2095,"宮本  一輝 2","ﾐﾔﾓﾄ ｶｽﾞｷ","西宮今津"]
[2107,"小林    葵 4","ｺﾊﾞﾔｼ ｱｵｲ","西宮甲山"]
[2108,"一井  勇人 4","ｲﾁｲ ﾊﾔﾄ","西宮甲山"]
[2109,"栄永  輝壱 3","ｴｲﾅｶﾞ ｷｲﾁ","西宮甲山"]
[2110,"阪本  孔明 3","ｻｶﾓﾄ ｺｳﾒｲ","西宮甲山"]
[2113,"近内  虎一 3","ｺﾝﾅｲ ﾄﾗｲﾁ","西宮甲山"]
[2114,"森    仁弥 4","ﾓﾘ ｼﾞﾝﾔ","西宮甲山"]
[2115,"西坂  虹勢 2","ﾆｼｻｶ ﾅﾅｾ","西宮甲山"]
[2116,"岩本  拓翔 2","ｲﾜﾓﾄ ﾀｸﾄ","西宮甲山"]
[2117,"岸本  祐真 2","ｷｼﾓﾄ ﾕｳﾏ","西宮甲山"]
[2118,"眞野  陽斗 2","ﾏﾉ ﾊﾙﾄ","西宮甲山"]
[2254,"大久保  柊 4","ｵｵｸﾎﾞ ｼｭｳ","甲陽"]
[2255,"松岡  弘樹 4","ﾏﾂｵｶ ﾋﾛｷ","甲陽"]
[2262,"森内  寛人 3","ﾓﾘｳﾁ ﾋﾛﾄ","甲陽"]
[2263,"中西  翔太 3","ﾅｶﾆｼ ｼｮｳﾀ","甲陽"]
[2264,"安積  義慶 3","ｱﾂﾞﾐ ﾖｼﾁｶ","甲陽"]
[2265,"髙橋  翔太 3","ﾀｶﾊｼ ｼｮｳﾀ","甲陽"]
[2266,"鹿嶽  篤志 2","ｼｶﾀｹ ｱﾂｼ","甲陽"]
[2267,"平間    禮 2","ﾋﾗﾏ ﾚｲ","甲陽"]
[2268,"宮本    義 2","ﾐﾔﾓﾄ ﾀﾀﾞｼ","甲陽"]
[2269,"瀧    彰太 2","ﾀｷ ｼｮｳﾀ","甲陽"]
[2270,"吉井  聡明 2","ﾖｼｲ ｻﾄｱｷ","甲陽"]
[2302,"颯波  壮一 4","ｻｯﾊﾟ ｿｳｲﾁ","関学"]
[2303,"野村  幸弘 4","ﾉﾑﾗ ﾕｷﾋﾛ","関学"]
[2304,"森山  翔太 4","ﾓﾘﾔﾏ ｼｮｳﾀ","関学"]
[2305,"寺澤  一貴 4","ﾃﾗｻﾜ ｶｽﾞｷ","関学"]
[2306,"稲垣壮一郎 4","ｲﾅｶﾞｷ ｿｳｲﾁﾛｳ","関学"]
[2307,"梶原  佑紀 4","ｶｼﾞﾜﾗ ﾕｳｷ","関学"]
[2308,"赤田賢志朗 4","ｱｶﾀﾞ ｹﾝｼﾛｳ","関学"]
[2311,"西本義太郎 4","ﾆｼﾓﾄ ﾖｼﾀﾛｳ","関学"]
[2312,"黒田  悠貴 4","ｸﾛﾀﾞ ﾕｳｷ","関学"]
[2313,"木下    颯 3","ｷﾉｼﾀ ﾊﾙ","関学"]
[2314,"黒田  涼太 3","ｸﾛﾀﾞ ﾘｮｳﾀ","関学"]
[2317,"田中  一誠 3","ﾀﾅｶ ｲｯｾｲ","関学"]
[2317,"谷口  付蘭 3","ﾀﾆｸﾞﾁ ﾌﾗﾝ","関学"]
[2318,"投石梁太朗 3","ﾅｹﾞｲｼ ﾘｮｳﾀﾛｳ","関学"]
[2319,"西岡  陽士 3","ﾆｼｵｶ ﾊﾙﾄ","関学"]
[2320,"眞野    樹 3","ﾏﾉ ｲﾂｷ","関学"]
[2321,"原    翔聖 3","ﾊﾗ ｼｮｳｾｲ","関学"]
[2323,"田中  一誠 3","ﾀﾅｶ ｲｯｾｲ","関学"]
[2327,"門脇  瑛人 2","ｶﾄﾞﾜｷ ｴｲﾄ","関学"]
[2328,"古今堂辰弥 2","ｺｷﾝﾄﾞｳ ﾀﾂﾔ","関学"]
[2329,"井上  拓海 2","ｲﾉｳｴ ﾀｸﾐ","関学"]
[2330,"唐川  侑大 2","ｶﾗｶﾜ ﾕｳﾀﾞｲ","関学"]
[2331,"菅江  奏太 2","ｽｶﾞｴ ｿｳﾀ","関学"]
[2332,"角谷  俊輔 2","ｽﾐﾔ ｼｭﾝｽｹ","関学"]
[2504,"本田  裕輝 3","ﾎﾝﾀﾞ ﾕｳｷ","仁川"]
[2505,"松村  稟太 3","ﾏﾂﾑﾗ ﾘﾝﾀ","仁川"]
[2506,"柏原孝太郎 3","ｶｼﾊﾗ ｺｳﾀﾛｳ","仁川"]
[2507,"高木  裕太 3","ﾀｶｷﾞ ﾕｳﾀ","仁川"]
[2508,"難波  璃久 3","ﾅﾝﾊﾞ ﾘｸ","仁川"]
[2509,"福竹  三雅 3","ﾌｸﾀｹ ﾐﾂﾏｻ","仁川"]
[2510,"藤井  雄斗 3","ﾌｼﾞｲ ﾕｳﾄ","仁川"]
[2511,"戸倉  克征 3","ﾄｸﾗ ｶﾂﾕｷ","仁川"]
[2512,"福島  蒼太 3","ﾌｸｼﾏ ｿｳﾀ","仁川"]
[2513,"中尾  悠哩 4","ﾅｶｵ ﾕｳﾘ","仁川"]
[2514,"古田    漣 3","ﾌﾙﾀ ﾚﾝ","仁川"]
[2515,"中川  優吾 3","ﾅｶｶﾞﾜ ﾕｳｺﾞ","仁川"]
[2516,"廣田  悠人 3","ﾋﾛﾀ ﾕｳﾄ","仁川"]
[2517,"藤江奏太朗 3","ﾌｼﾞｴ ｿｳﾀﾛｳ","仁川"]
[2518,"花田  悠樹 4","ﾊﾅﾀﾞ ﾕｳｷ","仁川"]
[2519,"櫻井  和司 4","ｻｸﾗｲ ｶｽﾞｼ","仁川"]
[2520,"桑野  志穏 4","ｸﾜﾉ ｼｵﾝ","仁川"]
[2521,"宮平  拓夢 3","ﾐﾔﾋﾗ ﾀｸﾑ","仁川"]
[2522,"志方  叶和 ","ｼｶﾀ ﾄﾜ","仁川"]
[2523,"土井  敬太 2","ﾄﾞｲ ｹｲﾀ","仁川"]
[2524,"小泉  雄万 2","ｺｲｽﾞﾐ ﾕｳﾏ","仁川"]
[2525,"市川  直幹 2","ｲﾁｶﾜ ﾅｵｷ","仁川"]
[2526,"稲葉  優太 2","ｲﾅﾊﾞ ﾕｳﾀ","仁川"]
[2527,"三宅清十朗 2","ﾐﾔｹ ｾｲｼﾞｭｳﾛｳ","仁川"]
[2580,"川村  凌平 4","ｶﾜﾑﾗ ﾘｮｳﾍｲ","仁川"]
[2581,"倉田  玄士 4","ｸﾗﾀ ｹﾝｼ","仁川"]
[2582,"仲津  政樹 4","ﾅｶﾂ ﾏｻｷ","仁川"]
[2583,"真崎    晴 4","ﾏｻｷ ﾊﾙ","仁川"]
[2584,"森    竜聖 4","ﾓﾘ ﾘｭｳｾｲ","仁川"]
[2585,"平子  正宗 4","ﾋﾗｺ ﾏｻﾑﾈ","仁川"]
[2586,"石井  創大 4","ｲｼｲ ｿｳﾀ","仁川"]
[2587,"上田  海人 4","ｳｴﾀﾞ ｶｲﾄ","仁川"]
[2589,"藤岡  隼士 4","ﾌｼﾞｵｶ ﾊﾔﾄ","仁川"]
[2590,"木村  優作 4","ｷﾑﾗ ﾕｳｻｸ","仁川"]
[2592,"桑田    武 4","ｸﾜﾀ ﾀｹﾙ","仁川"]
[2594,"石岡  潤也 4","ｲｼｵｶ ｼﾞｭﾝﾔ","仁川"]
[2595,"古川倫太郎 4","ﾌﾙｶﾜ ﾘﾝﾀﾛｳ","仁川"]
[2597,"高    浩樹 4","ﾀｶ ﾋﾛｷ","仁川"]
[2598,"宮本    壮 4","ﾐﾔﾓﾄ ｿｳ","仁川"]
[2645,"大西  隼斗 4","ｵｵﾆｼ ﾊﾔﾄ","報徳"]
[2646,"河合  将希 4","ｶﾜｲ ﾏｻｷ","報徳"]
[2648,"竹内  海翔 4","ﾀｹｳﾁ ｶｲﾄ","報徳"]
[2649,"谷田琥太郎 4","ﾀﾆﾀﾞ ｺﾀﾛｳ","報徳"]
[2650,"山元  颯真 4","ﾔﾏﾓﾄ ｿｳﾏ","報徳"]
[2652,"丸山  空大 4","ﾏﾙﾔﾏ ｿﾗ","報徳"]
[2653,"石田悠太朗 4","ｲｼﾀﾞ ﾕｳﾀﾛｳ","報徳"]
[2654,"日下部将梧 4","ｸｻｶﾍﾞ ｼｮｳｺﾞ","報徳"]
[2655,"劉本  陽向 3","ﾘｭｳﾓﾄ ﾋﾅﾀ","報徳"]
[2656,"磯田  弥煌 3","ｲｿﾀﾞ ﾖｼｶ","報徳"]
[2657,"稲葉  俊也 3","ｲﾅﾊﾞ ｼｭﾝﾔ","報徳"]
[2658,"小林  拓夢 3","ｺﾊﾞﾔｼ ﾀｸﾑ","報徳"]
[2659,"福嶋    遙 3","ﾌｸｼﾏ ﾊﾙｶ","報徳"]
[2660,"福田  結仁 3","ﾌｸﾀﾞ ﾕｲﾄ","報徳"]
[2661,"三國  悠貴 3","ﾐｸﾆ ﾕｳｷ","報徳"]
[2662,"森田    聡 3","ﾓﾘﾀ ｻﾄｼ","報徳"]
[2663,"横山  隼士 3","ﾖｺﾔﾏ ﾊﾔﾄ","報徳"]
[2664,"井藤  悠介 3","ｲﾄｳ ﾕｳｽｹ","報徳"]
[2665,"丸田    尚 3","ﾏﾙﾀ ｼｮｳ","報徳"]
[2666,"西尾  友希 3","ﾆｼｵ ﾕｳｷ","報徳"]
[2667,"山下    楓 3","ﾔﾏｼﾀ ｶｴﾃﾞ","報徳"]
[2668,"丸林  大晟 3","ﾏﾙﾊﾞﾔｼ ﾀｲｾｲ","報徳"]
[2669,"重村  翔聖 3","ｼｹﾞﾑﾗ ｼｮｳｾｲ","報徳"]
[2670,"室    拓実 ","ﾑﾛ ﾀｸﾐ","報徳"]
[2671,"西海  光馬 2","ﾆｼｳﾐ ﾃﾙﾏ","報徳"]
[2672,"岩上琥太朗 2","ｲﾜｶﾞﾐ ｺﾀﾛｳ","報徳"]
[2673,"伊藤  拓海 2","ｲﾄｳ ﾀｸﾐ","報徳"]
[2674,"大野  遥矢 2","ｵｵﾉ ﾊﾙﾔ","報徳"]
[2675,"塩田  拓未 ","ｼｵﾀ ﾀｸﾐ","報徳"]
[2676,"谷田颯太朗 2","ﾀﾆﾀﾞ ｿｳﾀﾛｳ","報徳"]
[2677,"中里  唯人 2","ﾅｶｻﾞﾄ ﾕｲﾄ","報徳"]
[2678,"名塩  公貴 2","ﾅｼｵ ｺｳｷ","報徳"]
[2679,"西向    蒼 2","ﾆｼﾑｺ ｱｵｲ","報徳"]
[2680,"馬場  祐多 ","ﾊﾞﾊﾞ ﾕｳﾀ","報徳"]
[2681,"林    大貴 2","ﾊﾔｼ ﾀﾞｲｷ","報徳"]
[2682,"原    悠翔 2","ﾊﾗ ﾕｳﾄ","報徳"]
[2683,"南    唯嘉 2","ﾐﾅﾐ ｲﾁｶ","報徳"]
[2684,"持田  空我 ","ﾓﾁﾀﾞ ｸｳｶﾞ","報徳"]
[2685,"松本  羚也 2","ﾏﾂﾓﾄ ﾚｲﾔ","報徳"]
[2686,"楊井  大貴 2","ﾔｷﾞｲ ﾀﾞｲｷ","報徳"]
[2687,"大和    煌 2","ﾔﾏﾄ ｶｶﾞﾘ","報徳"]
[3006,"澤田  葵翔 4","ｻﾜﾀﾞ ｱｵﾄ","県伊丹"]
[3007,"清水  真怜 4","ｼﾐｽﾞ ﾏｻﾄ","県伊丹"]
[3008,"大上  暖陽 4","ｵｵｳｴ ﾊﾙﾋ","県伊丹"]
[3009,"金岡  諒介 4","ｶﾅｵｶ ﾘｮｳｽｹ","県伊丹"]
[3010,"新崎  心路 4","ｼﾝｻﾞｷ ｺｺﾛ","県伊丹"]
[3012,"米澤  陽友 4","ﾖﾈｻﾞﾜ ﾋﾛﾄ","県伊丹"]
[3013,"濵田  亮介 4","ﾊﾏﾀﾞ ﾘｮｳｽｹ","県伊丹"]
[3014,"増田  陸人 4","ﾏｽﾀﾞ ﾘｸﾄ","県伊丹"]
[3015,"小倉    惺 4","ｵｸﾞﾗ ｼｮｳ","県伊丹"]
[3016,"川﨑  晶大 4","ｶﾜｻｷ ｱｷﾋﾛ","県伊丹"]
[3017,"板垣  宏斗 3","ｲﾀｶﾞｷ ﾋﾛﾄ","県伊丹"]
[3018,"井上  昊輝 3","ｲﾉｳｴ ｺｳｷ","県伊丹"]
[3019,"福嶋  颯海 3","ﾌｸｼﾏ ﾊﾔﾃ","県伊丹"]
[3020,"岩本  怜恩 3","ｲﾜﾓﾄ ﾚｵ","県伊丹"]
[3021,"磯部    泉 3","ｲｿﾍﾞ ｲｽﾞﾐ","県伊丹"]
[3022,"松原賢志郎 3","ﾏﾂﾊﾞﾗ ｹﾝｼﾛｳ","県伊丹"]
[3023,"森    唯斗 3","ﾓﾘ ﾕｲﾄ","県伊丹"]
[3025,"栗山  翔太 3","ｸﾘﾔﾏ ｼｮｳﾀ","県伊丹"]
[3026,"井上  敬裕 3","ｲﾉｳｴ ｹｲｽｹ","県伊丹"]
[3027,"木村  颯冴 3","ｷﾑﾗ ｿｳｺﾞ","県伊丹"]
[3028,"竹内  颯佑 3","ﾀｹｳﾁ ｿｳｽｹ","県伊丹"]
[3029,"谷口  晴規 3","ﾀﾆｸﾞﾁ ﾊﾙﾅﾘ","県伊丹"]
[3030,"山木  汰一 3","ﾔﾏｷ ﾀｲﾁ","県伊丹"]
[3032,"髙橋  祐翔 2","ﾀｶﾊｼ ﾋﾛﾄ","県伊丹"]
[3033,"中川  透輪 2","ﾅｶｶﾞﾜ ﾄﾜ","県伊丹"]
[3034,"西森  真賢 2","ﾆｼﾓﾘ ﾏｻﾄ","県伊丹"]
[3035,"菅生  汰朗 2","ｽｺﾞｳ ﾀﾛｳ","県伊丹"]
[3036,"北住  惟央 2","ｷﾀｽﾞﾐ ｲｵ","県伊丹"]
[3037,"清島  信惇 2","ｷﾖｼﾏ ｼﾝﾄ","県伊丹"]
[3038,"三好  爽介 2","ﾐﾖｼ ｻｽｹ","県伊丹"]
[3039,"大北  祥平 2","ｵｵｷﾀ ｼｮｳﾍｲ","県伊丹"]
[3040,"柴田  昊明 2","ｼﾊﾞﾀ ｺｳﾒｲ","県伊丹"]
[3041,"津村  将希 2","ﾂﾑﾗ ｼｮｳｷ","県伊丹"]
[3042,"濵    悠太 2","ﾊﾏ ﾕｳﾀ","県伊丹"]
[3043,"小倉    皓 2","ｵｸﾞﾗ ﾋｶﾙ","県伊丹"]
[3044,"徳穂  隼祐 2","ﾄｸﾎ ｼｭﾝｽｹ","県伊丹"]
[3137,"中務  孝太 4","ﾅｶﾂｶｻ ｺｳﾀ","市伊丹"]
[3138,"中橋  亮介 4","ﾅｶﾊｼ ﾘｮｳｽｹ","市伊丹"]
[3139,"本多  俊誠 4","ﾎﾝﾀﾞ ｼｭﾝｾｲ","市伊丹"]
[3140,"伊藤    司 4","ｲﾄｳ ﾂｶｻ","市伊丹"]
[3142,"川西  大和 4","ｶﾜﾆｼ ﾔﾏﾄ","市伊丹"]
[3143,"西藤    聖 4","ｻｲﾄｳ ﾋｼﾞﾘ","市伊丹"]
[3144,"道上  智也 4","ﾐﾁｶﾞﾐ ﾄﾓﾔ","市伊丹"]
[3145,"井上  桜太 3","ｲﾉｳｴ ｵｳﾀ","市伊丹"]
[3147,"吉川  流惺 3","ﾖｼｶﾜ ﾘｭｳｾｲ","市伊丹"]
[3148,"小山  智哉 3","ｺﾔﾏ ﾄﾓﾔ","市伊丹"]
[3149,"松元  健真 3","ﾏﾂﾓﾄ ｹﾝｼﾝ","市伊丹"]
[3150,"米田    寿 3","ﾖﾈﾀﾞ ﾋｻｼ","市伊丹"]
[3151,"丸田  陸人 2","ﾏﾙﾀ ﾘｸﾄ","市伊丹"]
[3152,"頃安  陽仁 2","ｺﾛﾔｽ ﾊﾙﾄ","市伊丹"]
[3153,"藤枝  晴生 2","ﾌｼﾞｴﾀﾞ ﾊﾙｷ","市伊丹"]
[3221,"藤井  佑輝 4","ﾌｼﾞｲ ﾕｳｷ","伊丹西"]
[3222,"伊福  享正 4","ｲﾌｸ ｷｮｳｾｲ","伊丹西"]
[3223,"悳    奏太 4","ｲｻｵ ｶﾅﾀ","伊丹西"]
[3224,"山村  祐翔 4","ﾔﾏﾑﾗ ﾕｳﾄ","伊丹西"]
[3225,"野口  誠太 4","ﾉｸﾞﾁ ｾｲﾀ","伊丹西"]
[3226,"藤本  京悟 4","ﾌｼﾞﾓﾄ ｷｮｳｺﾞ","伊丹西"]
[3228,"松田  珠侑 4","ﾏﾂﾀﾞ ｼｭｳ","伊丹西"]
[3229,"田邉    豪 4","ﾀﾅﾍﾞ ｺﾞｳ","伊丹西"]
[3230,"政岡  大暉 4","ﾏｻｵｶ ﾋﾛｷ","伊丹西"]
[3231,"吉元洸太朗 3","ﾖｼﾓﾄ ｺｳﾀﾛｳ","伊丹西"]
[3232,"藤岡  優斗 3","ﾌｼﾞｵｶ ﾕｳﾄ","伊丹西"]
[3233,"島川  陽希 3","ｼﾏｶﾜ ﾊﾙｷ","伊丹西"]
[3234,"紫藤  大貴 3","ｼﾄｳ ﾀﾞｲｷ","伊丹西"]
[3236,"來須  唯我 3","ｸﾙｽ ﾕｲｶﾞ","伊丹西"]
[3237,"中川  涼太 3","ﾅｶｶﾞﾜ ﾘｮｳﾀ","伊丹西"]
[3239,"尾﨑  晴人 3","ｵｻﾞｷ ﾊﾙﾄ","伊丹西"]
[3241,"吉川  陸斗 3","ｷｯｶﾜ ﾘｸﾄ","伊丹西"]
[3242,"中川  萩二 3","ﾅｶｶﾞﾜ ｼｭｳｼﾞ","伊丹西"]
[3243,"大江  悠之 3","ｵｵｴ ﾕｳｼ","伊丹西"]
[3244,"大久保歩成 2","ｵｵｸﾎﾞ ｱﾕﾅﾘ","伊丹西"]
[3245,"川﨑  稀生 2","ｶﾜｻｷ ﾋﾅﾘ","伊丹西"]
[3246,"輔信  颯馬 2","ｽｹﾉﾌﾞ ｿｳﾏ","伊丹西"]
[3247,"橋本  勇人 2","ﾊｼﾓﾄ ﾕｳﾄ","伊丹西"]
[3248,"河野  春揮 2","ｺｳﾉ ﾊﾙｷ","伊丹西"]
[3249,"田口  聖七 2","ﾀｸﾞﾁ ｾﾅ","伊丹西"]
[3250,"鈴木    颯 2","ｽｽﾞｷ ﾊﾔﾄ","伊丹西"]
[3251,"別所則太郎 3","ﾍﾞｯｼｮ ﾉﾘﾀﾛｳ","伊丹西"]
[3324,"松本  輝都 4","ﾏﾂﾓﾄ ｷﾗﾄ","伊丹北"]
[3325,"島元  悠汰 4","ｼﾏﾓﾄ ﾕｳﾀ","伊丹北"]
[3326,"吉住  奏音 3","ﾖｼｽﾞﾐ ｶﾅﾄ","伊丹北"]
[3327,"小池  奏真 3","ｺｲｹ ｿｳﾏ","伊丹北"]
[3328,"西林  孝祥 3","ﾆｼﾊﾞﾔｼ ﾀｶﾖｼ","伊丹北"]
[3329,"尾﨑  晴太 3","ｵｻﾞｷ ｾｲﾀ","伊丹北"]
[3330,"藤崎  隼士 3","ﾌｼﾞｻｷ ﾊﾔﾄ","伊丹北"]
[3331,"菅原  真樹 2","ｽｶﾞﾊﾗ ﾏｻｷ","伊丹北"]
[3332,"川筋  泰輔 2","ｶﾜｽｼﾞ ﾀｲｽｹ","伊丹北"]
[3333,"平井  淳貴 2","ﾋﾗｲ ｱﾂｷ","伊丹北"]
[3334,"兵頭  玲音 2","ﾋｮｳﾄﾞｳ ﾚｵﾝ","伊丹北"]
[3335,"藤井  輝生 2","ﾌｼﾞｲ ﾃﾙｷ","伊丹北"]
[3336,"米山  龍星 2","ﾖﾈﾔﾏ ﾘｭｳｾｲ","伊丹北"]
[3337,"若松  遼泰 2","ﾜｶﾏﾂ ﾘｮｳﾀ","伊丹北"]
[3445,"伊藤    蓮 4","ｲﾄｳ ﾚﾝ","川西緑台"]
[3446,"佐野慎太郎 4","ｻﾉ ｼﾝﾀﾛｳ","川西緑台"]
[3447,"髙畑  聡汰 4","ﾀｶﾊﾀ ｿｳﾀ","川西緑台"]
[3448,"辻    颯斗 4","ﾂｼﾞ ﾊﾔﾄ","川西緑台"]
[3449,"辻    湧斗 4","ﾂｼﾞ ﾕｳﾄ","川西緑台"]
[3450,"渡邉  祐樹 4","ﾜﾀﾅﾍﾞ ﾕｳｷ","川西緑台"]
[3451,"足立  圭眞 4","ｱﾀﾞﾁ ｹｲﾏ","川西緑台"]
[3452,"竹島  義輝 4","ﾀｹｼﾏ ﾖｼｷ","川西緑台"]
[3453,"羽田野優樹 4","ﾊﾀﾉ ﾕｳｷ","川西緑台"]
[3454,"弘岡    爽 4","ﾋﾛｵｶ ｿｳ","川西緑台"]
[3455,"宮脇    岳 4","ﾐﾔﾜｷ ｶﾞｸ","川西緑台"]
[3456,"山崎  尚弘 4","ﾔﾏｻﾞｷ ﾅｵﾋﾛ","川西緑台"]
[3457,"山本健太朗 4","ﾔﾏﾓﾄ ｹﾝﾀﾄｳ","川西緑台"]
[3458,"椋木  祥太 3","ﾑｸﾉｷ ｼｮｳﾀ","川西緑台"]
[3459,"弓場  隆司 3","ﾕﾝﾊﾞ ﾘｭｳｼﾞ","川西緑台"]
[3460,"坂之上侑大 3","ｻｶﾉｳｴ ﾕｳﾀ","川西緑台"]
[3461,"中井  陽希 3","ﾅｶｲ ﾊﾙｷ","川西緑台"]
[3462,"松田  大輝 3","ﾏﾂﾀﾞ ﾀｲｷ","川西緑台"]
[3463,"森田壮一郎 3","ﾓﾘﾀ ｿｳｲﾁﾛｳ","川西緑台"]
[3464,"大杉    悠 2","ｵｵｽｷﾞ ﾕｳ","川西緑台"]
[3465,"岡﨑  航輝 2","ｵｶｻﾞｷ ｺｳｷ","川西緑台"]
[3466,"垣本  和輝 2","ｶｷﾓﾄ ｶｽﾞｷ","川西緑台"]
[3467,"上良  幸土 2","ｺﾛ ﾕｷﾄ","川西緑台"]
[3468,"佐々木  優 2","ｻｻｷ ﾕｳ","川西緑台"]
[3469,"鈴川  暖人 3","ｽｽﾞｶﾜ ﾊﾙﾄ","川西緑台"]
[3470,"岡田  一真 2","ｵｶﾀﾞ ｶｽﾞﾏ","川西緑台"]
[3471,"春田    敦 2","ﾊﾙﾀ ｱﾂｼ","川西緑台"]
[3472,"引地  颯斗 2","ﾋｷﾁ ﾊﾔﾄ","川西緑台"]
[3565,"国本ﾌﾚﾃﾞﾘｯｸ 4","ｸﾆﾓﾄ ﾌﾚﾃﾞﾘｯｸ","川西明峰"]
[3567,"舛田  悠悟 4","ﾏｽﾀﾞ ﾕｳｺﾞ","川西明峰"]
[3568,"碇    龍志 4","ｲｶﾘ ﾘｭｳｼ","川西明峰"]
[3569,"宮本    樹 3","ﾐﾔﾓﾄ ﾀﾂｷ","川西明峰"]
[3570,"網干  颯斗 3","ｱﾎﾞｼ ﾊﾔﾄ","川西明峰"]
[3574,"秋山  恵汰 3","ｱｷﾔﾏ ｹｲﾀ","川西明峰"]
[3575,"森口  智成 2","ﾓﾘｸﾞﾁ ﾄﾓﾅﾘ","川西明峰"]
[3576,"山下  幸斗 2","ﾔﾏｼﾀ ﾕｷﾄ","川西明峰"]
[3577,"佐々木涼太 2","ｻｻｷ ﾘｮｳﾀ","川西明峰"]
[3601,"東園  凌空 4","ﾋｶﾞｼｿﾞﾉ ﾘｸ","川西北陵"]
[3602,"水庫  健太 4","ﾐｽﾞｸﾗ ｹﾝﾀ","川西北陵"]
[3604,"津田鼓太郎 4","ﾂﾀﾞ ｺﾀﾛｳ","川西北陵"]
[3605,"阿部  瑞樹 3","ｱﾍﾞ ﾐｽﾞｷ","川西北陵"]
[3607,"桑田  健大 3","ｸﾜﾀ ｹﾝﾀ","川西北陵"]
[3608,"阪上  暖斗 3","ｻｶｳｴ ﾊﾙﾄ","川西北陵"]
[3609,"志水  翔真 3","ｼﾐｽﾞ ｼｮｳﾀ","川西北陵"]
[3610,"清家  光生 3","ｾｲｹ ｺｳｾｲ","川西北陵"]
[3611,"南原    勇 3","ﾅﾝﾊﾞﾗ ｲｻ","川西北陵"]
[3612,"東    慶護 3","ﾋｶﾞｼ ｹｲｺﾞ","川西北陵"]
[3613,"平山  流空 3","ﾋﾗﾔﾏ ﾊﾔﾃ","川西北陵"]
[3614,"満谷  充志 3","ﾏﾝﾀﾆ ｱﾂｼ","川西北陵"]
[3615,"三笠  獅音 3","ﾐｶｻ ｼｵﾝ","川西北陵"]
[3616,"薮野  翔太 3","ﾔﾌﾞﾉ ｼｮｳﾀ","川西北陵"]
[3617,"有村    翔 3","ｱﾘﾑﾗ ｼｮｳ","川西北陵"]
[3618,"生田  宗輔 2","ｲｸﾀ ｿｳｽｹ","川西北陵"]
[3619,"稲林  伸崇 2","ｲﾅﾊﾞﾔｼ ﾉﾌﾞﾀｶ","川西北陵"]
[3620,"浦山    翔 2","ｳﾗﾔﾏ ｼｮｳ","川西北陵"]
[3621,"音地  広翔 2","ｵﾝﾁﾞ ﾋﾛﾄ","川西北陵"]
[3622,"香川    心 2","ｶｶﾞﾜ ｼﾝ","川西北陵"]
[3623,"寺内  宏介 3","ﾃﾗｳﾁ ｺｳｽｹ","川西北陵"]
[3624,"彦坂    智 2","ﾋｺｻｶ ｻﾄﾙ","川西北陵"]
[3625,"山本  剛義 2","ﾔﾏﾓﾄ ﾂﾖｼ","川西北陵"]
[3693,"今田  大智 4","ｲﾏﾀﾞ ﾀﾞｲﾁ","川西北陵"]
[3694,"大西  陽葵 4","ｵｵﾆｼ ﾊﾙｷ","川西北陵"]
[3695,"加藤    煌 4","ｶﾄｳ ｺｳ","川西北陵"]
[3696,"上良  真幸 4","ｺﾛ ﾏｻﾕｷ","川西北陵"]
[3697,"高森  大地 4","ﾀｶﾓﾘ ﾀﾞｲﾁ","川西北陵"]
[3699,"西尾仁之介 4","ﾆｼｵ ｼﾞﾝﾉｽｹ","川西北陵"]
[3768,"藤本    奏 4","ﾌｼﾞﾓﾄ ｿｳ","猪名川"]
[3769,"久保田聖也 4","ｸﾎﾞﾀ ｾｲﾔ","猪名川"]
[3770,"北野  裕也 4","ｷﾀﾉ ﾕｳﾔ","猪名川"]
[3771,"林    郁哉 4","ﾊﾔｼ ﾌﾐﾔ","猪名川"]
[3772,"岡田  幸大 4","ｵｶﾀﾞ ｺｳﾀﾞｲ","猪名川"]
[3776,"吉原  一陽 3","ﾖｼﾊﾗ ｲﾁﾔ","猪名川"]
[3777,"佐々木琉毅 2","ｻｻｷ ﾘｭｳｷ","猪名川"]
[3778,"笹倉  理音 2","ｻｻｸﾗ ﾘｵ","猪名川"]
[3779,"羽田野史弥 2","ﾊﾀﾉ ﾌﾐﾔ","猪名川"]
[3780,"野口  紅晴 2","ﾉｸﾞﾁ ｸﾚﾊ","猪名川"]
[3781,"髙橋  雄大 2","ﾀｶﾊｼ ﾕｳﾀﾞｲ","猪名川"]
[3782,"齊藤  優河 2","ｻｲﾄｳ ﾕｳｶﾞ","猪名川"]
[3803,"平岡    頼 4","ﾋﾗｵｶ ﾗｲ","宝塚"]
[3805,"宮田  響輝 4","ﾐﾔﾀ ﾋﾋﾞｷ","宝塚"]
[3807,"地主    隼 3","ﾁﾞﾇｼ ﾊﾔﾄ","宝塚"]
[3808,"佃    洸樹 3","ﾂｸﾀﾞ ﾋﾛｷ","宝塚"]
[3809,"前田  篤志 3","ﾏｴﾀﾞ ｱﾂｼ","宝塚"]
[3810,"大治  翔吾 3","ｵｵｼﾞ ｼｮｳｺﾞ","宝塚"]
[3811,"園田  悠友 3","ｿﾉﾀﾞ ﾕｳﾄ","宝塚"]
[3812,"大岸  史弥 3","ｵｵｷﾞｼ ﾌﾐﾔ","宝塚"]
[3813,"柴村  紬来 3","ｼﾊﾞﾑﾗ ﾂﾑｷﾞ","宝塚"]
[3814,"中津留和樹 3","ﾅｶﾂﾙ ｶｽﾞｷ","宝塚"]
[3815,"橋本  悠甫 3","ﾊｼﾓﾄ ﾕｳｽｹ","宝塚"]
[3816,"平田    怜 3","ﾋﾗﾀ ﾘｮｳ","宝塚"]
[3817,"北野  敬太 3","ｷﾀﾉ ｹｲﾀ","宝塚"]
[3819,"立花  友雅 2","ﾀﾁﾊﾞﾅ ﾕｳｶﾞ","宝塚"]
[3820,"中務  優和 2","ﾅｶﾂｶｻ ﾕｳﾜ","宝塚"]
[3821,"本多    翔 2","ﾎﾝﾀﾞ ｶｹﾙ","宝塚"]
[3822,"村上  亮斗 2","ﾑﾗｶﾐ ｱｷﾄ","宝塚"]
[3823,"宇都宮航生 2","ｳﾂﾉﾐﾔ ｺｳｷ","宝塚"]
[3824,"田尻  敦己 2","ﾀｼﾞﾘ ｱﾂｷ","宝塚"]
[3825,"谷口  颯亮 2","ﾀﾆｸﾞﾁ ｿｳｽｹ","宝塚"]
[3826,"友成  悠太 2","ﾄﾓﾅﾘ ﾕｳﾀ","宝塚"]
[3828,"藤井    暖 2","ﾌｼﾞｲ ﾊﾙ","宝塚"]
[3829,"渡辺  雅樹 2","ﾜﾀﾅﾍﾞ ﾏｻｷ","宝塚"]
[3829,"橋本  翔太 2","ﾊｼﾓﾄ ｼｮｳﾀ","宝塚"]
[3894,"中川    颯 4","ﾅｶｶﾞﾜ ｿｳ","宝塚"]
[3895,"平山  大気 4","ﾋﾗﾔﾏ ﾀｲｷ","宝塚"]
[3897,"阪本    輝 4","ｻｶﾓﾄ ﾋｶﾙ","宝塚"]
[3898,"杉町    烈 4","ｽｷﾞﾏﾁ ﾚﾂ","宝塚"]
[3899,"塚元  翔生 4","ﾂｶﾓﾄ ｶｲ","宝塚"]
[3974,"ｵﾘﾋﾞｴ真之亜 4","ｵﾘﾋﾞｴ ﾏﾉｱ","宝塚東"]
[3976,"栗野  元汰 4","ｸﾘﾉ ｹﾞﾝﾀ","宝塚東"]
[3977,"田邊    優 4","ﾀﾅﾍﾞ ﾕｳ","宝塚東"]
[3978,"三内    温 4","ﾐｳﾁ ｱﾂｼ","宝塚東"]
[3980,"矢野  暉也 4","ﾔﾉ ｱｷﾔ","宝塚東"]
[3981,"山下  泰輝 4","ﾔﾏｼﾀ ﾀｲｷ","宝塚東"]
[3982,"藪内  頸佑 4","ﾔﾌﾞｳﾁ ｹｲｽｹ","宝塚東"]
[3983,"松永  音輝 4","ﾏﾂﾅｶﾞ ﾄｷ","宝塚東"]
[3984,"大西  晃平 3","ｵｵﾆｼ ｺｳﾍｲ","宝塚東"]
[3985,"神﨑  敬人 3","ｶﾝｻﾞｷ ﾕｷﾄ","宝塚東"]
[3986,"松井  海都 3","ﾏﾂｲ ｶｲﾄ","宝塚東"]
[3987,"前山  逢翔 3","ﾏｴﾔﾏ ｱｲﾄ","宝塚東"]
[3988,"中島  爽汰 3","ﾅｶｼﾞﾏ ｿｳﾀ","宝塚東"]
[3989,"稲岡  蒼太 3","ｲﾅｵｶ ｿｳﾀ","宝塚東"]
[3990,"手取  響輝 3","ﾃﾄﾞﾘ ﾋﾋﾞｷ","宝塚東"]
[3992,"篠原  颯太 2","ｼﾉﾊﾗ ｿｳﾀ","宝塚東"]
[3993,"森宗  昊生 2","ﾓﾘﾑﾈ ｺｳｾｲ","宝塚東"]
[3994,"小笠原和己 2","ｵｶﾞｻﾊﾗ ﾄﾓｷ","宝塚東"]
[3995,"櫻井  光翔 2","ｻｸﾗｲ ﾋﾛﾄ","宝塚東"]
[3996,"清家  楓雅 2","ｾｲｹ ﾌｳｶﾞ","宝塚東"]
[3997,"尾仲  楓真 2","ｵﾅｶ ﾌｳﾏ","宝塚東"]
[3998,"仲本  悠生 2","ﾅｶﾓﾄ ｼｭｳ","宝塚東"]
[4001,"中嶋  淳志 4","ﾅｶｼﾞﾏ ｱﾂｼ","宝塚西"]
[4002,"樗木  慎也 4","ｵｵﾃｷ ｼﾝﾔ","宝塚西"]
[4003,"黒川  航平 4","ｸﾛｶﾜ ｺｳﾍｲ","宝塚西"]
[4004,"橘      龍 4","ﾀﾁﾊﾞﾅ ﾘｭｳ","宝塚西"]
[4005,"原  伶泉矢 4","ﾊﾗ ﾚｲﾔ","宝塚西"]
[4008,"牧江真太郎 4","ﾏｷｴ ｼﾝﾀﾛｳ","宝塚西"]
[4009,"山内  空斗 4","ﾔﾏｳﾁ ｿﾗﾄ","宝塚西"]
[4010,"松下  晃翔 4","ﾏﾂｼﾀ ｱｷﾄ","宝塚西"]
[4011,"加地由紀智 3","ｶｼﾞ ﾕｷﾉﾘ","宝塚西"]
[4012,"菅    啓太 3","ｽｶﾞ ｹｲﾀ","宝塚西"]
[4015,"細田  悠星 3","ﾎｿﾀﾞ ﾕｳｾｲ","宝塚西"]
[4016,"平垣  翔亜 3","ﾋﾗｶﾞｷ ﾄｱ","宝塚西"]
[4017,"住吉  昴瑠 2","ｽﾐﾖｼ ｽﾊﾞﾙ","宝塚西"]
[4018,"四方  悠貴 2","ｼｶﾀ ﾕｳｷ","宝塚西"]
[4019,"荻下直太郎 2","ｵｷﾞｼﾀ ﾅｵﾀﾛｳ","宝塚西"]
[4101,"安藤  聖大 3","ｱﾝﾄﾞｳ ｾｲﾏ","宝塚北"]
[4102,"池田颯大朗 3","ｲｹﾀﾞ ｿｳﾀﾛｳ","宝塚北"]
[4103,"鎌倉    優 3","ｶﾏｸﾗ ﾕｳ","宝塚北"]
[4104,"木崎    諒 3","ｷｻﾞｷ ﾘｮｳ","宝塚北"]
[4105,"工藤  弘成 3","ｸﾄﾞｳ ﾋﾛﾅﾘ","宝塚北"]
[4106,"黒木有志朗 3","ｸﾛｷ ﾕｳｼﾛｳ","宝塚北"]
[4107,"佐藤  友哉 3","ｻﾄｳ ﾄﾓﾔ","宝塚北"]
[4108,"寺田  泰生 3","ﾃﾗﾀﾞ ﾀｲｾｲ","宝塚北"]
[4109,"東海  晴大 3","ﾄｳｶｲ ﾊﾙﾋﾛ","宝塚北"]
[4110,"福島  琉唯 3","ﾌｸｼﾏ ﾙｲ","宝塚北"]
[4111,"松本  竜胆 3","ﾏﾂﾓﾄ ﾘﾝﾄﾞｳ","宝塚北"]
[4112,"阪上  蒼空 2","ｻｶｳｴ ｿﾗ","宝塚北"]
[4113,"野村  絢也 2","ﾉﾑﾗ ｹﾝﾔ","宝塚北"]
[4114,"山口  悠斗 2","ﾔﾏｸﾞﾁ ﾕｳﾄ","宝塚北"]
[4115,"安達  巧馬 2","ｱﾀﾞﾁ ﾀｸﾏ","宝塚北"]
[4116,"辻    快統 2","ﾂｼﾞ ｶｲﾄ","宝塚北"]
[4117,"寺本  悠真 2","ﾃﾗﾓﾄ ﾕｳｼﾝ","宝塚北"]
[4118,"石井  光騎 2","ｲｼｲ ﾐﾂｷ","宝塚北"]
[4119,"島本  瑛真 2","ｼﾏﾓﾄ ﾃﾙﾏ","宝塚北"]
[4120,"中山  瑛音 2","ﾅｶﾔﾏ ｴｲﾄ","宝塚北"]
[4193,"神田  淳史 4","ｶﾝﾀﾞ ｱﾂｼ","宝塚北"]
[4194,"岸田  拓也 4","ｷｼﾀﾞ ﾀｸﾔ","宝塚北"]
[4195,"谷本  俊輔 4","ﾀﾆﾓﾄ ｼｭﾝｽｹ","宝塚北"]
[4196,"冨山  航輝 4","ﾄﾐﾔﾏ ｺｳｷ","宝塚北"]
[4197,"森田    暖 4","ﾓﾘﾀ ﾊﾙ","宝塚北"]
[4198,"矢野  心大 4","ﾔﾉ ﾐｸﾄ","宝塚北"]
[4199,"横田  遼大 4","ﾖｺﾀ ﾊﾙﾄ","宝塚北"]
[4359,"飯牟田一惺 4","ｲﾑﾀ ｲｯｾｲ","芦屋"]
[4360,"牧野    暖 4","ﾏｷﾉ ﾊﾙ","芦屋"]
[4362,"三輪  康太 4","ﾐﾜ ｺｳﾀ","芦屋"]
[4363,"平安  温人 3","ﾋﾗﾔｽ ﾊﾙﾄ","芦屋"]
[4364,"金本  昇樹 3","ｶﾈﾓﾄ ｼｮｳｷ","芦屋"]
[4365,"小川  榮心 3","ｵｶﾞﾜ ﾋｻﾑﾈ","芦屋"]
[4366,"住野  春樹 2","ｽﾐﾉ ﾊﾙｷ","芦屋"]
[4367,"吉田  圭志 2","ﾖｼﾀﾞ ｹｲｼ","芦屋"]
[4368,"磯川    友 2","ｲｿｶﾜ ﾕｳ","芦屋"]
[4369,"末定優之介 2","ｽｴｻﾀﾞ ﾕｳﾉｽｹ","芦屋"]
[4401,"三井  庸靖 4","ﾐﾂｲ ﾉﾌﾞﾔｽ","雲雀丘"]
[4402,"諸井  沢哉 3","ﾓﾛｲ ﾀｸﾔ","雲雀丘"]
[4403,"松田  翔伍 3","ﾏﾂﾀﾞ ｼｮｳｺﾞ","雲雀丘"]
[4404,"山本  颯真 3","ﾔﾏﾓﾄ ｿｳﾏ","雲雀丘"]
[4405,"梶    正人 3","ｶｼﾞ ﾏｻﾄ","雲雀丘"]
[4406,"吉澤  瑞稀 3","ﾖｼｻﾞﾜ ﾐｽﾞｷ","雲雀丘"]
[4407,"林    優斗 3","ﾊﾔｼ ﾕｳﾄ","雲雀丘"]
[4411,"仲  慶一朗 2","ﾅｶ ｹｲｲﾁﾛｳ","雲雀丘"]
[4487,"渡邉  佑一 4","ﾜﾀﾅﾍﾞ ﾕｳｲﾁ","雲雀丘"]
[4488,"式見仁三朗 4","ｼｷﾐ ｼﾞﾝｻﾞﾌﾞﾛｳ","雲雀丘"]
[4490,"大川  漱也 4","ｵｵｶﾜ ｼｭｳﾔ","雲雀丘"]
[4493,"沼田  光樹 4","ﾇﾏﾀ ｺｳｷ","雲雀丘"]
[4494,"西岡  佑悟 4","ﾆｼｵｶ ﾕｳｺﾞ","雲雀丘"]
[4495,"大堀航太郎 4","ｵｵﾎﾘ ｺｳﾀﾛｳ","雲雀丘"]
[4496,"野川  英雅 4","ﾉｶﾞﾜ ﾄｼﾏｻ","雲雀丘"]
[4497,"秋岡  慶哉 4","ｱｷｵｶ ｹｲﾔ","雲雀丘"]
[4535,"黒川  玲葉 2","ｸﾛｶﾜ ﾚｸ","県国際"]
[4664,"濱田亜由太 4","ﾊﾏﾀﾞ ｱﾕﾀ","芦屋学園"]
[4665,"宮﨑  巧翔 4","ﾐﾔｻﾞｷ ﾀｸﾄ","芦屋学園"]
[4666,"大槻  聖斗 3","ｵｵﾂｷ ﾏｻﾄ","芦屋学園"]
[4667,"山中瑠希亜 4","ﾔﾏﾅｶ ﾙｷｱ","芦屋学園"]
[4668,"水谷  晃輝 3","ﾐｽﾞﾀﾆ ｺｳｷ","芦屋学園"]
[4669,"坂本    翔 3","ｻｶﾓﾄ ｼｮｳ","芦屋学園"]
[4670,"福田    零 3","ﾌｸﾀﾞ ﾚｲ","芦屋学園"]
[4671,"川田  恭平 3","ｶﾜﾀ ｷｮｳﾍｲ","芦屋学園"]
[4672,"渡邉  音空 3","ﾜﾀﾅﾍﾞ ﾓｸ","芦屋学園"]
[4674,"森本  祥輝 2","ﾓﾘﾓﾄ ｼｮｳｷ","芦屋学園"]
[4675,"南馬  大翔 2","ﾅﾝﾊﾞ ﾔﾏﾄ","芦屋学園"]
[4676,"吉重  慧斗 2","ﾖｼｼｹﾞ ｹｲﾄ","芦屋学園"]
[4677,"榎元  琉太 2","ｴﾉﾓﾄ ﾘｭｳﾀ","芦屋学園"]
[4678,"野原  英心 2","ﾉﾊﾗ ｴｲｼﾝ","芦屋学園"]
[4679,"井上  悠大 2","ｲﾉｳｴ ﾕｳﾀ","芦屋学園"]
[4680,"柴田  健翔 2","ｼﾊﾞﾀ ｹﾝｼｮｳ","芦屋学園"]
[4681,"衣笠  大地 2","ｷﾇｶﾞｻ ﾀﾞｲﾁ","芦屋学園"]
[4682,"橋野  光翔 2","ﾊｼﾉ ﾋﾛﾄ","芦屋学園"]
[4788,"小林  俊音 4","ｺﾊﾞﾔｼ ｼｭﾝﾄ","甲南"]
[4789,"木田  崇登 4","ｷﾀﾞ ﾀｶﾄ","甲南"]
[4790,"林    嵩大 4","ﾊﾔｼ ﾀｶﾋﾛ","甲南"]
[4791,"楠    侑才 2","ｸｽﾉｷ ﾕｻ","甲南"]
[4792,"髙田  真弥 2","ﾀｶﾀﾞ ｼﾝﾔ","甲南"]
[4793,"平岡  空大 3","ﾋﾗｵｶ ｿﾗﾄ","甲南"]
[4794,"廣田    樹 2","ﾋﾛﾀ ｲﾂｷ","甲南"]
[4811,"鄧    正煕 4","ﾄｳ ｾｲｷ","芦国中等"]
[4813,"北村  怜意 2","ｷﾀﾑﾗ ﾚｲ","芦国中等"]
[4468,"下津  大輔 4","ｼﾓﾂ ﾀﾞｲｽｹ","雲雀丘"]
[4469,"津田  智明 4","ﾂﾀﾞ ﾄﾓｱｷ","雲雀丘"]
[4470,"奥内    光 4","ｵｸｳﾁ ﾋｶﾙ","雲雀丘"]
[4472,"吉岡  優樹 4","ﾖｼｵｶ ﾕｳｷ","雲雀丘"]
[4473,"浅田  知恕 4","ｱｻﾀﾞ ﾄﾓﾕｷ","雲雀丘"]
[4474,"楢崎浩太郎 3","ﾅﾗｻﾞｷ ｺｳﾀﾛｳ","雲雀丘"]
[4475,"岡﨑  壮真 3","ｵｶｻﾞｷ ｿｳﾏ","雲雀丘"]
[4476,"山田    巌 3","ﾔﾏﾀﾞ ｶﾞﾝ","雲雀丘"]
[4477,"川下  将慶 3","ｶﾜｼﾀ ﾕｷﾉﾘ","雲雀丘"]
[4478,"大谷  龍平 3","ｵｵﾀﾆ ﾘｭｳﾍｲ","雲雀丘"]
[4479,"岩田  敦暉 3","ｲﾜﾀ ｱﾂｷ","雲雀丘"]
[4480,"小牧  亮士 3","ｺﾏｷ ﾘｮｳｼﾞ","雲雀丘"]
[4481,"土谷    希 3","ﾂﾁﾀﾆ ﾉｿﾞﾐ","雲雀丘"]
[4482,"勝川  直彌 3","ｶﾂｶﾜ ﾅｵﾔ","雲雀丘"]
[4483,"森上  隼翔 3","ﾓﾘｶﾐ ﾊﾔﾄ","雲雀丘"]
[4531,"坂田遼太郎 4","ｻｶﾀ ﾘｮｳﾀﾛｳ","県国際"]
[4632,"西田  海音 4","ﾆｼﾀﾞ ｶｲﾄ","芦屋学園"]
[4633,"政次  斗愛 4","ﾏｻﾂｸﾞ ﾄｱ","芦屋学園"]
[4635,"田中  凌雅 4","ﾀﾅｶ ﾘｮｳｶﾞ","芦屋学園"]
[4636,"木山瑚太郎 4","ｷﾔﾏ ｺﾀﾛｳ","芦屋学園"]
[4638,"野上  宥貴 4","ﾉｶﾞﾐ ﾕｳｷ","芦屋学園"]
[4639,"渋谷  一世 3","ｼﾌﾞﾀﾆ ｲｯｾｲ","芦屋学園"]
[4640,"熊谷    天 3","ｸﾏｶﾞｲ ﾃﾝ","芦屋学園"]
[4659,"菅原  大翔 3","ｽｶﾞﾜﾗ ﾀｲｷ","芦屋学園"]
[4660,"山下  　汰 3","ﾔﾏｼﾀ ｺｳﾀ","芦屋学園"]
[4778,"奥村  敦志 9","ｵｸﾑﾗ ｱﾂｼ","甲南"]
[4779,"佐野  克樹 9","ｻﾉ ｶﾂｷ","甲南"]
[4780,"宗平  直大 9","ﾑﾈﾋﾗ ﾅｵﾄ","甲南"]
[4781,"大濱    陸 9","ｵｵﾊﾏ ﾘｸ","甲南"]
[4782,"星長宗一郎 9","ﾎｼﾅｶﾞ ｿｳｲﾁﾛｳ","甲南"]
[4783,"播磨  颯太 9","ﾊﾘﾏ ｿｳﾀ","甲南"]
[4784,"常本  晴大 4","ﾂﾈﾓﾄ ﾊﾙﾄ","甲南"]
[4785,"藤本  倖多 4","ﾌｼﾞﾓﾄ ｺｳﾀ","甲南"]
[4786,"山下  智也 4","ﾔﾏｼﾀ ﾄﾓﾔ","甲南"]
[4787,"小寺澤有輝 4","ｺﾃﾗｻﾜ ﾕｳｷ","甲南"]
[4809,"東    正宗 3","ﾋｶﾞｼ ﾏｻﾑﾈ","芦国中等"]
[4810,"Ernest JacobUy 3","ｱｰﾈｽﾄ ｼﾞｪｲｺﾌﾞｳｨｰ","芦国中等"]
[]
[]
[]
[]
[]
[]
[]
[]
[]
[]
[]
[]
[]
[]
[]
[]
[]
[]
[]
[null,null,null,null,null,"2024秋以降の追加登録選手（男子）はこのシートに入力してください"]
["№","氏名 学年","ﾌﾘｶﾞﾅ","学校名（略称）",null,"№","姓","名","学年","姓ﾌﾘｶﾞﾅ","名ﾌﾘｶﾞﾅ"]
[{"$f":"IF(F849=\"\",\"\",F849)","v":""},{"$f":"IF(OR(G849=\"\",H849=\"\"),\"\",G849&VLOOKUP(LEN(G849)+LEN(H849),$M$849:$N$852,2,TRUE)&H849&\" \"&I849)","v":""},{"$f":"IF(A849=\"\",\"\",ASC(J849&\" \"&K849))","v":""},{"$f":"IF(A849=\"\",\"\",初期設定!$H$3)","v":""},null,null,null,null,null,null,null,null,2,"　　　"]
[{"$f":"IF(F850=\"\",\"\",F850)","v":""},{"$f":"IF(OR(G850=\"\",H850=\"\"),\"\",G850&VLOOKUP(LEN(G850)+LEN(H850),$M$849:$N$852,2,TRUE)&H850&\" \"&I850)","v":""},{"$f":"IF(A850=\"\",\"\",ASC(J850&\" \"&K850))","v":""},{"$f":"IF(A850=\"\",\"\",初期設定!$H$3)","v":""},null,null,null,null,null,null,null,null,3,"　　"]
["","","",{"$f":"IF(A851=\"\",\"\",初期設定!$H$3)","v":""},null,null,null,null,null,null,null,null,4,"　"]
["","","",{"$f":"IF(A852=\"\",\"\",初期設定!$H$3)","v":""},null,null,null,null,null,null,null,null,5]
["","","",{"$f":"IF(A853=\"\",\"\",初期設定!$H$3)","v":""}]
["","","",{"$f":"IF(A854=\"\",\"\",初期設定!$H$3)","v":""}]
["","","",{"$f":"IF(A855=\"\",\"\",初期設定!$H$3)","v":""}]
["","","",{"$f":"IF(A856=\"\",\"\",初期設定!$H$3)","v":""}]
["","","",{"$f":"IF(A857=\"\",\"\",初期設定!$H$3)","v":""}]
["","","",{"$f":"IF(A858=\"\",\"\",初期設定!$H$3)","v":""}]
["","","",{"$f":"IF(A859=\"\",\"\",初期設定!$H$3)","v":""}]
["","","",{"$f":"IF(A860=\"\",\"\",初期設定!$H$3)","v":""}]
["","","",{"$f":"IF(A861=\"\",\"\",初期設定!$H$3)","v":""}]
["","","",{"$f":"IF(A862=\"\",\"\",初期設定!$H$3)","v":""}]
["","","",{"$f":"IF(A863=\"\",\"\",初期設定!$H$3)","v":""}]
["","","",{"$f":"IF(A864=\"\",\"\",初期設定!$H$3)","v":""}]
["","","",{"$f":"IF(A865=\"\",\"\",初期設定!$H$3)","v":""}]
["","","",{"$f":"IF(A866=\"\",\"\",初期設定!$H$3)","v":""}]
["","","",{"$f":"IF(A867=\"\",\"\",初期設定!$H$3)","v":""}]
["","","",{"$f":"IF(A868=\"\",\"\",初期設定!$H$3)","v":""}]
["","","",{"$f":"IF(A869=\"\",\"\",初期設定!$H$3)","v":""}]
["","","",{"$f":"IF(A870=\"\",\"\",初期設定!$H$3)","v":""}]
["","","",{"$f":"IF(A871=\"\",\"\",初期設定!$H$3)","v":""}]
["","","",{"$f":"IF(A872=\"\",\"\",初期設定!$H$3)","v":""}]
["","","",{"$f":"IF(A873=\"\",\"\",初期設定!$H$3)","v":""}]
["","","",{"$f":"IF(A874=\"\",\"\",初期設定!$H$3)","v":""}]
["","","",{"$f":"IF(A875=\"\",\"\",初期設定!$H$3)","v":""}]
["","","",{"$f":"IF(A876=\"\",\"\",初期設定!$H$3)","v":""}]
["","","",{"$f":"IF(A877=\"\",\"\",初期設定!$H$3)","v":""}]
["","","",{"$f":"IF(A878=\"\",\"\",初期設定!$H$3)","v":""}]
["","","",{"$f":"IF(A879=\"\",\"\",初期設定!$H$3)","v":""}]
["","","",{"$f":"IF(A880=\"\",\"\",初期設定!$H$3)","v":""}]

{"sheet":"女子選手追加","index":6,"n_rows":880,"n_cols":14,"rows_kept":880,"cut":false,"hidden":false,"merged":[]}
[178,"廣岡  咲良 4","ﾋﾛｵｶ ｻｸﾗ","県尼崎"]
[180,"堀    夏海 4","ﾎﾘ ﾅﾂﾐ","県尼崎"]
[182,"藤田  優來 4","ﾌｼﾞﾀ ﾕﾗ","県尼崎"]
[183,"高見  絢瞳 3","ﾀｶﾐ ｱﾔﾒ","県尼崎"]
[185,"芝村  悠里 3","ｼﾊﾞﾑﾗ ﾕｳﾘ","県尼崎"]
[186,"前田  栄愛 2","ﾏｴﾀﾞ ｴﾅ","県尼崎"]
[187,"田中  はる 2","ﾀﾅｶ ﾊﾙ","県尼崎"]
[188,"堀    千鶴 2","ﾎﾘ ﾁﾂﾞﾙ","県尼崎"]
[189,"谷本  七海 2","ﾀﾆﾓﾄ ﾅﾅﾐ","県尼崎"]
[243,"松村穂乃香 4","ﾏﾂﾑﾗ ﾎﾉｶ","市尼崎"]
[244,"藺牟田夏穂 4","ｲﾑﾀ ｶﾎ","市尼崎"]
[245,"青木  花梨 3","ｱｵｷ ｶﾘﾝ","市尼崎"]
[246,"谷脇  穂香 3","ﾀﾆﾜｷ ﾎﾉｶ","市尼崎"]
[247,"吉田  七海 3","ﾖｼﾀﾞ ﾅﾅﾐ","市尼崎"]
[248,"永井    遼 3","ﾅｶﾞｲ ﾊﾙｶ","市尼崎"]
[249,"中嶋  葵花 3","ﾅｶｼﾞﾏ ｱｵｲ","市尼崎"]
[250,"浜木    梓 3","ﾊﾏｷ ｱｽﾞｻ","市尼崎"]
[251,"田中  冬子 3","ﾀﾅｶ ﾄｳｺ","市尼崎"]
[252,"竹内  凛和 3","ﾀｹｳﾁ ﾘﾝﾅ","市尼崎"]
[253,"浅野  百子 3","ｱｻﾉ ﾓﾓｺ","市尼崎"]
[254,"井上  綾乃 3","ｲﾉｳｴ ｱﾔﾉ","市尼崎"]
[255,"下南  愛優 2","ｼﾓﾐﾅﾐ ｱﾕ","市尼崎"]
[256,"田邊  乃愛 2","ﾀﾅﾍﾞ ﾉｱ","市尼崎"]
[257,"山口結羽優 2","ﾔﾏｸﾞﾁ ﾕｳﾕ","市尼崎"]
[258,"山下  芽歌 2","ﾔﾏｼﾀ ﾒｲｶ","市尼崎"]
[259,"森下  友愛 2","ﾓﾘｼﾀ ﾕﾒ","市尼崎"]
[260,"渡部  結楽 2","ﾜﾀﾅﾍﾞ ｷｾﾗ","市尼崎"]
[261,"齋藤  百花 2","ｻｲﾄｳ ﾓﾓｶ","市尼崎"]
[262,"福地  結花 2","ﾌｸﾁ ﾕｲｶ","市尼崎"]
[263,"椿山流季彩 2","ﾂﾊﾞｷﾔﾏ ﾙｷｱ","市尼崎"]
[301,"平田  伊織 4","ﾋﾗﾀ ｲｵﾘ","尼崎双星"]
[302,"井上りんか 4","ｲﾉｳｴ ﾘﾝｶ","尼崎双星"]
[304,"岡部  沙和 4","ｵｶﾍﾞ ｻﾜ","尼崎双星"]
[306,"秦    桃香 3","ﾊﾀ ﾓﾓｶ","尼崎双星"]
[307,"川口紗稀音 3","ｶﾜｸﾞﾁ ｻｷﾈ","尼崎双星"]
[310,"飯田  ゆあ 3","ｲｲﾀﾞ ﾕｱ","尼崎双星"]
[311,"熊谷  なな 3","ｸﾏｶﾞｲ ﾅﾅ","尼崎双星"]
[314,"若宮    麗 3","ﾜｶﾐﾔ ｳﾗﾗ","尼崎双星"]
[317,"森岡  優衣 3","ﾓﾘｵｶ ﾕｲ","尼崎双星"]
[318,"木村  智美 3","ｷﾑﾗ ﾄﾓﾐ","尼崎双星"]
[319,"高田  愛音 2","ﾀｶﾀ ｶﾉﾝ","尼崎双星"]
[320,"讃岐  奏音 2","ｻﾇｷ ｶﾅﾈ","尼崎双星"]
[321,"田中  優奈 2","ﾀﾅｶ ﾕﾅ","尼崎双星"]
[322,"前田  恋風 2","ﾏｴﾀﾞ ﾚﾝｶ","尼崎双星"]
[323,"山下  愛子 2","ﾔﾏｼﾀ ｱｲｺ","尼崎双星"]
[398,"松下  來未 4","ﾏﾂｼﾀ ﾕﾐ","尼崎双星"]
[399,"富永  芽唯 4","ﾄﾐﾅｶﾞ ﾒｲ","尼崎双星"]
[466,"大久保美優 3","ｵｵｸﾎﾞ ﾐﾕｳ","尼崎西"]
[467,"山下  果耶 3","ﾔﾏｼﾀ ｶﾔ","尼崎西"]
[468,"大坂  珠梨 3","ｵｵｻｶ ｼﾞｭﾘ","尼崎西"]
[469,"鈴木  心遥 3","ｽｽﾞｷ ｺﾊﾙ","尼崎西"]
[470,"多衛野杏樹 3","ﾀｴﾉ ｱﾝｼﾞｭ","尼崎西"]
[471,"田上  璃音 4","ﾀﾉｳｴ ﾘﾉﾝ","尼崎西"]
[472,"紺谷  汐凪 4","ｺﾝﾀﾆ ｾﾅ","尼崎西"]
[473,"赤松    玲 2","ｱｶﾏﾂ ﾚｲ","尼崎西"]
[474,"奥    倖菜 2","ｵｸ ﾕｷﾅ","尼崎西"]
[475,"寺地  海空 2","ﾃﾗﾁ ﾐｿﾗ","尼崎西"]
[476,"橋本まりん 2","ﾊｼﾓﾄ ﾏﾘﾝ","尼崎西"]
[477,"北野  志織 2","ｷﾀﾉ ｼｵﾘ","尼崎西"]
[478,"河田  陽菜 2","ｶﾜﾀ ﾊﾙﾅ","尼崎西"]
[514,"乾    衣澄 4","ｲﾇｲ ｲｽﾞﾐ","尼崎北"]
[515,"小川  桃子 4","ｵｶﾞﾜ ﾄｳｺ","尼崎北"]
[516,"中野  一葉 4","ﾅｶﾉ ｲﾁﾊ","尼崎北"]
[517,"廣瀬  未羽 4","ﾋﾛｾ ﾐｳ","尼崎北"]
[518,"森本  真緒 3","ﾓﾘﾓﾄ ﾏｵ","尼崎北"]
[519,"笠谷  瑠南 3","ｶｻﾀﾆ ﾙﾅ","尼崎北"]
[520,"密本  彩乃 3","ﾐﾂﾓﾄ ｱﾔﾉ","尼崎北"]
[521,"小林  あい 2","ｺﾊﾞﾔｼ ｱｲ","尼崎北"]
[522,"佐久間華恵 2","ｻｸﾏ ｶｴ","尼崎北"]
[523,"堺井  りん 2","ｻｶｲ ﾘﾝ","尼崎北"]
[524,"米田  優香 2","ｺﾒﾀﾞ ﾕｳｶ","尼崎北"]
[525,"吉田  奈々 2","ﾖｼﾀﾞ ﾅﾅ","尼崎北"]
[526,"永本  奏瑛 2","ﾅｶﾞﾓﾄ ｶﾅｴ","尼崎北"]
[527,"永井  凛奈 3","ﾅｶﾞｲ ﾘﾝﾅ","尼崎北"]
[646,"水野いろは 4","ﾐｽﾞﾉ ｲﾛﾊ","尼崎稲園"]
[647,"佐野  晴菜 4","ｻﾉ ﾊﾙﾅ","尼崎稲園"]
[648,"綿越  友唯 4","ﾜﾀｺﾞｼ ﾕｲ","尼崎稲園"]
[649,"福本  夏帆 4","ﾌｸﾓﾄ ｶﾎ","尼崎稲園"]
[650,"具志堅  凜 4","ｸﾞｼｹﾝ ﾘﾝ","尼崎稲園"]
[651,"坂本美優菜 4","ｻｶﾓﾄ ﾐﾕﾅ","尼崎稲園"]
[652,"重村  咲希 4","ｼｹﾞﾑﾗ ｻｷ","尼崎稲園"]
[653,"福本  涼菜 4","ﾌｸﾓﾄ ｽｽﾞﾅ","尼崎稲園"]
[654,"粂    咲子 3","ｸﾒ ｻｷｺ","尼崎稲園"]
[655,"岡本  莉子 3","ｵｶﾓﾄ ﾘｺ","尼崎稲園"]
[656,"松田  美和 3","ﾏﾂﾀﾞ ﾐﾜ","尼崎稲園"]
[657,"上田  悠月 3","ｳｴﾀﾞ ﾕﾂﾞｷ","尼崎稲園"]
[658,"小野  郁美 2","ｵﾉ ｲｸﾐ","尼崎稲園"]
[659,"辰田  真子 2","ﾀﾂﾀ ﾏｺ","尼崎稲園"]
[660,"田畑  優樹 2","ﾀﾊﾞﾀ ﾕｳｷ","尼崎稲園"]
[661,"寺坂  結月 2","ﾃﾗｻｶ ﾕﾂﾞｷ","尼崎稲園"]
[662,"牛山奈律希 2","ｳｼﾔﾏ ﾅﾂｷ","尼崎稲園"]
[663,"勝山  愛加 3","ｶﾂﾔﾏ ｱｲｶ","尼崎稲園"]
[664,"井上実由子 2","ｲﾉｳｴ ﾐﾕｺ","尼崎稲園"]
[665,"斎藤友紀恵 2","ｻｲﾄｳ ﾕｷｴ","尼崎稲園"]
[666,"嶋田  菜生 3","ｼﾏﾀﾞ ﾅｵ","尼崎稲園"]
[721,"松田    葵 4","ﾏﾂﾀﾞ ｱｵｲ","尼崎小田"]
[722,"飯田  聖菜 4","ｲｲﾀﾞ ｼｮｳﾅ","尼崎小田"]
[724,"山内  架音 3","ﾔﾏｳﾁ ｶﾉﾝ","尼崎小田"]
[725,"須田  楓夏 3","ｽﾀﾞ ﾌｳｶ","尼崎小田"]
[726,"祐永  姫那 3","ｽｹﾅｶﾞ ﾋﾅ","尼崎小田"]
[727,"佐々木美月 3","ｻｻｷ ﾐﾂﾞｷ","尼崎小田"]
[730,"植西  紗奈 2","ｳｴﾆｼ ｻﾅ","尼崎小田"]
[731,"東前    咲 2","ﾋｶﾞｼﾏｴ ｻｷ","尼崎小田"]
[908,"池田  千里 4","ｲｹﾀﾞ ﾁｻﾄ","武庫荘総合"]
[909,"内山  鈴理 4","ｳﾁﾔﾏ ｽｽﾞﾘ","武庫荘総合"]
[910,"河野ひなた 4","ｶﾜﾉ ﾋﾅﾀ","武庫荘総合"]
[911,"桐谷  結沙 4","ｷﾘﾀﾆ ﾕｻ","武庫荘総合"]
[912,"冨士菜々子 4","ﾌｼﾞ ﾅﾅｺ","武庫荘総合"]
[913,"中井  葉蕗 4","ﾅｶｲ ﾊﾛ","武庫荘総合"]
[915,"後藤  由奈 3","ｺﾞﾄｳ ﾕﾅ","武庫荘総合"]
[916,"平    美優 3","ﾀｲﾗ ﾐﾕ","武庫荘総合"]
[917,"寺本  咲来 3","ﾃﾗﾓﾄ ｻｸﾗ","武庫荘総合"]
[919,"清水  美初 2","ｼﾐｽﾞ ﾐｳ","武庫荘総合"]
[920,"内藤  優空 2","ﾅｲﾄｳ ﾕｱ","武庫荘総合"]
[921,"有馬妃奈乃 2","ｱﾘﾏ ﾋﾅﾉ","武庫荘総合"]
[1201,"吉田  帆花 4","ﾖｼﾀﾞ ﾎﾉｶ","園田"]
[1202,"村上  葵彩 4","ﾑﾗｶﾐ ｱｵｲ","園田"]
[1203,"池上  嬉和 3","ｲｹｶﾞﾐ ｷﾖﾘ","園田"]
[1204,"柿谷  沙奈 3","ｶｷﾀﾆ ｼｲﾅ","園田"]
[1205,"佐藤  舞奈 3","ｻﾄｳ ﾏﾅ","園田"]
[1206,"澤田  裕佳 3","ｻﾜﾀﾞ ﾋﾛｶ","園田"]
[1207,"田村  佳菜 3","ﾀﾑﾗ ｶﾅ","園田"]
[1208,"鳥居佑璃那 3","ﾄﾘｲ ﾕﾘﾅ","園田"]
[1209,"本多    七 3","ﾎﾝﾀﾞ ﾅﾂ","園田"]
[1210,"水田  彩花 3","ﾐｽﾞﾀ ｱﾔｶ","園田"]
[1211,"山下  愛梨 3","ﾔﾏｼﾀ ｱｲﾘ","園田"]
[1212,"谷    愛菜 3","ﾀﾆ ｱｲﾅ","園田"]
[1213,"池田  妃那 2","ｲｹﾀﾞ ﾋﾅ","園田"]
[1214,"大神  彩羽 2","ｵｵｶﾞﾐ ｲﾛﾊ","園田"]
[1215,"大城  奏衣 2","ｵｵｷﾞ ｿﾉｲ","園田"]
[1216,"亀岡きらな 2","ｶﾒｵｶ ｷﾗﾅ","園田"]
[1217,"川見  瑠依 2","ｶﾜﾐ ﾙｲ","園田"]
[1218,"國生  和花 2","ｺｸｼｮｳ ﾜｶ","園田"]
[1219,"小林  流歌 2","ｺﾊﾞﾔｼ ﾙｶ","園田"]
[1220,"坂本  楓夏 2","ｻｶﾓﾄ ﾌｳｶ","園田"]
[1221,"多田優衣香 2","ﾀﾀﾞ ﾕｲｶ","園田"]
[1222,"田中  芽依 2","ﾀﾅｶ ﾒｲ","園田"]
[1223,"田中  夕映 2","ﾀﾅｶ ﾕｴ","園田"]
[1224,"戸田  智唯 2","ﾄﾀﾞ ﾁｲ","園田"]
[1225,"長瀬  早紀 2","ﾅｶﾞｾ ｻｷ","園田"]
[1226,"早川  侑希 2","ﾊﾔｶﾜ ﾕｳｷ","園田"]
[1227,"林    佑亜 2","ﾊﾔｼ ﾕｱ","園田"]
[1228,"福井  絢乃 2","ﾌｸｲ ｱﾔﾉ","園田"]
[1229,"堀  香里奈 2","ﾎﾘ ｶﾘﾅ","園田"]
[1230,"宮岸依瑳菜 2","ﾐﾔｷﾞｼ ｲｻﾅ","園田"]
[1231,"村上姫以菜 2","ﾑﾗｶﾐ ﾋｲﾅ","園田"]
[1232,"安田  風羽 2","ﾔｽﾀﾞ ﾌｳ","園田"]
[1233,"藤原  柚花 2","ﾌｼﾞﾜﾗ ﾕｽﾞﾊ","園田"]
[1287,"芦田  真由 4","ｱｼﾀﾞ ﾏﾕ","園田"]
[1288,"岡本  実来 4","ｵｶﾓﾄ ﾐｸ","園田"]
[1289,"小西  流月 4","ｺﾆｼ ﾙﾅ","園田"]
[1290,"近藤  百華 4","ｺﾝﾄﾞｳ ﾓﾓｶ","園田"]
[1291,"島田  幸羽 4","ｼﾏﾀﾞ ｺﾊﾈ","園田"]
[1292,"辻川  海月 4","ﾂｼﾞｶﾜ ﾐﾂｷ","園田"]
[1293,"照    りこ 4","ﾃﾗｼ ﾘｺ","園田"]
[1294,"中尾  巴映 4","ﾅｶｵ ﾄﾓｴ","園田"]
[1295,"野田  瑚羽 4","ﾉﾀﾞ ｺﾊﾈ","園田"]
[1296,"久留  未羽 4","ﾋｻﾄﾞﾒ ﾐｳ","園田"]
[1297,"松田  美月 4","ﾏﾂﾀﾞ ﾐﾂｷ","園田"]
[1298,"丸野    梓 4","ﾏﾙﾉ ｱﾂﾞｻ","園田"]
[1299,"宮﨑    凛 4","ﾐﾔｻﾞｷ ﾘﾝ","園田"]
[1418,"上川  紗季 4","ｶﾐｶﾜ ｻｷ","県西宮"]
[1419,"清永  英杏 4","ｷﾖﾅｶﾞ ｴｱﾝ","県西宮"]
[1420,"黒瀨友希乃 4","ｸﾛｾ ﾕｷﾉ","県西宮"]
[1421,"戸井  裕菜 4","ﾄｲ ﾕｳﾅ","県西宮"]
[1422,"佐伯  愛莉 4","ｻｴｷ ｱｲﾘ","県西宮"]
[1423,"副島  悠花 4","ｿｴｼﾞﾏ ﾕｳｶ","県西宮"]
[1424,"松本  純怜 4","ﾏﾂﾓﾄ ｽﾐﾚ","県西宮"]
[1428,"井口  綾乃 3","ｲｸﾞﾁ ｱﾔﾉ","県西宮"]
[1429,"木村  春香 3","ｷﾑﾗ ﾊﾙｶ","県西宮"]
[1430,"真田  深愛 3","ｻﾅﾀﾞ ﾐﾗｲ","県西宮"]
[1431,"中林  美咲 3","ﾅｶﾊﾞﾔｼ ﾐｻ","県西宮"]
[1432,"大藤  歩子 3","ｵｵﾌｼﾞ ｱｺ","県西宮"]
[1433,"天野  芽衣 2","ｱﾏﾉ ﾒｲ","県西宮"]
[1434,"岡田  雛妃 2","ｵｶﾀﾞ ﾋﾅｷ","県西宮"]
[1435,"小川  美輝 2","ｵｶﾞﾜ ﾐｷ","県西宮"]
[1436,"岸田  七海 2","ｷｼﾀﾞ ﾅﾅﾐ","県西宮"]
[1437,"木下  結賀 2","ｷﾉｼﾀ ﾕｲｶ","県西宮"]
[1438,"高濵  瑞紀 2","ﾀｶﾊﾏ ﾐｽﾞｷ","県西宮"]
[1439,"東    光希 2","ﾋｶﾞｼ ﾐﾂｷ","県西宮"]
[1440,"山田  遥菜 2","ﾔﾏﾀﾞ ﾊﾙﾅ","県西宮"]
[1441,"武田  千怜 2","ﾀｹﾀﾞ ﾁｻﾄ","県西宮"]
[1532,"井東  紗弓 4","ｲﾄｳ ｻﾕﾐ","市西宮"]
[1533,"伊藤  里子 4","ｲﾄｳ ﾘｺ","市西宮"]
[1534,"仲埜  心葉 4","ﾅｶﾉ ｺﾄﾊ","市西宮"]
[1535,"阪本  千紘 4","ｻｶﾓﾄ ﾁﾋﾛ","市西宮"]
[1536,"柳    心乃 4","ﾔﾅｷﾞ ｺｺﾉ","市西宮"]
[1537,"荒谷  香実 4","ｱﾗﾀﾆ ｺﾉﾐ","市西宮"]
[1538,"黒田  涼音 4","ｸﾛﾀﾞ ｽｽﾞﾈ","市西宮"]
[1539,"龍本ユリナ 4","ﾘｭｳﾓﾄ ﾕﾘﾅ","市西宮"]
[1540,"牟田かれん 4","ﾑﾀ ｶﾚﾝ","市西宮"]
[1542,"久戸瀬心美 4","ｸﾄﾞｾ ｺｺﾐ","市西宮"]
[1543,"小川  凜花 4","ｵｶﾞﾜ ﾘﾝｶ","市西宮"]
[1544,"中島  帆南 4","ﾅｶｼﾞﾏ ﾎﾅﾐ","市西宮"]
[1545,"松下  心優 3","ﾏﾂｼﾀ ﾐﾕ","市西宮"]
[1546,"大矢根理紗 3","ｵｵﾔﾈ ﾘｻ","市西宮"]
[1547,"石田  乙羽 3","ｲｼﾀﾞ ｵﾄﾊ","市西宮"]
[1548,"高    雨橋 3","ｺｳ ｳｷｮｳ","市西宮"]
[1549,"向井  志織 3","ﾑｶｲ ｼｵﾘ","市西宮"]
[1550,"森  明日香 3","ﾓﾘ ｱｽｶ","市西宮"]
[1551,"髙田  涼華 3","ﾀｶﾀ ｽｽﾞｶ","市西宮"]
[1553,"山上  那苗 3","ﾔﾏｶﾞﾐ ﾅﾅｴ","市西宮"]
[1554,"阿曽  杏香 2","ｱｿ ﾓﾓｶ","市西宮"]
[1555,"龍本まりな 2","ﾘｭｳﾓﾄ ﾏﾘﾅ","市西宮"]
[1556,"川森  心希 2","ｶﾜﾓﾘ ｺｺﾉ","市西宮"]
[1557,"間森    楓 2","ﾏﾓﾘ ｶｴﾃﾞ","市西宮"]
[1558,"矢澤  里奈 2","ﾔｻﾞﾜ ﾘﾅ","市西宮"]
[1559,"向井  詩葉 2","ﾑｶｲ ｳﾀﾊ","市西宮"]
[1560,"逢坂ひかり 2","ｵｳｻｶ ﾋｶﾘ","市西宮"]
[1561,"坂口  桃萌 2","ｻｶｸﾞﾁ ﾓﾓ","市西宮"]
[1603,"増田  望美 4","ﾏｽﾀﾞ ﾉｿﾞﾐ","西宮東"]
[1604,"名越  心優 4","ﾅｺﾞｼ ﾐﾋﾛ","西宮東"]
[1605,"森    心優 4","ﾓﾘ ﾐﾋﾛ","西宮東"]
[1606,"東条  真優 4","ﾄｳｼﾞｮｳ ﾏﾕ","西宮東"]
[1607,"古賀美知瑠 4","ｺｶﾞ ﾐﾁﾙ","西宮東"]
[1608,"石田  陽楽 3","ｲｼﾀﾞ ﾋﾗ","西宮東"]
[1609,"森山  凛夏 3","ﾓﾘﾔﾏ ﾘﾝｶ","西宮東"]
[1610,"和唐萌々花 3","ﾜﾄｳ ﾓﾓｶ","西宮東"]
[1611,"首藤あすか 3","ｼｭﾄｳ ｱｽｶ","西宮東"]
[1612,"籔田このみ 3","ﾔﾌﾞﾀ ｺﾉﾐ","西宮東"]
[1613,"小泉  美結 3","ｺｲｽﾞﾐ ﾐﾕ","西宮東"]
[1616,"前田  美詞 2","ﾏｴﾀﾞ ﾐﾉﾘ","西宮東"]
[1617,"山本    葵 2","ﾔﾏﾓﾄ ｱｵｲ","西宮東"]
[1618,"川次菜々穂 2","ｶﾜﾂｸﾞ ﾅﾅﾎ","西宮東"]
[1619,"藤野    雅 2","ﾌｼﾞﾉ ﾐﾔﾋﾞ","西宮東"]
[1620,"木﨑  友結 2","ｷｻｷ ﾕｲ","西宮東"]
[1621,"西本  雪華 2","ﾆｼﾓﾄ ﾕｷｶ","西宮東"]
[1622,"増田  真心 2","ﾏｽﾀﾞ ﾏｺ","西宮東"]
[1623,"高島  由羽 2","ﾀｶｼﾏ ﾕｳ","西宮東"]
[1718,"馬場  梨愛 4","ﾊﾞﾊﾞ ﾘｱ","西宮南"]
[1719,"好士﨑春佳 4","ｺｳｼｻﾞｷ ﾊﾙｶ","西宮南"]
[1720,"石川  歩美 4","ｲｼｶﾜ ｱﾕﾐ","西宮南"]
[1721,"横田    椿 3","ﾖｺﾀ ﾂﾊﾞｷ","西宮南"]
[1722,"塚本  紗衣 3","ﾂｶﾓﾄ ｻｴ","西宮南"]
[1725,"櫻木  柚花 3","ｻｸﾗｷﾞ ﾕｽﾞｶ","西宮南"]
[1726,"武智  美海 3","ﾀｹﾁ ﾐｳ","西宮南"]
[1727,"美濃部十希 3","ﾐﾉﾍﾞ ﾄｷ","西宮南"]
[1728,"杉山  さい 2","ｽｷﾞﾔﾏ ｻｲ","西宮南"]
[1729,"松崎  華子 2","ﾏﾂｻﾞｷ ﾊﾅｺ","西宮南"]
[1730,"免出  治起 2","ﾒﾝﾃﾞ ﾉﾌﾞｷ","西宮南"]
[1790,"稲荷  優真 2","ｲﾅﾘ ﾕｳﾏ","西宮南"]
[1801,"島田理紗子 3","ｼﾏﾀﾞ ﾘｻｺ","西宮北"]
[1802,"松川  貴子 3","ﾏﾂｶﾜ ﾀｶｺ","西宮北"]
[1803,"矢須  央栞 3","ﾔｽ ﾋﾛｶ","西宮北"]
[1805,"川見  梨瑚 2","ｶﾜﾐ ﾘｺ","西宮北"]
[1806,"山城  紗希 2","ﾔﾏｼﾛ ｻｷ","西宮北"]
[1897,"佐々木夏帆 4","ｻｻｷ ﾅﾂﾎ","西宮北"]
[1898,"西田  理紗 4","ﾆｼﾀﾞ ﾘｻ","西宮北"]
[1899,"籾山  結菜 4","ﾓﾐﾔﾏ ﾕﾅ","西宮北"]
[1904,"宇田美津希 4","ｳﾀﾞ ﾐﾂｷ","鳴尾"]
[1905,"岡    穂純 4","ｵｶ ﾎｽﾞﾐ","鳴尾"]
[1906,"面髙  瑠花 4","ｵﾓﾀｶ ﾙｶ","鳴尾"]
[1907,"楠本つむぎ 4","ｸｽﾓﾄ ﾂﾑｷﾞ","鳴尾"]
[1909,"向井  莉子 4","ﾑｶｲ ﾘｺ","鳴尾"]
[1911,"沢井  愛実 3","ｻﾜｲ ﾏﾅﾐ","鳴尾"]
[1912,"藤田  陽菜 3","ﾌｼﾞﾀ ﾋﾅ","鳴尾"]
[1913,"皆木萌々華 3","ﾐﾅｷﾞ ﾓﾓｶ","鳴尾"]
[1914,"濱口  夢葉 3","ﾊﾏｸﾞﾁ ﾕﾒﾊ","鳴尾"]
[1915,"古谷  菜穂 2","ﾌﾙﾀﾆ ﾅﾎ","鳴尾"]
[1916,"西村  胡春 2","ﾆｼﾑﾗ ｺﾊﾙ","鳴尾"]
[1917,"呉田  花音 2","ｸﾚﾀ ｶﾉﾝ","鳴尾"]
[2001,"猪股  詩織 3","ｲﾉﾏﾀ ｼｵﾘ","西宮今津"]
[2002,"吉成  真蕗 3","ﾖｼﾅﾘ ﾏﾌﾞｷ","西宮今津"]
[2005,"中川利香子 2","ﾅｶｶﾞﾜ ﾘｶｺ","西宮今津"]
[2006,"藤本楽々花 2","ﾌｼﾞﾓﾄ ﾗﾗｶ","西宮今津"]
[2007,"小川穂乃果 2","ｵｶﾞﾜ ﾎﾉｶ","西宮今津"]
[2097,"井原今日香 4","ｲﾊﾗ ｷｮｳｶ","西宮今津"]
[2098,"眞殿  悠希 4","ﾏﾄﾞﾉ ﾕｷ","西宮今津"]
[2099,"大本  歩佳 3","ｵｵﾓﾄ ｱﾕｶ","西宮今津"]
[2148,"鍋谷久美子 4","ﾅﾍﾞﾀﾆ ｸﾐｺ","西宮甲山"]
[2151,"平内  りあ 3","ﾋﾗｳﾁ ﾘｱ","西宮甲山"]
[2152,"加藤    光 3","ｶﾄｳ ﾋｶﾙ","西宮甲山"]
[2352,"勝野  七菜 4","ｶﾂﾉ ﾅﾅ","関学"]
[2353,"横谷  寧々 4","ﾖｺﾀﾆ ﾈﾈ","関学"]
[2354,"岸    穂香 3","ｷｼ ﾎﾉｶ","関学"]
[2355,"松浦  花萌 3","ﾏﾂｳﾗ ｶﾎ","関学"]
[2356,"久保田理子 3","ｸﾎﾞﾀ ﾘｺ","関学"]
[2358,"荒井  祐香 2","ｱﾗｲ ﾕｳｶ","関学"]
[2358,"荒井  祐香 2","ｱﾗｲ ﾕｳｶ","関学"]
[2359,"井上  梨奈 2","ｲﾉｳｴ ﾘﾅ","関学"]
[2361,"西村  小和 2","ﾆｼﾑﾗ ｺﾖﾘ","関学"]
[2362,"二口  心美 2","ﾌﾀｸﾁ ｺｺﾐ","関学"]
[2567,"城下  朔美 4","ｼﾛｼﾀ ｻｸﾐ","仁川"]
[2571,"夏  亜八華 3","ﾅﾂ ｱﾔｶ","仁川"]
[2572,"ジゼルショー 3","ｼﾞｾﾞﾙ ｼｮｰ","仁川"]
[2573,"寺田  葵花 ","ﾃﾗﾀﾞ ｱｲｶ","仁川"]
[2574,"松下  あこ ","ﾏﾂｼﾀ ｱｺ","仁川"]
[2575,"長部  純子 2","ｵｻﾍﾞ ｼﾞｭﾝｺ","仁川"]
[2576,"田中  結菜 2","ﾀﾅｶ ﾕﾅ","仁川"]
[2745,"藤田  真子 4","ﾌｼﾞﾀ ﾏｺ","武庫川大附"]
[2746,"吉村  美佑 4","ﾖｼﾑﾗ ﾐﾕｳ","武庫川大附"]
[2747,"木下  京香 4","ｷﾉｼﾀ ｷｮｳｶ","武庫川大附"]
[2748,"山口  万由 4","ﾔﾏｸﾞﾁ ﾏﾕ","武庫川大附"]
[2749,"藤田  春風 4","ﾌｼﾞﾀ ﾊﾙｶ","武庫川大附"]
[2751,"林    真央 3","ﾊﾔｼ ﾏｵ","武庫川大附"]
[2754,"山村  榎鈴 3","ﾔﾏﾑﾗ ｶﾘﾝ","武庫川大附"]
[2755,"中井  優空 3","ﾅｶｲ ﾕﾗ","武庫川大附"]
[2757,"藤田  桃花 2","ﾌｼﾞﾀ ﾓﾓｶ","武庫川大附"]
[3015,"上平  紗希 4","ｶﾐﾀﾞｲﾗ ｻｷ","県伊丹"]
[3016,"大前  優音 4","ｵｵﾏｴ ﾕﾉﾝ","県伊丹"]
[3018,"蔭山  明希 4","ｶｹﾞﾔﾏ ｱｷ","県伊丹"]
[3020,"足立きよら 3","ｱﾀﾞﾁ ｷﾖﾗ","県伊丹"]
[3021,"宮田  茉奈 3","ﾐﾔﾀ ﾏﾅ","県伊丹"]
[3022,"竹内  心優 3","ﾀｹｳﾁ ﾕﾐ","県伊丹"]
[3024,"牧野  衣葉 3","ﾏｷﾉ ｲﾛﾊ","県伊丹"]
[3025,"永石  柚華 3","ﾅｶﾞｲｼ ﾕｽﾞﾊ","県伊丹"]
[3026,"亀田  遥愛 3","ｶﾒﾀ ﾊﾙｱ","県伊丹"]
[3027,"小西  麻央 3","ｺﾆｼ ﾏｵ","県伊丹"]
[3029,"佐藤あおい 2","ｻﾄｳ ｱｵｲ","県伊丹"]
[3030,"野正  妃捺 2","ﾉﾏｻ ﾋﾅ","県伊丹"]
[3031,"針谷こころ 2","ﾊﾘﾔ ｺｺﾛ","県伊丹"]
[3032,"迫田  悠花 2","ｻｺﾀﾞ ﾕｳｶ","県伊丹"]
[3033,"玉置  芽衣 2","ﾀﾏｷ ﾒｲ","県伊丹"]
[3105,"角野  里奈 4","ｶｸﾉ ﾘﾅ","市伊丹"]
[3106,"吉川  侑来 4","ﾖｼｶﾜ ﾕﾗ","市伊丹"]
[3107,"影山  ゆな 4","ｶｹﾞﾔﾏ ﾕﾅ","市伊丹"]
[3108,"梶田  梨津 4","ｶｼﾞﾀ ﾘﾂ","市伊丹"]
[3109,"柏原  菜那 4","ｶｼﾜﾊﾞﾗ ﾅﾅ","市伊丹"]
[3110,"竹内  千夏 4","ﾀｹｳﾁ ﾁｶ","市伊丹"]
[3111,"波田  梨花 4","ﾊﾀﾞ ﾘﾝｶ","市伊丹"]
[3112,"高橋  彩音 4","ﾀｶﾊｼ ｱﾔﾈ","市伊丹"]
[3113,"溜池  果歩 4","ﾀﾒｲｹ ｶﾎ","市伊丹"]
[3114,"加治屋歩泉 3","ｶｼﾞﾔ ｱﾕﾐ","市伊丹"]
[3115,"富永  実優 3","ﾄﾐﾅｶﾞ ﾐﾕ","市伊丹"]
[3116,"峰松    葵 3","ﾐﾈﾏﾂ ｱｵｲ","市伊丹"]
[3117,"衣川    風 3","ｷﾇｶﾞﾜ ﾌｳﾉ","市伊丹"]
[3118,"柏原  寧音 3","ｶｼﾜﾊﾞﾗ ﾈﾈ","市伊丹"]
[3119,"羽野亜珠美 3","ﾊﾉ ｱｽﾞﾐ","市伊丹"]
[3120,"高橋    葵 3","ﾀｶﾊｼ ｱｵｲ","市伊丹"]
[3121,"若林  奏音 3","ﾜｶﾊﾞﾔｼ ｶﾉﾝ","市伊丹"]
[3122,"ﾛｯｸﾊｰﾄ愛里 2","ﾛｯｸﾊｰﾄ ｱｲﾘ","市伊丹"]
[3123,"前野  彩夏 2","ﾏｴﾉ ｱﾔｶ","市伊丹"]
[3214,"岡本  一華 4","ｵｶﾓﾄ ｲﾁｶ","伊丹西"]
[3216,"松本  芽依 3","ﾏﾂﾓﾄ ﾒｲ","伊丹西"]
[3217,"深井  陽菜 3","ﾌｶｲ ﾋﾅ","伊丹西"]
[3218,"萩原    凛 3","ﾊｷﾞﾊﾗ ﾘﾝ","伊丹西"]
[3219,"香川  心陽 2","ｶｶﾞﾜ ｺﾊﾙ","伊丹西"]
[3220,"西原  愛哩 2","ﾆｼﾊﾗ ｱｲﾘ","伊丹西"]
[3304,"上田  莉奈 4","ｳｴﾀﾞ ﾘﾅ","伊丹北"]
[3305,"上野  琴音 4","ｳｴﾉ ｺﾄﾈ","伊丹北"]
[3307,"増原  愛莉 4","ﾏｽﾊﾗ ｱｲﾘ","伊丹北"]
[3308,"佐藤  優月 3","ｻﾄｳ ﾕﾂﾞｷ","伊丹北"]
[3309,"桑原  はな 3","ｸﾜﾊﾗ ﾊﾅ","伊丹北"]
[3310,"加藤一千琉 3","ｶﾄｳ ｲﾁﾙ","伊丹北"]
[3311,"菅野帆万里 3","ｽｶﾞﾉ ﾎﾏﾘ","伊丹北"]
[3312,"中川  菜々 2","ﾅｶｶﾞﾜ ﾅﾅ","伊丹北"]
[3462,"朽木  陽香 4","ｸﾂｷ ﾊﾙｶ","川西緑台"]
[3463,"藤原    睦 4","ﾌｼﾞﾊﾗ ﾏｺﾄ","川西緑台"]
[3465,"大畑  花音 4","ｵｵﾊﾀ ｶﾉﾝ","川西緑台"]
[3467,"大槻  優和 3","ｵｵﾂｷ ﾕｳﾅ","川西緑台"]
[3468,"田中  里奈 3","ﾀﾅｶ ﾘﾅ","川西緑台"]
[3470,"辻下梨依子 2","ﾂｼﾞｼﾀ ﾘｲｺ","川西緑台"]
[3471,"大岸  空琶 2","ｵｵｷﾞｼ ｸｳﾊ","川西緑台"]
[3590,"中村  夢咲 4","ﾅｶﾑﾗ ﾐｻｷ","川西明峰"]
[3592,"三木  桃羽 2","ﾐｷ ﾓﾓﾊ","川西明峰"]
[3640,"片平  花音 2","ｶﾀﾋﾗ ｶﾉﾝ","川西北陵"]
[3641,"佐藤  怜菜 2","ｻﾄｳ ﾚﾅ","川西北陵"]
[3642,"髙畑  日菜 2","ﾀｶﾊﾀ ﾋﾅ","川西北陵"]
[3643,"寺野  真望 2","ﾃﾗﾉ ﾏﾎ","川西北陵"]
[3644,"常盤    絆 2","ﾄｷﾜ ｷｽﾞﾅ","川西北陵"]
[3645,"長谷明沙奈 2","ﾊｾ ｱｻﾅ","川西北陵"]
[3784,"立石  奈緒 4","ﾀﾃｲｼ ﾅｵ","猪名川"]
[3785,"小川  舞夕 4","ｵｶﾞﾜ ﾏﾕ","猪名川"]
[3787,"南    芽泉 4","ﾐﾅﾐ ﾒｲ","猪名川"]
[3823,"浦    仁菜 4","ｳﾗ ﾆｲﾅ","宝塚"]
[3824,"大宅  奈優 4","ｵｵﾔ ﾅﾕ","宝塚"]
[3825,"東島  みゆ 4","ﾋｶﾞｼﾞﾏ ﾐﾕ","宝塚"]
[3826,"若杉  あい 4","ﾜｶｽｷﾞ ｱｲ","宝塚"]
[3829,"井上智香子 2","ｲﾉｳｴ ﾁｶｺ","宝塚"]
[3830,"上坂    凜 2","ｳｴｻｶ ﾘﾝ","宝塚"]
[3831,"中元  輝希 2","ﾅｶﾓﾄ ｷｷ","宝塚"]
[3832,"佐藤  絢音 2","ｻﾄｳ ｱﾔﾈ","宝塚"]
[3990,"中川  珠佑 3","ﾅｶｶﾞﾜ ｼｭｳ","宝塚東"]
[4047,"山村  優奈 4","ﾔﾏﾑﾗ ﾕﾅ","宝塚西"]
[4048,"大岸  由奈 4","ｵｵｷﾞｼ ﾕﾅ","宝塚西"]
[4049,"月山  華連 4","ﾂｷﾔﾏ ｶﾚﾝ","宝塚西"]
[4051,"秋田  琴音 4","ｱｷﾀ ｺﾄﾈ","宝塚西"]
[4053,"西園  水玲 4","ﾆｼｿﾞﾉ ﾐﾚｲ","宝塚西"]
[4054,"樽木  真子 4","ﾀﾙｷ ﾏｺ","宝塚西"]
[4055,"森    歩花 4","ﾓﾘ ﾎﾉｶ","宝塚西"]
[4056,"永吉  結衣 3","ﾅｶﾞﾖｼ ﾕｲ","宝塚西"]
[4057,"德永  春花 3","ﾄｸﾅｶﾞ ﾊﾙｶ","宝塚西"]
[4058,"金子優里奈 3","ｶﾈｺ ﾕﾘﾅ","宝塚西"]
[4059,"黒田  光瑠 3","ｸﾛﾀﾞ ﾋｶﾙ","宝塚西"]
[4060,"加藤  瑚涼 3","ｶﾄｳ ｺｽｽﾞ","宝塚西"]
[4061,"関    真陽 3","ｾｷ ﾏﾋﾙ","宝塚西"]
[4062,"戸階結衣花 3","ﾄｼﾅ ﾕｲｶ","宝塚西"]
[4063,"小林  寧々 2","ｺﾊﾞﾔｼ ﾈﾈ","宝塚西"]
[4064,"鈴木  湖奈 2","ｽｽﾞｷ ｺﾅ","宝塚西"]
[4065,"髙須  玲杏 2","ﾀｶｽ ﾚｲｱ","宝塚西"]
[4066,"阿部  桜來 2","ｱﾍﾞ ｻｸﾗ","宝塚西"]
[4067,"中瀬  美樹 2","ﾅｶｾ ﾐｷ","宝塚西"]
[4171,"石橋  栄奈 4","ｲｼﾊﾞｼ ﾊﾙﾅ","宝塚北"]
[4172,"植松由里子 4","ｳｴﾏﾂ ﾕﾘｺ","宝塚北"]
[4173,"奥村  芽衣 4","ｵｸﾑﾗ ﾒｲ","宝塚北"]
[4174,"小田  陽愛 4","ｵﾀﾞ ﾊﾙﾅ","宝塚北"]
[4175,"黒木  千美 4","ｸﾛｷ ﾁﾄ","宝塚北"]
[4176,"山本  友菜 4","ﾔﾏﾓﾄ ﾕｳﾅ","宝塚北"]
[4177,"瀧北    優 4","ﾀｷｷﾀ ﾕｳ","宝塚北"]
[4178,"渕田ももか 3","ﾌﾁﾀ ﾓﾓｶ","宝塚北"]
[4179,"北山  凛佳 2","ｷﾀﾔﾏ ﾘﾝｶ","宝塚北"]
[4180,"澤田  夏葉 2","ｻﾜﾀﾞ ﾅﾂﾊ","宝塚北"]
[4181,"中濵  舞央 2","ﾅｶﾊﾏ ﾏｵ","宝塚北"]
[4182,"原田  莉緒 2","ﾊﾗﾀﾞ ﾘｵ","宝塚北"]
[4308,"松本  夏海 4","ﾏﾂﾓﾄ ﾅﾂﾐ","芦屋"]
[4309,"坂田    栞 4","ｻｶﾀ ｼｵﾘ","芦屋"]
[4310,"中野  日葵 4","ﾅｶﾉ ﾋﾏﾘ","芦屋"]
[4311,"真野  愛理 4","ﾏﾉ ｱｲﾘ","芦屋"]
[4312,"中野  恋子 3","ﾅｶﾉ ｺｺ","芦屋"]
[4313,"山脇  瑠璃 4","ﾔﾏﾜｷ ﾙﾘ","芦屋"]
[4314,"執行  美誓 2","ｼｷﾞｮｳ ﾐﾁｶ","芦屋"]
[4315,"青草みちる 2","ｱｵｸｻ ﾐﾁﾙ","芦屋"]
[4458,"谷本    光 4","ﾀﾆﾓﾄ ﾋｶﾙ","雲雀丘"]
[4459,"堀  咲音子 4","ﾎﾘ ｻﾄｺ","雲雀丘"]
[4460,"児島はんな 4","ｺｼﾞﾏ ﾊﾝﾅ","雲雀丘"]
[4462,"山﨑  美穂 4","ﾔﾏｻｷ ﾐﾎ","雲雀丘"]
[4463,"猪飼  幸和 4","ｲｶｲ ｻﾜ","雲雀丘"]
[4464,"大廣  一椛 4","ｵｵﾋﾛ ｲﾁｶ","雲雀丘"]
[4465,"芝田菜々子 3","ｼﾊﾞﾀ ﾅﾅｺ","雲雀丘"]
[4466,"酒井菜々美 3","ｻｶｲ ﾅﾅﾐ","雲雀丘"]
[4469,"後藤  妃那 3","ｺﾞﾄｳ ﾋﾅ","雲雀丘"]
[4470,"川中  結葵 3","ｶﾜﾅｶ ﾕｷ","雲雀丘"]
[4471,"石原  怜奈 3","ｲｼﾊﾗ ﾚﾅ","雲雀丘"]
[4472,"鬼倉    雅 3","ｵﾆｸﾗ ﾐﾔﾋﾞ","雲雀丘"]
[4574,"松井  優衣 4","ﾏﾂｲ ﾕｲ","県国際"]
[4575,"ｾﾅｳｨｰﾗ ﾃﾞｨｱﾅ心優 4","ｾﾅｳｨｰﾗ ﾃﾞｨｱﾅﾐﾕ","県国際"]
[4576,"大久保むつみ 3","ｵｵｸﾎﾞ ﾑﾂﾐ","県国際"]
[4577,"久冨  空音 2","ﾋｻﾄﾐ ｿﾗﾈ","県国際"]
[4627,"丸尾  芙実 3","ﾏﾙｵ ﾌﾐ","芦屋学園"]
[4851,"宮野  桃歌 4","ﾐﾔﾉ ﾓﾓｶ","芦国中等"]
[4855,"矢野  蒼來 2","ﾔﾉ ｿﾗ","芦国中等"]
[]
[]
[]
[]
[]
[]
[]
[]
[]
[]
[]
[]
[]
[]
[]
[]
[]
[]
[]
[]
[]
[]
[]
[]
[]
[]
[]
[]
[]
[]
[]
[]
[]
[]
[]
[]
[]
[]
[]
[]
[]
[]
[]
[]
[]
[]
[]
[]
[]
[]
[]
[]
[]
[]
[]
[]
[]
[]
[]
[]
[]
[]
[]
[]
[]
[]
[]
[]
[]
[]
[]
[]
[]
[]
[]
[]
[]
[]
[]
[]
[]
[]
[]
[]
[]
[]
[]
[]
[]
[]
[]
[]
[]
[]
[]
[]
[]
[]
[]
[]
[]
[]
[]
[]
[]
[]
[]
[]
[]
[]
[]
[]
[]
[]
[]
[]
[]
[]
[]
[]
[]
[]
[]
[]
[]
[]
[]
[]
[]
[]
[]
[]
[]
[]
[]
[]
[]
[]
[]
[]
[]
[]
[]
[]
[]
[]
[]
[]
[]
[]
[]
[]
[]
[]
[]
[]
[]
[]
[]
[]
[]
[]
[]
[]
[]
[]
[]
[]
[]
[]
[]
[]
[]
[]
[]
[]
[]
[]
[]
[]
[]
[]
[]
[]
[]
[]
[]
[]
[]
[]
[]
[]
[]
[]
[]
[]
[]
[]
[]
[]
[]
[]
[]
[]
[]
[]
[]
[]
[]
[]
[]
[]
[]
[]
[]
[]
[]
[]
[]
[]
[]
[]
[]
[]
[]
[]
[]
[]
[]
[]
[]
[]
[]
[]
[]
[]
[]
[]
[]
[]
[]
[]
[]
[]
[]
[]
[]
[]
[]
[]
[]
[]
[]
[]
[]
[]
[]
[]
[]
[]
[]
[]
[]
[]
[]
[]
[]
[]
[]
[]
[]
[]
[]
[]
[]
[]
[]
[]
[]
[]
[]
[]
[]
[]
[]
[]
[]
[]
[]
[]
[]
[]
[]
[]
[]
[]
[]
[]
[]
[]
[]
[]
[]
[]
[]
[]
[]
[]
[]
[]
[]
[]
[]
[]
[]
[]
[]
[]
[]
[]
[]
[]
[]
[]
[]
[]
[]
[]
[]
[]
[]
[]
[]
[]
[]
[]
[]
[]
[]
[]
[]
[]
[]
[]
[]
[]
[]
[]
[]
[]
[]
[]
[]
[]
[]
[]
[]
[]
[]
[]
[]
[]
[]
[]
[]
[]
[]
[]
[]
[]
[]
[]
[]
[]
[]
[]
[]
[]
[]
[]
[]
[]
[]
[]
[]
[]
[]
[]
[]
[]
[]
[]
[]
[]
[]
[]
[]
[]
[]
[]
[]
[]
[]
[]
[]
[]
[]
[]
[]
[]
[]
[]
[]
[]
[]
[null,null,null,null,null,"2024秋以降の追加登録選手（女子）はこのシートに入力してください"]
["№","氏名 学年","ﾌﾘｶﾞﾅ","学校名（略称）",null,"№","姓","名","学年","姓ﾌﾘｶﾞﾅ","名ﾌﾘｶﾞﾅ"]
[{"$f":"IF(F849=\"\",\"\",F849)","v":""},{"$f":"IF(OR(G849=\"\",H849=\"\"),\"\",G849&VLOOKUP(LEN(G849)+LEN(H849),$M$849:$N$852,2,TRUE)&H849&\" \"&I849)","v":""},{"$f":"IF(A849=\"\",\"\",ASC(J849&\" \"&K849))","v":""},{"$f":"IF(A849=\"\",\"\",初期設定!$H$3)","v":""},null,null,null,null,null,null,null,null,2,"　　　"]
[{"$f":"IF(F850=\"\",\"\",F850)","v":""},{"$f":"IF(OR(G850=\"\",H850=\"\"),\"\",G850&VLOOKUP(LEN(G850)+LEN(H850),$M$849:$N$852,2,TRUE)&H850&\" \"&I850)","v":""},{"$f":"IF(A850=\"\",\"\",ASC(J850&\" \"&K850))","v":""},{"$f":"IF(A850=\"\",\"\",初期設定!$H$3)","v":""},null,null,null,null,null,null,null,null,3,"　　"]
["","","",{"$f":"IF(A851=\"\",\"\",初期設定!$H$3)","v":""},null,null,null,null,null,null,null,null,4,"　"]
["","","",{"$f":"IF(A852=\"\",\"\",初期設定!$H$3)","v":""},null,null,null,null,null,null,null,null,5]
["","","",{"$f":"IF(A853=\"\",\"\",初期設定!$H$3)","v":""}]
["","","",{"$f":"IF(A854=\"\",\"\",初期設定!$H$3)","v":""}]
["","","",{"$f":"IF(A855=\"\",\"\",初期設定!$H$3)","v":""}]
["","","",{"$f":"IF(A856=\"\",\"\",初期設定!$H$3)","v":""}]
["","","",{"$f":"IF(A857=\"\",\"\",初期設定!$H$3)","v":""}]
["","","",{"$f":"IF(A858=\"\",\"\",初期設定!$H$3)","v":""}]
["","","",{"$f":"IF(A859=\"\",\"\",初期設定!$H$3)","v":""}]
["","","",{"$f":"IF(A860=\"\",\"\",初期設定!$H$3)","v":""}]
["","","",{"$f":"IF(A861=\"\",\"\",初期設定!$H$3)","v":""}]
["","","",{"$f":"IF(A862=\"\",\"\",初期設定!$H$3)","v":""}]
["","","",{"$f":"IF(A863=\"\",\"\",初期設定!$H$3)","v":""}]
["","","",{"$f":"IF(A864=\"\",\"\",初期設定!$H$3)","v":""}]
["","","",{"$f":"IF(A865=\"\",\"\",初期設定!$H$3)","v":""}]
["","","",{"$f":"IF(A866=\"\",\"\",初期設定!$H$3)","v":""}]
["","","",{"$f":"IF(A867=\"\",\"\",初期設定!$H$3)","v":""}]
["","","",{"$f":"IF(A868=\"\",\"\",初期設定!$H$3)","v":""}]
["","","",{"$f":"IF(A869=\"\",\"\",初期設定!$H$3)","v":""}]
["","","",{"$f":"IF(A870=\"\",\"\",初期設定!$H$3)","v":""}]
["","","",{"$f":"IF(A871=\"\",\"\",初期設定!$H$3)","v":""}]
["","","",{"$f":"IF(A872=\"\",\"\",初期設定!$H$3)","v":""}]
["","","",{"$f":"IF(A873=\"\",\"\",初期設定!$H$3)","v":""}]
["","","",{"$f":"IF(A874=\"\",\"\",初期設定!$H$3)","v":""}]
["","","",{"$f":"IF(A875=\"\",\"\",初期設定!$H$3)","v":""}]
["","","",{"$f":"IF(A876=\"\",\"\",初期設定!$H$3)","v":""}]
["","","",{"$f":"IF(A877=\"\",\"\",初期設定!$H$3)","v":""}]
["","","",{"$f":"IF(A878=\"\",\"\",初期設定!$H$3)","v":""}]
["","","",{"$f":"IF(A879=\"\",\"\",初期設定!$H$3)","v":""}]
["","","",{"$f":"IF(A880=\"\",\"\",初期設定!$H$3)","v":""}]

{"sheet":"学校番号","index":7,"n_rows":50,"n_cols":4,"rows_kept":50,"cut":false,"hidden":true,"merged":[]}
[]
[null,null,"№"]
[4101,"県立尼崎高等学校",100,"県尼崎"]
[4102,"市立尼崎高等学校",200,"市尼崎"]
[4103,"市立尼崎双星高等学校",300,"尼崎双星"]
[4104,"県立尼崎西高等学校",400,"尼崎西"]
[4105,"県立尼崎北高等学校",500,"尼崎北"]
[4106,"県立尼崎稲園高等学校",600,"尼崎稲園"]
[4107,"県立尼崎小田高等学校",700,"尼崎小田"]
[4108,null,800]
[4109,"県立武庫之荘総合高等学校",900,"武庫之荘総合"]
[4110,"県立尼崎工業高等学校",1000,"尼崎工業"]
[4111,null,1100]
[4112,"園田学園高等学校",1200,"園田"]
[4113,"百合学院高等学校",1300,"百合"]
[4114,"県立西宮高等学校",1400,"県西宮"]
[4115,"市立西宮高等学校",1500,"市西宮"]
[4116,"市立西宮東高等学校",1600,"西宮東"]
[4117,"県立西宮南高等学校",1700,"西宮南"]
[4118,"県立西宮北高等学校",1800,"西宮北"]
[4119,"県立鳴尾高等学校",1900,"鳴尾"]
[4120,"県立西宮今津高等学校",2000,"西宮今津"]
[4121,"県立西宮甲山高等学校",2100,"西宮甲山"]
[4122,"甲陽学院高等学校",2200,"甲陽"]
[4123,"関西学院高等部",2300,"関学"]
[4124,null,2400]
[4125,"仁川学院高等学校",2500,"仁川"]
[4126,"報徳学園高等学校",2600,"報徳"]
[4127,"武庫川女子大学付属高等学校",2700,"武庫川大附"]
[4128,"甲子園学院高等学校",2800,"甲子園"]
[4129,null,2900]
[4130,"県立伊丹高等学校",3000,"県伊丹"]
[4131,"市立伊丹高等学校",3100,"市伊丹"]
[4132,"県立伊丹西高等学校",3200,"伊丹西"]
[4133,"県立伊丹北高等学校",3300,"伊丹北"]
[4134,"県立川西緑台高等学校",3400,"川西緑台"]
[4135,"県立川西明峰高等学校",3500,"川西明峰"]
[4136,"県立川西北陵高等学校",3600,"川西北陵"]
[4137,"県立猪名川高等学校",3700,"猪名川"]
[4138,"県立宝塚高等学校",3800,"宝塚"]
[4139,"県立宝塚東高等学校",3900,"宝塚東"]
[4140,"県立宝塚西高等学校",4000,"宝塚西"]
[4141,"県立宝塚北高等学校",4100,"宝塚北"]
[4142,"小林聖心女子学院高等学校",4200,"小林聖心"]
[4143,"県立芦屋高等学校",4300,"芦屋"]
[4144,"雲雀丘学園高等学校",4400,"雲雀丘"]
[4145,"県立国際高等学校",4500,"県国際"]
[4146,"芦屋学園高等学校",4600,"芦屋学園"]
[4147,"甲南高等学校",4700,"甲南"]
[4148,"県立芦屋国際中等教育学校",4800,"芦国中等"]

{"sheet":"種目","index":8,"n_rows":41,"n_cols":15,"rows_kept":41,"cut":false,"hidden":true,"merged":[]}
[null," ",null,null,null," "," "," "]
[1,"100m",1,"01T",null,1,"男",null,"男A",null,"男","100m",{"$f":"K2&L2","v":"男100m"},"00200","t"]
[2,"200m",2,"01T",null,2,"女",null,"男B",null,"男","200m",{"$f":"K3&L3","v":"男200m"},"00300","t"]
[3,"400m",3,"01T",null,3,null,null,"男C",null,"男","400m","男400m","00500","t"]
[4,"800m",4,"01T",null,null,null,null,"男D",null,"男","800m","男800m","00600","t"]
[5,"1500m",5,"01T",null,null,null,null,"男E",null,"男","1500m","男1500m","00800","t"]
[6,"3000m",6,"01T",null,null,null,null,"男F",null,"男","5000m","男5000m","01100","t"]
[7,"5000m",7,"01T",null,null,null,null,"女A",null,"男","110mH","男110mH","03400","t"]
[8,"100mH",8,"01T",null,null,null,null,"女B",null,"男","400mH","男400mH","03700","t"]
[9,"110mH",9,"01T",null,null,null,null,"女C",null,"男","3000mSC","男3000mSC","05300","t"]
[10,"400mH",10,"01T",null,null,null,null,"女D",null,"男","5000mW","男5000mW","06100","t"]
[11,"3000mSC",11,"01T",null,null,null,null,"女E",null,"男","棒高跳","男棒高跳","07200","f"]
[12,"5000mW",12,"01T",null,null,null,null,"女F",null,"男","走高跳","男走高跳","07100","f"]
[13,"棒高跳",13,"02F",null,null,null,null,null,null,"男","走幅跳","男走幅跳","07300","f"]
[14,"走高跳",14,"02F",null,null,null,null,null,null,"男","三段跳","男三段跳","07400","f"]
[15,"走幅跳",15,"02F",null,null,null,null,null,null,"男","砲丸投","男砲丸投","08200","f"]
[16,"三段跳",16,"02F",null,null,null,null,null,null,"男","円盤投","男円盤投","08700","f"]
[17,"砲丸投",17,"02F",null,null,null,null,null,null,"男","ﾊﾝﾏｰ投","男ﾊﾝﾏｰ投","09100","f"]
[18,"円盤投",18,"02F",null,null,null,null,null,null,"男","やり投","男やり投","09200","f"]
[19,"ﾊﾝﾏｰ投",19,"02F",null,null,null,null,null,null,"女","100m","女100m","00200","t"]
[20,"やり投",20,"02F",null,null,null,null,null,null,"女","200m","女200m","00300","t"]
[21,"4×100R男A",21,"03R",null,null,null,null,null,null,"女","400m","女400m","00500","t"]
[22,"4×100R男B",22,"03R",null,null,null,null,null,null,"女","800m","女800m","00600","t"]
[23,"4×100R男C",23,"03R",null,null,null,null,null,null,"女","1500m","女1500m","00800","t"]
[24,"4×100R男D",24,"03R",null,null,null,null,null,null,"女","3000m","女3000m","01000","t"]
[25,"4×100R男E",25,"03R",null,null,null,null,null,null,"女","100mH","女100mH","04400","t"]
[26,"4×400R男A",26,"03R",null,null,null,null,null,null,"女","400mH","女400mH","04600","t"]
[27,"4×400R男B",27,"03R",null,null,null,null,null,null,"女","5000mW","女5000mW","06100","t"]
[28,"4×400R男C",28,"03R",null,null,null,null,null,null,"女","棒高跳","女棒高跳","07200","f"]
[29,"4×400R男D",29,"03R",null,null,null,null,null,null,"女","走高跳","女走高跳","07100","f"]
[30,"4×400R男E",30,"03R",null,null,null,null,null,null,"女","走幅跳","女走幅跳","07300","f"]
[31,"4×100R女A",31,"03R",null,null,null,null,null,null,"女","三段跳","女三段跳","07400","f"]
[32,"4×100R女B",32,"03R",null,null,null,null,null,null,"女","砲丸投","女砲丸投","08400","f"]
[33,"4×100R女C",33,"03R",null,null,null,null,null,null,"女","円盤投","女円盤投","08800","f"]
[34,"4×100R女D",34,"03R",null,null,null,null,null,null,"女","ﾊﾝﾏｰ投","女ﾊﾝﾏｰ投","09400","f"]
[35,"4×100R女E",35,"03R",null,null,null,null,null,null,"女","やり投","女やり投","09300","f"]
[36,"4×400R女A",36,"03R"]
[37,"4×400R女B",37,"03R"]
[38,"4×400R女C",38,"03R"]
[39,"4×400R女D",39,"03R"]
[40,"4×400R女E",40,"03R"]

{"sheet":"作業用","index":9,"n_rows":100,"n_cols":29,"rows_kept":100,"cut":false,"hidden":true,"merged":[]}
[null,null,null,null,null,null,null,null,null,null,null,null,null,null,null,null,null,"男子４×100m"]
[{"$f":"IF(入力!A2=\"\",\"\",28410000+入力!A2+IF(入力!E2=\"女\",200000000,100000000))","v":""},{"$f":"IF(A2=\"\",\"\",入力!B2)","v":""},{"$f":"IF(A2=\"\",\"\",入力!C2)","v":""},{"$f":"IF(A2=\"\",\"\",IF(入力!E2=\"男\",1,2))","v":""},{"$f":"IF(A2=\"\",\"\",28)","v":""},{"$f":"IF(A2=\"\",\"\",入力!A2)","v":""},{"$f":"IF(A2=\"\",\"\",初期設定!$C$3+280000)","v":""},{"$f":"IFERROR(IF(A2=\"\",\"\",VLOOKUP(入力!E2&入力!F2,種目!$M$2:$O$36,2,FALSE)),\"\")","v":""},{"$f":"IFERROR(IF(A2=\"\",\"\",VLOOKUP(入力!E2&入力!F2,種目!$M$2:$O$36,3,FALSE)),\"\")","v":""},{"$f":"IF(H2=\"\",\"\",IF(I2=\"t\",TEXT(入力!G2,\"0000000\"),TEXT(入力!G2,\"00000\")))","v":""},{"$f":"IFERROR(IF(A2=\"\",\"\",VLOOKUP(入力!E2&入力!H2,種目!$M$2:$O$36,2,FALSE)),\"\")","v":""},{"$f":"IFERROR(IF(A2=\"\",\"\",VLOOKUP(入力!E2&入力!H2,種目!$M$2:$O$36,3,FALSE)),\"\")","v":""},{"$f":"IF(K2=\"\",\"\",IF(L2=\"t\",TEXT(入力!I2,\"0000000\"),TEXT(入力!I2,\"00000\")))","v":""},{"$f":"IF($A2=\"\",\"\",入力!J2)","v":""},{"$f":"IF($A2=\"\",\"\",入力!K2)","v":""},{"$f":"N2&COUNTIFS($N$2:N2,N2)","v":"1"},{"$f":"O2&COUNTIFS($O$2:O2,O2)","v":"1"},null,"DB","ZK","N1","N2","TM","S1","S2","S3","S4","S5","S6"]
[{"$f":"IF(入力!A3=\"\",\"\",28410000+入力!A3+IF(入力!E3=\"女\",200000000,100000000))","v":""},{"$f":"IF(A3=\"\",\"\",入力!B3)","v":""},{"$f":"IF(A3=\"\",\"\",入力!C3)","v":""},{"$f":"IF(A3=\"\",\"\",IF(入力!E3=\"男\",1,2))","v":""},{"$f":"IF(A3=\"\",\"\",28)","v":""},{"$f":"IF(A3=\"\",\"\",入力!A3)","v":""},{"$f":"IF(A3=\"\",\"\",初期設定!$C$3+280000)","v":""},{"$f":"IFERROR(IF(A3=\"\",\"\",VLOOKUP(入力!E3&入力!F3,種目!$M$2:$O$36,2,FALSE)),\"\")","v":""},{"$f":"IFERROR(IF(A3=\"\",\"\",VLOOKUP(入力!E3&入力!F3,種目!$M$2:$O$36,3,FALSE)),\"\")","v":""},{"$f":"IF(H3=\"\",\"\",IF(I3=\"t\",TEXT(入力!G3,\"0000000\"),TEXT(入力!G3,\"00000\")))","v":""},{"$f":"IFERROR(IF(A3=\"\",\"\",VLOOKUP(入力!E3&入力!H3,種目!$M$2:$O$36,2,FALSE)),\"\")","v":""},{"$f":"IFERROR(IF(A3=\"\",\"\",VLOOKUP(入力!E3&入力!H3,種目!$M$2:$O$36,3,FALSE)),\"\")","v":""},{"$f":"IF(K3=\"\",\"\",IF(L3=\"t\",TEXT(入力!I3,\"0000000\"),TEXT(入力!I3,\"00000\")))","v":""},{"$f":"IF($A3=\"\",\"\",入力!J3)","v":""},{"$f":"IF($A3=\"\",\"\",入力!K3)","v":""},{"$f":"N3&COUNTIFS($N$2:N3,N3)","v":"2"},{"$f":"O3&COUNTIFS($O$2:O3,O3)","v":"2"},"A",{"$f":"IF(COUNTIFS($N$2:$N$100,\"男\"&R3)>=4,280000+初期設定!$C$3,\"\")","v":""},null,{"$f":"IF(S3=\"\",\"\",IF(S4=\"\",初期設定!$H$3,初期設定!$H$3&\"A\"))","v":""},null,{"$f":"IF(S3=\"\",\"\",IF(入力!M4=\"\",95999,TEXT(入力!M4,\"00000\")))","v":""},{"$f":"IFERROR(INDEX($A$2:$A$100,MATCH(\"男\"&$R3&RIGHT(X$2,1),$P$2:$P$100,0),1),\"\")","v":""},{"$f":"IFERROR(INDEX($A$2:$A$100,MATCH(\"男\"&$R3&RIGHT(Y$2,1),$P$2:$P$100,0),1),\"\")","v":""},"","","",""]
[{"$f":"IF(入力!A4=\"\",\"\",28410000+入力!A4+IF(入力!E4=\"女\",200000000,100000000))","v":""},{"$f":"IF(A4=\"\",\"\",入力!B4)","v":""},{"$f":"IF(A4=\"\",\"\",入力!C4)","v":""},{"$f":"IF(A4=\"\",\"\",IF(入力!E4=\"男\",1,2))","v":""},"",{"$f":"IF(A4=\"\",\"\",入力!A4)","v":""},{"$f":"IF(A4=\"\",\"\",初期設定!$C$3+280000)","v":""},{"$f":"IFERROR(IF(A4=\"\",\"\",VLOOKUP(入力!E4&入力!F4,種目!$M$2:$O$36,2,FALSE)),\"\")","v":""},{"$f":"IFERROR(IF(A4=\"\",\"\",VLOOKUP(入力!E4&入力!F4,種目!$M$2:$O$36,3,FALSE)),\"\")","v":""},{"$f":"IF(H4=\"\",\"\",IF(I4=\"t\",TEXT(入力!G4,\"0000000\"),TEXT(入力!G4,\"00000\")))","v":""},{"$f":"IFERROR(IF(A4=\"\",\"\",VLOOKUP(入力!E4&入力!H4,種目!$M$2:$O$36,2,FALSE)),\"\")","v":""},{"$f":"IFERROR(IF(A4=\"\",\"\",VLOOKUP(入力!E4&入力!H4,種目!$M$2:$O$36,3,FALSE)),\"\")","v":""},{"$f":"IF(K4=\"\",\"\",IF(L4=\"t\",TEXT(入力!I4,\"0000000\"),TEXT(入力!I4,\"00000\")))","v":""},{"$f":"IF($A4=\"\",\"\",入力!J4)","v":""},{"$f":"IF($A4=\"\",\"\",入力!K4)","v":""},{"$f":"N4&COUNTIFS($N$2:N4,N4)","v":"3"},{"$f":"O4&COUNTIFS($O$2:O4,O4)","v":"3"},"B",{"$f":"IF(COUNTIFS($N$2:$N$100,\"男\"&R4)>=4,900000+ROW(R1)*10000+初期設定!$C$3,\"\")","v":""},null,{"$f":"IF(S4=\"\",\"\",初期設定!$H$3&作業用!R4)","v":""},null,{"$f":"IF(S4=\"\",\"\",IF(入力!M5=\"\",95999,TEXT(入力!M5,\"00000\")))","v":""},"","","","","",""]
[{"$f":"IF(入力!A5=\"\",\"\",28410000+入力!A5+IF(入力!E5=\"女\",200000000,100000000))","v":""},{"$f":"IF(A5=\"\",\"\",入力!B5)","v":""},{"$f":"IF(A5=\"\",\"\",入力!C5)","v":""},{"$f":"IF(A5=\"\",\"\",IF(入力!E5=\"男\",1,2))","v":""},"",{"$f":"IF(A5=\"\",\"\",入力!A5)","v":""},{"$f":"IF(A5=\"\",\"\",初期設定!$C$3+280000)","v":""},{"$f":"IFERROR(IF(A5=\"\",\"\",VLOOKUP(入力!E5&入力!F5,種目!$M$2:$O$36,2,FALSE)),\"\")","v":""},{"$f":"IFERROR(IF(A5=\"\",\"\",VLOOKUP(入力!E5&入力!F5,種目!$M$2:$O$36,3,FALSE)),\"\")","v":""},{"$f":"IF(H5=\"\",\"\",IF(I5=\"t\",TEXT(入力!G5,\"0000000\"),TEXT(入力!G5,\"00000\")))","v":""},{"$f":"IFERROR(IF(A5=\"\",\"\",VLOOKUP(入力!E5&入力!H5,種目!$M$2:$O$36,2,FALSE)),\"\")","v":""},{"$f":"IFERROR(IF(A5=\"\",\"\",VLOOKUP(入力!E5&入力!H5,種目!$M$2:$O$36,3,FALSE)),\"\")","v":""},{"$f":"IF(K5=\"\",\"\",IF(L5=\"t\",TEXT(入力!I5,\"0000000\"),TEXT(入力!I5,\"00000\")))","v":""},{"$f":"IF($A5=\"\",\"\",入力!J5)","v":""},{"$f":"IF($A5=\"\",\"\",入力!K5)","v":""},{"$f":"N5&COUNTIFS($N$2:N5,N5)","v":"4"},{"$f":"O5&COUNTIFS($O$2:O5,O5)","v":"4"},"C",{"$f":"IF(COUNTIFS($N$2:$N$100,\"男\"&R5)>=4,900000+ROW(R2)*10000+初期設定!$C$3,\"\")","v":""},null,{"$f":"IF(S5=\"\",\"\",初期設定!$H$3&作業用!R5)","v":""},null,{"$f":"IF(S5=\"\",\"\",IF(入力!M6=\"\",95999,TEXT(入力!M6,\"00000\")))","v":""},"","","","","",""]
[{"$f":"IF(入力!A6=\"\",\"\",28410000+入力!A6+IF(入力!E6=\"女\",200000000,100000000))","v":""},{"$f":"IF(A6=\"\",\"\",入力!B6)","v":""},{"$f":"IF(A6=\"\",\"\",入力!C6)","v":""},{"$f":"IF(A6=\"\",\"\",IF(入力!E6=\"男\",1,2))","v":""},"",{"$f":"IF(A6=\"\",\"\",入力!A6)","v":""},{"$f":"IF(A6=\"\",\"\",初期設定!$C$3+280000)","v":""},{"$f":"IFERROR(IF(A6=\"\",\"\",VLOOKUP(入力!E6&入力!F6,種目!$M$2:$O$36,2,FALSE)),\"\")","v":""},{"$f":"IFERROR(IF(A6=\"\",\"\",VLOOKUP(入力!E6&入力!F6,種目!$M$2:$O$36,3,FALSE)),\"\")","v":""},{"$f":"IF(H6=\"\",\"\",IF(I6=\"t\",TEXT(入力!G6,\"0000000\"),TEXT(入力!G6,\"00000\")))","v":""},{"$f":"IFERROR(IF(A6=\"\",\"\",VLOOKUP(入力!E6&入力!H6,種目!$M$2:$O$36,2,FALSE)),\"\")","v":""},{"$f":"IFERROR(IF(A6=\"\",\"\",VLOOKUP(入力!E6&入力!H6,種目!$M$2:$O$36,3,FALSE)),\"\")","v":""},{"$f":"IF(K6=\"\",\"\",IF(L6=\"t\",TEXT(入力!I6,\"0000000\"),TEXT(入力!I6,\"00000\")))","v":""},{"$f":"IF($A6=\"\",\"\",入力!J6)","v":""},{"$f":"IF($A6=\"\",\"\",入力!K6)","v":""},{"$f":"N6&COUNTIFS($N$2:N6,N6)","v":"5"},{"$f":"O6&COUNTIFS($O$2:O6,O6)","v":"5"},"D",{"$f":"IF(COUNTIFS($N$2:$N$100,\"男\"&R6)>=4,900000+ROW(R3)*10000+初期設定!$C$3,\"\")","v":""},null,{"$f":"IF(S6=\"\",\"\",初期設定!$H$3&作業用!R6)","v":""},null,{"$f":"IF(S6=\"\",\"\",IF(入力!M7=\"\",95999,TEXT(入力!M7,\"00000\")))","v":""},"","","","","",""]
[{"$f":"IF(入力!A7=\"\",\"\",28410000+入力!A7+IF(入力!E7=\"女\",200000000,100000000))","v":""},{"$f":"IF(A7=\"\",\"\",入力!B7)","v":""},{"$f":"IF(A7=\"\",\"\",入力!C7)","v":""},{"$f":"IF(A7=\"\",\"\",IF(入力!E7=\"男\",1,2))","v":""},"",{"$f":"IF(A7=\"\",\"\",入力!A7)","v":""},{"$f":"IF(A7=\"\",\"\",初期設定!$C$3+280000)","v":""},{"$f":"IFERROR(IF(A7=\"\",\"\",VLOOKUP(入力!E7&入力!F7,種目!$M$2:$O$36,2,FALSE)),\"\")","v":""},{"$f":"IFERROR(IF(A7=\"\",\"\",VLOOKUP(入力!E7&入力!F7,種目!$M$2:$O$36,3,FALSE)),\"\")","v":""},{"$f":"IF(H7=\"\",\"\",IF(I7=\"t\",TEXT(入力!G7,\"0000000\"),TEXT(入力!G7,\"00000\")))","v":""},{"$f":"IFERROR(IF(A7=\"\",\"\",VLOOKUP(入力!E7&入力!H7,種目!$M$2:$O$36,2,FALSE)),\"\")","v":""},{"$f":"IFERROR(IF(A7=\"\",\"\",VLOOKUP(入力!E7&入力!H7,種目!$M$2:$O$36,3,FALSE)),\"\")","v":""},{"$f":"IF(K7=\"\",\"\",IF(L7=\"t\",TEXT(入力!I7,\"0000000\"),TEXT(入力!I7,\"00000\")))","v":""},{"$f":"IF($A7=\"\",\"\",入力!J7)","v":""},{"$f":"IF($A7=\"\",\"\",入力!K7)","v":""},{"$f":"N7&COUNTIFS($N$2:N7,N7)","v":"6"},{"$f":"O7&COUNTIFS($O$2:O7,O7)","v":"6"},"E",{"$f":"IF(COUNTIFS($N$2:$N$100,\"男\"&R7)>=4,900000+ROW(R4)*10000+初期設定!$C$3,\"\")","v":""},null,{"$f":"IF(S7=\"\",\"\",初期設定!$H$3&作業用!R7)","v":""},null,{"$f":"IF(S7=\"\",\"\",IF(入力!M8=\"\",95999,TEXT(入力!M8,\"00000\")))","v":""},"","","","","",""]
[{"$f":"IF(入力!A8=\"\",\"\",28410000+入力!A8+IF(入力!E8=\"女\",200000000,100000000))","v":""},{"$f":"IF(A8=\"\",\"\",入力!B8)","v":""},{"$f":"IF(A8=\"\",\"\",入力!C8)","v":""},{"$f":"IF(A8=\"\",\"\",IF(入力!E8=\"男\",1,2))","v":""},"",{"$f":"IF(A8=\"\",\"\",入力!A8)","v":""},{"$f":"IF(A8=\"\",\"\",初期設定!$C$3+280000)","v":""},{"$f":"IFERROR(IF(A8=\"\",\"\",VLOOKUP(入力!E8&入力!F8,種目!$M$2:$O$36,2,FALSE)),\"\")","v":""},{"$f":"IFERROR(IF(A8=\"\",\"\",VLOOKUP(入力!E8&入力!F8,種目!$M$2:$O$36,3,FALSE)),\"\")","v":""},{"$f":"IF(H8=\"\",\"\",IF(I8=\"t\",TEXT(入力!G8,\"0000000\"),TEXT(入力!G8,\"00000\")))","v":""},{"$f":"IFERROR(IF(A8=\"\",\"\",VLOOKUP(入力!E8&入力!H8,種目!$M$2:$O$36,2,FALSE)),\"\")","v":""},{"$f":"IFERROR(IF(A8=\"\",\"\",VLOOKUP(入力!E8&入力!H8,種目!$M$2:$O$36,3,FALSE)),\"\")","v":""},{"$f":"IF(K8=\"\",\"\",IF(L8=\"t\",TEXT(入力!I8,\"0000000\"),TEXT(入力!I8,\"00000\")))","v":""},{"$f":"IF($A8=\"\",\"\",入力!J8)","v":""},{"$f":"IF($A8=\"\",\"\",入力!K8)","v":""},{"$f":"N8&COUNTIFS($N$2:N8,N8)","v":"7"},{"$f":"O8&COUNTIFS($O$2:O8,O8)","v":"7"},"F",{"$f":"IF(COUNTIFS($N$2:$N$100,\"男\"&R8)>=4,900000+ROW(R5)*10000+初期設定!$C$3,\"\")","v":""},null,{"$f":"IF(S8=\"\",\"\",初期設定!$H$3&作業用!R8)","v":""},null,{"$f":"IF(S8=\"\",\"\",IF(入力!M9=\"\",95999,TEXT(入力!M9,\"00000\")))","v":""},"","","","","",""]
[{"$f":"IF(入力!A9=\"\",\"\",28410000+入力!A9+IF(入力!E9=\"女\",200000000,100000000))","v":""},{"$f":"IF(A9=\"\",\"\",入力!B9)","v":""},{"$f":"IF(A9=\"\",\"\",入力!C9)","v":""},{"$f":"IF(A9=\"\",\"\",IF(入力!E9=\"男\",1,2))","v":""},"",{"$f":"IF(A9=\"\",\"\",入力!A9)","v":""},{"$f":"IF(A9=\"\",\"\",初期設定!$C$3+280000)","v":""},{"$f":"IFERROR(IF(A9=\"\",\"\",VLOOKUP(入力!E9&入力!F9,種目!$M$2:$O$36,2,FALSE)),\"\")","v":""},{"$f":"IFERROR(IF(A9=\"\",\"\",VLOOKUP(入力!E9&入力!F9,種目!$M$2:$O$36,3,FALSE)),\"\")","v":""},{"$f":"IF(H9=\"\",\"\",IF(I9=\"t\",TEXT(入力!G9,\"0000000\"),TEXT(入力!G9,\"00000\")))","v":""},{"$f":"IFERROR(IF(A9=\"\",\"\",VLOOKUP(入力!E9&入力!H9,種目!$M$2:$O$36,2,FALSE)),\"\")","v":""},{"$f":"IFERROR(IF(A9=\"\",\"\",VLOOKUP(入力!E9&入力!H9,種目!$M$2:$O$36,3,FALSE)),\"\")","v":""},{"$f":"IF(K9=\"\",\"\",IF(L9=\"t\",TEXT(入力!I9,\"0000000\"),TEXT(入力!I9,\"00000\")))","v":""},{"$f":"IF($A9=\"\",\"\",入力!J9)","v":""},{"$f":"IF($A9=\"\",\"\",入力!K9)","v":""},{"$f":"N9&COUNTIFS($N$2:N9,N9)","v":"8"},{"$f":"O9&COUNTIFS($O$2:O9,O9)","v":"8"}]
[{"$f":"IF(入力!A10=\"\",\"\",28410000+入力!A10+IF(入力!E10=\"女\",200000000,100000000))","v":""},{"$f":"IF(A10=\"\",\"\",入力!B10)","v":""},{"$f":"IF(A10=\"\",\"\",入力!C10)","v":""},{"$f":"IF(A10=\"\",\"\",IF(入力!E10=\"男\",1,2))","v":""},"",{"$f":"IF(A10=\"\",\"\",入力!A10)","v":""},{"$f":"IF(A10=\"\",\"\",初期設定!$C$3+280000)","v":""},{"$f":"IFERROR(IF(A10=\"\",\"\",VLOOKUP(入力!E10&入力!F10,種目!$M$2:$O$36,2,FALSE)),\"\")","v":""},{"$f":"IFERROR(IF(A10=\"\",\"\",VLOOKUP(入力!E10&入力!F10,種目!$M$2:$O$36,3,FALSE)),\"\")","v":""},{"$f":"IF(H10=\"\",\"\",IF(I10=\"t\",TEXT(入力!G10,\"0000000\"),TEXT(入力!G10,\"00000\")))","v":""},{"$f":"IFERROR(IF(A10=\"\",\"\",VLOOKUP(入力!E10&入力!H10,種目!$M$2:$O$36,2,FALSE)),\"\")","v":""},{"$f":"IFERROR(IF(A10=\"\",\"\",VLOOKUP(入力!E10&入力!H10,種目!$M$2:$O$36,3,FALSE)),\"\")","v":""},{"$f":"IF(K10=\"\",\"\",IF(L10=\"t\",TEXT(入力!I10,\"0000000\"),TEXT(入力!I10,\"00000\")))","v":""},{"$f":"IF($A10=\"\",\"\",入力!J10)","v":""},{"$f":"IF($A10=\"\",\"\",入力!K10)","v":""},{"$f":"N10&COUNTIFS($N$2:N10,N10)","v":"9"},{"$f":"O10&COUNTIFS($O$2:O10,O10)","v":"9"},"男子４×400m"]
[{"$f":"IF(入力!A11=\"\",\"\",28410000+入力!A11+IF(入力!E11=\"女\",200000000,100000000))","v":""},{"$f":"IF(A11=\"\",\"\",入力!B11)","v":""},{"$f":"IF(A11=\"\",\"\",入力!C11)","v":""},{"$f":"IF(A11=\"\",\"\",IF(入力!E11=\"男\",1,2))","v":""},"",{"$f":"IF(A11=\"\",\"\",入力!A11)","v":""},{"$f":"IF(A11=\"\",\"\",初期設定!$C$3+280000)","v":""},{"$f":"IFERROR(IF(A11=\"\",\"\",VLOOKUP(入力!E11&入力!F11,種目!$M$2:$O$36,2,FALSE)),\"\")","v":""},{"$f":"IFERROR(IF(A11=\"\",\"\",VLOOKUP(入力!E11&入力!F11,種目!$M$2:$O$36,3,FALSE)),\"\")","v":""},{"$f":"IF(H11=\"\",\"\",IF(I11=\"t\",TEXT(入力!G11,\"0000000\"),TEXT(入力!G11,\"00000\")))","v":""},{"$f":"IFERROR(IF(A11=\"\",\"\",VLOOKUP(入力!E11&入力!H11,種目!$M$2:$O$36,2,FALSE)),\"\")","v":""},{"$f":"IFERROR(IF(A11=\"\",\"\",VLOOKUP(入力!E11&入力!H11,種目!$M$2:$O$36,3,FALSE)),\"\")","v":""},{"$f":"IF(K11=\"\",\"\",IF(L11=\"t\",TEXT(入力!I11,\"0000000\"),TEXT(入力!I11,\"00000\")))","v":""},{"$f":"IF($A11=\"\",\"\",入力!J11)","v":""},{"$f":"IF($A11=\"\",\"\",入力!K11)","v":""},{"$f":"N11&COUNTIFS($N$2:N11,N11)","v":"10"},{"$f":"O11&COUNTIFS($O$2:O11,O11)","v":"10"},null,"DB","ZK","N1","N2","TM","S1","S2","S3","S4","S5","S6"]
[{"$f":"IF(入力!A12=\"\",\"\",28410000+入力!A12+IF(入力!E12=\"女\",200000000,100000000))","v":""},{"$f":"IF(A12=\"\",\"\",入力!B12)","v":""},{"$f":"IF(A12=\"\",\"\",入力!C12)","v":""},{"$f":"IF(A12=\"\",\"\",IF(入力!E12=\"男\",1,2))","v":""},"",{"$f":"IF(A12=\"\",\"\",入力!A12)","v":""},{"$f":"IF(A12=\"\",\"\",初期設定!$C$3+280000)","v":""},{"$f":"IFERROR(IF(A12=\"\",\"\",VLOOKUP(入力!E12&入力!F12,種目!$M$2:$O$36,2,FALSE)),\"\")","v":""},{"$f":"IFERROR(IF(A12=\"\",\"\",VLOOKUP(入力!E12&入力!F12,種目!$M$2:$O$36,3,FALSE)),\"\")","v":""},{"$f":"IF(H12=\"\",\"\",IF(I12=\"t\",TEXT(入力!G12,\"0000000\"),TEXT(入力!G12,\"00000\")))","v":""},{"$f":"IFERROR(IF(A12=\"\",\"\",VLOOKUP(入力!E12&入力!H12,種目!$M$2:$O$36,2,FALSE)),\"\")","v":""},{"$f":"IFERROR(IF(A12=\"\",\"\",VLOOKUP(入力!E12&入力!H12,種目!$M$2:$O$36,3,FALSE)),\"\")","v":""},{"$f":"IF(K12=\"\",\"\",IF(L12=\"t\",TEXT(入力!I12,\"0000000\"),TEXT(入力!I12,\"00000\")))","v":""},{"$f":"IF($A12=\"\",\"\",入力!J12)","v":""},{"$f":"IF($A12=\"\",\"\",入力!K12)","v":""},{"$f":"N12&COUNTIFS($N$2:N12,N12)","v":"11"},{"$f":"O12&COUNTIFS($O$2:O12,O12)","v":"11"},"A",{"$f":"IF(COUNTIFS($O$2:$O$100,\"男\"&R12)>=4,280000+初期設定!$C$3,\"\")","v":""},null,{"$f":"IF(S12=\"\",\"\",IF(S13=\"\",初期設定!$H$3,初期設定!$H$3&\"A\"))","v":""},null,{"$f":"IF(S12=\"\",\"\",IF(入力!O4=\"\",95999,TEXT(入力!O4,\"00000\")))","v":""},{"$f":"IFERROR(INDEX($A$2:$A$100,MATCH(\"男\"&$R12&RIGHT(X$2,1),$Q$2:$Q$100,0),1),\"\")","v":""},{"$f":"IFERROR(INDEX($A$2:$A$100,MATCH(\"男\"&$R12&RIGHT(Y$2,1),$Q$2:$Q$100,0),1),\"\")","v":""},"","","",""]
[{"$f":"IF(入力!A13=\"\",\"\",28410000+入力!A13+IF(入力!E13=\"女\",200000000,100000000))","v":""},{"$f":"IF(A13=\"\",\"\",入力!B13)","v":""},{"$f":"IF(A13=\"\",\"\",入力!C13)","v":""},{"$f":"IF(A13=\"\",\"\",IF(入力!E13=\"男\",1,2))","v":""},"",{"$f":"IF(A13=\"\",\"\",入力!A13)","v":""},{"$f":"IF(A13=\"\",\"\",初期設定!$C$3+280000)","v":""},{"$f":"IFERROR(IF(A13=\"\",\"\",VLOOKUP(入力!E13&入力!F13,種目!$M$2:$O$36,2,FALSE)),\"\")","v":""},{"$f":"IFERROR(IF(A13=\"\",\"\",VLOOKUP(入力!E13&入力!F13,種目!$M$2:$O$36,3,FALSE)),\"\")","v":""},{"$f":"IF(H13=\"\",\"\",IF(I13=\"t\",TEXT(入力!G13,\"0000000\"),TEXT(入力!G13,\"00000\")))","v":""},{"$f":"IFERROR(IF(A13=\"\",\"\",VLOOKUP(入力!E13&入力!H13,種目!$M$2:$O$36,2,FALSE)),\"\")","v":""},{"$f":"IFERROR(IF(A13=\"\",\"\",VLOOKUP(入力!E13&入力!H13,種目!$M$2:$O$36,3,FALSE)),\"\")","v":""},{"$f":"IF(K13=\"\",\"\",IF(L13=\"t\",TEXT(入力!I13,\"0000000\"),TEXT(入力!I13,\"00000\")))","v":""},{"$f":"IF($A13=\"\",\"\",入力!J13)","v":""},{"$f":"IF($A13=\"\",\"\",入力!K13)","v":""},{"$f":"N13&COUNTIFS($N$2:N13,N13)","v":"12"},{"$f":"O13&COUNTIFS($O$2:O13,O13)","v":"12"},"B",{"$f":"IF(COUNTIFS($O$2:$O$100,\"男\"&R13)>=4,900000+ROW(R1)*10000+初期設定!$C$3,\"\")","v":""},null,{"$f":"IF(S13=\"\",\"\",初期設定!$H$3&作業用!R13)","v":""},null,{"$f":"IF(S13=\"\",\"\",IF(入力!O5=\"\",95999,TEXT(入力!O5,\"00000\")))","v":""},"","","","","",""]
[{"$f":"IF(入力!A14=\"\",\"\",28410000+入力!A14+IF(入力!E14=\"女\",200000000,100000000))","v":""},{"$f":"IF(A14=\"\",\"\",入力!B14)","v":""},{"$f":"IF(A14=\"\",\"\",入力!C14)","v":""},{"$f":"IF(A14=\"\",\"\",IF(入力!E14=\"男\",1,2))","v":""},"",{"$f":"IF(A14=\"\",\"\",入力!A14)","v":""},{"$f":"IF(A14=\"\",\"\",初期設定!$C$3+280000)","v":""},{"$f":"IFERROR(IF(A14=\"\",\"\",VLOOKUP(入力!E14&入力!F14,種目!$M$2:$O$36,2,FALSE)),\"\")","v":""},{"$f":"IFERROR(IF(A14=\"\",\"\",VLOOKUP(入力!E14&入力!F14,種目!$M$2:$O$36,3,FALSE)),\"\")","v":""},{"$f":"IF(H14=\"\",\"\",IF(I14=\"t\",TEXT(入力!G14,\"0000000\"),TEXT(入力!G14,\"00000\")))","v":""},{"$f":"IFERROR(IF(A14=\"\",\"\",VLOOKUP(入力!E14&入力!H14,種目!$M$2:$O$36,2,FALSE)),\"\")","v":""},{"$f":"IFERROR(IF(A14=\"\",\"\",VLOOKUP(入力!E14&入力!H14,種目!$M$2:$O$36,3,FALSE)),\"\")","v":""},{"$f":"IF(K14=\"\",\"\",IF(L14=\"t\",TEXT(入力!I14,\"0000000\"),TEXT(入力!I14,\"00000\")))","v":""},{"$f":"IF($A14=\"\",\"\",入力!J14)","v":""},{"$f":"IF($A14=\"\",\"\",入力!K14)","v":""},{"$f":"N14&COUNTIFS($N$2:N14,N14)","v":"13"},{"$f":"O14&COUNTIFS($O$2:O14,O14)","v":"13"},"C",{"$f":"IF(COUNTIFS($O$2:$O$100,\"男\"&R14)>=4,900000+ROW(R2)*10000+初期設定!$C$3,\"\")","v":""},null,{"$f":"IF(S14=\"\",\"\",初期設定!$H$3&作業用!R14)","v":""},null,{"$f":"IF(S14=\"\",\"\",IF(入力!O6=\"\",95999,TEXT(入力!O6,\"00000\")))","v":""},"","","","","",""]
[{"$f":"IF(入力!A15=\"\",\"\",28410000+入力!A15+IF(入力!E15=\"女\",200000000,100000000))","v":""},{"$f":"IF(A15=\"\",\"\",入力!B15)","v":""},{"$f":"IF(A15=\"\",\"\",入力!C15)","v":""},{"$f":"IF(A15=\"\",\"\",IF(入力!E15=\"男\",1,2))","v":""},"",{"$f":"IF(A15=\"\",\"\",入力!A15)","v":""},{"$f":"IF(A15=\"\",\"\",初期設定!$C$3+280000)","v":""},{"$f":"IFERROR(IF(A15=\"\",\"\",VLOOKUP(入力!E15&入力!F15,種目!$M$2:$O$36,2,FALSE)),\"\")","v":""},{"$f":"IFERROR(IF(A15=\"\",\"\",VLOOKUP(入力!E15&入力!F15,種目!$M$2:$O$36,3,FALSE)),\"\")","v":""},{"$f":"IF(H15=\"\",\"\",IF(I15=\"t\",TEXT(入力!G15,\"0000000\"),TEXT(入力!G15,\"00000\")))","v":""},{"$f":"IFERROR(IF(A15=\"\",\"\",VLOOKUP(入力!E15&入力!H15,種目!$M$2:$O$36,2,FALSE)),\"\")","v":""},{"$f":"IFERROR(IF(A15=\"\",\"\",VLOOKUP(入力!E15&入力!H15,種目!$M$2:$O$36,3,FALSE)),\"\")","v":""},{"$f":"IF(K15=\"\",\"\",IF(L15=\"t\",TEXT(入力!I15,\"0000000\"),TEXT(入力!I15,\"00000\")))","v":""},{"$f":"IF($A15=\"\",\"\",入力!J15)","v":""},{"$f":"IF($A15=\"\",\"\",入力!K15)","v":""},{"$f":"N15&COUNTIFS($N$2:N15,N15)","v":"14"},{"$f":"O15&COUNTIFS($O$2:O15,O15)","v":"14"},"D",{"$f":"IF(COUNTIFS($O$2:$O$100,\"男\"&R15)>=4,900000+ROW(R3)*10000+初期設定!$C$3,\"\")","v":""},null,{"$f":"IF(S15=\"\",\"\",初期設定!$H$3&作業用!R15)","v":""},null,{"$f":"IF(S15=\"\",\"\",IF(入力!O7=\"\",95999,TEXT(入力!O7,\"00000\")))","v":""},"","","","","",""]
[{"$f":"IF(入力!A16=\"\",\"\",28410000+入力!A16+IF(入力!E16=\"女\",200000000,100000000))","v":""},{"$f":"IF(A16=\"\",\"\",入力!B16)","v":""},{"$f":"IF(A16=\"\",\"\",入力!C16)","v":""},{"$f":"IF(A16=\"\",\"\",IF(入力!E16=\"男\",1,2))","v":""},"",{"$f":"IF(A16=\"\",\"\",入力!A16)","v":""},{"$f":"IF(A16=\"\",\"\",初期設定!$C$3+280000)","v":""},{"$f":"IFERROR(IF(A16=\"\",\"\",VLOOKUP(入力!E16&入力!F16,種目!$M$2:$O$36,2,FALSE)),\"\")","v":""},{"$f":"IFERROR(IF(A16=\"\",\"\",VLOOKUP(入力!E16&入力!F16,種目!$M$2:$O$36,3,FALSE)),\"\")","v":""},{"$f":"IF(H16=\"\",\"\",IF(I16=\"t\",TEXT(入力!G16,\"0000000\"),TEXT(入力!G16,\"00000\")))","v":""},{"$f":"IFERROR(IF(A16=\"\",\"\",VLOOKUP(入力!E16&入力!H16,種目!$M$2:$O$36,2,FALSE)),\"\")","v":""},{"$f":"IFERROR(IF(A16=\"\",\"\",VLOOKUP(入力!E16&入力!H16,種目!$M$2:$O$36,3,FALSE)),\"\")","v":""},{"$f":"IF(K16=\"\",\"\",IF(L16=\"t\",TEXT(入力!I16,\"0000000\"),TEXT(入力!I16,\"00000\")))","v":""},{"$f":"IF($A16=\"\",\"\",入力!J16)","v":""},{"$f":"IF($A16=\"\",\"\",入力!K16)","v":""},{"$f":"N16&COUNTIFS($N$2:N16,N16)","v":"15"},{"$f":"O16&COUNTIFS($O$2:O16,O16)","v":"15"},"E",{"$f":"IF(COUNTIFS($O$2:$O$100,\"男\"&R16)>=4,900000+ROW(R4)*10000+初期設定!$C$3,\"\")","v":""},null,{"$f":"IF(S16=\"\",\"\",初期設定!$H$3&作業用!R16)","v":""},null,{"$f":"IF(S16=\"\",\"\",IF(入力!O8=\"\",95999,TEXT(入力!O8,\"00000\")))","v":""},"","","","","",""]
[{"$f":"IF(入力!A17=\"\",\"\",28410000+入力!A17+IF(入力!E17=\"女\",200000000,100000000))","v":""},{"$f":"IF(A17=\"\",\"\",入力!B17)","v":""},{"$f":"IF(A17=\"\",\"\",入力!C17)","v":""},{"$f":"IF(A17=\"\",\"\",IF(入力!E17=\"男\",1,2))","v":""},"",{"$f":"IF(A17=\"\",\"\",入力!A17)","v":""},{"$f":"IF(A17=\"\",\"\",初期設定!$C$3+280000)","v":""},{"$f":"IFERROR(IF(A17=\"\",\"\",VLOOKUP(入力!E17&入力!F17,種目!$M$2:$O$36,2,FALSE)),\"\")","v":""},{"$f":"IFERROR(IF(A17=\"\",\"\",VLOOKUP(入力!E17&入力!F17,種目!$M$2:$O$36,3,FALSE)),\"\")","v":""},{"$f":"IF(H17=\"\",\"\",IF(I17=\"t\",TEXT(入力!G17,\"0000000\"),TEXT(入力!G17,\"00000\")))","v":""},{"$f":"IFERROR(IF(A17=\"\",\"\",VLOOKUP(入力!E17&入力!H17,種目!$M$2:$O$36,2,FALSE)),\"\")","v":""},{"$f":"IFERROR(IF(A17=\"\",\"\",VLOOKUP(入力!E17&入力!H17,種目!$M$2:$O$36,3,FALSE)),\"\")","v":""},{"$f":"IF(K17=\"\",\"\",IF(L17=\"t\",TEXT(入力!I17,\"0000000\"),TEXT(入力!I17,\"00000\")))","v":""},{"$f":"IF($A17=\"\",\"\",入力!J17)","v":""},{"$f":"IF($A17=\"\",\"\",入力!K17)","v":""},{"$f":"N17&COUNTIFS($N$2:N17,N17)","v":"16"},{"$f":"O17&COUNTIFS($O$2:O17,O17)","v":"16"},"F",{"$f":"IF(COUNTIFS($O$2:$O$100,\"男\"&R17)>=4,900000+ROW(R5)*10000+初期設定!$C$3,\"\")","v":""},null,{"$f":"IF(S17=\"\",\"\",初期設定!$H$3&作業用!R17)","v":""},null,{"$f":"IF(S17=\"\",\"\",IF(入力!O9=\"\",95999,TEXT(入力!O9,\"00000\")))","v":""},"","","","","",""]
[{"$f":"IF(入力!A18=\"\",\"\",28410000+入力!A18+IF(入力!E18=\"女\",200000000,100000000))","v":""},{"$f":"IF(A18=\"\",\"\",入力!B18)","v":""},{"$f":"IF(A18=\"\",\"\",入力!C18)","v":""},{"$f":"IF(A18=\"\",\"\",IF(入力!E18=\"男\",1,2))","v":""},"",{"$f":"IF(A18=\"\",\"\",入力!A18)","v":""},{"$f":"IF(A18=\"\",\"\",初期設定!$C$3+280000)","v":""},{"$f":"IFERROR(IF(A18=\"\",\"\",VLOOKUP(入力!E18&入力!F18,種目!$M$2:$O$36,2,FALSE)),\"\")","v":""},{"$f":"IFERROR(IF(A18=\"\",\"\",VLOOKUP(入力!E18&入力!F18,種目!$M$2:$O$36,3,FALSE)),\"\")","v":""},{"$f":"IF(H18=\"\",\"\",IF(I18=\"t\",TEXT(入力!G18,\"0000000\"),TEXT(入力!G18,\"00000\")))","v":""},{"$f":"IFERROR(IF(A18=\"\",\"\",VLOOKUP(入力!E18&入力!H18,種目!$M$2:$O$36,2,FALSE)),\"\")","v":""},{"$f":"IFERROR(IF(A18=\"\",\"\",VLOOKUP(入力!E18&入力!H18,種目!$M$2:$O$36,3,FALSE)),\"\")","v":""},{"$f":"IF(K18=\"\",\"\",IF(L18=\"t\",TEXT(入力!I18,\"0000000\"),TEXT(入力!I18,\"00000\")))","v":""},{"$f":"IF($A18=\"\",\"\",入力!J18)","v":""},{"$f":"IF($A18=\"\",\"\",入力!K18)","v":""},{"$f":"N18&COUNTIFS($N$2:N18,N18)","v":"17"},{"$f":"O18&COUNTIFS($O$2:O18,O18)","v":"17"}]
[{"$f":"IF(入力!A19=\"\",\"\",28410000+入力!A19+IF(入力!E19=\"女\",200000000,100000000))","v":""},{"$f":"IF(A19=\"\",\"\",入力!B19)","v":""},{"$f":"IF(A19=\"\",\"\",入力!C19)","v":""},{"$f":"IF(A19=\"\",\"\",IF(入力!E19=\"男\",1,2))","v":""},"",{"$f":"IF(A19=\"\",\"\",入力!A19)","v":""},{"$f":"IF(A19=\"\",\"\",初期設定!$C$3+280000)","v":""},{"$f":"IFERROR(IF(A19=\"\",\"\",VLOOKUP(入力!E19&入力!F19,種目!$M$2:$O$36,2,FALSE)),\"\")","v":""},{"$f":"IFERROR(IF(A19=\"\",\"\",VLOOKUP(入力!E19&入力!F19,種目!$M$2:$O$36,3,FALSE)),\"\")","v":""},{"$f":"IF(H19=\"\",\"\",IF(I19=\"t\",TEXT(入力!G19,\"0000000\"),TEXT(入力!G19,\"00000\")))","v":""},{"$f":"IFERROR(IF(A19=\"\",\"\",VLOOKUP(入力!E19&入力!H19,種目!$M$2:$O$36,2,FALSE)),\"\")","v":""},{"$f":"IFERROR(IF(A19=\"\",\"\",VLOOKUP(入力!E19&入力!H19,種目!$M$2:$O$36,3,FALSE)),\"\")","v":""},{"$f":"IF(K19=\"\",\"\",IF(L19=\"t\",TEXT(入力!I19,\"0000000\"),TEXT(入力!I19,\"00000\")))","v":""},{"$f":"IF($A19=\"\",\"\",入力!J19)","v":""},{"$f":"IF($A19=\"\",\"\",入力!K19)","v":""},{"$f":"N19&COUNTIFS($N$2:N19,N19)","v":"18"},{"$f":"O19&COUNTIFS($O$2:O19,O19)","v":"18"},"女子４×100m"]
[{"$f":"IF(入力!A20=\"\",\"\",28410000+入力!A20+IF(入力!E20=\"女\",200000000,100000000))","v":""},{"$f":"IF(A20=\"\",\"\",入力!B20)","v":""},{"$f":"IF(A20=\"\",\"\",入力!C20)","v":""},{"$f":"IF(A20=\"\",\"\",IF(入力!E20=\"男\",1,2))","v":""},"",{"$f":"IF(A20=\"\",\"\",入力!A20)","v":""},{"$f":"IF(A20=\"\",\"\",初期設定!$C$3+280000)","v":""},{"$f":"IFERROR(IF(A20=\"\",\"\",VLOOKUP(入力!E20&入力!F20,種目!$M$2:$O$36,2,FALSE)),\"\")","v":""},{"$f":"IFERROR(IF(A20=\"\",\"\",VLOOKUP(入力!E20&入力!F20,種目!$M$2:$O$36,3,FALSE)),\"\")","v":""},{"$f":"IF(H20=\"\",\"\",IF(I20=\"t\",TEXT(入力!G20,\"0000000\"),TEXT(入力!G20,\"00000\")))","v":""},{"$f":"IFERROR(IF(A20=\"\",\"\",VLOOKUP(入力!E20&入力!H20,種目!$M$2:$O$36,2,FALSE)),\"\")","v":""},{"$f":"IFERROR(IF(A20=\"\",\"\",VLOOKUP(入力!E20&入力!H20,種目!$M$2:$O$36,3,FALSE)),\"\")","v":""},{"$f":"IF(K20=\"\",\"\",IF(L20=\"t\",TEXT(入力!I20,\"0000000\"),TEXT(入力!I20,\"00000\")))","v":""},{"$f":"IF($A20=\"\",\"\",入力!J20)","v":""},{"$f":"IF($A20=\"\",\"\",入力!K20)","v":""},{"$f":"N20&COUNTIFS($N$2:N20,N20)","v":"19"},{"$f":"O20&COUNTIFS($O$2:O20,O20)","v":"19"},null,"DB","ZK","N1","N2","TM","S1","S2","S3","S4","S5","S6"]
[{"$f":"IF(入力!A21=\"\",\"\",28410000+入力!A21+IF(入力!E21=\"女\",200000000,100000000))","v":""},{"$f":"IF(A21=\"\",\"\",入力!B21)","v":""},{"$f":"IF(A21=\"\",\"\",入力!C21)","v":""},{"$f":"IF(A21=\"\",\"\",IF(入力!E21=\"男\",1,2))","v":""},"",{"$f":"IF(A21=\"\",\"\",入力!A21)","v":""},{"$f":"IF(A21=\"\",\"\",初期設定!$C$3+280000)","v":""},{"$f":"IFERROR(IF(A21=\"\",\"\",VLOOKUP(入力!E21&入力!F21,種目!$M$2:$O$36,2,FALSE)),\"\")","v":""},{"$f":"IFERROR(IF(A21=\"\",\"\",VLOOKUP(入力!E21&入力!F21,種目!$M$2:$O$36,3,FALSE)),\"\")","v":""},{"$f":"IF(H21=\"\",\"\",IF(I21=\"t\",TEXT(入力!G21,\"0000000\"),TEXT(入力!G21,\"00000\")))","v":""},{"$f":"IFERROR(IF(A21=\"\",\"\",VLOOKUP(入力!E21&入力!H21,種目!$M$2:$O$36,2,FALSE)),\"\")","v":""},{"$f":"IFERROR(IF(A21=\"\",\"\",VLOOKUP(入力!E21&入力!H21,種目!$M$2:$O$36,3,FALSE)),\"\")","v":""},{"$f":"IF(K21=\"\",\"\",IF(L21=\"t\",TEXT(入力!I21,\"0000000\"),TEXT(入力!I21,\"00000\")))","v":""},{"$f":"IF($A21=\"\",\"\",入力!J21)","v":""},{"$f":"IF($A21=\"\",\"\",入力!K21)","v":""},{"$f":"N21&COUNTIFS($N$2:N21,N21)","v":"20"},{"$f":"O21&COUNTIFS($O$2:O21,O21)","v":"20"},"A",{"$f":"IF(COUNTIFS($N$2:$N$100,\"女\"&R21)>=4,280000+初期設定!$C$3,\"\")","v":""},null,{"$f":"IF(S21=\"\",\"\",IF(S22=\"\",初期設定!$H$3,初期設定!$H$3&\"A\"))","v":""},null,{"$f":"IF(S21=\"\",\"\",IF(入力!M12=\"\",95999,TEXT(入力!M12,\"00000\")))","v":""},{"$f":"IFERROR(INDEX($A$2:$A$100,MATCH(\"女\"&$R21&RIGHT(X$2,1),$P$2:$P$100,0),1),\"\")","v":""},{"$f":"IFERROR(INDEX($A$2:$A$100,MATCH(\"女\"&$R21&RIGHT(Y$2,1),$P$2:$P$100,0),1),\"\")","v":""},"","","",""]
[{"$f":"IF(入力!A22=\"\",\"\",28410000+入力!A22+IF(入力!E22=\"女\",200000000,100000000))","v":""},{"$f":"IF(A22=\"\",\"\",入力!B22)","v":""},{"$f":"IF(A22=\"\",\"\",入力!C22)","v":""},{"$f":"IF(A22=\"\",\"\",IF(入力!E22=\"男\",1,2))","v":""},"",{"$f":"IF(A22=\"\",\"\",入力!A22)","v":""},{"$f":"IF(A22=\"\",\"\",初期設定!$C$3+280000)","v":""},{"$f":"IFERROR(IF(A22=\"\",\"\",VLOOKUP(入力!E22&入力!F22,種目!$M$2:$O$36,2,FALSE)),\"\")","v":""},{"$f":"IFERROR(IF(A22=\"\",\"\",VLOOKUP(入力!E22&入力!F22,種目!$M$2:$O$36,3,FALSE)),\"\")","v":""},{"$f":"IF(H22=\"\",\"\",IF(I22=\"t\",TEXT(入力!G22,\"0000000\"),TEXT(入力!G22,\"00000\")))","v":""},{"$f":"IFERROR(IF(A22=\"\",\"\",VLOOKUP(入力!E22&入力!H22,種目!$M$2:$O$36,2,FALSE)),\"\")","v":""},{"$f":"IFERROR(IF(A22=\"\",\"\",VLOOKUP(入力!E22&入力!H22,種目!$M$2:$O$36,3,FALSE)),\"\")","v":""},{"$f":"IF(K22=\"\",\"\",IF(L22=\"t\",TEXT(入力!I22,\"0000000\"),TEXT(入力!I22,\"00000\")))","v":""},{"$f":"IF($A22=\"\",\"\",入力!J22)","v":""},{"$f":"IF($A22=\"\",\"\",入力!K22)","v":""},{"$f":"N22&COUNTIFS($N$2:N22,N22)","v":"21"},{"$f":"O22&COUNTIFS($O$2:O22,O22)","v":"21"},"B",{"$f":"IF(COUNTIFS($N$2:$N$100,\"女\"&R22)>=4,900000+ROW(R1)*10000+初期設定!$C$3,\"\")","v":""},null,{"$f":"IF(S22=\"\",\"\",初期設定!$H$3&作業用!R22)","v":""},null,{"$f":"IF(S22=\"\",\"\",IF(入力!M13=\"\",95999,TEXT(入力!M13,\"00000\")))","v":""},"","","","","",""]
[{"$f":"IF(入力!A23=\"\",\"\",28410000+入力!A23+IF(入力!E23=\"女\",200000000,100000000))","v":""},{"$f":"IF(A23=\"\",\"\",入力!B23)","v":""},{"$f":"IF(A23=\"\",\"\",入力!C23)","v":""},{"$f":"IF(A23=\"\",\"\",IF(入力!E23=\"男\",1,2))","v":""},"",{"$f":"IF(A23=\"\",\"\",入力!A23)","v":""},{"$f":"IF(A23=\"\",\"\",初期設定!$C$3+280000)","v":""},{"$f":"IFERROR(IF(A23=\"\",\"\",VLOOKUP(入力!E23&入力!F23,種目!$M$2:$O$36,2,FALSE)),\"\")","v":""},{"$f":"IFERROR(IF(A23=\"\",\"\",VLOOKUP(入力!E23&入力!F23,種目!$M$2:$O$36,3,FALSE)),\"\")","v":""},{"$f":"IF(H23=\"\",\"\",IF(I23=\"t\",TEXT(入力!G23,\"0000000\"),TEXT(入力!G23,\"00000\")))","v":""},{"$f":"IFERROR(IF(A23=\"\",\"\",VLOOKUP(入力!E23&入力!H23,種目!$M$2:$O$36,2,FALSE)),\"\")","v":""},{"$f":"IFERROR(IF(A23=\"\",\"\",VLOOKUP(入力!E23&入力!H23,種目!$M$2:$O$36,3,FALSE)),\"\")","v":""},{"$f":"IF(K23=\"\",\"\",IF(L23=\"t\",TEXT(入力!I23,\"0000000\"),TEXT(入力!I23,\"00000\")))","v":""},{"$f":"IF($A23=\"\",\"\",入力!J23)","v":""},{"$f":"IF($A23=\"\",\"\",入力!K23)","v":""},{"$f":"N23&COUNTIFS($N$2:N23,N23)","v":"22"},{"$f":"O23&COUNTIFS($O$2:O23,O23)","v":"22"},"C",{"$f":"IF(COUNTIFS($N$2:$N$100,\"女\"&R23)>=4,900000+ROW(R2)*10000+初期設定!$C$3,\"\")","v":""},null,{"$f":"IF(S23=\"\",\"\",初期設定!$H$3&作業用!R23)","v":""},null,{"$f":"IF(S23=\"\",\"\",IF(入力!M14=\"\",95999,TEXT(入力!M14,\"00000\")))","v":""},"","","","","",""]
[{"$f":"IF(入力!A24=\"\",\"\",28410000+入力!A24+IF(入力!E24=\"女\",200000000,100000000))","v":""},{"$f":"IF(A24=\"\",\"\",入力!B24)","v":""},{"$f":"IF(A24=\"\",\"\",入力!C24)","v":""},{"$f":"IF(A24=\"\",\"\",IF(入力!E24=\"男\",1,2))","v":""},"",{"$f":"IF(A24=\"\",\"\",入力!A24)","v":""},{"$f":"IF(A24=\"\",\"\",初期設定!$C$3+280000)","v":""},{"$f":"IFERROR(IF(A24=\"\",\"\",VLOOKUP(入力!E24&入力!F24,種目!$M$2:$O$36,2,FALSE)),\"\")","v":""},{"$f":"IFERROR(IF(A24=\"\",\"\",VLOOKUP(入力!E24&入力!F24,種目!$M$2:$O$36,3,FALSE)),\"\")","v":""},{"$f":"IF(H24=\"\",\"\",IF(I24=\"t\",TEXT(入力!G24,\"0000000\"),TEXT(入力!G24,\"00000\")))","v":""},{"$f":"IFERROR(IF(A24=\"\",\"\",VLOOKUP(入力!E24&入力!H24,種目!$M$2:$O$36,2,FALSE)),\"\")","v":""},{"$f":"IFERROR(IF(A24=\"\",\"\",VLOOKUP(入力!E24&入力!H24,種目!$M$2:$O$36,3,FALSE)),\"\")","v":""},{"$f":"IF(K24=\"\",\"\",IF(L24=\"t\",TEXT(入力!I24,\"0000000\"),TEXT(入力!I24,\"00000\")))","v":""},{"$f":"IF($A24=\"\",\"\",入力!J24)","v":""},{"$f":"IF($A24=\"\",\"\",入力!K24)","v":""},{"$f":"N24&COUNTIFS($N$2:N24,N24)","v":"23"},{"$f":"O24&COUNTIFS($O$2:O24,O24)","v":"23"},"D",{"$f":"IF(COUNTIFS($N$2:$N$100,\"女\"&R24)>=4,900000+ROW(R3)*10000+初期設定!$C$3,\"\")","v":""},null,{"$f":"IF(S24=\"\",\"\",初期設定!$H$3&作業用!R24)","v":""},null,{"$f":"IF(S24=\"\",\"\",IF(入力!M15=\"\",95999,TEXT(入力!M15,\"00000\")))","v":""},"","","","","",""]
[{"$f":"IF(入力!A25=\"\",\"\",28410000+入力!A25+IF(入力!E25=\"女\",200000000,100000000))","v":""},{"$f":"IF(A25=\"\",\"\",入力!B25)","v":""},{"$f":"IF(A25=\"\",\"\",入力!C25)","v":""},{"$f":"IF(A25=\"\",\"\",IF(入力!E25=\"男\",1,2))","v":""},"",{"$f":"IF(A25=\"\",\"\",入力!A25)","v":""},{"$f":"IF(A25=\"\",\"\",初期設定!$C$3+280000)","v":""},{"$f":"IFERROR(IF(A25=\"\",\"\",VLOOKUP(入力!E25&入力!F25,種目!$M$2:$O$36,2,FALSE)),\"\")","v":""},{"$f":"IFERROR(IF(A25=\"\",\"\",VLOOKUP(入力!E25&入力!F25,種目!$M$2:$O$36,3,FALSE)),\"\")","v":""},{"$f":"IF(H25=\"\",\"\",IF(I25=\"t\",TEXT(入力!G25,\"0000000\"),TEXT(入力!G25,\"00000\")))","v":""},{"$f":"IFERROR(IF(A25=\"\",\"\",VLOOKUP(入力!E25&入力!H25,種目!$M$2:$O$36,2,FALSE)),\"\")","v":""},{"$f":"IFERROR(IF(A25=\"\",\"\",VLOOKUP(入力!E25&入力!H25,種目!$M$2:$O$36,3,FALSE)),\"\")","v":""},{"$f":"IF(K25=\"\",\"\",IF(L25=\"t\",TEXT(入力!I25,\"0000000\"),TEXT(入力!I25,\"00000\")))","v":""},{"$f":"IF($A25=\"\",\"\",入力!J25)","v":""},{"$f":"IF($A25=\"\",\"\",入力!K25)","v":""},{"$f":"N25&COUNTIFS($N$2:N25,N25)","v":"24"},{"$f":"O25&COUNTIFS($O$2:O25,O25)","v":"24"},"E",{"$f":"IF(COUNTIFS($N$2:$N$100,\"女\"&R25)>=4,900000+ROW(R4)*10000+初期設定!$C$3,\"\")","v":""},null,{"$f":"IF(S25=\"\",\"\",初期設定!$H$3&作業用!R25)","v":""},null,{"$f":"IF(S25=\"\",\"\",IF(入力!M16=\"\",95999,TEXT(入力!M16,\"00000\")))","v":""},"","","","","",""]
[{"$f":"IF(入力!A26=\"\",\"\",28410000+入力!A26+IF(入力!E26=\"女\",200000000,100000000))","v":""},{"$f":"IF(A26=\"\",\"\",入力!B26)","v":""},{"$f":"IF(A26=\"\",\"\",入力!C26)","v":""},{"$f":"IF(A26=\"\",\"\",IF(入力!E26=\"男\",1,2))","v":""},"",{"$f":"IF(A26=\"\",\"\",入力!A26)","v":""},{"$f":"IF(A26=\"\",\"\",初期設定!$C$3+280000)","v":""},{"$f":"IFERROR(IF(A26=\"\",\"\",VLOOKUP(入力!E26&入力!F26,種目!$M$2:$O$36,2,FALSE)),\"\")","v":""},{"$f":"IFERROR(IF(A26=\"\",\"\",VLOOKUP(入力!E26&入力!F26,種目!$M$2:$O$36,3,FALSE)),\"\")","v":""},{"$f":"IF(H26=\"\",\"\",IF(I26=\"t\",TEXT(入力!G26,\"0000000\"),TEXT(入力!G26,\"00000\")))","v":""},{"$f":"IFERROR(IF(A26=\"\",\"\",VLOOKUP(入力!E26&入力!H26,種目!$M$2:$O$36,2,FALSE)),\"\")","v":""},{"$f":"IFERROR(IF(A26=\"\",\"\",VLOOKUP(入力!E26&入力!H26,種目!$M$2:$O$36,3,FALSE)),\"\")","v":""},{"$f":"IF(K26=\"\",\"\",IF(L26=\"t\",TEXT(入力!I26,\"0000000\"),TEXT(入力!I26,\"00000\")))","v":""},{"$f":"IF($A26=\"\",\"\",入力!J26)","v":""},{"$f":"IF($A26=\"\",\"\",入力!K26)","v":""},{"$f":"N26&COUNTIFS($N$2:N26,N26)","v":"25"},{"$f":"O26&COUNTIFS($O$2:O26,O26)","v":"25"},"F",{"$f":"IF(COUNTIFS($N$2:$N$100,\"女\"&R26)>=4,900000+ROW(R5)*10000+初期設定!$C$3,\"\")","v":""},null,{"$f":"IF(S26=\"\",\"\",初期設定!$H$3&作業用!R26)","v":""},null,{"$f":"IF(S26=\"\",\"\",IF(入力!M17=\"\",95999,TEXT(入力!M17,\"00000\")))","v":""},"","","","","",""]
[{"$f":"IF(入力!A27=\"\",\"\",28410000+入力!A27+IF(入力!E27=\"女\",200000000,100000000))","v":""},{"$f":"IF(A27=\"\",\"\",入力!B27)","v":""},{"$f":"IF(A27=\"\",\"\",入力!C27)","v":""},{"$f":"IF(A27=\"\",\"\",IF(入力!E27=\"男\",1,2))","v":""},"",{"$f":"IF(A27=\"\",\"\",入力!A27)","v":""},{"$f":"IF(A27=\"\",\"\",初期設定!$C$3+280000)","v":""},{"$f":"IFERROR(IF(A27=\"\",\"\",VLOOKUP(入力!E27&入力!F27,種目!$M$2:$O$36,2,FALSE)),\"\")","v":""},{"$f":"IFERROR(IF(A27=\"\",\"\",VLOOKUP(入力!E27&入力!F27,種目!$M$2:$O$36,3,FALSE)),\"\")","v":""},{"$f":"IF(H27=\"\",\"\",IF(I27=\"t\",TEXT(入力!G27,\"0000000\"),TEXT(入力!G27,\"00000\")))","v":""},{"$f":"IFERROR(IF(A27=\"\",\"\",VLOOKUP(入力!E27&入力!H27,種目!$M$2:$O$36,2,FALSE)),\"\")","v":""},{"$f":"IFERROR(IF(A27=\"\",\"\",VLOOKUP(入力!E27&入力!H27,種目!$M$2:$O$36,3,FALSE)),\"\")","v":""},{"$f":"IF(K27=\"\",\"\",IF(L27=\"t\",TEXT(入力!I27,\"0000000\"),TEXT(入力!I27,\"00000\")))","v":""},{"$f":"IF($A27=\"\",\"\",入力!J27)","v":""},{"$f":"IF($A27=\"\",\"\",入力!K27)","v":""},{"$f":"N27&COUNTIFS($N$2:N27,N27)","v":"26"},{"$f":"O27&COUNTIFS($O$2:O27,O27)","v":"26"}]
[{"$f":"IF(入力!A28=\"\",\"\",28410000+入力!A28+IF(入力!E28=\"女\",200000000,100000000))","v":""},{"$f":"IF(A28=\"\",\"\",入力!B28)","v":""},{"$f":"IF(A28=\"\",\"\",入力!C28)","v":""},{"$f":"IF(A28=\"\",\"\",IF(入力!E28=\"男\",1,2))","v":""},"",{"$f":"IF(A28=\"\",\"\",入力!A28)","v":""},{"$f":"IF(A28=\"\",\"\",初期設定!$C$3+280000)","v":""},{"$f":"IFERROR(IF(A28=\"\",\"\",VLOOKUP(入力!E28&入力!F28,種目!$M$2:$O$36,2,FALSE)),\"\")","v":""},{"$f":"IFERROR(IF(A28=\"\",\"\",VLOOKUP(入力!E28&入力!F28,種目!$M$2:$O$36,3,FALSE)),\"\")","v":""},{"$f":"IF(H28=\"\",\"\",IF(I28=\"t\",TEXT(入力!G28,\"0000000\"),TEXT(入力!G28,\"00000\")))","v":""},{"$f":"IFERROR(IF(A28=\"\",\"\",VLOOKUP(入力!E28&入力!H28,種目!$M$2:$O$36,2,FALSE)),\"\")","v":""},{"$f":"IFERROR(IF(A28=\"\",\"\",VLOOKUP(入力!E28&入力!H28,種目!$M$2:$O$36,3,FALSE)),\"\")","v":""},{"$f":"IF(K28=\"\",\"\",IF(L28=\"t\",TEXT(入力!I28,\"0000000\"),TEXT(入力!I28,\"00000\")))","v":""},{"$f":"IF($A28=\"\",\"\",入力!J28)","v":""},{"$f":"IF($A28=\"\",\"\",入力!K28)","v":""},{"$f":"N28&COUNTIFS($N$2:N28,N28)","v":"27"},{"$f":"O28&COUNTIFS($O$2:O28,O28)","v":"27"},"女子４×400m"]
[{"$f":"IF(入力!A29=\"\",\"\",28410000+入力!A29+IF(入力!E29=\"女\",200000000,100000000))","v":""},{"$f":"IF(A29=\"\",\"\",入力!B29)","v":""},{"$f":"IF(A29=\"\",\"\",入力!C29)","v":""},{"$f":"IF(A29=\"\",\"\",IF(入力!E29=\"男\",1,2))","v":""},"",{"$f":"IF(A29=\"\",\"\",入力!A29)","v":""},{"$f":"IF(A29=\"\",\"\",初期設定!$C$3+280000)","v":""},{"$f":"IFERROR(IF(A29=\"\",\"\",VLOOKUP(入力!E29&入力!F29,種目!$M$2:$O$36,2,FALSE)),\"\")","v":""},{"$f":"IFERROR(IF(A29=\"\",\"\",VLOOKUP(入力!E29&入力!F29,種目!$M$2:$O$36,3,FALSE)),\"\")","v":""},{"$f":"IF(H29=\"\",\"\",IF(I29=\"t\",TEXT(入力!G29,\"0000000\"),TEXT(入力!G29,\"00000\")))","v":""},{"$f":"IFERROR(IF(A29=\"\",\"\",VLOOKUP(入力!E29&入力!H29,種目!$M$2:$O$36,2,FALSE)),\"\")","v":""},{"$f":"IFERROR(IF(A29=\"\",\"\",VLOOKUP(入力!E29&入力!H29,種目!$M$2:$O$36,3,FALSE)),\"\")","v":""},{"$f":"IF(K29=\"\",\"\",IF(L29=\"t\",TEXT(入力!I29,\"0000000\"),TEXT(入力!I29,\"00000\")))","v":""},{"$f":"IF($A29=\"\",\"\",入力!J29)","v":""},{"$f":"IF($A29=\"\",\"\",入力!K29)","v":""},{"$f":"N29&COUNTIFS($N$2:N29,N29)","v":"28"},{"$f":"O29&COUNTIFS($O$2:O29,O29)","v":"28"},null,"DB","ZK","N1","N2","TM","S1","S2","S3","S4","S5","S6"]
[{"$f":"IF(入力!A30=\"\",\"\",28410000+入力!A30+IF(入力!E30=\"女\",200000000,100000000))","v":""},{"$f":"IF(A30=\"\",\"\",入力!B30)","v":""},{"$f":"IF(A30=\"\",\"\",入力!C30)","v":""},{"$f":"IF(A30=\"\",\"\",IF(入力!E30=\"男\",1,2))","v":""},"",{"$f":"IF(A30=\"\",\"\",入力!A30)","v":""},{"$f":"IF(A30=\"\",\"\",初期設定!$C$3+280000)","v":""},{"$f":"IFERROR(IF(A30=\"\",\"\",VLOOKUP(入力!E30&入力!F30,種目!$M$2:$O$36,2,FALSE)),\"\")","v":""},{"$f":"IFERROR(IF(A30=\"\",\"\",VLOOKUP(入力!E30&入力!F30,種目!$M$2:$O$36,3,FALSE)),\"\")","v":""},{"$f":"IF(H30=\"\",\"\",IF(I30=\"t\",TEXT(入力!G30,\"0000000\"),TEXT(入力!G30,\"00000\")))","v":""},{"$f":"IFERROR(IF(A30=\"\",\"\",VLOOKUP(入力!E30&入力!H30,種目!$M$2:$O$36,2,FALSE)),\"\")","v":""},{"$f":"IFERROR(IF(A30=\"\",\"\",VLOOKUP(入力!E30&入力!H30,種目!$M$2:$O$36,3,FALSE)),\"\")","v":""},{"$f":"IF(K30=\"\",\"\",IF(L30=\"t\",TEXT(入力!I30,\"0000000\"),TEXT(入力!I30,\"00000\")))","v":""},{"$f":"IF($A30=\"\",\"\",入力!J30)","v":""},{"$f":"IF($A30=\"\",\"\",入力!K30)","v":""},{"$f":"N30&COUNTIFS($N$2:N30,N30)","v":"29"},{"$f":"O30&COUNTIFS($O$2:O30,O30)","v":"29"},"A",{"$f":"IF(COUNTIFS($O$2:$O$100,\"女\"&R30)>=4,280000+初期設定!$C$3,\"\")","v":""},null,{"$f":"IF(S30=\"\",\"\",IF(S31=\"\",初期設定!$H$3,初期設定!$H$3&\"A\"))","v":""},null,{"$f":"IF(S30=\"\",\"\",IF(入力!O12=\"\",95999,TEXT(入力!O12,\"00000\")))","v":""},{"$f":"IFERROR(INDEX($A$2:$A$100,MATCH(\"女\"&$R30&RIGHT(X$2,1),$Q$2:$Q$100,0),1),\"\")","v":""},{"$f":"IFERROR(INDEX($A$2:$A$100,MATCH(\"女\"&$R30&RIGHT(Y$2,1),$Q$2:$Q$100,0),1),\"\")","v":""},"","","",""]
[{"$f":"IF(入力!A31=\"\",\"\",28410000+入力!A31+IF(入力!E31=\"女\",200000000,100000000))","v":""},{"$f":"IF(A31=\"\",\"\",入力!B31)","v":""},{"$f":"IF(A31=\"\",\"\",入力!C31)","v":""},{"$f":"IF(A31=\"\",\"\",IF(入力!E31=\"男\",1,2))","v":""},"",{"$f":"IF(A31=\"\",\"\",入力!A31)","v":""},{"$f":"IF(A31=\"\",\"\",初期設定!$C$3+280000)","v":""},{"$f":"IFERROR(IF(A31=\"\",\"\",VLOOKUP(入力!E31&入力!F31,種目!$M$2:$O$36,2,FALSE)),\"\")","v":""},{"$f":"IFERROR(IF(A31=\"\",\"\",VLOOKUP(入力!E31&入力!F31,種目!$M$2:$O$36,3,FALSE)),\"\")","v":""},{"$f":"IF(H31=\"\",\"\",IF(I31=\"t\",TEXT(入力!G31,\"0000000\"),TEXT(入力!G31,\"00000\")))","v":""},{"$f":"IFERROR(IF(A31=\"\",\"\",VLOOKUP(入力!E31&入力!H31,種目!$M$2:$O$36,2,FALSE)),\"\")","v":""},{"$f":"IFERROR(IF(A31=\"\",\"\",VLOOKUP(入力!E31&入力!H31,種目!$M$2:$O$36,3,FALSE)),\"\")","v":""},{"$f":"IF(K31=\"\",\"\",IF(L31=\"t\",TEXT(入力!I31,\"0000000\"),TEXT(入力!I31,\"00000\")))","v":""},{"$f":"IF($A31=\"\",\"\",入力!J31)","v":""},{"$f":"IF($A31=\"\",\"\",入力!K31)","v":""},{"$f":"N31&COUNTIFS($N$2:N31,N31)","v":"30"},{"$f":"O31&COUNTIFS($O$2:O31,O31)","v":"30"},"B",{"$f":"IF(COUNTIFS($O$2:$O$100,\"女\"&R31)>=4,900000+ROW(R1)*10000+初期設定!$C$3,\"\")","v":""},null,{"$f":"IF(S31=\"\",\"\",初期設定!$H$3&作業用!R31)","v":""},null,{"$f":"IF(S31=\"\",\"\",IF(入力!O13=\"\",95999,TEXT(入力!O13,\"00000\")))","v":""},"","","","","",""]
[{"$f":"IF(入力!A32=\"\",\"\",28410000+入力!A32+IF(入力!E32=\"女\",200000000,100000000))","v":""},{"$f":"IF(A32=\"\",\"\",入力!B32)","v":""},{"$f":"IF(A32=\"\",\"\",入力!C32)","v":""},{"$f":"IF(A32=\"\",\"\",IF(入力!E32=\"男\",1,2))","v":""},"",{"$f":"IF(A32=\"\",\"\",入力!A32)","v":""},{"$f":"IF(A32=\"\",\"\",初期設定!$C$3+280000)","v":""},{"$f":"IFERROR(IF(A32=\"\",\"\",VLOOKUP(入力!E32&入力!F32,種目!$M$2:$O$36,2,FALSE)),\"\")","v":""},{"$f":"IFERROR(IF(A32=\"\",\"\",VLOOKUP(入力!E32&入力!F32,種目!$M$2:$O$36,3,FALSE)),\"\")","v":""},{"$f":"IF(H32=\"\",\"\",IF(I32=\"t\",TEXT(入力!G32,\"0000000\"),TEXT(入力!G32,\"00000\")))","v":""},{"$f":"IFERROR(IF(A32=\"\",\"\",VLOOKUP(入力!E32&入力!H32,種目!$M$2:$O$36,2,FALSE)),\"\")","v":""},{"$f":"IFERROR(IF(A32=\"\",\"\",VLOOKUP(入力!E32&入力!H32,種目!$M$2:$O$36,3,FALSE)),\"\")","v":""},{"$f":"IF(K32=\"\",\"\",IF(L32=\"t\",TEXT(入力!I32,\"0000000\"),TEXT(入力!I32,\"00000\")))","v":""},{"$f":"IF($A32=\"\",\"\",入力!J32)","v":""},{"$f":"IF($A32=\"\",\"\",入力!K32)","v":""},{"$f":"N32&COUNTIFS($N$2:N32,N32)","v":"31"},{"$f":"O32&COUNTIFS($O$2:O32,O32)","v":"31"},"C",{"$f":"IF(COUNTIFS($O$2:$O$100,\"女\"&R32)>=4,900000+ROW(R2)*10000+初期設定!$C$3,\"\")","v":""},null,{"$f":"IF(S32=\"\",\"\",初期設定!$H$3&作業用!R32)","v":""},null,{"$f":"IF(S32=\"\",\"\",IF(入力!O14=\"\",95999,TEXT(入力!O14,\"00000\")))","v":""},"","","","","",""]
[{"$f":"IF(入力!A33=\"\",\"\",28410000+入力!A33+IF(入力!E33=\"女\",200000000,100000000))","v":""},{"$f":"IF(A33=\"\",\"\",入力!B33)","v":""},{"$f":"IF(A33=\"\",\"\",入力!C33)","v":""},{"$f":"IF(A33=\"\",\"\",IF(入力!E33=\"男\",1,2))","v":""},"",{"$f":"IF(A33=\"\",\"\",入力!A33)","v":""},{"$f":"IF(A33=\"\",\"\",初期設定!$C$3+280000)","v":""},{"$f":"IFERROR(IF(A33=\"\",\"\",VLOOKUP(入力!E33&入力!F33,種目!$M$2:$O$36,2,FALSE)),\"\")","v":""},{"$f":"IFERROR(IF(A33=\"\",\"\",VLOOKUP(入力!E33&入力!F33,種目!$M$2:$O$36,3,FALSE)),\"\")","v":""},{"$f":"IF(H33=\"\",\"\",IF(I33=\"t\",TEXT(入力!G33,\"0000000\"),TEXT(入力!G33,\"00000\")))","v":""},{"$f":"IFERROR(IF(A33=\"\",\"\",VLOOKUP(入力!E33&入力!H33,種目!$M$2:$O$36,2,FALSE)),\"\")","v":""},{"$f":"IFERROR(IF(A33=\"\",\"\",VLOOKUP(入力!E33&入力!H33,種目!$M$2:$O$36,3,FALSE)),\"\")","v":""},{"$f":"IF(K33=\"\",\"\",IF(L33=\"t\",TEXT(入力!I33,\"0000000\"),TEXT(入力!I33,\"00000\")))","v":""},{"$f":"IF($A33=\"\",\"\",入力!J33)","v":""},{"$f":"IF($A33=\"\",\"\",入力!K33)","v":""},{"$f":"N33&COUNTIFS($N$2:N33,N33)","v":"32"},{"$f":"O33&COUNTIFS($O$2:O33,O33)","v":"32"},"D",{"$f":"IF(COUNTIFS($O$2:$O$100,\"女\"&R33)>=4,900000+ROW(R3)*10000+初期設定!$C$3,\"\")","v":""},null,{"$f":"IF(S33=\"\",\"\",初期設定!$H$3&作業用!R33)","v":""},null,{"$f":"IF(S33=\"\",\"\",IF(入力!O15=\"\",95999,TEXT(入力!O15,\"00000\")))","v":""},"","","","","",""]
[{"$f":"IF(入力!A34=\"\",\"\",28410000+入力!A34+IF(入力!E34=\"女\",200000000,100000000))","v":""},{"$f":"IF(A34=\"\",\"\",入力!B34)","v":""},{"$f":"IF(A34=\"\",\"\",入力!C34)","v":""},{"$f":"IF(A34=\"\",\"\",IF(入力!E34=\"男\",1,2))","v":""},"",{"$f":"IF(A34=\"\",\"\",入力!A34)","v":""},{"$f":"IF(A34=\"\",\"\",初期設定!$C$3+280000)","v":""},{"$f":"IFERROR(IF(A34=\"\",\"\",VLOOKUP(入力!E34&入力!F34,種目!$M$2:$O$36,2,FALSE)),\"\")","v":""},{"$f":"IFERROR(IF(A34=\"\",\"\",VLOOKUP(入力!E34&入力!F34,種目!$M$2:$O$36,3,FALSE)),\"\")","v":""},{"$f":"IF(H34=\"\",\"\",IF(I34=\"t\",TEXT(入力!G34,\"0000000\"),TEXT(入力!G34,\"00000\")))","v":""},{"$f":"IFERROR(IF(A34=\"\",\"\",VLOOKUP(入力!E34&入力!H34,種目!$M$2:$O$36,2,FALSE)),\"\")","v":""},{"$f":"IFERROR(IF(A34=\"\",\"\",VLOOKUP(入力!E34&入力!H34,種目!$M$2:$O$36,3,FALSE)),\"\")","v":""},{"$f":"IF(K34=\"\",\"\",IF(L34=\"t\",TEXT(入力!I34,\"0000000\"),TEXT(入力!I34,\"00000\")))","v":""},{"$f":"IF($A34=\"\",\"\",入力!J34)","v":""},{"$f":"IF($A34=\"\",\"\",入力!K34)","v":""},{"$f":"N34&COUNTIFS($N$2:N34,N34)","v":"33"},{"$f":"O34&COUNTIFS($O$2:O34,O34)","v":"33"},"E",{"$f":"IF(COUNTIFS($O$2:$O$100,\"女\"&R34)>=4,900000+ROW(R4)*10000+初期設定!$C$3,\"\")","v":""},null,{"$f":"IF(S34=\"\",\"\",初期設定!$H$3&作業用!R34)","v":""},null,{"$f":"IF(S34=\"\",\"\",IF(入力!O16=\"\",95999,TEXT(入力!O16,\"00000\")))","v":""},"","","","","",""]
[{"$f":"IF(入力!A35=\"\",\"\",28410000+入力!A35+IF(入力!E35=\"女\",200000000,100000000))","v":""},{"$f":"IF(A35=\"\",\"\",入力!B35)","v":""},{"$f":"IF(A35=\"\",\"\",入力!C35)","v":""},{"$f":"IF(A35=\"\",\"\",IF(入力!E35=\"男\",1,2))","v":""},"",{"$f":"IF(A35=\"\",\"\",入力!A35)","v":""},{"$f":"IF(A35=\"\",\"\",初期設定!$C$3+280000)","v":""},{"$f":"IFERROR(IF(A35=\"\",\"\",VLOOKUP(入力!E35&入力!F35,種目!$M$2:$O$36,2,FALSE)),\"\")","v":""},{"$f":"IFERROR(IF(A35=\"\",\"\",VLOOKUP(入力!E35&入力!F35,種目!$M$2:$O$36,3,FALSE)),\"\")","v":""},{"$f":"IF(H35=\"\",\"\",IF(I35=\"t\",TEXT(入力!G35,\"0000000\"),TEXT(入力!G35,\"00000\")))","v":""},{"$f":"IFERROR(IF(A35=\"\",\"\",VLOOKUP(入力!E35&入力!H35,種目!$M$2:$O$36,2,FALSE)),\"\")","v":""},{"$f":"IFERROR(IF(A35=\"\",\"\",VLOOKUP(入力!E35&入力!H35,種目!$M$2:$O$36,3,FALSE)),\"\")","v":""},{"$f":"IF(K35=\"\",\"\",IF(L35=\"t\",TEXT(入力!I35,\"0000000\"),TEXT(入力!I35,\"00000\")))","v":""},{"$f":"IF($A35=\"\",\"\",入力!J35)","v":""},{"$f":"IF($A35=\"\",\"\",入力!K35)","v":""},{"$f":"N35&COUNTIFS($N$2:N35,N35)","v":"34"},{"$f":"O35&COUNTIFS($O$2:O35,O35)","v":"34"},"F",{"$f":"IF(COUNTIFS($O$2:$O$100,\"女\"&R35)>=4,900000+ROW(R5)*10000+初期設定!$C$3,\"\")","v":""},null,{"$f":"IF(S35=\"\",\"\",初期設定!$H$3&作業用!R35)","v":""},null,{"$f":"IF(S35=\"\",\"\",IF(入力!O17=\"\",95999,TEXT(入力!O17,\"00000\")))","v":""},"","","","","",""]
[{"$f":"IF(入力!A36=\"\",\"\",28410000+入力!A36+IF(入力!E36=\"女\",200000000,100000000))","v":""},{"$f":"IF(A36=\"\",\"\",入力!B36)","v":""},{"$f":"IF(A36=\"\",\"\",入力!C36)","v":""},{"$f":"IF(A36=\"\",\"\",IF(入力!E36=\"男\",1,2))","v":""},"",{"$f":"IF(A36=\"\",\"\",入力!A36)","v":""},{"$f":"IF(A36=\"\",\"\",初期設定!$C$3+280000)","v":""},{"$f":"IFERROR(IF(A36=\"\",\"\",VLOOKUP(入力!E36&入力!F36,種目!$M$2:$O$36,2,FALSE)),\"\")","v":""},{"$f":"IFERROR(IF(A36=\"\",\"\",VLOOKUP(入力!E36&入力!F36,種目!$M$2:$O$36,3,FALSE)),\"\")","v":""},{"$f":"IF(H36=\"\",\"\",IF(I36=\"t\",TEXT(入力!G36,\"0000000\"),TEXT(入力!G36,\"00000\")))","v":""},{"$f":"IFERROR(IF(A36=\"\",\"\",VLOOKUP(入力!E36&入力!H36,種目!$M$2:$O$36,2,FALSE)),\"\")","v":""},{"$f":"IFERROR(IF(A36=\"\",\"\",VLOOKUP(入力!E36&入力!H36,種目!$M$2:$O$36,3,FALSE)),\"\")","v":""},{"$f":"IF(K36=\"\",\"\",IF(L36=\"t\",TEXT(入力!I36,\"0000000\"),TEXT(入力!I36,\"00000\")))","v":""},{"$f":"IF($A36=\"\",\"\",入力!J36)","v":""},{"$f":"IF($A36=\"\",\"\",入力!K36)","v":""},{"$f":"N36&COUNTIFS($N$2:N36,N36)","v":"35"},{"$f":"O36&COUNTIFS($O$2:O36,O36)","v":"35"}]
[{"$f":"IF(入力!A37=\"\",\"\",28410000+入力!A37+IF(入力!E37=\"女\",200000000,100000000))","v":""},{"$f":"IF(A37=\"\",\"\",入力!B37)","v":""},{"$f":"IF(A37=\"\",\"\",入力!C37)","v":""},{"$f":"IF(A37=\"\",\"\",IF(入力!E37=\"男\",1,2))","v":""},"",{"$f":"IF(A37=\"\",\"\",入力!A37)","v":""},{"$f":"IF(A37=\"\",\"\",初期設定!$C$3+280000)","v":""},{"$f":"IFERROR(IF(A37=\"\",\"\",VLOOKUP(入力!E37&入力!F37,種目!$M$2:$O$36,2,FALSE)),\"\")","v":""},{"$f":"IFERROR(IF(A37=\"\",\"\",VLOOKUP(入力!E37&入力!F37,種目!$M$2:$O$36,3,FALSE)),\"\")","v":""},{"$f":"IF(H37=\"\",\"\",IF(I37=\"t\",TEXT(入力!G37,\"0000000\"),TEXT(入力!G37,\"00000\")))","v":""},{"$f":"IFERROR(IF(A37=\"\",\"\",VLOOKUP(入力!E37&入力!H37,種目!$M$2:$O$36,2,FALSE)),\"\")","v":""},{"$f":"IFERROR(IF(A37=\"\",\"\",VLOOKUP(入力!E37&入力!H37,種目!$M$2:$O$36,3,FALSE)),\"\")","v":""},{"$f":"IF(K37=\"\",\"\",IF(L37=\"t\",TEXT(入力!I37,\"0000000\"),TEXT(入力!I37,\"00000\")))","v":""},{"$f":"IF($A37=\"\",\"\",入力!J37)","v":""},{"$f":"IF($A37=\"\",\"\",入力!K37)","v":""},{"$f":"N37&COUNTIFS($N$2:N37,N37)","v":"36"},{"$f":"O37&COUNTIFS($O$2:O37,O37)","v":"36"}]
[{"$f":"IF(入力!A38=\"\",\"\",28410000+入力!A38+IF(入力!E38=\"女\",200000000,100000000))","v":""},{"$f":"IF(A38=\"\",\"\",入力!B38)","v":""},{"$f":"IF(A38=\"\",\"\",入力!C38)","v":""},{"$f":"IF(A38=\"\",\"\",IF(入力!E38=\"男\",1,2))","v":""},"",{"$f":"IF(A38=\"\",\"\",入力!A38)","v":""},{"$f":"IF(A38=\"\",\"\",初期設定!$C$3+280000)","v":""},{"$f":"IFERROR(IF(A38=\"\",\"\",VLOOKUP(入力!E38&入力!F38,種目!$M$2:$O$36,2,FALSE)),\"\")","v":""},{"$f":"IFERROR(IF(A38=\"\",\"\",VLOOKUP(入力!E38&入力!F38,種目!$M$2:$O$36,3,FALSE)),\"\")","v":""},{"$f":"IF(H38=\"\",\"\",IF(I38=\"t\",TEXT(入力!G38,\"0000000\"),TEXT(入力!G38,\"00000\")))","v":""},{"$f":"IFERROR(IF(A38=\"\",\"\",VLOOKUP(入力!E38&入力!H38,種目!$M$2:$O$36,2,FALSE)),\"\")","v":""},{"$f":"IFERROR(IF(A38=\"\",\"\",VLOOKUP(入力!E38&入力!H38,種目!$M$2:$O$36,3,FALSE)),\"\")","v":""},{"$f":"IF(K38=\"\",\"\",IF(L38=\"t\",TEXT(入力!I38,\"0000000\"),TEXT(入力!I38,\"00000\")))","v":""},{"$f":"IF($A38=\"\",\"\",入力!J38)","v":""},{"$f":"IF($A38=\"\",\"\",入力!K38)","v":""},{"$f":"N38&COUNTIFS($N$2:N38,N38)","v":"37"},{"$f":"O38&COUNTIFS($O$2:O38,O38)","v":"37"}]
[{"$f":"IF(入力!A39=\"\",\"\",28410000+入力!A39+IF(入力!E39=\"女\",200000000,100000000))","v":""},{"$f":"IF(A39=\"\",\"\",入力!B39)","v":""},{"$f":"IF(A39=\"\",\"\",入力!C39)","v":""},{"$f":"IF(A39=\"\",\"\",IF(入力!E39=\"男\",1,2))","v":""},"",{"$f":"IF(A39=\"\",\"\",入力!A39)","v":""},{"$f":"IF(A39=\"\",\"\",初期設定!$C$3+280000)","v":""},{"$f":"IFERROR(IF(A39=\"\",\"\",VLOOKUP(入力!E39&入力!F39,種目!$M$2:$O$36,2,FALSE)),\"\")","v":""},{"$f":"IFERROR(IF(A39=\"\",\"\",VLOOKUP(入力!E39&入力!F39,種目!$M$2:$O$36,3,FALSE)),\"\")","v":""},{"$f":"IF(H39=\"\",\"\",IF(I39=\"t\",TEXT(入力!G39,\"0000000\"),TEXT(入力!G39,\"00000\")))","v":""},{"$f":"IFERROR(IF(A39=\"\",\"\",VLOOKUP(入力!E39&入力!H39,種目!$M$2:$O$36,2,FALSE)),\"\")","v":""},{"$f":"IFERROR(IF(A39=\"\",\"\",VLOOKUP(入力!E39&入力!H39,種目!$M$2:$O$36,3,FALSE)),\"\")","v":""},{"$f":"IF(K39=\"\",\"\",IF(L39=\"t\",TEXT(入力!I39,\"0000000\"),TEXT(入力!I39,\"00000\")))","v":""},{"$f":"IF($A39=\"\",\"\",入力!J39)","v":""},{"$f":"IF($A39=\"\",\"\",入力!K39)","v":""},{"$f":"N39&COUNTIFS($N$2:N39,N39)","v":"38"},{"$f":"O39&COUNTIFS($O$2:O39,O39)","v":"38"}]
[{"$f":"IF(入力!A40=\"\",\"\",28410000+入力!A40+IF(入力!E40=\"女\",200000000,100000000))","v":""},{"$f":"IF(A40=\"\",\"\",入力!B40)","v":""},{"$f":"IF(A40=\"\",\"\",入力!C40)","v":""},{"$f":"IF(A40=\"\",\"\",IF(入力!E40=\"男\",1,2))","v":""},"",{"$f":"IF(A40=\"\",\"\",入力!A40)","v":""},{"$f":"IF(A40=\"\",\"\",初期設定!$C$3+280000)","v":""},{"$f":"IFERROR(IF(A40=\"\",\"\",VLOOKUP(入力!E40&入力!F40,種目!$M$2:$O$36,2,FALSE)),\"\")","v":""},{"$f":"IFERROR(IF(A40=\"\",\"\",VLOOKUP(入力!E40&入力!F40,種目!$M$2:$O$36,3,FALSE)),\"\")","v":""},{"$f":"IF(H40=\"\",\"\",IF(I40=\"t\",TEXT(入力!G40,\"0000000\"),TEXT(入力!G40,\"00000\")))","v":""},{"$f":"IFERROR(IF(A40=\"\",\"\",VLOOKUP(入力!E40&入力!H40,種目!$M$2:$O$36,2,FALSE)),\"\")","v":""},{"$f":"IFERROR(IF(A40=\"\",\"\",VLOOKUP(入力!E40&入力!H40,種目!$M$2:$O$36,3,FALSE)),\"\")","v":""},{"$f":"IF(K40=\"\",\"\",IF(L40=\"t\",TEXT(入力!I40,\"0000000\"),TEXT(入力!I40,\"00000\")))","v":""},{"$f":"IF($A40=\"\",\"\",入力!J40)","v":""},{"$f":"IF($A40=\"\",\"\",入力!K40)","v":""},{"$f":"N40&COUNTIFS($N$2:N40,N40)","v":"39"},{"$f":"O40&COUNTIFS($O$2:O40,O40)","v":"39"}]
[{"$f":"IF(入力!A41=\"\",\"\",28410000+入力!A41+IF(入力!E41=\"女\",200000000,100000000))","v":""},{"$f":"IF(A41=\"\",\"\",入力!B41)","v":""},{"$f":"IF(A41=\"\",\"\",入力!C41)","v":""},{"$f":"IF(A41=\"\",\"\",IF(入力!E41=\"男\",1,2))","v":""},"",{"$f":"IF(A41=\"\",\"\",入力!A41)","v":""},{"$f":"IF(A41=\"\",\"\",初期設定!$C$3+280000)","v":""},{"$f":"IFERROR(IF(A41=\"\",\"\",VLOOKUP(入力!E41&入力!F41,種目!$M$2:$O$36,2,FALSE)),\"\")","v":""},{"$f":"IFERROR(IF(A41=\"\",\"\",VLOOKUP(入力!E41&入力!F41,種目!$M$2:$O$36,3,FALSE)),\"\")","v":""},{"$f":"IF(H41=\"\",\"\",IF(I41=\"t\",TEXT(入力!G41,\"0000000\"),TEXT(入力!G41,\"00000\")))","v":""},{"$f":"IFERROR(IF(A41=\"\",\"\",VLOOKUP(入力!E41&入力!H41,種目!$M$2:$O$36,2,FALSE)),\"\")","v":""},{"$f":"IFERROR(IF(A41=\"\",\"\",VLOOKUP(入力!E41&入力!H41,種目!$M$2:$O$36,3,FALSE)),\"\")","v":""},{"$f":"IF(K41=\"\",\"\",IF(L41=\"t\",TEXT(入力!I41,\"0000000\"),TEXT(入力!I41,\"00000\")))","v":""},{"$f":"IF($A41=\"\",\"\",入力!J41)","v":""},{"$f":"IF($A41=\"\",\"\",入力!K41)","v":""},{"$f":"N41&COUNTIFS($N$2:N41,N41)","v":"40"},{"$f":"O41&COUNTIFS($O$2:O41,O41)","v":"40"}]
[{"$f":"IF(入力!A42=\"\",\"\",28410000+入力!A42+IF(入力!E42=\"女\",200000000,100000000))","v":""},{"$f":"IF(A42=\"\",\"\",入力!B42)","v":""},{"$f":"IF(A42=\"\",\"\",入力!C42)","v":""},{"$f":"IF(A42=\"\",\"\",IF(入力!E42=\"男\",1,2))","v":""},"",{"$f":"IF(A42=\"\",\"\",入力!A42)","v":""},{"$f":"IF(A42=\"\",\"\",初期設定!$C$3+280000)","v":""},{"$f":"IFERROR(IF(A42=\"\",\"\",VLOOKUP(入力!E42&入力!F42,種目!$M$2:$O$36,2,FALSE)),\"\")","v":""},{"$f":"IFERROR(IF(A42=\"\",\"\",VLOOKUP(入力!E42&入力!F42,種目!$M$2:$O$36,3,FALSE)),\"\")","v":""},{"$f":"IF(H42=\"\",\"\",IF(I42=\"t\",TEXT(入力!G42,\"0000000\"),TEXT(入力!G42,\"00000\")))","v":""},{"$f":"IFERROR(IF(A42=\"\",\"\",VLOOKUP(入力!E42&入力!H42,種目!$M$2:$O$36,2,FALSE)),\"\")","v":""},{"$f":"IFERROR(IF(A42=\"\",\"\",VLOOKUP(入力!E42&入力!H42,種目!$M$2:$O$36,3,FALSE)),\"\")","v":""},{"$f":"IF(K42=\"\",\"\",IF(L42=\"t\",TEXT(入力!I42,\"0000000\"),TEXT(入力!I42,\"00000\")))","v":""},{"$f":"IF($A42=\"\",\"\",入力!J42)","v":""},{"$f":"IF($A42=\"\",\"\",入力!K42)","v":""},{"$f":"N42&COUNTIFS($N$2:N42,N42)","v":"41"},{"$f":"O42&COUNTIFS($O$2:O42,O42)","v":"41"}]
[{"$f":"IF(入力!A43=\"\",\"\",28410000+入力!A43+IF(入力!E43=\"女\",200000000,100000000))","v":""},{"$f":"IF(A43=\"\",\"\",入力!B43)","v":""},{"$f":"IF(A43=\"\",\"\",入力!C43)","v":""},{"$f":"IF(A43=\"\",\"\",IF(入力!E43=\"男\",1,2))","v":""},"",{"$f":"IF(A43=\"\",\"\",入力!A43)","v":""},{"$f":"IF(A43=\"\",\"\",初期設定!$C$3+280000)","v":""},{"$f":"IFERROR(IF(A43=\"\",\"\",VLOOKUP(入力!E43&入力!F43,種目!$M$2:$O$36,2,FALSE)),\"\")","v":""},{"$f":"IFERROR(IF(A43=\"\",\"\",VLOOKUP(入力!E43&入力!F43,種目!$M$2:$O$36,3,FALSE)),\"\")","v":""},{"$f":"IF(H43=\"\",\"\",IF(I43=\"t\",TEXT(入力!G43,\"0000000\"),TEXT(入力!G43,\"00000\")))","v":""},{"$f":"IFERROR(IF(A43=\"\",\"\",VLOOKUP(入力!E43&入力!H43,種目!$M$2:$O$36,2,FALSE)),\"\")","v":""},{"$f":"IFERROR(IF(A43=\"\",\"\",VLOOKUP(入力!E43&入力!H43,種目!$M$2:$O$36,3,FALSE)),\"\")","v":""},{"$f":"IF(K43=\"\",\"\",IF(L43=\"t\",TEXT(入力!I43,\"0000000\"),TEXT(入力!I43,\"00000\")))","v":""},{"$f":"IF($A43=\"\",\"\",入力!J43)","v":""},{"$f":"IF($A43=\"\",\"\",入力!K43)","v":""},{"$f":"N43&COUNTIFS($N$2:N43,N43)","v":"42"},{"$f":"O43&COUNTIFS($O$2:O43,O43)","v":"42"}]
[{"$f":"IF(入力!A44=\"\",\"\",28410000+入力!A44+IF(入力!E44=\"女\",200000000,100000000))","v":""},{"$f":"IF(A44=\"\",\"\",入力!B44)","v":""},{"$f":"IF(A44=\"\",\"\",入力!C44)","v":""},{"$f":"IF(A44=\"\",\"\",IF(入力!E44=\"男\",1,2))","v":""},"",{"$f":"IF(A44=\"\",\"\",入力!A44)","v":""},{"$f":"IF(A44=\"\",\"\",初期設定!$C$3+280000)","v":""},{"$f":"IFERROR(IF(A44=\"\",\"\",VLOOKUP(入力!E44&入力!F44,種目!$M$2:$O$36,2,FALSE)),\"\")","v":""},{"$f":"IFERROR(IF(A44=\"\",\"\",VLOOKUP(入力!E44&入力!F44,種目!$M$2:$O$36,3,FALSE)),\"\")","v":""},{"$f":"IF(H44=\"\",\"\",IF(I44=\"t\",TEXT(入力!G44,\"0000000\"),TEXT(入力!G44,\"00000\")))","v":""},{"$f":"IFERROR(IF(A44=\"\",\"\",VLOOKUP(入力!E44&入力!H44,種目!$M$2:$O$36,2,FALSE)),\"\")","v":""},{"$f":"IFERROR(IF(A44=\"\",\"\",VLOOKUP(入力!E44&入力!H44,種目!$M$2:$O$36,3,FALSE)),\"\")","v":""},{"$f":"IF(K44=\"\",\"\",IF(L44=\"t\",TEXT(入力!I44,\"0000000\"),TEXT(入力!I44,\"00000\")))","v":""},{"$f":"IF($A44=\"\",\"\",入力!J44)","v":""},{"$f":"IF($A44=\"\",\"\",入力!K44)","v":""},{"$f":"N44&COUNTIFS($N$2:N44,N44)","v":"43"},{"$f":"O44&COUNTIFS($O$2:O44,O44)","v":"43"}]
[{"$f":"IF(入力!A45=\"\",\"\",28410000+入力!A45+IF(入力!E45=\"女\",200000000,100000000))","v":""},{"$f":"IF(A45=\"\",\"\",入力!B45)","v":""},{"$f":"IF(A45=\"\",\"\",入力!C45)","v":""},{"$f":"IF(A45=\"\",\"\",IF(入力!E45=\"男\",1,2))","v":""},"",{"$f":"IF(A45=\"\",\"\",入力!A45)","v":""},{"$f":"IF(A45=\"\",\"\",初期設定!$C$3+280000)","v":""},{"$f":"IFERROR(IF(A45=\"\",\"\",VLOOKUP(入力!E45&入力!F45,種目!$M$2:$O$36,2,FALSE)),\"\")","v":""},{"$f":"IFERROR(IF(A45=\"\",\"\",VLOOKUP(入力!E45&入力!F45,種目!$M$2:$O$36,3,FALSE)),\"\")","v":""},{"$f":"IF(H45=\"\",\"\",IF(I45=\"t\",TEXT(入力!G45,\"0000000\"),TEXT(入力!G45,\"00000\")))","v":""},{"$f":"IFERROR(IF(A45=\"\",\"\",VLOOKUP(入力!E45&入力!H45,種目!$M$2:$O$36,2,FALSE)),\"\")","v":""},{"$f":"IFERROR(IF(A45=\"\",\"\",VLOOKUP(入力!E45&入力!H45,種目!$M$2:$O$36,3,FALSE)),\"\")","v":""},{"$f":"IF(K45=\"\",\"\",IF(L45=\"t\",TEXT(入力!I45,\"0000000\"),TEXT(入力!I45,\"00000\")))","v":""},{"$f":"IF($A45=\"\",\"\",入力!J45)","v":""},{"$f":"IF($A45=\"\",\"\",入力!K45)","v":""},{"$f":"N45&COUNTIFS($N$2:N45,N45)","v":"44"},{"$f":"O45&COUNTIFS($O$2:O45,O45)","v":"44"}]
[{"$f":"IF(入力!A46=\"\",\"\",28410000+入力!A46+IF(入力!E46=\"女\",200000000,100000000))","v":""},{"$f":"IF(A46=\"\",\"\",入力!B46)","v":""},{"$f":"IF(A46=\"\",\"\",入力!C46)","v":""},{"$f":"IF(A46=\"\",\"\",IF(入力!E46=\"男\",1,2))","v":""},"",{"$f":"IF(A46=\"\",\"\",入力!A46)","v":""},{"$f":"IF(A46=\"\",\"\",初期設定!$C$3+280000)","v":""},{"$f":"IFERROR(IF(A46=\"\",\"\",VLOOKUP(入力!E46&入力!F46,種目!$M$2:$O$36,2,FALSE)),\"\")","v":""},{"$f":"IFERROR(IF(A46=\"\",\"\",VLOOKUP(入力!E46&入力!F46,種目!$M$2:$O$36,3,FALSE)),\"\")","v":""},{"$f":"IF(H46=\"\",\"\",IF(I46=\"t\",TEXT(入力!G46,\"0000000\"),TEXT(入力!G46,\"00000\")))","v":""},{"$f":"IFERROR(IF(A46=\"\",\"\",VLOOKUP(入力!E46&入力!H46,種目!$M$2:$O$36,2,FALSE)),\"\")","v":""},{"$f":"IFERROR(IF(A46=\"\",\"\",VLOOKUP(入力!E46&入力!H46,種目!$M$2:$O$36,3,FALSE)),\"\")","v":""},{"$f":"IF(K46=\"\",\"\",IF(L46=\"t\",TEXT(入力!I46,\"0000000\"),TEXT(入力!I46,\"00000\")))","v":""},{"$f":"IF($A46=\"\",\"\",入力!J46)","v":""},{"$f":"IF($A46=\"\",\"\",入力!K46)","v":""},{"$f":"N46&COUNTIFS($N$2:N46,N46)","v":"45"},{"$f":"O46&COUNTIFS($O$2:O46,O46)","v":"45"}]
[{"$f":"IF(入力!A47=\"\",\"\",28410000+入力!A47+IF(入力!E47=\"女\",200000000,100000000))","v":""},{"$f":"IF(A47=\"\",\"\",入力!B47)","v":""},{"$f":"IF(A47=\"\",\"\",入力!C47)","v":""},{"$f":"IF(A47=\"\",\"\",IF(入力!E47=\"男\",1,2))","v":""},"",{"$f":"IF(A47=\"\",\"\",入力!A47)","v":""},{"$f":"IF(A47=\"\",\"\",初期設定!$C$3+280000)","v":""},{"$f":"IFERROR(IF(A47=\"\",\"\",VLOOKUP(入力!E47&入力!F47,種目!$M$2:$O$36,2,FALSE)),\"\")","v":""},{"$f":"IFERROR(IF(A47=\"\",\"\",VLOOKUP(入力!E47&入力!F47,種目!$M$2:$O$36,3,FALSE)),\"\")","v":""},{"$f":"IF(H47=\"\",\"\",IF(I47=\"t\",TEXT(入力!G47,\"0000000\"),TEXT(入力!G47,\"00000\")))","v":""},{"$f":"IFERROR(IF(A47=\"\",\"\",VLOOKUP(入力!E47&入力!H47,種目!$M$2:$O$36,2,FALSE)),\"\")","v":""},{"$f":"IFERROR(IF(A47=\"\",\"\",VLOOKUP(入力!E47&入力!H47,種目!$M$2:$O$36,3,FALSE)),\"\")","v":""},{"$f":"IF(K47=\"\",\"\",IF(L47=\"t\",TEXT(入力!I47,\"0000000\"),TEXT(入力!I47,\"00000\")))","v":""},{"$f":"IF($A47=\"\",\"\",入力!J47)","v":""},{"$f":"IF($A47=\"\",\"\",入力!K47)","v":""},{"$f":"N47&COUNTIFS($N$2:N47,N47)","v":"46"},{"$f":"O47&COUNTIFS($O$2:O47,O47)","v":"46"}]
[{"$f":"IF(入力!A48=\"\",\"\",28410000+入力!A48+IF(入力!E48=\"女\",200000000,100000000))","v":""},{"$f":"IF(A48=\"\",\"\",入力!B48)","v":""},{"$f":"IF(A48=\"\",\"\",入力!C48)","v":""},{"$f":"IF(A48=\"\",\"\",IF(入力!E48=\"男\",1,2))","v":""},"",{"$f":"IF(A48=\"\",\"\",入力!A48)","v":""},{"$f":"IF(A48=\"\",\"\",初期設定!$C$3+280000)","v":""},{"$f":"IFERROR(IF(A48=\"\",\"\",VLOOKUP(入力!E48&入力!F48,種目!$M$2:$O$36,2,FALSE)),\"\")","v":""},{"$f":"IFERROR(IF(A48=\"\",\"\",VLOOKUP(入力!E48&入力!F48,種目!$M$2:$O$36,3,FALSE)),\"\")","v":""},{"$f":"IF(H48=\"\",\"\",IF(I48=\"t\",TEXT(入力!G48,\"0000000\"),TEXT(入力!G48,\"00000\")))","v":""},{"$f":"IFERROR(IF(A48=\"\",\"\",VLOOKUP(入力!E48&入力!H48,種目!$M$2:$O$36,2,FALSE)),\"\")","v":""},{"$f":"IFERROR(IF(A48=\"\",\"\",VLOOKUP(入力!E48&入力!H48,種目!$M$2:$O$36,3,FALSE)),\"\")","v":""},{"$f":"IF(K48=\"\",\"\",IF(L48=\"t\",TEXT(入力!I48,\"0000000\"),TEXT(入力!I48,\"00000\")))","v":""},{"$f":"IF($A48=\"\",\"\",入力!J48)","v":""},{"$f":"IF($A48=\"\",\"\",入力!K48)","v":""},{"$f":"N48&COUNTIFS($N$2:N48,N48)","v":"47"},{"$f":"O48&COUNTIFS($O$2:O48,O48)","v":"47"}]
[{"$f":"IF(入力!A49=\"\",\"\",28410000+入力!A49+IF(入力!E49=\"女\",200000000,100000000))","v":""},{"$f":"IF(A49=\"\",\"\",入力!B49)","v":""},{"$f":"IF(A49=\"\",\"\",入力!C49)","v":""},{"$f":"IF(A49=\"\",\"\",IF(入力!E49=\"男\",1,2))","v":""},"",{"$f":"IF(A49=\"\",\"\",入力!A49)","v":""},{"$f":"IF(A49=\"\",\"\",初期設定!$C$3+280000)","v":""},{"$f":"IFERROR(IF(A49=\"\",\"\",VLOOKUP(入力!E49&入力!F49,種目!$M$2:$O$36,2,FALSE)),\"\")","v":""},{"$f":"IFERROR(IF(A49=\"\",\"\",VLOOKUP(入力!E49&入力!F49,種目!$M$2:$O$36,3,FALSE)),\"\")","v":""},{"$f":"IF(H49=\"\",\"\",IF(I49=\"t\",TEXT(入力!G49,\"0000000\"),TEXT(入力!G49,\"00000\")))","v":""},{"$f":"IFERROR(IF(A49=\"\",\"\",VLOOKUP(入力!E49&入力!H49,種目!$M$2:$O$36,2,FALSE)),\"\")","v":""},{"$f":"IFERROR(IF(A49=\"\",\"\",VLOOKUP(入力!E49&入力!H49,種目!$M$2:$O$36,3,FALSE)),\"\")","v":""},{"$f":"IF(K49=\"\",\"\",IF(L49=\"t\",TEXT(入力!I49,\"0000000\"),TEXT(入力!I49,\"00000\")))","v":""},{"$f":"IF($A49=\"\",\"\",入力!J49)","v":""},{"$f":"IF($A49=\"\",\"\",入力!K49)","v":""},{"$f":"N49&COUNTIFS($N$2:N49,N49)","v":"48"},{"$f":"O49&COUNTIFS($O$2:O49,O49)","v":"48"}]
[{"$f":"IF(入力!A50=\"\",\"\",28410000+入力!A50+IF(入力!E50=\"女\",200000000,100000000))","v":""},{"$f":"IF(A50=\"\",\"\",入力!B50)","v":""},{"$f":"IF(A50=\"\",\"\",入力!C50)","v":""},{"$f":"IF(A50=\"\",\"\",IF(入力!E50=\"男\",1,2))","v":""},"",{"$f":"IF(A50=\"\",\"\",入力!A50)","v":""},{"$f":"IF(A50=\"\",\"\",初期設定!$C$3+280000)","v":""},{"$f":"IFERROR(IF(A50=\"\",\"\",VLOOKUP(入力!E50&入力!F50,種目!$M$2:$O$36,2,FALSE)),\"\")","v":""},{"$f":"IFERROR(IF(A50=\"\",\"\",VLOOKUP(入力!E50&入力!F50,種目!$M$2:$O$36,3,FALSE)),\"\")","v":""},{"$f":"IF(H50=\"\",\"\",IF(I50=\"t\",TEXT(入力!G50,\"0000000\"),TEXT(入力!G50,\"00000\")))","v":""},{"$f":"IFERROR(IF(A50=\"\",\"\",VLOOKUP(入力!E50&入力!H50,種目!$M$2:$O$36,2,FALSE)),\"\")","v":""},{"$f":"IFERROR(IF(A50=\"\",\"\",VLOOKUP(入力!E50&入力!H50,種目!$M$2:$O$36,3,FALSE)),\"\")","v":""},{"$f":"IF(K50=\"\",\"\",IF(L50=\"t\",TEXT(入力!I50,\"0000000\"),TEXT(入力!I50,\"00000\")))","v":""},{"$f":"IF($A50=\"\",\"\",入力!J50)","v":""},{"$f":"IF($A50=\"\",\"\",入力!K50)","v":""},{"$f":"N50&COUNTIFS($N$2:N50,N50)","v":"49"},{"$f":"O50&COUNTIFS($O$2:O50,O50)","v":"49"}]
[{"$f":"IF(入力!A51=\"\",\"\",28410000+入力!A51+IF(入力!E51=\"女\",200000000,100000000))","v":""},{"$f":"IF(A51=\"\",\"\",入力!B51)","v":""},{"$f":"IF(A51=\"\",\"\",入力!C51)","v":""},{"$f":"IF(A51=\"\",\"\",IF(入力!E51=\"男\",1,2))","v":""},"",{"$f":"IF(A51=\"\",\"\",入力!A51)","v":""},{"$f":"IF(A51=\"\",\"\",初期設定!$C$3+280000)","v":""},{"$f":"IFERROR(IF(A51=\"\",\"\",VLOOKUP(入力!E51&入力!F51,種目!$M$2:$O$36,2,FALSE)),\"\")","v":""},{"$f":"IFERROR(IF(A51=\"\",\"\",VLOOKUP(入力!E51&入力!F51,種目!$M$2:$O$36,3,FALSE)),\"\")","v":""},{"$f":"IF(H51=\"\",\"\",IF(I51=\"t\",TEXT(入力!G51,\"0000000\"),TEXT(入力!G51,\"00000\")))","v":""},{"$f":"IFERROR(IF(A51=\"\",\"\",VLOOKUP(入力!E51&入力!H51,種目!$M$2:$O$36,2,FALSE)),\"\")","v":""},{"$f":"IFERROR(IF(A51=\"\",\"\",VLOOKUP(入力!E51&入力!H51,種目!$M$2:$O$36,3,FALSE)),\"\")","v":""},{"$f":"IF(K51=\"\",\"\",IF(L51=\"t\",TEXT(入力!I51,\"0000000\"),TEXT(入力!I51,\"00000\")))","v":""},{"$f":"IF($A51=\"\",\"\",入力!J51)","v":""},{"$f":"IF($A51=\"\",\"\",入力!K51)","v":""},{"$f":"N51&COUNTIFS($N$2:N51,N51)","v":"50"},{"$f":"O51&COUNTIFS($O$2:O51,O51)","v":"50"}]
[{"$f":"IF(入力!A52=\"\",\"\",28410000+入力!A52+IF(入力!E52=\"女\",200000000,100000000))","v":""},{"$f":"IF(A52=\"\",\"\",入力!B52)","v":""},{"$f":"IF(A52=\"\",\"\",入力!C52)","v":""},{"$f":"IF(A52=\"\",\"\",IF(入力!E52=\"男\",1,2))","v":""},"",{"$f":"IF(A52=\"\",\"\",入力!A52)","v":""},{"$f":"IF(A52=\"\",\"\",初期設定!$C$3+280000)","v":""},{"$f":"IFERROR(IF(A52=\"\",\"\",VLOOKUP(入力!E52&入力!F52,種目!$M$2:$O$36,2,FALSE)),\"\")","v":""},{"$f":"IFERROR(IF(A52=\"\",\"\",VLOOKUP(入力!E52&入力!F52,種目!$M$2:$O$36,3,FALSE)),\"\")","v":""},{"$f":"IF(H52=\"\",\"\",IF(I52=\"t\",TEXT(入力!G52,\"0000000\"),TEXT(入力!G52,\"00000\")))","v":""},{"$f":"IFERROR(IF(A52=\"\",\"\",VLOOKUP(入力!E52&入力!H52,種目!$M$2:$O$36,2,FALSE)),\"\")","v":""},{"$f":"IFERROR(IF(A52=\"\",\"\",VLOOKUP(入力!E52&入力!H52,種目!$M$2:$O$36,3,FALSE)),\"\")","v":""},{"$f":"IF(K52=\"\",\"\",IF(L52=\"t\",TEXT(入力!I52,\"0000000\"),TEXT(入力!I52,\"00000\")))","v":""},{"$f":"IF($A52=\"\",\"\",入力!J52)","v":""},{"$f":"IF($A52=\"\",\"\",入力!K52)","v":""},{"$f":"N52&COUNTIFS($N$2:N52,N52)","v":"51"},{"$f":"O52&COUNTIFS($O$2:O52,O52)","v":"51"}]
[{"$f":"IF(入力!A53=\"\",\"\",28410000+入力!A53+IF(入力!E53=\"女\",200000000,100000000))","v":""},{"$f":"IF(A53=\"\",\"\",入力!B53)","v":""},{"$f":"IF(A53=\"\",\"\",入力!C53)","v":""},{"$f":"IF(A53=\"\",\"\",IF(入力!E53=\"男\",1,2))","v":""},"",{"$f":"IF(A53=\"\",\"\",入力!A53)","v":""},{"$f":"IF(A53=\"\",\"\",初期設定!$C$3+280000)","v":""},{"$f":"IFERROR(IF(A53=\"\",\"\",VLOOKUP(入力!E53&入力!F53,種目!$M$2:$O$36,2,FALSE)),\"\")","v":""},{"$f":"IFERROR(IF(A53=\"\",\"\",VLOOKUP(入力!E53&入力!F53,種目!$M$2:$O$36,3,FALSE)),\"\")","v":""},{"$f":"IF(H53=\"\",\"\",IF(I53=\"t\",TEXT(入力!G53,\"0000000\"),TEXT(入力!G53,\"00000\")))","v":""},{"$f":"IFERROR(IF(A53=\"\",\"\",VLOOKUP(入力!E53&入力!H53,種目!$M$2:$O$36,2,FALSE)),\"\")","v":""},{"$f":"IFERROR(IF(A53=\"\",\"\",VLOOKUP(入力!E53&入力!H53,種目!$M$2:$O$36,3,FALSE)),\"\")","v":""},{"$f":"IF(K53=\"\",\"\",IF(L53=\"t\",TEXT(入力!I53,\"0000000\"),TEXT(入力!I53,\"00000\")))","v":""},{"$f":"IF($A53=\"\",\"\",入力!J53)","v":""},{"$f":"IF($A53=\"\",\"\",入力!K53)","v":""},{"$f":"N53&COUNTIFS($N$2:N53,N53)","v":"52"},{"$f":"O53&COUNTIFS($O$2:O53,O53)","v":"52"}]
[{"$f":"IF(入力!A54=\"\",\"\",28410000+入力!A54+IF(入力!E54=\"女\",200000000,100000000))","v":""},{"$f":"IF(A54=\"\",\"\",入力!B54)","v":""},{"$f":"IF(A54=\"\",\"\",入力!C54)","v":""},{"$f":"IF(A54=\"\",\"\",IF(入力!E54=\"男\",1,2))","v":""},"",{"$f":"IF(A54=\"\",\"\",入力!A54)","v":""},{"$f":"IF(A54=\"\",\"\",初期設定!$C$3+280000)","v":""},{"$f":"IFERROR(IF(A54=\"\",\"\",VLOOKUP(入力!E54&入力!F54,種目!$M$2:$O$36,2,FALSE)),\"\")","v":""},{"$f":"IFERROR(IF(A54=\"\",\"\",VLOOKUP(入力!E54&入力!F54,種目!$M$2:$O$36,3,FALSE)),\"\")","v":""},{"$f":"IF(H54=\"\",\"\",IF(I54=\"t\",TEXT(入力!G54,\"0000000\"),TEXT(入力!G54,\"00000\")))","v":""},{"$f":"IFERROR(IF(A54=\"\",\"\",VLOOKUP(入力!E54&入力!H54,種目!$M$2:$O$36,2,FALSE)),\"\")","v":""},{"$f":"IFERROR(IF(A54=\"\",\"\",VLOOKUP(入力!E54&入力!H54,種目!$M$2:$O$36,3,FALSE)),\"\")","v":""},{"$f":"IF(K54=\"\",\"\",IF(L54=\"t\",TEXT(入力!I54,\"0000000\"),TEXT(入力!I54,\"00000\")))","v":""},{"$f":"IF($A54=\"\",\"\",入力!J54)","v":""},{"$f":"IF($A54=\"\",\"\",入力!K54)","v":""},{"$f":"N54&COUNTIFS($N$2:N54,N54)","v":"53"},{"$f":"O54&COUNTIFS($O$2:O54,O54)","v":"53"}]
[{"$f":"IF(入力!A55=\"\",\"\",28410000+入力!A55+IF(入力!E55=\"女\",200000000,100000000))","v":""},{"$f":"IF(A55=\"\",\"\",入力!B55)","v":""},{"$f":"IF(A55=\"\",\"\",入力!C55)","v":""},{"$f":"IF(A55=\"\",\"\",IF(入力!E55=\"男\",1,2))","v":""},"",{"$f":"IF(A55=\"\",\"\",入力!A55)","v":""},{"$f":"IF(A55=\"\",\"\",初期設定!$C$3+280000)","v":""},{"$f":"IFERROR(IF(A55=\"\",\"\",VLOOKUP(入力!E55&入力!F55,種目!$M$2:$O$36,2,FALSE)),\"\")","v":""},{"$f":"IFERROR(IF(A55=\"\",\"\",VLOOKUP(入力!E55&入力!F55,種目!$M$2:$O$36,3,FALSE)),\"\")","v":""},{"$f":"IF(H55=\"\",\"\",IF(I55=\"t\",TEXT(入力!G55,\"0000000\"),TEXT(入力!G55,\"00000\")))","v":""},{"$f":"IFERROR(IF(A55=\"\",\"\",VLOOKUP(入力!E55&入力!H55,種目!$M$2:$O$36,2,FALSE)),\"\")","v":""},{"$f":"IFERROR(IF(A55=\"\",\"\",VLOOKUP(入力!E55&入力!H55,種目!$M$2:$O$36,3,FALSE)),\"\")","v":""},{"$f":"IF(K55=\"\",\"\",IF(L55=\"t\",TEXT(入力!I55,\"0000000\"),TEXT(入力!I55,\"00000\")))","v":""},{"$f":"IF($A55=\"\",\"\",入力!J55)","v":""},{"$f":"IF($A55=\"\",\"\",入力!K55)","v":""},{"$f":"N55&COUNTIFS($N$2:N55,N55)","v":"54"},{"$f":"O55&COUNTIFS($O$2:O55,O55)","v":"54"}]
[{"$f":"IF(入力!A56=\"\",\"\",28410000+入力!A56+IF(入力!E56=\"女\",200000000,100000000))","v":""},{"$f":"IF(A56=\"\",\"\",入力!B56)","v":""},{"$f":"IF(A56=\"\",\"\",入力!C56)","v":""},{"$f":"IF(A56=\"\",\"\",IF(入力!E56=\"男\",1,2))","v":""},"",{"$f":"IF(A56=\"\",\"\",入力!A56)","v":""},{"$f":"IF(A56=\"\",\"\",初期設定!$C$3+280000)","v":""},{"$f":"IFERROR(IF(A56=\"\",\"\",VLOOKUP(入力!E56&入力!F56,種目!$M$2:$O$36,2,FALSE)),\"\")","v":""},{"$f":"IFERROR(IF(A56=\"\",\"\",VLOOKUP(入力!E56&入力!F56,種目!$M$2:$O$36,3,FALSE)),\"\")","v":""},{"$f":"IF(H56=\"\",\"\",IF(I56=\"t\",TEXT(入力!G56,\"0000000\"),TEXT(入力!G56,\"00000\")))","v":""},{"$f":"IFERROR(IF(A56=\"\",\"\",VLOOKUP(入力!E56&入力!H56,種目!$M$2:$O$36,2,FALSE)),\"\")","v":""},{"$f":"IFERROR(IF(A56=\"\",\"\",VLOOKUP(入力!E56&入力!H56,種目!$M$2:$O$36,3,FALSE)),\"\")","v":""},{"$f":"IF(K56=\"\",\"\",IF(L56=\"t\",TEXT(入力!I56,\"0000000\"),TEXT(入力!I56,\"00000\")))","v":""},{"$f":"IF($A56=\"\",\"\",入力!J56)","v":""},{"$f":"IF($A56=\"\",\"\",入力!K56)","v":""},{"$f":"N56&COUNTIFS($N$2:N56,N56)","v":"55"},{"$f":"O56&COUNTIFS($O$2:O56,O56)","v":"55"}]
[{"$f":"IF(入力!A57=\"\",\"\",28410000+入力!A57+IF(入力!E57=\"女\",200000000,100000000))","v":""},{"$f":"IF(A57=\"\",\"\",入力!B57)","v":""},{"$f":"IF(A57=\"\",\"\",入力!C57)","v":""},{"$f":"IF(A57=\"\",\"\",IF(入力!E57=\"男\",1,2))","v":""},"",{"$f":"IF(A57=\"\",\"\",入力!A57)","v":""},{"$f":"IF(A57=\"\",\"\",初期設定!$C$3+280000)","v":""},{"$f":"IFERROR(IF(A57=\"\",\"\",VLOOKUP(入力!E57&入力!F57,種目!$M$2:$O$36,2,FALSE)),\"\")","v":""},{"$f":"IFERROR(IF(A57=\"\",\"\",VLOOKUP(入力!E57&入力!F57,種目!$M$2:$O$36,3,FALSE)),\"\")","v":""},{"$f":"IF(H57=\"\",\"\",IF(I57=\"t\",TEXT(入力!G57,\"0000000\"),TEXT(入力!G57,\"00000\")))","v":""},{"$f":"IFERROR(IF(A57=\"\",\"\",VLOOKUP(入力!E57&入力!H57,種目!$M$2:$O$36,2,FALSE)),\"\")","v":""},{"$f":"IFERROR(IF(A57=\"\",\"\",VLOOKUP(入力!E57&入力!H57,種目!$M$2:$O$36,3,FALSE)),\"\")","v":""},{"$f":"IF(K57=\"\",\"\",IF(L57=\"t\",TEXT(入力!I57,\"0000000\"),TEXT(入力!I57,\"00000\")))","v":""},{"$f":"IF($A57=\"\",\"\",入力!J57)","v":""},{"$f":"IF($A57=\"\",\"\",入力!K57)","v":""},{"$f":"N57&COUNTIFS($N$2:N57,N57)","v":"56"},{"$f":"O57&COUNTIFS($O$2:O57,O57)","v":"56"}]
[{"$f":"IF(入力!A58=\"\",\"\",28410000+入力!A58+IF(入力!E58=\"女\",200000000,100000000))","v":""},{"$f":"IF(A58=\"\",\"\",入力!B58)","v":""},{"$f":"IF(A58=\"\",\"\",入力!C58)","v":""},{"$f":"IF(A58=\"\",\"\",IF(入力!E58=\"男\",1,2))","v":""},"",{"$f":"IF(A58=\"\",\"\",入力!A58)","v":""},{"$f":"IF(A58=\"\",\"\",初期設定!$C$3+280000)","v":""},{"$f":"IFERROR(IF(A58=\"\",\"\",VLOOKUP(入力!E58&入力!F58,種目!$M$2:$O$36,2,FALSE)),\"\")","v":""},{"$f":"IFERROR(IF(A58=\"\",\"\",VLOOKUP(入力!E58&入力!F58,種目!$M$2:$O$36,3,FALSE)),\"\")","v":""},{"$f":"IF(H58=\"\",\"\",IF(I58=\"t\",TEXT(入力!G58,\"0000000\"),TEXT(入力!G58,\"00000\")))","v":""},{"$f":"IFERROR(IF(A58=\"\",\"\",VLOOKUP(入力!E58&入力!H58,種目!$M$2:$O$36,2,FALSE)),\"\")","v":""},{"$f":"IFERROR(IF(A58=\"\",\"\",VLOOKUP(入力!E58&入力!H58,種目!$M$2:$O$36,3,FALSE)),\"\")","v":""},{"$f":"IF(K58=\"\",\"\",IF(L58=\"t\",TEXT(入力!I58,\"0000000\"),TEXT(入力!I58,\"00000\")))","v":""},{"$f":"IF($A58=\"\",\"\",入力!J58)","v":""},{"$f":"IF($A58=\"\",\"\",入力!K58)","v":""},{"$f":"N58&COUNTIFS($N$2:N58,N58)","v":"57"},{"$f":"O58&COUNTIFS($O$2:O58,O58)","v":"57"}]
[{"$f":"IF(入力!A59=\"\",\"\",28410000+入力!A59+IF(入力!E59=\"女\",200000000,100000000))","v":""},{"$f":"IF(A59=\"\",\"\",入力!B59)","v":""},{"$f":"IF(A59=\"\",\"\",入力!C59)","v":""},{"$f":"IF(A59=\"\",\"\",IF(入力!E59=\"男\",1,2))","v":""},"",{"$f":"IF(A59=\"\",\"\",入力!A59)","v":""},{"$f":"IF(A59=\"\",\"\",初期設定!$C$3+280000)","v":""},{"$f":"IFERROR(IF(A59=\"\",\"\",VLOOKUP(入力!E59&入力!F59,種目!$M$2:$O$36,2,FALSE)),\"\")","v":""},{"$f":"IFERROR(IF(A59=\"\",\"\",VLOOKUP(入力!E59&入力!F59,種目!$M$2:$O$36,3,FALSE)),\"\")","v":""},{"$f":"IF(H59=\"\",\"\",IF(I59=\"t\",TEXT(入力!G59,\"0000000\"),TEXT(入力!G59,\"00000\")))","v":""},{"$f":"IFERROR(IF(A59=\"\",\"\",VLOOKUP(入力!E59&入力!H59,種目!$M$2:$O$36,2,FALSE)),\"\")","v":""},{"$f":"IFERROR(IF(A59=\"\",\"\",VLOOKUP(入力!E59&入力!H59,種目!$M$2:$O$36,3,FALSE)),\"\")","v":""},{"$f":"IF(K59=\"\",\"\",IF(L59=\"t\",TEXT(入力!I59,\"0000000\"),TEXT(入力!I59,\"00000\")))","v":""},{"$f":"IF($A59=\"\",\"\",入力!J59)","v":""},{"$f":"IF($A59=\"\",\"\",入力!K59)","v":""},{"$f":"N59&COUNTIFS($N$2:N59,N59)","v":"58"},{"$f":"O59&COUNTIFS($O$2:O59,O59)","v":"58"}]
[{"$f":"IF(入力!A60=\"\",\"\",28410000+入力!A60+IF(入力!E60=\"女\",200000000,100000000))","v":""},{"$f":"IF(A60=\"\",\"\",入力!B60)","v":""},{"$f":"IF(A60=\"\",\"\",入力!C60)","v":""},{"$f":"IF(A60=\"\",\"\",IF(入力!E60=\"男\",1,2))","v":""},"",{"$f":"IF(A60=\"\",\"\",入力!A60)","v":""},{"$f":"IF(A60=\"\",\"\",初期設定!$C$3+280000)","v":""},{"$f":"IFERROR(IF(A60=\"\",\"\",VLOOKUP(入力!E60&入力!F60,種目!$M$2:$O$36,2,FALSE)),\"\")","v":""},{"$f":"IFERROR(IF(A60=\"\",\"\",VLOOKUP(入力!E60&入力!F60,種目!$M$2:$O$36,3,FALSE)),\"\")","v":""},{"$f":"IF(H60=\"\",\"\",IF(I60=\"t\",TEXT(入力!G60,\"0000000\"),TEXT(入力!G60,\"00000\")))","v":""},{"$f":"IFERROR(IF(A60=\"\",\"\",VLOOKUP(入力!E60&入力!H60,種目!$M$2:$O$36,2,FALSE)),\"\")","v":""},{"$f":"IFERROR(IF(A60=\"\",\"\",VLOOKUP(入力!E60&入力!H60,種目!$M$2:$O$36,3,FALSE)),\"\")","v":""},{"$f":"IF(K60=\"\",\"\",IF(L60=\"t\",TEXT(入力!I60,\"0000000\"),TEXT(入力!I60,\"00000\")))","v":""},{"$f":"IF($A60=\"\",\"\",入力!J60)","v":""},{"$f":"IF($A60=\"\",\"\",入力!K60)","v":""},{"$f":"N60&COUNTIFS($N$2:N60,N60)","v":"59"},{"$f":"O60&COUNTIFS($O$2:O60,O60)","v":"59"}]
[{"$f":"IF(入力!A61=\"\",\"\",28410000+入力!A61+IF(入力!E61=\"女\",200000000,100000000))","v":""},{"$f":"IF(A61=\"\",\"\",入力!B61)","v":""},{"$f":"IF(A61=\"\",\"\",入力!C61)","v":""},{"$f":"IF(A61=\"\",\"\",IF(入力!E61=\"男\",1,2))","v":""},"",{"$f":"IF(A61=\"\",\"\",入力!A61)","v":""},{"$f":"IF(A61=\"\",\"\",初期設定!$C$3+280000)","v":""},{"$f":"IFERROR(IF(A61=\"\",\"\",VLOOKUP(入力!E61&入力!F61,種目!$M$2:$O$36,2,FALSE)),\"\")","v":""},{"$f":"IFERROR(IF(A61=\"\",\"\",VLOOKUP(入力!E61&入力!F61,種目!$M$2:$O$36,3,FALSE)),\"\")","v":""},{"$f":"IF(H61=\"\",\"\",IF(I61=\"t\",TEXT(入力!G61,\"0000000\"),TEXT(入力!G61,\"00000\")))","v":""},{"$f":"IFERROR(IF(A61=\"\",\"\",VLOOKUP(入力!E61&入力!H61,種目!$M$2:$O$36,2,FALSE)),\"\")","v":""},{"$f":"IFERROR(IF(A61=\"\",\"\",VLOOKUP(入力!E61&入力!H61,種目!$M$2:$O$36,3,FALSE)),\"\")","v":""},{"$f":"IF(K61=\"\",\"\",IF(L61=\"t\",TEXT(入力!I61,\"0000000\"),TEXT(入力!I61,\"00000\")))","v":""},{"$f":"IF($A61=\"\",\"\",入力!J61)","v":""},{"$f":"IF($A61=\"\",\"\",入力!K61)","v":""},{"$f":"N61&COUNTIFS($N$2:N61,N61)","v":"60"},{"$f":"O61&COUNTIFS($O$2:O61,O61)","v":"60"}]
[{"$f":"IF(入力!A62=\"\",\"\",28410000+入力!A62+IF(入力!E62=\"女\",200000000,100000000))","v":""},{"$f":"IF(A62=\"\",\"\",入力!B62)","v":""},{"$f":"IF(A62=\"\",\"\",入力!C62)","v":""},{"$f":"IF(A62=\"\",\"\",IF(入力!E62=\"男\",1,2))","v":""},"",{"$f":"IF(A62=\"\",\"\",入力!A62)","v":""},{"$f":"IF(A62=\"\",\"\",初期設定!$C$3+280000)","v":""},{"$f":"IFERROR(IF(A62=\"\",\"\",VLOOKUP(入力!E62&入力!F62,種目!$M$2:$O$36,2,FALSE)),\"\")","v":""},{"$f":"IFERROR(IF(A62=\"\",\"\",VLOOKUP(入力!E62&入力!F62,種目!$M$2:$O$36,3,FALSE)),\"\")","v":""},{"$f":"IF(H62=\"\",\"\",IF(I62=\"t\",TEXT(入力!G62,\"0000000\"),TEXT(入力!G62,\"00000\")))","v":""},{"$f":"IFERROR(IF(A62=\"\",\"\",VLOOKUP(入力!E62&入力!H62,種目!$M$2:$O$36,2,FALSE)),\"\")","v":""},{"$f":"IFERROR(IF(A62=\"\",\"\",VLOOKUP(入力!E62&入力!H62,種目!$M$2:$O$36,3,FALSE)),\"\")","v":""},{"$f":"IF(K62=\"\",\"\",IF(L62=\"t\",TEXT(入力!I62,\"0000000\"),TEXT(入力!I62,\"00000\")))","v":""},{"$f":"IF($A62=\"\",\"\",入力!J62)","v":""},{"$f":"IF($A62=\"\",\"\",入力!K62)","v":""},{"$f":"N62&COUNTIFS($N$2:N62,N62)","v":"61"},{"$f":"O62&COUNTIFS($O$2:O62,O62)","v":"61"}]
[{"$f":"IF(入力!A63=\"\",\"\",28410000+入力!A63+IF(入力!E63=\"女\",200000000,100000000))","v":""},{"$f":"IF(A63=\"\",\"\",入力!B63)","v":""},{"$f":"IF(A63=\"\",\"\",入力!C63)","v":""},{"$f":"IF(A63=\"\",\"\",IF(入力!E63=\"男\",1,2))","v":""},"",{"$f":"IF(A63=\"\",\"\",入力!A63)","v":""},{"$f":"IF(A63=\"\",\"\",初期設定!$C$3+280000)","v":""},{"$f":"IFERROR(IF(A63=\"\",\"\",VLOOKUP(入力!E63&入力!F63,種目!$M$2:$O$36,2,FALSE)),\"\")","v":""},{"$f":"IFERROR(IF(A63=\"\",\"\",VLOOKUP(入力!E63&入力!F63,種目!$M$2:$O$36,3,FALSE)),\"\")","v":""},{"$f":"IF(H63=\"\",\"\",IF(I63=\"t\",TEXT(入力!G63,\"0000000\"),TEXT(入力!G63,\"00000\")))","v":""},{"$f":"IFERROR(IF(A63=\"\",\"\",VLOOKUP(入力!E63&入力!H63,種目!$M$2:$O$36,2,FALSE)),\"\")","v":""},{"$f":"IFERROR(IF(A63=\"\",\"\",VLOOKUP(入力!E63&入力!H63,種目!$M$2:$O$36,3,FALSE)),\"\")","v":""},{"$f":"IF(K63=\"\",\"\",IF(L63=\"t\",TEXT(入力!I63,\"0000000\"),TEXT(入力!I63,\"00000\")))","v":""},{"$f":"IF($A63=\"\",\"\",入力!J63)","v":""},{"$f":"IF($A63=\"\",\"\",入力!K63)","v":""},{"$f":"N63&COUNTIFS($N$2:N63,N63)","v":"62"},{"$f":"O63&COUNTIFS($O$2:O63,O63)","v":"62"}]
[{"$f":"IF(入力!A64=\"\",\"\",28410000+入力!A64+IF(入力!E64=\"女\",200000000,100000000))","v":""},{"$f":"IF(A64=\"\",\"\",入力!B64)","v":""},{"$f":"IF(A64=\"\",\"\",入力!C64)","v":""},{"$f":"IF(A64=\"\",\"\",IF(入力!E64=\"男\",1,2))","v":""},"",{"$f":"IF(A64=\"\",\"\",入力!A64)","v":""},{"$f":"IF(A64=\"\",\"\",初期設定!$C$3+280000)","v":""},{"$f":"IFERROR(IF(A64=\"\",\"\",VLOOKUP(入力!E64&入力!F64,種目!$M$2:$O$36,2,FALSE)),\"\")","v":""},{"$f":"IFERROR(IF(A64=\"\",\"\",VLOOKUP(入力!E64&入力!F64,種目!$M$2:$O$36,3,FALSE)),\"\")","v":""},{"$f":"IF(H64=\"\",\"\",IF(I64=\"t\",TEXT(入力!G64,\"0000000\"),TEXT(入力!G64,\"00000\")))","v":""},{"$f":"IFERROR(IF(A64=\"\",\"\",VLOOKUP(入力!E64&入力!H64,種目!$M$2:$O$36,2,FALSE)),\"\")","v":""},{"$f":"IFERROR(IF(A64=\"\",\"\",VLOOKUP(入力!E64&入力!H64,種目!$M$2:$O$36,3,FALSE)),\"\")","v":""},{"$f":"IF(K64=\"\",\"\",IF(L64=\"t\",TEXT(入力!I64,\"0000000\"),TEXT(入力!I64,\"00000\")))","v":""},{"$f":"IF($A64=\"\",\"\",入力!J64)","v":""},{"$f":"IF($A64=\"\",\"\",入力!K64)","v":""},{"$f":"N64&COUNTIFS($N$2:N64,N64)","v":"63"},{"$f":"O64&COUNTIFS($O$2:O64,O64)","v":"63"}]
[{"$f":"IF(入力!A65=\"\",\"\",28410000+入力!A65+IF(入力!E65=\"女\",200000000,100000000))","v":""},{"$f":"IF(A65=\"\",\"\",入力!B65)","v":""},{"$f":"IF(A65=\"\",\"\",入力!C65)","v":""},{"$f":"IF(A65=\"\",\"\",IF(入力!E65=\"男\",1,2))","v":""},"",{"$f":"IF(A65=\"\",\"\",入力!A65)","v":""},{"$f":"IF(A65=\"\",\"\",初期設定!$C$3+280000)","v":""},{"$f":"IFERROR(IF(A65=\"\",\"\",VLOOKUP(入力!E65&入力!F65,種目!$M$2:$O$36,2,FALSE)),\"\")","v":""},{"$f":"IFERROR(IF(A65=\"\",\"\",VLOOKUP(入力!E65&入力!F65,種目!$M$2:$O$36,3,FALSE)),\"\")","v":""},{"$f":"IF(H65=\"\",\"\",IF(I65=\"t\",TEXT(入力!G65,\"0000000\"),TEXT(入力!G65,\"00000\")))","v":""},{"$f":"IFERROR(IF(A65=\"\",\"\",VLOOKUP(入力!E65&入力!H65,種目!$M$2:$O$36,2,FALSE)),\"\")","v":""},{"$f":"IFERROR(IF(A65=\"\",\"\",VLOOKUP(入力!E65&入力!H65,種目!$M$2:$O$36,3,FALSE)),\"\")","v":""},{"$f":"IF(K65=\"\",\"\",IF(L65=\"t\",TEXT(入力!I65,\"0000000\"),TEXT(入力!I65,\"00000\")))","v":""},{"$f":"IF($A65=\"\",\"\",入力!J65)","v":""},{"$f":"IF($A65=\"\",\"\",入力!K65)","v":""},{"$f":"N65&COUNTIFS($N$2:N65,N65)","v":"64"},{"$f":"O65&COUNTIFS($O$2:O65,O65)","v":"64"}]
[{"$f":"IF(入力!A66=\"\",\"\",28410000+入力!A66+IF(入力!E66=\"女\",200000000,100000000))","v":""},{"$f":"IF(A66=\"\",\"\",入力!B66)","v":""},{"$f":"IF(A66=\"\",\"\",入力!C66)","v":""},{"$f":"IF(A66=\"\",\"\",IF(入力!E66=\"男\",1,2))","v":""},"",{"$f":"IF(A66=\"\",\"\",入力!A66)","v":""},{"$f":"IF(A66=\"\",\"\",初期設定!$C$3+280000)","v":""},{"$f":"IFERROR(IF(A66=\"\",\"\",VLOOKUP(入力!E66&入力!F66,種目!$M$2:$O$36,2,FALSE)),\"\")","v":""},{"$f":"IFERROR(IF(A66=\"\",\"\",VLOOKUP(入力!E66&入力!F66,種目!$M$2:$O$36,3,FALSE)),\"\")","v":""},{"$f":"IF(H66=\"\",\"\",IF(I66=\"t\",TEXT(入力!G66,\"0000000\"),TEXT(入力!G66,\"00000\")))","v":""},{"$f":"IFERROR(IF(A66=\"\",\"\",VLOOKUP(入力!E66&入力!H66,種目!$M$2:$O$36,2,FALSE)),\"\")","v":""},{"$f":"IFERROR(IF(A66=\"\",\"\",VLOOKUP(入力!E66&入力!H66,種目!$M$2:$O$36,3,FALSE)),\"\")","v":""},{"$f":"IF(K66=\"\",\"\",IF(L66=\"t\",TEXT(入力!I66,\"0000000\"),TEXT(入力!I66,\"00000\")))","v":""},{"$f":"IF($A66=\"\",\"\",入力!J66)","v":""},{"$f":"IF($A66=\"\",\"\",入力!K66)","v":""},{"$f":"N66&COUNTIFS($N$2:N66,N66)","v":"65"},{"$f":"O66&COUNTIFS($O$2:O66,O66)","v":"65"}]
[{"$f":"IF(入力!A67=\"\",\"\",28410000+入力!A67+IF(入力!E67=\"女\",200000000,100000000))","v":""},{"$f":"IF(A67=\"\",\"\",入力!B67)","v":""},{"$f":"IF(A67=\"\",\"\",入力!C67)","v":""},{"$f":"IF(A67=\"\",\"\",IF(入力!E67=\"男\",1,2))","v":""},{"$f":"IF(A67=\"\",\"\",28)","v":""},{"$f":"IF(A67=\"\",\"\",入力!A67)","v":""},{"$f":"IF(A67=\"\",\"\",初期設定!$C$3+280000)","v":""},{"$f":"IFERROR(IF(A67=\"\",\"\",VLOOKUP(入力!E67&入力!F67,種目!$M$2:$O$36,2,FALSE)),\"\")","v":""},{"$f":"IFERROR(IF(A67=\"\",\"\",VLOOKUP(入力!E67&入力!F67,種目!$M$2:$O$36,3,FALSE)),\"\")","v":""},{"$f":"IF(H67=\"\",\"\",IF(I67=\"t\",TEXT(入力!G67,\"0000000\"),TEXT(入力!G67,\"00000\")))","v":""},{"$f":"IFERROR(IF(A67=\"\",\"\",VLOOKUP(入力!E67&入力!H67,種目!$M$2:$O$36,2,FALSE)),\"\")","v":""},{"$f":"IFERROR(IF(A67=\"\",\"\",VLOOKUP(入力!E67&入力!H67,種目!$M$2:$O$36,3,FALSE)),\"\")","v":""},{"$f":"IF(K67=\"\",\"\",IF(L67=\"t\",TEXT(入力!I67,\"0000000\"),TEXT(入力!I67,\"00000\")))","v":""},{"$f":"IF($A67=\"\",\"\",入力!J67)","v":""},{"$f":"IF($A67=\"\",\"\",入力!K67)","v":""},{"$f":"N67&COUNTIFS($N$2:N67,N67)","v":"66"},{"$f":"O67&COUNTIFS($O$2:O67,O67)","v":"66"}]
[{"$f":"IF(入力!A68=\"\",\"\",28410000+入力!A68+IF(入力!E68=\"女\",200000000,100000000))","v":""},{"$f":"IF(A68=\"\",\"\",入力!B68)","v":""},{"$f":"IF(A68=\"\",\"\",入力!C68)","v":""},{"$f":"IF(A68=\"\",\"\",IF(入力!E68=\"男\",1,2))","v":""},"",{"$f":"IF(A68=\"\",\"\",入力!A68)","v":""},{"$f":"IF(A68=\"\",\"\",初期設定!$C$3+280000)","v":""},{"$f":"IFERROR(IF(A68=\"\",\"\",VLOOKUP(入力!E68&入力!F68,種目!$M$2:$O$36,2,FALSE)),\"\")","v":""},{"$f":"IFERROR(IF(A68=\"\",\"\",VLOOKUP(入力!E68&入力!F68,種目!$M$2:$O$36,3,FALSE)),\"\")","v":""},{"$f":"IF(H68=\"\",\"\",IF(I68=\"t\",TEXT(入力!G68,\"0000000\"),TEXT(入力!G68,\"00000\")))","v":""},{"$f":"IFERROR(IF(A68=\"\",\"\",VLOOKUP(入力!E68&入力!H68,種目!$M$2:$O$36,2,FALSE)),\"\")","v":""},{"$f":"IFERROR(IF(A68=\"\",\"\",VLOOKUP(入力!E68&入力!H68,種目!$M$2:$O$36,3,FALSE)),\"\")","v":""},{"$f":"IF(K68=\"\",\"\",IF(L68=\"t\",TEXT(入力!I68,\"0000000\"),TEXT(入力!I68,\"00000\")))","v":""},{"$f":"IF($A68=\"\",\"\",入力!J68)","v":""},{"$f":"IF($A68=\"\",\"\",入力!K68)","v":""},{"$f":"N68&COUNTIFS($N$2:N68,N68)","v":"67"},{"$f":"O68&COUNTIFS($O$2:O68,O68)","v":"67"}]
[{"$f":"IF(入力!A69=\"\",\"\",28410000+入力!A69+IF(入力!E69=\"女\",200000000,100000000))","v":""},{"$f":"IF(A69=\"\",\"\",入力!B69)","v":""},{"$f":"IF(A69=\"\",\"\",入力!C69)","v":""},{"$f":"IF(A69=\"\",\"\",IF(入力!E69=\"男\",1,2))","v":""},"",{"$f":"IF(A69=\"\",\"\",入力!A69)","v":""},{"$f":"IF(A69=\"\",\"\",初期設定!$C$3+280000)","v":""},{"$f":"IFERROR(IF(A69=\"\",\"\",VLOOKUP(入力!E69&入力!F69,種目!$M$2:$O$36,2,FALSE)),\"\")","v":""},{"$f":"IFERROR(IF(A69=\"\",\"\",VLOOKUP(入力!E69&入力!F69,種目!$M$2:$O$36,3,FALSE)),\"\")","v":""},{"$f":"IF(H69=\"\",\"\",IF(I69=\"t\",TEXT(入力!G69,\"0000000\"),TEXT(入力!G69,\"00000\")))","v":""},{"$f":"IFERROR(IF(A69=\"\",\"\",VLOOKUP(入力!E69&入力!H69,種目!$M$2:$O$36,2,FALSE)),\"\")","v":""},{"$f":"IFERROR(IF(A69=\"\",\"\",VLOOKUP(入力!E69&入力!H69,種目!$M$2:$O$36,3,FALSE)),\"\")","v":""},{"$f":"IF(K69=\"\",\"\",IF(L69=\"t\",TEXT(入力!I69,\"0000000\"),TEXT(入力!I69,\"00000\")))","v":""},{"$f":"IF($A69=\"\",\"\",入力!J69)","v":""},{"$f":"IF($A69=\"\",\"\",入力!K69)","v":""},{"$f":"N69&COUNTIFS($N$2:N69,N69)","v":"68"},{"$f":"O69&COUNTIFS($O$2:O69,O69)","v":"68"}]
[{"$f":"IF(入力!A70=\"\",\"\",28410000+入力!A70+IF(入力!E70=\"女\",200000000,100000000))","v":""},{"$f":"IF(A70=\"\",\"\",入力!B70)","v":""},{"$f":"IF(A70=\"\",\"\",入力!C70)","v":""},{"$f":"IF(A70=\"\",\"\",IF(入力!E70=\"男\",1,2))","v":""},"",{"$f":"IF(A70=\"\",\"\",入力!A70)","v":""},{"$f":"IF(A70=\"\",\"\",初期設定!$C$3+280000)","v":""},{"$f":"IFERROR(IF(A70=\"\",\"\",VLOOKUP(入力!E70&入力!F70,種目!$M$2:$O$36,2,FALSE)),\"\")","v":""},{"$f":"IFERROR(IF(A70=\"\",\"\",VLOOKUP(入力!E70&入力!F70,種目!$M$2:$O$36,3,FALSE)),\"\")","v":""},{"$f":"IF(H70=\"\",\"\",IF(I70=\"t\",TEXT(入力!G70,\"0000000\"),TEXT(入力!G70,\"00000\")))","v":""},{"$f":"IFERROR(IF(A70=\"\",\"\",VLOOKUP(入力!E70&入力!H70,種目!$M$2:$O$36,2,FALSE)),\"\")","v":""},{"$f":"IFERROR(IF(A70=\"\",\"\",VLOOKUP(入力!E70&入力!H70,種目!$M$2:$O$36,3,FALSE)),\"\")","v":""},{"$f":"IF(K70=\"\",\"\",IF(L70=\"t\",TEXT(入力!I70,\"0000000\"),TEXT(入力!I70,\"00000\")))","v":""},{"$f":"IF($A70=\"\",\"\",入力!J70)","v":""},{"$f":"IF($A70=\"\",\"\",入力!K70)","v":""},{"$f":"N70&COUNTIFS($N$2:N70,N70)","v":"69"},{"$f":"O70&COUNTIFS($O$2:O70,O70)","v":"69"}]
[{"$f":"IF(入力!A71=\"\",\"\",28410000+入力!A71+IF(入力!E71=\"女\",200000000,100000000))","v":""},{"$f":"IF(A71=\"\",\"\",入力!B71)","v":""},{"$f":"IF(A71=\"\",\"\",入力!C71)","v":""},{"$f":"IF(A71=\"\",\"\",IF(入力!E71=\"男\",1,2))","v":""},"",{"$f":"IF(A71=\"\",\"\",入力!A71)","v":""},{"$f":"IF(A71=\"\",\"\",初期設定!$C$3+280000)","v":""},{"$f":"IFERROR(IF(A71=\"\",\"\",VLOOKUP(入力!E71&入力!F71,種目!$M$2:$O$36,2,FALSE)),\"\")","v":""},{"$f":"IFERROR(IF(A71=\"\",\"\",VLOOKUP(入力!E71&入力!F71,種目!$M$2:$O$36,3,FALSE)),\"\")","v":""},{"$f":"IF(H71=\"\",\"\",IF(I71=\"t\",TEXT(入力!G71,\"0000000\"),TEXT(入力!G71,\"00000\")))","v":""},{"$f":"IFERROR(IF(A71=\"\",\"\",VLOOKUP(入力!E71&入力!H71,種目!$M$2:$O$36,2,FALSE)),\"\")","v":""},{"$f":"IFERROR(IF(A71=\"\",\"\",VLOOKUP(入力!E71&入力!H71,種目!$M$2:$O$36,3,FALSE)),\"\")","v":""},{"$f":"IF(K71=\"\",\"\",IF(L71=\"t\",TEXT(入力!I71,\"0000000\"),TEXT(入力!I71,\"00000\")))","v":""},{"$f":"IF($A71=\"\",\"\",入力!J71)","v":""},{"$f":"IF($A71=\"\",\"\",入力!K71)","v":""},{"$f":"N71&COUNTIFS($N$2:N71,N71)","v":"70"},{"$f":"O71&COUNTIFS($O$2:O71,O71)","v":"70"}]
[{"$f":"IF(入力!A72=\"\",\"\",28410000+入力!A72+IF(入力!E72=\"女\",200000000,100000000))","v":""},{"$f":"IF(A72=\"\",\"\",入力!B72)","v":""},{"$f":"IF(A72=\"\",\"\",入力!C72)","v":""},{"$f":"IF(A72=\"\",\"\",IF(入力!E72=\"男\",1,2))","v":""},"",{"$f":"IF(A72=\"\",\"\",入力!A72)","v":""},{"$f":"IF(A72=\"\",\"\",初期設定!$C$3+280000)","v":""},{"$f":"IFERROR(IF(A72=\"\",\"\",VLOOKUP(入力!E72&入力!F72,種目!$M$2:$O$36,2,FALSE)),\"\")","v":""},{"$f":"IFERROR(IF(A72=\"\",\"\",VLOOKUP(入力!E72&入力!F72,種目!$M$2:$O$36,3,FALSE)),\"\")","v":""},{"$f":"IF(H72=\"\",\"\",IF(I72=\"t\",TEXT(入力!G72,\"0000000\"),TEXT(入力!G72,\"00000\")))","v":""},{"$f":"IFERROR(IF(A72=\"\",\"\",VLOOKUP(入力!E72&入力!H72,種目!$M$2:$O$36,2,FALSE)),\"\")","v":""},{"$f":"IFERROR(IF(A72=\"\",\"\",VLOOKUP(入力!E72&入力!H72,種目!$M$2:$O$36,3,FALSE)),\"\")","v":""},{"$f":"IF(K72=\"\",\"\",IF(L72=\"t\",TEXT(入力!I72,\"0000000\"),TEXT(入力!I72,\"00000\")))","v":""},{"$f":"IF($A72=\"\",\"\",入力!J72)","v":""},{"$f":"IF($A72=\"\",\"\",入力!K72)","v":""},{"$f":"N72&COUNTIFS($N$2:N72,N72)","v":"71"},{"$f":"O72&COUNTIFS($O$2:O72,O72)","v":"71"}]
[{"$f":"IF(入力!A73=\"\",\"\",28410000+入力!A73+IF(入力!E73=\"女\",200000000,100000000))","v":""},{"$f":"IF(A73=\"\",\"\",入力!B73)","v":""},{"$f":"IF(A73=\"\",\"\",入力!C73)","v":""},{"$f":"IF(A73=\"\",\"\",IF(入力!E73=\"男\",1,2))","v":""},"",{"$f":"IF(A73=\"\",\"\",入力!A73)","v":""},{"$f":"IF(A73=\"\",\"\",初期設定!$C$3+280000)","v":""},{"$f":"IFERROR(IF(A73=\"\",\"\",VLOOKUP(入力!E73&入力!F73,種目!$M$2:$O$36,2,FALSE)),\"\")","v":""},{"$f":"IFERROR(IF(A73=\"\",\"\",VLOOKUP(入力!E73&入力!F73,種目!$M$2:$O$36,3,FALSE)),\"\")","v":""},{"$f":"IF(H73=\"\",\"\",IF(I73=\"t\",TEXT(入力!G73,\"0000000\"),TEXT(入力!G73,\"00000\")))","v":""},{"$f":"IFERROR(IF(A73=\"\",\"\",VLOOKUP(入力!E73&入力!H73,種目!$M$2:$O$36,2,FALSE)),\"\")","v":""},{"$f":"IFERROR(IF(A73=\"\",\"\",VLOOKUP(入力!E73&入力!H73,種目!$M$2:$O$36,3,FALSE)),\"\")","v":""},{"$f":"IF(K73=\"\",\"\",IF(L73=\"t\",TEXT(入力!I73,\"0000000\"),TEXT(入力!I73,\"00000\")))","v":""},{"$f":"IF($A73=\"\",\"\",入力!J73)","v":""},{"$f":"IF($A73=\"\",\"\",入力!K73)","v":""},{"$f":"N73&COUNTIFS($N$2:N73,N73)","v":"72"},{"$f":"O73&COUNTIFS($O$2:O73,O73)","v":"72"}]
[{"$f":"IF(入力!A74=\"\",\"\",28410000+入力!A74+IF(入力!E74=\"女\",200000000,100000000))","v":""},{"$f":"IF(A74=\"\",\"\",入力!B74)","v":""},{"$f":"IF(A74=\"\",\"\",入力!C74)","v":""},{"$f":"IF(A74=\"\",\"\",IF(入力!E74=\"男\",1,2))","v":""},"",{"$f":"IF(A74=\"\",\"\",入力!A74)","v":""},{"$f":"IF(A74=\"\",\"\",初期設定!$C$3+280000)","v":""},{"$f":"IFERROR(IF(A74=\"\",\"\",VLOOKUP(入力!E74&入力!F74,種目!$M$2:$O$36,2,FALSE)),\"\")","v":""},{"$f":"IFERROR(IF(A74=\"\",\"\",VLOOKUP(入力!E74&入力!F74,種目!$M$2:$O$36,3,FALSE)),\"\")","v":""},{"$f":"IF(H74=\"\",\"\",IF(I74=\"t\",TEXT(入力!G74,\"0000000\"),TEXT(入力!G74,\"00000\")))","v":""},{"$f":"IFERROR(IF(A74=\"\",\"\",VLOOKUP(入力!E74&入力!H74,種目!$M$2:$O$36,2,FALSE)),\"\")","v":""},{"$f":"IFERROR(IF(A74=\"\",\"\",VLOOKUP(入力!E74&入力!H74,種目!$M$2:$O$36,3,FALSE)),\"\")","v":""},{"$f":"IF(K74=\"\",\"\",IF(L74=\"t\",TEXT(入力!I74,\"0000000\"),TEXT(入力!I74,\"00000\")))","v":""},{"$f":"IF($A74=\"\",\"\",入力!J74)","v":""},{"$f":"IF($A74=\"\",\"\",入力!K74)","v":""},{"$f":"N74&COUNTIFS($N$2:N74,N74)","v":"73"},{"$f":"O74&COUNTIFS($O$2:O74,O74)","v":"73"}]
[{"$f":"IF(入力!A75=\"\",\"\",28410000+入力!A75+IF(入力!E75=\"女\",200000000,100000000))","v":""},{"$f":"IF(A75=\"\",\"\",入力!B75)","v":""},{"$f":"IF(A75=\"\",\"\",入力!C75)","v":""},{"$f":"IF(A75=\"\",\"\",IF(入力!E75=\"男\",1,2))","v":""},"",{"$f":"IF(A75=\"\",\"\",入力!A75)","v":""},{"$f":"IF(A75=\"\",\"\",初期設定!$C$3+280000)","v":""},{"$f":"IFERROR(IF(A75=\"\",\"\",VLOOKUP(入力!E75&入力!F75,種目!$M$2:$O$36,2,FALSE)),\"\")","v":""},{"$f":"IFERROR(IF(A75=\"\",\"\",VLOOKUP(入力!E75&入力!F75,種目!$M$2:$O$36,3,FALSE)),\"\")","v":""},{"$f":"IF(H75=\"\",\"\",IF(I75=\"t\",TEXT(入力!G75,\"0000000\"),TEXT(入力!G75,\"00000\")))","v":""},{"$f":"IFERROR(IF(A75=\"\",\"\",VLOOKUP(入力!E75&入力!H75,種目!$M$2:$O$36,2,FALSE)),\"\")","v":""},{"$f":"IFERROR(IF(A75=\"\",\"\",VLOOKUP(入力!E75&入力!H75,種目!$M$2:$O$36,3,FALSE)),\"\")","v":""},{"$f":"IF(K75=\"\",\"\",IF(L75=\"t\",TEXT(入力!I75,\"0000000\"),TEXT(入力!I75,\"00000\")))","v":""},{"$f":"IF($A75=\"\",\"\",入力!J75)","v":""},{"$f":"IF($A75=\"\",\"\",入力!K75)","v":""},{"$f":"N75&COUNTIFS($N$2:N75,N75)","v":"74"},{"$f":"O75&COUNTIFS($O$2:O75,O75)","v":"74"}]
[{"$f":"IF(入力!A76=\"\",\"\",28410000+入力!A76+IF(入力!E76=\"女\",200000000,100000000))","v":""},{"$f":"IF(A76=\"\",\"\",入力!B76)","v":""},{"$f":"IF(A76=\"\",\"\",入力!C76)","v":""},{"$f":"IF(A76=\"\",\"\",IF(入力!E76=\"男\",1,2))","v":""},"",{"$f":"IF(A76=\"\",\"\",入力!A76)","v":""},{"$f":"IF(A76=\"\",\"\",初期設定!$C$3+280000)","v":""},{"$f":"IFERROR(IF(A76=\"\",\"\",VLOOKUP(入力!E76&入力!F76,種目!$M$2:$O$36,2,FALSE)),\"\")","v":""},{"$f":"IFERROR(IF(A76=\"\",\"\",VLOOKUP(入力!E76&入力!F76,種目!$M$2:$O$36,3,FALSE)),\"\")","v":""},{"$f":"IF(H76=\"\",\"\",IF(I76=\"t\",TEXT(入力!G76,\"0000000\"),TEXT(入力!G76,\"00000\")))","v":""},{"$f":"IFERROR(IF(A76=\"\",\"\",VLOOKUP(入力!E76&入力!H76,種目!$M$2:$O$36,2,FALSE)),\"\")","v":""},{"$f":"IFERROR(IF(A76=\"\",\"\",VLOOKUP(入力!E76&入力!H76,種目!$M$2:$O$36,3,FALSE)),\"\")","v":""},{"$f":"IF(K76=\"\",\"\",IF(L76=\"t\",TEXT(入力!I76,\"0000000\"),TEXT(入力!I76,\"00000\")))","v":""},{"$f":"IF($A76=\"\",\"\",入力!J76)","v":""},{"$f":"IF($A76=\"\",\"\",入力!K76)","v":""},{"$f":"N76&COUNTIFS($N$2:N76,N76)","v":"75"},{"$f":"O76&COUNTIFS($O$2:O76,O76)","v":"75"}]
[{"$f":"IF(入力!A77=\"\",\"\",28410000+入力!A77+IF(入力!E77=\"女\",200000000,100000000))","v":""},{"$f":"IF(A77=\"\",\"\",入力!B77)","v":""},{"$f":"IF(A77=\"\",\"\",入力!C77)","v":""},{"$f":"IF(A77=\"\",\"\",IF(入力!E77=\"男\",1,2))","v":""},"",{"$f":"IF(A77=\"\",\"\",入力!A77)","v":""},{"$f":"IF(A77=\"\",\"\",初期設定!$C$3+280000)","v":""},{"$f":"IFERROR(IF(A77=\"\",\"\",VLOOKUP(入力!E77&入力!F77,種目!$M$2:$O$36,2,FALSE)),\"\")","v":""},{"$f":"IFERROR(IF(A77=\"\",\"\",VLOOKUP(入力!E77&入力!F77,種目!$M$2:$O$36,3,FALSE)),\"\")","v":""},{"$f":"IF(H77=\"\",\"\",IF(I77=\"t\",TEXT(入力!G77,\"0000000\"),TEXT(入力!G77,\"00000\")))","v":""},{"$f":"IFERROR(IF(A77=\"\",\"\",VLOOKUP(入力!E77&入力!H77,種目!$M$2:$O$36,2,FALSE)),\"\")","v":""},{"$f":"IFERROR(IF(A77=\"\",\"\",VLOOKUP(入力!E77&入力!H77,種目!$M$2:$O$36,3,FALSE)),\"\")","v":""},{"$f":"IF(K77=\"\",\"\",IF(L77=\"t\",TEXT(入力!I77,\"0000000\"),TEXT(入力!I77,\"00000\")))","v":""},{"$f":"IF($A77=\"\",\"\",入力!J77)","v":""},{"$f":"IF($A77=\"\",\"\",入力!K77)","v":""},{"$f":"N77&COUNTIFS($N$2:N77,N77)","v":"76"},{"$f":"O77&COUNTIFS($O$2:O77,O77)","v":"76"}]
[{"$f":"IF(入力!A78=\"\",\"\",28410000+入力!A78+IF(入力!E78=\"女\",200000000,100000000))","v":""},{"$f":"IF(A78=\"\",\"\",入力!B78)","v":""},{"$f":"IF(A78=\"\",\"\",入力!C78)","v":""},{"$f":"IF(A78=\"\",\"\",IF(入力!E78=\"男\",1,2))","v":""},"",{"$f":"IF(A78=\"\",\"\",入力!A78)","v":""},{"$f":"IF(A78=\"\",\"\",初期設定!$C$3+280000)","v":""},{"$f":"IFERROR(IF(A78=\"\",\"\",VLOOKUP(入力!E78&入力!F78,種目!$M$2:$O$36,2,FALSE)),\"\")","v":""},{"$f":"IFERROR(IF(A78=\"\",\"\",VLOOKUP(入力!E78&入力!F78,種目!$M$2:$O$36,3,FALSE)),\"\")","v":""},{"$f":"IF(H78=\"\",\"\",IF(I78=\"t\",TEXT(入力!G78,\"0000000\"),TEXT(入力!G78,\"00000\")))","v":""},{"$f":"IFERROR(IF(A78=\"\",\"\",VLOOKUP(入力!E78&入力!H78,種目!$M$2:$O$36,2,FALSE)),\"\")","v":""},{"$f":"IFERROR(IF(A78=\"\",\"\",VLOOKUP(入力!E78&入力!H78,種目!$M$2:$O$36,3,FALSE)),\"\")","v":""},{"$f":"IF(K78=\"\",\"\",IF(L78=\"t\",TEXT(入力!I78,\"0000000\"),TEXT(入力!I78,\"00000\")))","v":""},{"$f":"IF($A78=\"\",\"\",入力!J78)","v":""},{"$f":"IF($A78=\"\",\"\",入力!K78)","v":""},{"$f":"N78&COUNTIFS($N$2:N78,N78)","v":"77"},{"$f":"O78&COUNTIFS($O$2:O78,O78)","v":"77"}]
[{"$f":"IF(入力!A79=\"\",\"\",28410000+入力!A79+IF(入力!E79=\"女\",200000000,100000000))","v":""},{"$f":"IF(A79=\"\",\"\",入力!B79)","v":""},{"$f":"IF(A79=\"\",\"\",入力!C79)","v":""},{"$f":"IF(A79=\"\",\"\",IF(入力!E79=\"男\",1,2))","v":""},"",{"$f":"IF(A79=\"\",\"\",入力!A79)","v":""},{"$f":"IF(A79=\"\",\"\",初期設定!$C$3+280000)","v":""},{"$f":"IFERROR(IF(A79=\"\",\"\",VLOOKUP(入力!E79&入力!F79,種目!$M$2:$O$36,2,FALSE)),\"\")","v":""},{"$f":"IFERROR(IF(A79=\"\",\"\",VLOOKUP(入力!E79&入力!F79,種目!$M$2:$O$36,3,FALSE)),\"\")","v":""},{"$f":"IF(H79=\"\",\"\",IF(I79=\"t\",TEXT(入力!G79,\"0000000\"),TEXT(入力!G79,\"00000\")))","v":""},{"$f":"IFERROR(IF(A79=\"\",\"\",VLOOKUP(入力!E79&入力!H79,種目!$M$2:$O$36,2,FALSE)),\"\")","v":""},{"$f":"IFERROR(IF(A79=\"\",\"\",VLOOKUP(入力!E79&入力!H79,種目!$M$2:$O$36,3,FALSE)),\"\")","v":""},{"$f":"IF(K79=\"\",\"\",IF(L79=\"t\",TEXT(入力!I79,\"0000000\"),TEXT(入力!I79,\"00000\")))","v":""},{"$f":"IF($A79=\"\",\"\",入力!J79)","v":""},{"$f":"IF($A79=\"\",\"\",入力!K79)","v":""},{"$f":"N79&COUNTIFS($N$2:N79,N79)","v":"78"},{"$f":"O79&COUNTIFS($O$2:O79,O79)","v":"78"}]
[{"$f":"IF(入力!A80=\"\",\"\",28410000+入力!A80+IF(入力!E80=\"女\",200000000,100000000))","v":""},{"$f":"IF(A80=\"\",\"\",入力!B80)","v":""},{"$f":"IF(A80=\"\",\"\",入力!C80)","v":""},{"$f":"IF(A80=\"\",\"\",IF(入力!E80=\"男\",1,2))","v":""},"",{"$f":"IF(A80=\"\",\"\",入力!A80)","v":""},{"$f":"IF(A80=\"\",\"\",初期設定!$C$3+280000)","v":""},{"$f":"IFERROR(IF(A80=\"\",\"\",VLOOKUP(入力!E80&入力!F80,種目!$M$2:$O$36,2,FALSE)),\"\")","v":""},{"$f":"IFERROR(IF(A80=\"\",\"\",VLOOKUP(入力!E80&入力!F80,種目!$M$2:$O$36,3,FALSE)),\"\")","v":""},{"$f":"IF(H80=\"\",\"\",IF(I80=\"t\",TEXT(入力!G80,\"0000000\"),TEXT(入力!G80,\"00000\")))","v":""},{"$f":"IFERROR(IF(A80=\"\",\"\",VLOOKUP(入力!E80&入力!H80,種目!$M$2:$O$36,2,FALSE)),\"\")","v":""},{"$f":"IFERROR(IF(A80=\"\",\"\",VLOOKUP(入力!E80&入力!H80,種目!$M$2:$O$36,3,FALSE)),\"\")","v":""},{"$f":"IF(K80=\"\",\"\",IF(L80=\"t\",TEXT(入力!I80,\"0000000\"),TEXT(入力!I80,\"00000\")))","v":""},{"$f":"IF($A80=\"\",\"\",入力!J80)","v":""},{"$f":"IF($A80=\"\",\"\",入力!K80)","v":""},{"$f":"N80&COUNTIFS($N$2:N80,N80)","v":"79"},{"$f":"O80&COUNTIFS($O$2:O80,O80)","v":"79"}]
[{"$f":"IF(入力!A81=\"\",\"\",28410000+入力!A81+IF(入力!E81=\"女\",200000000,100000000))","v":""},{"$f":"IF(A81=\"\",\"\",入力!B81)","v":""},{"$f":"IF(A81=\"\",\"\",入力!C81)","v":""},{"$f":"IF(A81=\"\",\"\",IF(入力!E81=\"男\",1,2))","v":""},"",{"$f":"IF(A81=\"\",\"\",入力!A81)","v":""},{"$f":"IF(A81=\"\",\"\",初期設定!$C$3+280000)","v":""},{"$f":"IFERROR(IF(A81=\"\",\"\",VLOOKUP(入力!E81&入力!F81,種目!$M$2:$O$36,2,FALSE)),\"\")","v":""},{"$f":"IFERROR(IF(A81=\"\",\"\",VLOOKUP(入力!E81&入力!F81,種目!$M$2:$O$36,3,FALSE)),\"\")","v":""},{"$f":"IF(H81=\"\",\"\",IF(I81=\"t\",TEXT(入力!G81,\"0000000\"),TEXT(入力!G81,\"00000\")))","v":""},{"$f":"IFERROR(IF(A81=\"\",\"\",VLOOKUP(入力!E81&入力!H81,種目!$M$2:$O$36,2,FALSE)),\"\")","v":""},{"$f":"IFERROR(IF(A81=\"\",\"\",VLOOKUP(入力!E81&入力!H81,種目!$M$2:$O$36,3,FALSE)),\"\")","v":""},{"$f":"IF(K81=\"\",\"\",IF(L81=\"t\",TEXT(入力!I81,\"0000000\"),TEXT(入力!I81,\"00000\")))","v":""},{"$f":"IF($A81=\"\",\"\",入力!J81)","v":""},{"$f":"IF($A81=\"\",\"\",入力!K81)","v":""},{"$f":"N81&COUNTIFS($N$2:N81,N81)","v":"80"},{"$f":"O81&COUNTIFS($O$2:O81,O81)","v":"80"}]
[{"$f":"IF(入力!A82=\"\",\"\",28410000+入力!A82+IF(入力!E82=\"女\",200000000,100000000))","v":""},{"$f":"IF(A82=\"\",\"\",入力!B82)","v":""},{"$f":"IF(A82=\"\",\"\",入力!C82)","v":""},{"$f":"IF(A82=\"\",\"\",IF(入力!E82=\"男\",1,2))","v":""},"",{"$f":"IF(A82=\"\",\"\",入力!A82)","v":""},{"$f":"IF(A82=\"\",\"\",初期設定!$C$3+280000)","v":""},{"$f":"IFERROR(IF(A82=\"\",\"\",VLOOKUP(入力!E82&入力!F82,種目!$M$2:$O$36,2,FALSE)),\"\")","v":""},{"$f":"IFERROR(IF(A82=\"\",\"\",VLOOKUP(入力!E82&入力!F82,種目!$M$2:$O$36,3,FALSE)),\"\")","v":""},{"$f":"IF(H82=\"\",\"\",IF(I82=\"t\",TEXT(入力!G82,\"0000000\"),TEXT(入力!G82,\"00000\")))","v":""},{"$f":"IFERROR(IF(A82=\"\",\"\",VLOOKUP(入力!E82&入力!H82,種目!$M$2:$O$36,2,FALSE)),\"\")","v":""},{"$f":"IFERROR(IF(A82=\"\",\"\",VLOOKUP(入力!E82&入力!H82,種目!$M$2:$O$36,3,FALSE)),\"\")","v":""},{"$f":"IF(K82=\"\",\"\",IF(L82=\"t\",TEXT(入力!I82,\"0000000\"),TEXT(入力!I82,\"00000\")))","v":""},{"$f":"IF($A82=\"\",\"\",入力!J82)","v":""},{"$f":"IF($A82=\"\",\"\",入力!K82)","v":""},{"$f":"N82&COUNTIFS($N$2:N82,N82)","v":"81"},{"$f":"O82&COUNTIFS($O$2:O82,O82)","v":"81"}]
[{"$f":"IF(入力!A83=\"\",\"\",28410000+入力!A83+IF(入力!E83=\"女\",200000000,100000000))","v":""},{"$f":"IF(A83=\"\",\"\",入力!B83)","v":""},{"$f":"IF(A83=\"\",\"\",入力!C83)","v":""},{"$f":"IF(A83=\"\",\"\",IF(入力!E83=\"男\",1,2))","v":""},"",{"$f":"IF(A83=\"\",\"\",入力!A83)","v":""},{"$f":"IF(A83=\"\",\"\",初期設定!$C$3+280000)","v":""},{"$f":"IFERROR(IF(A83=\"\",\"\",VLOOKUP(入力!E83&入力!F83,種目!$M$2:$O$36,2,FALSE)),\"\")","v":""},{"$f":"IFERROR(IF(A83=\"\",\"\",VLOOKUP(入力!E83&入力!F83,種目!$M$2:$O$36,3,FALSE)),\"\")","v":""},{"$f":"IF(H83=\"\",\"\",IF(I83=\"t\",TEXT(入力!G83,\"0000000\"),TEXT(入力!G83,\"00000\")))","v":""},{"$f":"IFERROR(IF(A83=\"\",\"\",VLOOKUP(入力!E83&入力!H83,種目!$M$2:$O$36,2,FALSE)),\"\")","v":""},{"$f":"IFERROR(IF(A83=\"\",\"\",VLOOKUP(入力!E83&入力!H83,種目!$M$2:$O$36,3,FALSE)),\"\")","v":""},{"$f":"IF(K83=\"\",\"\",IF(L83=\"t\",TEXT(入力!I83,\"0000000\"),TEXT(入力!I83,\"00000\")))","v":""},{"$f":"IF($A83=\"\",\"\",入力!J83)","v":""},{"$f":"IF($A83=\"\",\"\",入力!K83)","v":""},{"$f":"N83&COUNTIFS($N$2:N83,N83)","v":"82"},{"$f":"O83&COUNTIFS($O$2:O83,O83)","v":"82"}]
[{"$f":"IF(入力!A84=\"\",\"\",28410000+入力!A84+IF(入力!E84=\"女\",200000000,100000000))","v":""},{"$f":"IF(A84=\"\",\"\",入力!B84)","v":""},{"$f":"IF(A84=\"\",\"\",入力!C84)","v":""},{"$f":"IF(A84=\"\",\"\",IF(入力!E84=\"男\",1,2))","v":""},"",{"$f":"IF(A84=\"\",\"\",入力!A84)","v":""},{"$f":"IF(A84=\"\",\"\",初期設定!$C$3+280000)","v":""},{"$f":"IFERROR(IF(A84=\"\",\"\",VLOOKUP(入力!E84&入力!F84,種目!$M$2:$O$36,2,FALSE)),\"\")","v":""},{"$f":"IFERROR(IF(A84=\"\",\"\",VLOOKUP(入力!E84&入力!F84,種目!$M$2:$O$36,3,FALSE)),\"\")","v":""},{"$f":"IF(H84=\"\",\"\",IF(I84=\"t\",TEXT(入力!G84,\"0000000\"),TEXT(入力!G84,\"00000\")))","v":""},{"$f":"IFERROR(IF(A84=\"\",\"\",VLOOKUP(入力!E84&入力!H84,種目!$M$2:$O$36,2,FALSE)),\"\")","v":""},{"$f":"IFERROR(IF(A84=\"\",\"\",VLOOKUP(入力!E84&入力!H84,種目!$M$2:$O$36,3,FALSE)),\"\")","v":""},{"$f":"IF(K84=\"\",\"\",IF(L84=\"t\",TEXT(入力!I84,\"0000000\"),TEXT(入力!I84,\"00000\")))","v":""},{"$f":"IF($A84=\"\",\"\",入力!J84)","v":""},{"$f":"IF($A84=\"\",\"\",入力!K84)","v":""},{"$f":"N84&COUNTIFS($N$2:N84,N84)","v":"83"},{"$f":"O84&COUNTIFS($O$2:O84,O84)","v":"83"}]
[{"$f":"IF(入力!A85=\"\",\"\",28410000+入力!A85+IF(入力!E85=\"女\",200000000,100000000))","v":""},{"$f":"IF(A85=\"\",\"\",入力!B85)","v":""},{"$f":"IF(A85=\"\",\"\",入力!C85)","v":""},{"$f":"IF(A85=\"\",\"\",IF(入力!E85=\"男\",1,2))","v":""},"",{"$f":"IF(A85=\"\",\"\",入力!A85)","v":""},{"$f":"IF(A85=\"\",\"\",初期設定!$C$3+280000)","v":""},{"$f":"IFERROR(IF(A85=\"\",\"\",VLOOKUP(入力!E85&入力!F85,種目!$M$2:$O$36,2,FALSE)),\"\")","v":""},{"$f":"IFERROR(IF(A85=\"\",\"\",VLOOKUP(入力!E85&入力!F85,種目!$M$2:$O$36,3,FALSE)),\"\")","v":""},{"$f":"IF(H85=\"\",\"\",IF(I85=\"t\",TEXT(入力!G85,\"0000000\"),TEXT(入力!G85,\"00000\")))","v":""},{"$f":"IFERROR(IF(A85=\"\",\"\",VLOOKUP(入力!E85&入力!H85,種目!$M$2:$O$36,2,FALSE)),\"\")","v":""},{"$f":"IFERROR(IF(A85=\"\",\"\",VLOOKUP(入力!E85&入力!H85,種目!$M$2:$O$36,3,FALSE)),\"\")","v":""},{"$f":"IF(K85=\"\",\"\",IF(L85=\"t\",TEXT(入力!I85,\"0000000\"),TEXT(入力!I85,\"00000\")))","v":""},{"$f":"IF($A85=\"\",\"\",入力!J85)","v":""},{"$f":"IF($A85=\"\",\"\",入力!K85)","v":""},{"$f":"N85&COUNTIFS($N$2:N85,N85)","v":"84"},{"$f":"O85&COUNTIFS($O$2:O85,O85)","v":"84"}]
[{"$f":"IF(入力!A86=\"\",\"\",28410000+入力!A86+IF(入力!E86=\"女\",200000000,100000000))","v":""},{"$f":"IF(A86=\"\",\"\",入力!B86)","v":""},{"$f":"IF(A86=\"\",\"\",入力!C86)","v":""},{"$f":"IF(A86=\"\",\"\",IF(入力!E86=\"男\",1,2))","v":""},"",{"$f":"IF(A86=\"\",\"\",入力!A86)","v":""},{"$f":"IF(A86=\"\",\"\",初期設定!$C$3+280000)","v":""},{"$f":"IFERROR(IF(A86=\"\",\"\",VLOOKUP(入力!E86&入力!F86,種目!$M$2:$O$36,2,FALSE)),\"\")","v":""},{"$f":"IFERROR(IF(A86=\"\",\"\",VLOOKUP(入力!E86&入力!F86,種目!$M$2:$O$36,3,FALSE)),\"\")","v":""},{"$f":"IF(H86=\"\",\"\",IF(I86=\"t\",TEXT(入力!G86,\"0000000\"),TEXT(入力!G86,\"00000\")))","v":""},{"$f":"IFERROR(IF(A86=\"\",\"\",VLOOKUP(入力!E86&入力!H86,種目!$M$2:$O$36,2,FALSE)),\"\")","v":""},{"$f":"IFERROR(IF(A86=\"\",\"\",VLOOKUP(入力!E86&入力!H86,種目!$M$2:$O$36,3,FALSE)),\"\")","v":""},{"$f":"IF(K86=\"\",\"\",IF(L86=\"t\",TEXT(入力!I86,\"0000000\"),TEXT(入力!I86,\"00000\")))","v":""},{"$f":"IF($A86=\"\",\"\",入力!J86)","v":""},{"$f":"IF($A86=\"\",\"\",入力!K86)","v":""},{"$f":"N86&COUNTIFS($N$2:N86,N86)","v":"85"},{"$f":"O86&COUNTIFS($O$2:O86,O86)","v":"85"}]
[{"$f":"IF(入力!A87=\"\",\"\",28410000+入力!A87+IF(入力!E87=\"女\",200000000,100000000))","v":""},{"$f":"IF(A87=\"\",\"\",入力!B87)","v":""},{"$f":"IF(A87=\"\",\"\",入力!C87)","v":""},{"$f":"IF(A87=\"\",\"\",IF(入力!E87=\"男\",1,2))","v":""},"",{"$f":"IF(A87=\"\",\"\",入力!A87)","v":""},{"$f":"IF(A87=\"\",\"\",初期設定!$C$3+280000)","v":""},{"$f":"IFERROR(IF(A87=\"\",\"\",VLOOKUP(入力!E87&入力!F87,種目!$M$2:$O$36,2,FALSE)),\"\")","v":""},{"$f":"IFERROR(IF(A87=\"\",\"\",VLOOKUP(入力!E87&入力!F87,種目!$M$2:$O$36,3,FALSE)),\"\")","v":""},{"$f":"IF(H87=\"\",\"\",IF(I87=\"t\",TEXT(入力!G87,\"0000000\"),TEXT(入力!G87,\"00000\")))","v":""},{"$f":"IFERROR(IF(A87=\"\",\"\",VLOOKUP(入力!E87&入力!H87,種目!$M$2:$O$36,2,FALSE)),\"\")","v":""},{"$f":"IFERROR(IF(A87=\"\",\"\",VLOOKUP(入力!E87&入力!H87,種目!$M$2:$O$36,3,FALSE)),\"\")","v":""},{"$f":"IF(K87=\"\",\"\",IF(L87=\"t\",TEXT(入力!I87,\"0000000\"),TEXT(入力!I87,\"00000\")))","v":""},{"$f":"IF($A87=\"\",\"\",入力!J87)","v":""},{"$f":"IF($A87=\"\",\"\",入力!K87)","v":""},{"$f":"N87&COUNTIFS($N$2:N87,N87)","v":"86"},{"$f":"O87&COUNTIFS($O$2:O87,O87)","v":"86"}]
[{"$f":"IF(入力!A88=\"\",\"\",28410000+入力!A88+IF(入力!E88=\"女\",200000000,100000000))","v":""},{"$f":"IF(A88=\"\",\"\",入力!B88)","v":""},{"$f":"IF(A88=\"\",\"\",入力!C88)","v":""},{"$f":"IF(A88=\"\",\"\",IF(入力!E88=\"男\",1,2))","v":""},"",{"$f":"IF(A88=\"\",\"\",入力!A88)","v":""},{"$f":"IF(A88=\"\",\"\",初期設定!$C$3+280000)","v":""},{"$f":"IFERROR(IF(A88=\"\",\"\",VLOOKUP(入力!E88&入力!F88,種目!$M$2:$O$36,2,FALSE)),\"\")","v":""},{"$f":"IFERROR(IF(A88=\"\",\"\",VLOOKUP(入力!E88&入力!F88,種目!$M$2:$O$36,3,FALSE)),\"\")","v":""},{"$f":"IF(H88=\"\",\"\",IF(I88=\"t\",TEXT(入力!G88,\"0000000\"),TEXT(入力!G88,\"00000\")))","v":""},{"$f":"IFERROR(IF(A88=\"\",\"\",VLOOKUP(入力!E88&入力!H88,種目!$M$2:$O$36,2,FALSE)),\"\")","v":""},{"$f":"IFERROR(IF(A88=\"\",\"\",VLOOKUP(入力!E88&入力!H88,種目!$M$2:$O$36,3,FALSE)),\"\")","v":""},{"$f":"IF(K88=\"\",\"\",IF(L88=\"t\",TEXT(入力!I88,\"0000000\"),TEXT(入力!I88,\"00000\")))","v":""},{"$f":"IF($A88=\"\",\"\",入力!J88)","v":""},{"$f":"IF($A88=\"\",\"\",入力!K88)","v":""},{"$f":"N88&COUNTIFS($N$2:N88,N88)","v":"87"},{"$f":"O88&COUNTIFS($O$2:O88,O88)","v":"87"}]
[{"$f":"IF(入力!A89=\"\",\"\",28410000+入力!A89+IF(入力!E89=\"女\",200000000,100000000))","v":""},{"$f":"IF(A89=\"\",\"\",入力!B89)","v":""},{"$f":"IF(A89=\"\",\"\",入力!C89)","v":""},{"$f":"IF(A89=\"\",\"\",IF(入力!E89=\"男\",1,2))","v":""},"",{"$f":"IF(A89=\"\",\"\",入力!A89)","v":""},{"$f":"IF(A89=\"\",\"\",初期設定!$C$3+280000)","v":""},{"$f":"IFERROR(IF(A89=\"\",\"\",VLOOKUP(入力!E89&入力!F89,種目!$M$2:$O$36,2,FALSE)),\"\")","v":""},{"$f":"IFERROR(IF(A89=\"\",\"\",VLOOKUP(入力!E89&入力!F89,種目!$M$2:$O$36,3,FALSE)),\"\")","v":""},{"$f":"IF(H89=\"\",\"\",IF(I89=\"t\",TEXT(入力!G89,\"0000000\"),TEXT(入力!G89,\"00000\")))","v":""},{"$f":"IFERROR(IF(A89=\"\",\"\",VLOOKUP(入力!E89&入力!H89,種目!$M$2:$O$36,2,FALSE)),\"\")","v":""},{"$f":"IFERROR(IF(A89=\"\",\"\",VLOOKUP(入力!E89&入力!H89,種目!$M$2:$O$36,3,FALSE)),\"\")","v":""},{"$f":"IF(K89=\"\",\"\",IF(L89=\"t\",TEXT(入力!I89,\"0000000\"),TEXT(入力!I89,\"00000\")))","v":""},{"$f":"IF($A89=\"\",\"\",入力!J89)","v":""},{"$f":"IF($A89=\"\",\"\",入力!K89)","v":""},{"$f":"N89&COUNTIFS($N$2:N89,N89)","v":"88"},{"$f":"O89&COUNTIFS($O$2:O89,O89)","v":"88"}]
[{"$f":"IF(入力!A90=\"\",\"\",28410000+入力!A90+IF(入力!E90=\"女\",200000000,100000000))","v":""},{"$f":"IF(A90=\"\",\"\",入力!B90)","v":""},{"$f":"IF(A90=\"\",\"\",入力!C90)","v":""},{"$f":"IF(A90=\"\",\"\",IF(入力!E90=\"男\",1,2))","v":""},"",{"$f":"IF(A90=\"\",\"\",入力!A90)","v":""},{"$f":"IF(A90=\"\",\"\",初期設定!$C$3+280000)","v":""},{"$f":"IFERROR(IF(A90=\"\",\"\",VLOOKUP(入力!E90&入力!F90,種目!$M$2:$O$36,2,FALSE)),\"\")","v":""},{"$f":"IFERROR(IF(A90=\"\",\"\",VLOOKUP(入力!E90&入力!F90,種目!$M$2:$O$36,3,FALSE)),\"\")","v":""},{"$f":"IF(H90=\"\",\"\",IF(I90=\"t\",TEXT(入力!G90,\"0000000\"),TEXT(入力!G90,\"00000\")))","v":""},{"$f":"IFERROR(IF(A90=\"\",\"\",VLOOKUP(入力!E90&入力!H90,種目!$M$2:$O$36,2,FALSE)),\"\")","v":""},{"$f":"IFERROR(IF(A90=\"\",\"\",VLOOKUP(入力!E90&入力!H90,種目!$M$2:$O$36,3,FALSE)),\"\")","v":""},{"$f":"IF(K90=\"\",\"\",IF(L90=\"t\",TEXT(入力!I90,\"0000000\"),TEXT(入力!I90,\"00000\")))","v":""},{"$f":"IF($A90=\"\",\"\",入力!J90)","v":""},{"$f":"IF($A90=\"\",\"\",入力!K90)","v":""},{"$f":"N90&COUNTIFS($N$2:N90,N90)","v":"89"},{"$f":"O90&COUNTIFS($O$2:O90,O90)","v":"89"}]
[{"$f":"IF(入力!A91=\"\",\"\",28410000+入力!A91+IF(入力!E91=\"女\",200000000,100000000))","v":""},{"$f":"IF(A91=\"\",\"\",入力!B91)","v":""},{"$f":"IF(A91=\"\",\"\",入力!C91)","v":""},{"$f":"IF(A91=\"\",\"\",IF(入力!E91=\"男\",1,2))","v":""},"",{"$f":"IF(A91=\"\",\"\",入力!A91)","v":""},{"$f":"IF(A91=\"\",\"\",初期設定!$C$3+280000)","v":""},{"$f":"IFERROR(IF(A91=\"\",\"\",VLOOKUP(入力!E91&入力!F91,種目!$M$2:$O$36,2,FALSE)),\"\")","v":""},{"$f":"IFERROR(IF(A91=\"\",\"\",VLOOKUP(入力!E91&入力!F91,種目!$M$2:$O$36,3,FALSE)),\"\")","v":""},{"$f":"IF(H91=\"\",\"\",IF(I91=\"t\",TEXT(入力!G91,\"0000000\"),TEXT(入力!G91,\"00000\")))","v":""},{"$f":"IFERROR(IF(A91=\"\",\"\",VLOOKUP(入力!E91&入力!H91,種目!$M$2:$O$36,2,FALSE)),\"\")","v":""},{"$f":"IFERROR(IF(A91=\"\",\"\",VLOOKUP(入力!E91&入力!H91,種目!$M$2:$O$36,3,FALSE)),\"\")","v":""},{"$f":"IF(K91=\"\",\"\",IF(L91=\"t\",TEXT(入力!I91,\"0000000\"),TEXT(入力!I91,\"00000\")))","v":""},{"$f":"IF($A91=\"\",\"\",入力!J91)","v":""},{"$f":"IF($A91=\"\",\"\",入力!K91)","v":""},{"$f":"N91&COUNTIFS($N$2:N91,N91)","v":"90"},{"$f":"O91&COUNTIFS($O$2:O91,O91)","v":"90"}]
[{"$f":"IF(入力!A92=\"\",\"\",28410000+入力!A92+IF(入力!E92=\"女\",200000000,100000000))","v":""},{"$f":"IF(A92=\"\",\"\",入力!B92)","v":""},{"$f":"IF(A92=\"\",\"\",入力!C92)","v":""},{"$f":"IF(A92=\"\",\"\",IF(入力!E92=\"男\",1,2))","v":""},"",{"$f":"IF(A92=\"\",\"\",入力!A92)","v":""},{"$f":"IF(A92=\"\",\"\",初期設定!$C$3+280000)","v":""},{"$f":"IFERROR(IF(A92=\"\",\"\",VLOOKUP(入力!E92&入力!F92,種目!$M$2:$O$36,2,FALSE)),\"\")","v":""},{"$f":"IFERROR(IF(A92=\"\",\"\",VLOOKUP(入力!E92&入力!F92,種目!$M$2:$O$36,3,FALSE)),\"\")","v":""},{"$f":"IF(H92=\"\",\"\",IF(I92=\"t\",TEXT(入力!G92,\"0000000\"),TEXT(入力!G92,\"00000\")))","v":""},{"$f":"IFERROR(IF(A92=\"\",\"\",VLOOKUP(入力!E92&入力!H92,種目!$M$2:$O$36,2,FALSE)),\"\")","v":""},{"$f":"IFERROR(IF(A92=\"\",\"\",VLOOKUP(入力!E92&入力!H92,種目!$M$2:$O$36,3,FALSE)),\"\")","v":""},{"$f":"IF(K92=\"\",\"\",IF(L92=\"t\",TEXT(入力!I92,\"0000000\"),TEXT(入力!I92,\"00000\")))","v":""},{"$f":"IF($A92=\"\",\"\",入力!J92)","v":""},{"$f":"IF($A92=\"\",\"\",入力!K92)","v":""},{"$f":"N92&COUNTIFS($N$2:N92,N92)","v":"91"},{"$f":"O92&COUNTIFS($O$2:O92,O92)","v":"91"}]
[{"$f":"IF(入力!A93=\"\",\"\",28410000+入力!A93+IF(入力!E93=\"女\",200000000,100000000))","v":""},{"$f":"IF(A93=\"\",\"\",入力!B93)","v":""},{"$f":"IF(A93=\"\",\"\",入力!C93)","v":""},{"$f":"IF(A93=\"\",\"\",IF(入力!E93=\"男\",1,2))","v":""},"",{"$f":"IF(A93=\"\",\"\",入力!A93)","v":""},{"$f":"IF(A93=\"\",\"\",初期設定!$C$3+280000)","v":""},{"$f":"IFERROR(IF(A93=\"\",\"\",VLOOKUP(入力!E93&入力!F93,種目!$M$2:$O$36,2,FALSE)),\"\")","v":""},{"$f":"IFERROR(IF(A93=\"\",\"\",VLOOKUP(入力!E93&入力!F93,種目!$M$2:$O$36,3,FALSE)),\"\")","v":""},{"$f":"IF(H93=\"\",\"\",IF(I93=\"t\",TEXT(入力!G93,\"0000000\"),TEXT(入力!G93,\"00000\")))","v":""},{"$f":"IFERROR(IF(A93=\"\",\"\",VLOOKUP(入力!E93&入力!H93,種目!$M$2:$O$36,2,FALSE)),\"\")","v":""},{"$f":"IFERROR(IF(A93=\"\",\"\",VLOOKUP(入力!E93&入力!H93,種目!$M$2:$O$36,3,FALSE)),\"\")","v":""},{"$f":"IF(K93=\"\",\"\",IF(L93=\"t\",TEXT(入力!I93,\"0000000\"),TEXT(入力!I93,\"00000\")))","v":""},{"$f":"IF($A93=\"\",\"\",入力!J93)","v":""},{"$f":"IF($A93=\"\",\"\",入力!K93)","v":""},{"$f":"N93&COUNTIFS($N$2:N93,N93)","v":"92"},{"$f":"O93&COUNTIFS($O$2:O93,O93)","v":"92"}]
[{"$f":"IF(入力!A94=\"\",\"\",28410000+入力!A94+IF(入力!E94=\"女\",200000000,100000000))","v":""},{"$f":"IF(A94=\"\",\"\",入力!B94)","v":""},{"$f":"IF(A94=\"\",\"\",入力!C94)","v":""},{"$f":"IF(A94=\"\",\"\",IF(入力!E94=\"男\",1,2))","v":""},"",{"$f":"IF(A94=\"\",\"\",入力!A94)","v":""},{"$f":"IF(A94=\"\",\"\",初期設定!$C$3+280000)","v":""},{"$f":"IFERROR(IF(A94=\"\",\"\",VLOOKUP(入力!E94&入力!F94,種目!$M$2:$O$36,2,FALSE)),\"\")","v":""},{"$f":"IFERROR(IF(A94=\"\",\"\",VLOOKUP(入力!E94&入力!F94,種目!$M$2:$O$36,3,FALSE)),\"\")","v":""},{"$f":"IF(H94=\"\",\"\",IF(I94=\"t\",TEXT(入力!G94,\"0000000\"),TEXT(入力!G94,\"00000\")))","v":""},{"$f":"IFERROR(IF(A94=\"\",\"\",VLOOKUP(入力!E94&入力!H94,種目!$M$2:$O$36,2,FALSE)),\"\")","v":""},{"$f":"IFERROR(IF(A94=\"\",\"\",VLOOKUP(入力!E94&入力!H94,種目!$M$2:$O$36,3,FALSE)),\"\")","v":""},{"$f":"IF(K94=\"\",\"\",IF(L94=\"t\",TEXT(入力!I94,\"0000000\"),TEXT(入力!I94,\"00000\")))","v":""},{"$f":"IF($A94=\"\",\"\",入力!J94)","v":""},{"$f":"IF($A94=\"\",\"\",入力!K94)","v":""},{"$f":"N94&COUNTIFS($N$2:N94,N94)","v":"93"},{"$f":"O94&COUNTIFS($O$2:O94,O94)","v":"93"}]
[{"$f":"IF(入力!A95=\"\",\"\",28410000+入力!A95+IF(入力!E95=\"女\",200000000,100000000))","v":""},{"$f":"IF(A95=\"\",\"\",入力!B95)","v":""},{"$f":"IF(A95=\"\",\"\",入力!C95)","v":""},{"$f":"IF(A95=\"\",\"\",IF(入力!E95=\"男\",1,2))","v":""},"",{"$f":"IF(A95=\"\",\"\",入力!A95)","v":""},{"$f":"IF(A95=\"\",\"\",初期設定!$C$3+280000)","v":""},{"$f":"IFERROR(IF(A95=\"\",\"\",VLOOKUP(入力!E95&入力!F95,種目!$M$2:$O$36,2,FALSE)),\"\")","v":""},{"$f":"IFERROR(IF(A95=\"\",\"\",VLOOKUP(入力!E95&入力!F95,種目!$M$2:$O$36,3,FALSE)),\"\")","v":""},{"$f":"IF(H95=\"\",\"\",IF(I95=\"t\",TEXT(入力!G95,\"0000000\"),TEXT(入力!G95,\"00000\")))","v":""},{"$f":"IFERROR(IF(A95=\"\",\"\",VLOOKUP(入力!E95&入力!H95,種目!$M$2:$O$36,2,FALSE)),\"\")","v":""},{"$f":"IFERROR(IF(A95=\"\",\"\",VLOOKUP(入力!E95&入力!H95,種目!$M$2:$O$36,3,FALSE)),\"\")","v":""},{"$f":"IF(K95=\"\",\"\",IF(L95=\"t\",TEXT(入力!I95,\"0000000\"),TEXT(入力!I95,\"00000\")))","v":""},{"$f":"IF($A95=\"\",\"\",入力!J95)","v":""},{"$f":"IF($A95=\"\",\"\",入力!K95)","v":""},{"$f":"N95&COUNTIFS($N$2:N95,N95)","v":"94"},{"$f":"O95&COUNTIFS($O$2:O95,O95)","v":"94"}]
[{"$f":"IF(入力!A96=\"\",\"\",28410000+入力!A96+IF(入力!E96=\"女\",200000000,100000000))","v":""},{"$f":"IF(A96=\"\",\"\",入力!B96)","v":""},{"$f":"IF(A96=\"\",\"\",入力!C96)","v":""},{"$f":"IF(A96=\"\",\"\",IF(入力!E96=\"男\",1,2))","v":""},"",{"$f":"IF(A96=\"\",\"\",入力!A96)","v":""},{"$f":"IF(A96=\"\",\"\",初期設定!$C$3+280000)","v":""},{"$f":"IFERROR(IF(A96=\"\",\"\",VLOOKUP(入力!E96&入力!F96,種目!$M$2:$O$36,2,FALSE)),\"\")","v":""},{"$f":"IFERROR(IF(A96=\"\",\"\",VLOOKUP(入力!E96&入力!F96,種目!$M$2:$O$36,3,FALSE)),\"\")","v":""},{"$f":"IF(H96=\"\",\"\",IF(I96=\"t\",TEXT(入力!G96,\"0000000\"),TEXT(入力!G96,\"00000\")))","v":""},{"$f":"IFERROR(IF(A96=\"\",\"\",VLOOKUP(入力!E96&入力!H96,種目!$M$2:$O$36,2,FALSE)),\"\")","v":""},{"$f":"IFERROR(IF(A96=\"\",\"\",VLOOKUP(入力!E96&入力!H96,種目!$M$2:$O$36,3,FALSE)),\"\")","v":""},{"$f":"IF(K96=\"\",\"\",IF(L96=\"t\",TEXT(入力!I96,\"0000000\"),TEXT(入力!I96,\"00000\")))","v":""},{"$f":"IF($A96=\"\",\"\",入力!J96)","v":""},{"$f":"IF($A96=\"\",\"\",入力!K96)","v":""},{"$f":"N96&COUNTIFS($N$2:N96,N96)","v":"95"},{"$f":"O96&COUNTIFS($O$2:O96,O96)","v":"95"}]
[{"$f":"IF(入力!A97=\"\",\"\",28410000+入力!A97+IF(入力!E97=\"女\",200000000,100000000))","v":""},{"$f":"IF(A97=\"\",\"\",入力!B97)","v":""},{"$f":"IF(A97=\"\",\"\",入力!C97)","v":""},{"$f":"IF(A97=\"\",\"\",IF(入力!E97=\"男\",1,2))","v":""},"",{"$f":"IF(A97=\"\",\"\",入力!A97)","v":""},{"$f":"IF(A97=\"\",\"\",初期設定!$C$3+280000)","v":""},{"$f":"IFERROR(IF(A97=\"\",\"\",VLOOKUP(入力!E97&入力!F97,種目!$M$2:$O$36,2,FALSE)),\"\")","v":""},{"$f":"IFERROR(IF(A97=\"\",\"\",VLOOKUP(入力!E97&入力!F97,種目!$M$2:$O$36,3,FALSE)),\"\")","v":""},{"$f":"IF(H97=\"\",\"\",IF(I97=\"t\",TEXT(入力!G97,\"0000000\"),TEXT(入力!G97,\"00000\")))","v":""},{"$f":"IFERROR(IF(A97=\"\",\"\",VLOOKUP(入力!E97&入力!H97,種目!$M$2:$O$36,2,FALSE)),\"\")","v":""},{"$f":"IFERROR(IF(A97=\"\",\"\",VLOOKUP(入力!E97&入力!H97,種目!$M$2:$O$36,3,FALSE)),\"\")","v":""},{"$f":"IF(K97=\"\",\"\",IF(L97=\"t\",TEXT(入力!I97,\"0000000\"),TEXT(入力!I97,\"00000\")))","v":""},{"$f":"IF($A97=\"\",\"\",入力!J97)","v":""},{"$f":"IF($A97=\"\",\"\",入力!K97)","v":""},{"$f":"N97&COUNTIFS($N$2:N97,N97)","v":"96"},{"$f":"O97&COUNTIFS($O$2:O97,O97)","v":"96"}]
[{"$f":"IF(入力!A98=\"\",\"\",28410000+入力!A98+IF(入力!E98=\"女\",200000000,100000000))","v":""},{"$f":"IF(A98=\"\",\"\",入力!B98)","v":""},{"$f":"IF(A98=\"\",\"\",入力!C98)","v":""},{"$f":"IF(A98=\"\",\"\",IF(入力!E98=\"男\",1,2))","v":""},"",{"$f":"IF(A98=\"\",\"\",入力!A98)","v":""},{"$f":"IF(A98=\"\",\"\",初期設定!$C$3+280000)","v":""},{"$f":"IFERROR(IF(A98=\"\",\"\",VLOOKUP(入力!E98&入力!F98,種目!$M$2:$O$36,2,FALSE)),\"\")","v":""},{"$f":"IFERROR(IF(A98=\"\",\"\",VLOOKUP(入力!E98&入力!F98,種目!$M$2:$O$36,3,FALSE)),\"\")","v":""},{"$f":"IF(H98=\"\",\"\",IF(I98=\"t\",TEXT(入力!G98,\"0000000\"),TEXT(入力!G98,\"00000\")))","v":""},{"$f":"IFERROR(IF(A98=\"\",\"\",VLOOKUP(入力!E98&入力!H98,種目!$M$2:$O$36,2,FALSE)),\"\")","v":""},{"$f":"IFERROR(IF(A98=\"\",\"\",VLOOKUP(入力!E98&入力!H98,種目!$M$2:$O$36,3,FALSE)),\"\")","v":""},{"$f":"IF(K98=\"\",\"\",IF(L98=\"t\",TEXT(入力!I98,\"0000000\"),TEXT(入力!I98,\"00000\")))","v":""},{"$f":"IF($A98=\"\",\"\",入力!J98)","v":""},{"$f":"IF($A98=\"\",\"\",入力!K98)","v":""},{"$f":"N98&COUNTIFS($N$2:N98,N98)","v":"97"},{"$f":"O98&COUNTIFS($O$2:O98,O98)","v":"97"}]
[{"$f":"IF(入力!A99=\"\",\"\",28410000+入力!A99+IF(入力!E99=\"女\",200000000,100000000))","v":""},{"$f":"IF(A99=\"\",\"\",入力!B99)","v":""},{"$f":"IF(A99=\"\",\"\",入力!C99)","v":""},{"$f":"IF(A99=\"\",\"\",IF(入力!E99=\"男\",1,2))","v":""},"",{"$f":"IF(A99=\"\",\"\",入力!A99)","v":""},{"$f":"IF(A99=\"\",\"\",初期設定!$C$3+280000)","v":""},{"$f":"IFERROR(IF(A99=\"\",\"\",VLOOKUP(入力!E99&入力!F99,種目!$M$2:$O$36,2,FALSE)),\"\")","v":""},{"$f":"IFERROR(IF(A99=\"\",\"\",VLOOKUP(入力!E99&入力!F99,種目!$M$2:$O$36,3,FALSE)),\"\")","v":""},{"$f":"IF(H99=\"\",\"\",IF(I99=\"t\",TEXT(入力!G99,\"0000000\"),TEXT(入力!G99,\"00000\")))","v":""},{"$f":"IFERROR(IF(A99=\"\",\"\",VLOOKUP(入力!E99&入力!H99,種目!$M$2:$O$36,2,FALSE)),\"\")","v":""},{"$f":"IFERROR(IF(A99=\"\",\"\",VLOOKUP(入力!E99&入力!H99,種目!$M$2:$O$36,3,FALSE)),\"\")","v":""},{"$f":"IF(K99=\"\",\"\",IF(L99=\"t\",TEXT(入力!I99,\"0000000\"),TEXT(入力!I99,\"00000\")))","v":""},{"$f":"IF($A99=\"\",\"\",入力!J99)","v":""},{"$f":"IF($A99=\"\",\"\",入力!K99)","v":""},{"$f":"N99&COUNTIFS($N$2:N99,N99)","v":"98"},{"$f":"O99&COUNTIFS($O$2:O99,O99)","v":"98"}]
[{"$f":"IF(入力!A100=\"\",\"\",28410000+入力!A100+IF(入力!E100=\"女\",200000000,100000000))","v":""},{"$f":"IF(A100=\"\",\"\",入力!B100)","v":""},{"$f":"IF(A100=\"\",\"\",入力!C100)","v":""},{"$f":"IF(A100=\"\",\"\",IF(入力!E100=\"男\",1,2))","v":""},"",{"$f":"IF(A100=\"\",\"\",入力!A100)","v":""},{"$f":"IF(A100=\"\",\"\",初期設定!$C$3+280000)","v":""},{"$f":"IFERROR(IF(A100=\"\",\"\",VLOOKUP(入力!E100&入力!F100,種目!$M$2:$O$36,2,FALSE)),\"\")","v":""},{"$f":"IFERROR(IF(A100=\"\",\"\",VLOOKUP(入力!E100&入力!F100,種目!$M$2:$O$36,3,FALSE)),\"\")","v":""},{"$f":"IF(H100=\"\",\"\",IF(I100=\"t\",TEXT(入力!G100,\"0000000\"),TEXT(入力!G100,\"00000\")))","v":""},{"$f":"IFERROR(IF(A100=\"\",\"\",VLOOKUP(入力!E100&入力!H100,種目!$M$2:$O$36,2,FALSE)),\"\")","v":""},{"$f":"IFERROR(IF(A100=\"\",\"\",VLOOKUP(入力!E100&入力!H100,種目!$M$2:$O$36,3,FALSE)),\"\")","v":""},{"$f":"IF(K100=\"\",\"\",IF(L100=\"t\",TEXT(入力!I100,\"0000000\"),TEXT(入力!I100,\"00000\")))","v":""},{"$f":"IF($A100=\"\",\"\",入力!J100)","v":""},{"$f":"IF($A100=\"\",\"\",入力!K100)","v":""},{"$f":"N100&COUNTIFS($N$2:N100,N100)","v":"99"},{"$f":"O100&COUNTIFS($O$2:O100,O100)","v":"99"}]

{"sheet":"CSV","index":10,"n_rows":100,"n_cols":58,"rows_kept":100,"cut":false,"hidden":true,"merged":[]}
["DB","N1","N2","SX","KC","MC","ZK","S1","S2",null,"m4*100","DB","ZK","N1","N2","TM","S1","S2","S3","S4","S5","S6","m4*400","DB","ZK","N1","N2","TM","S1","S2","S3","S4","S5","S6","w4*100","DB","ZK","N1","N2","TM","S1","S2","S3","S4","S5","S6","w4*400","DB","ZK","N1","N2","TM","S1","S2","S3","S4","S5","S6"]
[{"$f":"作業用!A2","v":""},{"$f":"作業用!B2","v":""},{"$f":"作業用!C2","v":""},{"$f":"作業用!D2","v":""},{"$f":"作業用!E2","v":""},{"$f":"作業用!G2","v":""},{"$f":"作業用!F2","v":""},{"$f":"作業用!H2&\" \"&作業用!J2","v":" "},{"$f":"作業用!K2&\" \"&作業用!M2","v":" "},null,null,{"$f":"IF(作業用!S3=\"\",\"\",作業用!S3)","v":""},{"$f":"IF(作業用!T3=\"\",\"\",作業用!T3)","v":""},{"$f":"IF(作業用!U3=\"\",\"\",作業用!U3)","v":""},{"$f":"IF(作業用!V3=\"\",\"\",作業用!V3)","v":""},{"$f":"IF(作業用!W3=\"\",\"\",作業用!W3)","v":""},{"$f":"IF(作業用!X3=\"\",\"\",作業用!X3)","v":""},{"$f":"IF(作業用!Y3=\"\",\"\",作業用!Y3)","v":""},{"$f":"IF(作業用!Z3=\"\",\"\",作業用!Z3)","v":""},{"$f":"IF(作業用!AA3=\"\",\"\",作業用!AA3)","v":""},{"$f":"IF(作業用!AB3=\"\",\"\",作業用!AB3)","v":""},{"$f":"IF(作業用!AC3=\"\",\"\",作業用!AC3)","v":""},null,{"$f":"IF(作業用!S12=\"\",\"\",作業用!S12)","v":""},{"$f":"IF(作業用!T12=\"\",\"\",作業用!T12)","v":""},{"$f":"IF(作業用!U12=\"\",\"\",作業用!U12)","v":""},{"$f":"IF(作業用!V12=\"\",\"\",作業用!V12)","v":""},{"$f":"IF(作業用!W12=\"\",\"\",作業用!W12)","v":""},{"$f":"IF(作業用!X12=\"\",\"\",作業用!X12)","v":""},{"$f":"IF(作業用!Y12=\"\",\"\",作業用!Y12)","v":""},{"$f":"IF(作業用!Z12=\"\",\"\",作業用!Z12)","v":""},{"$f":"IF(作業用!AA12=\"\",\"\",作業用!AA12)","v":""},{"$f":"IF(作業用!AB12=\"\",\"\",作業用!AB12)","v":""},{"$f":"IF(作業用!AC12=\"\",\"\",作業用!AC12)","v":""},null,{"$f":"IF(作業用!S21=\"\",\"\",作業用!S21)","v":""},{"$f":"IF(作業用!T21=\"\",\"\",作業用!T21)","v":""},{"$f":"IF(作業用!U21=\"\",\"\",作業用!U21)","v":""},{"$f":"IF(作業用!V21=\"\",\"\",作業用!V21)","v":""},{"$f":"IF(作業用!W21=\"\",\"\",作業用!W21)","v":""},{"$f":"IF(作業用!X21=\"\",\"\",作業用!X21)","v":""},{"$f":"IF(作業用!Y21=\"\",\"\",作業用!Y21)","v":""},{"$f":"IF(作業用!Z21=\"\",\"\",作業用!Z21)","v":""},{"$f":"IF(作業用!AA21=\"\",\"\",作業用!AA21)","v":""},{"$f":"IF(作業用!AB21=\"\",\"\",作業用!AB21)","v":""},{"$f":"IF(作業用!AC21=\"\",\"\",作業用!AC21)","v":""},null,{"$f":"IF(作業用!S30=\"\",\"\",作業用!S30)","v":""},{"$f":"IF(作業用!T30=\"\",\"\",作業用!T30)","v":""},{"$f":"IF(作業用!U30=\"\",\"\",作業用!U30)","v":""},{"$f":"IF(作業用!V30=\"\",\"\",作業用!V30)","v":""},{"$f":"IF(作業用!W30=\"\",\"\",作業用!W30)","v":""},{"$f":"IF(作業用!X30=\"\",\"\",作業用!X30)","v":""},{"$f":"IF(作業用!Y30=\"\",\"\",作業用!Y30)","v":""},{"$f":"IF(作業用!Z30=\"\",\"\",作業用!Z30)","v":""},{"$f":"IF(作業用!AA30=\"\",\"\",作業用!AA30)","v":""},{"$f":"IF(作業用!AB30=\"\",\"\",作業用!AB30)","v":""},{"$f":"IF(作業用!AC30=\"\",\"\",作業用!AC30)","v":""}]
[{"$f":"作業用!A3","v":""},{"$f":"作業用!B3","v":""},{"$f":"作業用!C3","v":""},{"$f":"作業用!D3","v":""},{"$f":"作業用!E3","v":""},{"$f":"作業用!G3","v":""},{"$f":"作業用!F3","v":""},{"$f":"作業用!H3&\" \"&作業用!J3","v":" "},{"$f":"作業用!K3&\" \"&作業用!M3","v":" "},null,null,{"$f":"IF(作業用!S4=\"\",\"\",作業用!S4)","v":""},{"$f":"IF(作業用!T4=\"\",\"\",作業用!T4)","v":""},{"$f":"IF(作業用!U4=\"\",\"\",作業用!U4)","v":""},{"$f":"IF(作業用!V4=\"\",\"\",作業用!V4)","v":""},{"$f":"IF(作業用!W4=\"\",\"\",作業用!W4)","v":""},{"$f":"IF(作業用!X4=\"\",\"\",作業用!X4)","v":""},{"$f":"IF(作業用!Y4=\"\",\"\",作業用!Y4)","v":""},{"$f":"IF(作業用!Z4=\"\",\"\",作業用!Z4)","v":""},{"$f":"IF(作業用!AA4=\"\",\"\",作業用!AA4)","v":""},{"$f":"IF(作業用!AB4=\"\",\"\",作業用!AB4)","v":""},{"$f":"IF(作業用!AC4=\"\",\"\",作業用!AC4)","v":""},null,{"$f":"IF(作業用!S13=\"\",\"\",作業用!S13)","v":""},{"$f":"IF(作業用!T13=\"\",\"\",作業用!T13)","v":""},{"$f":"IF(作業用!U13=\"\",\"\",作業用!U13)","v":""},{"$f":"IF(作業用!V13=\"\",\"\",作業用!V13)","v":""},{"$f":"IF(作業用!W13=\"\",\"\",作業用!W13)","v":""},{"$f":"IF(作業用!X13=\"\",\"\",作業用!X13)","v":""},{"$f":"IF(作業用!Y13=\"\",\"\",作業用!Y13)","v":""},{"$f":"IF(作業用!Z13=\"\",\"\",作業用!Z13)","v":""},{"$f":"IF(作業用!AA13=\"\",\"\",作業用!AA13)","v":""},{"$f":"IF(作業用!AB13=\"\",\"\",作業用!AB13)","v":""},{"$f":"IF(作業用!AC13=\"\",\"\",作業用!AC13)","v":""},null,{"$f":"IF(作業用!S22=\"\",\"\",作業用!S22)","v":""},{"$f":"IF(作業用!T22=\"\",\"\",作業用!T22)","v":""},{"$f":"IF(作業用!U22=\"\",\"\",作業用!U22)","v":""},{"$f":"IF(作業用!V22=\"\",\"\",作業用!V22)","v":""},{"$f":"IF(作業用!W22=\"\",\"\",作業用!W22)","v":""},{"$f":"IF(作業用!X22=\"\",\"\",作業用!X22)","v":""},{"$f":"IF(作業用!Y22=\"\",\"\",作業用!Y22)","v":""},{"$f":"IF(作業用!Z22=\"\",\"\",作業用!Z22)","v":""},{"$f":"IF(作業用!AA22=\"\",\"\",作業用!AA22)","v":""},{"$f":"IF(作業用!AB22=\"\",\"\",作業用!AB22)","v":""},{"$f":"IF(作業用!AC22=\"\",\"\",作業用!AC22)","v":""},null,{"$f":"IF(作業用!S31=\"\",\"\",作業用!S31)","v":""},{"$f":"IF(作業用!T31=\"\",\"\",作業用!T31)","v":""},{"$f":"IF(作業用!U31=\"\",\"\",作業用!U31)","v":""},{"$f":"IF(作業用!V31=\"\",\"\",作業用!V31)","v":""},{"$f":"IF(作業用!W31=\"\",\"\",作業用!W31)","v":""},{"$f":"IF(作業用!X31=\"\",\"\",作業用!X31)","v":""},{"$f":"IF(作業用!Y31=\"\",\"\",作業用!Y31)","v":""},{"$f":"IF(作業用!Z31=\"\",\"\",作業用!Z31)","v":""},{"$f":"IF(作業用!AA31=\"\",\"\",作業用!AA31)","v":""},{"$f":"IF(作業用!AB31=\"\",\"\",作業用!AB31)","v":""},{"$f":"IF(作業用!AC31=\"\",\"\",作業用!AC31)","v":""}]
[{"$f":"作業用!A4","v":""},{"$f":"作業用!B4","v":""},{"$f":"作業用!C4","v":""},{"$f":"作業用!D4","v":""},{"$f":"作業用!E4","v":""},{"$f":"作業用!G4","v":""},{"$f":"作業用!F4","v":""},{"$f":"作業用!H4&\" \"&作業用!J4","v":" "},{"$f":"作業用!K4&\" \"&作業用!M4","v":" "},null,null,{"$f":"IF(作業用!S5=\"\",\"\",作業用!S5)","v":""},{"$f":"IF(作業用!T5=\"\",\"\",作業用!T5)","v":""},{"$f":"IF(作業用!U5=\"\",\"\",作業用!U5)","v":""},{"$f":"IF(作業用!V5=\"\",\"\",作業用!V5)","v":""},{"$f":"IF(作業用!W5=\"\",\"\",作業用!W5)","v":""},{"$f":"IF(作業用!X5=\"\",\"\",作業用!X5)","v":""},{"$f":"IF(作業用!Y5=\"\",\"\",作業用!Y5)","v":""},{"$f":"IF(作業用!Z5=\"\",\"\",作業用!Z5)","v":""},{"$f":"IF(作業用!AA5=\"\",\"\",作業用!AA5)","v":""},{"$f":"IF(作業用!AB5=\"\",\"\",作業用!AB5)","v":""},{"$f":"IF(作業用!AC5=\"\",\"\",作業用!AC5)","v":""},null,{"$f":"IF(作業用!S14=\"\",\"\",作業用!S14)","v":""},{"$f":"IF(作業用!T14=\"\",\"\",作業用!T14)","v":""},{"$f":"IF(作業用!U14=\"\",\"\",作業用!U14)","v":""},{"$f":"IF(作業用!V14=\"\",\"\",作業用!V14)","v":""},{"$f":"IF(作業用!W14=\"\",\"\",作業用!W14)","v":""},{"$f":"IF(作業用!X14=\"\",\"\",作業用!X14)","v":""},{"$f":"IF(作業用!Y14=\"\",\"\",作業用!Y14)","v":""},{"$f":"IF(作業用!Z14=\"\",\"\",作業用!Z14)","v":""},{"$f":"IF(作業用!AA14=\"\",\"\",作業用!AA14)","v":""},{"$f":"IF(作業用!AB14=\"\",\"\",作業用!AB14)","v":""},{"$f":"IF(作業用!AC14=\"\",\"\",作業用!AC14)","v":""},null,{"$f":"IF(作業用!S23=\"\",\"\",作業用!S23)","v":""},{"$f":"IF(作業用!T23=\"\",\"\",作業用!T23)","v":""},{"$f":"IF(作業用!U23=\"\",\"\",作業用!U23)","v":""},{"$f":"IF(作業用!V23=\"\",\"\",作業用!V23)","v":""},{"$f":"IF(作業用!W23=\"\",\"\",作業用!W23)","v":""},{"$f":"IF(作業用!X23=\"\",\"\",作業用!X23)","v":""},{"$f":"IF(作業用!Y23=\"\",\"\",作業用!Y23)","v":""},{"$f":"IF(作業用!Z23=\"\",\"\",作業用!Z23)","v":""},{"$f":"IF(作業用!AA23=\"\",\"\",作業用!AA23)","v":""},{"$f":"IF(作業用!AB23=\"\",\"\",作業用!AB23)","v":""},{"$f":"IF(作業用!AC23=\"\",\"\",作業用!AC23)","v":""},null,{"$f":"IF(作業用!S32=\"\",\"\",作業用!S32)","v":""},{"$f":"IF(作業用!T32=\"\",\"\",作業用!T32)","v":""},{"$f":"IF(作業用!U32=\"\",\"\",作業用!U32)","v":""},{"$f":"IF(作業用!V32=\"\",\"\",作業用!V32)","v":""},{"$f":"IF(作業用!W32=\"\",\"\",作業用!W32)","v":""},{"$f":"IF(作業用!X32=\"\",\"\",作業用!X32)","v":""},{"$f":"IF(作業用!Y32=\"\",\"\",作業用!Y32)","v":""},{"$f":"IF(作業用!Z32=\"\",\"\",作業用!Z32)","v":""},{"$f":"IF(作業用!AA32=\"\",\"\",作業用!AA32)","v":""},{"$f":"IF(作業用!AB32=\"\",\"\",作業用!AB32)","v":""},{"$f":"IF(作業用!AC32=\"\",\"\",作業用!AC32)","v":""}]
[{"$f":"作業用!A5","v":""},{"$f":"作業用!B5","v":""},{"$f":"作業用!C5","v":""},{"$f":"作業用!D5","v":""},{"$f":"作業用!E5","v":""},{"$f":"作業用!G5","v":""},{"$f":"作業用!F5","v":""},{"$f":"作業用!H5&\" \"&作業用!J5","v":" "},{"$f":"作業用!K5&\" \"&作業用!M5","v":" "},null,null,{"$f":"IF(作業用!S6=\"\",\"\",作業用!S6)","v":""},{"$f":"IF(作業用!T6=\"\",\"\",作業用!T6)","v":""},{"$f":"IF(作業用!U6=\"\",\"\",作業用!U6)","v":""},{"$f":"IF(作業用!V6=\"\",\"\",作業用!V6)","v":""},{"$f":"IF(作業用!W6=\"\",\"\",作業用!W6)","v":""},{"$f":"IF(作業用!X6=\"\",\"\",作業用!X6)","v":""},{"$f":"IF(作業用!Y6=\"\",\"\",作業用!Y6)","v":""},{"$f":"IF(作業用!Z6=\"\",\"\",作業用!Z6)","v":""},{"$f":"IF(作業用!AA6=\"\",\"\",作業用!AA6)","v":""},{"$f":"IF(作業用!AB6=\"\",\"\",作業用!AB6)","v":""},{"$f":"IF(作業用!AC6=\"\",\"\",作業用!AC6)","v":""},null,{"$f":"IF(作業用!S15=\"\",\"\",作業用!S15)","v":""},{"$f":"IF(作業用!T15=\"\",\"\",作業用!T15)","v":""},{"$f":"IF(作業用!U15=\"\",\"\",作業用!U15)","v":""},{"$f":"IF(作業用!V15=\"\",\"\",作業用!V15)","v":""},{"$f":"IF(作業用!W15=\"\",\"\",作業用!W15)","v":""},{"$f":"IF(作業用!X15=\"\",\"\",作業用!X15)","v":""},{"$f":"IF(作業用!Y15=\"\",\"\",作業用!Y15)","v":""},{"$f":"IF(作業用!Z15=\"\",\"\",作業用!Z15)","v":""},{"$f":"IF(作業用!AA15=\"\",\"\",作業用!AA15)","v":""},{"$f":"IF(作業用!AB15=\"\",\"\",作業用!AB15)","v":""},{"$f":"IF(作業用!AC15=\"\",\"\",作業用!AC15)","v":""},null,{"$f":"IF(作業用!S24=\"\",\"\",作業用!S24)","v":""},{"$f":"IF(作業用!T24=\"\",\"\",作業用!T24)","v":""},{"$f":"IF(作業用!U24=\"\",\"\",作業用!U24)","v":""},{"$f":"IF(作業用!V24=\"\",\"\",作業用!V24)","v":""},{"$f":"IF(作業用!W24=\"\",\"\",作業用!W24)","v":""},{"$f":"IF(作業用!X24=\"\",\"\",作業用!X24)","v":""},{"$f":"IF(作業用!Y24=\"\",\"\",作業用!Y24)","v":""},{"$f":"IF(作業用!Z24=\"\",\"\",作業用!Z24)","v":""},{"$f":"IF(作業用!AA24=\"\",\"\",作業用!AA24)","v":""},{"$f":"IF(作業用!AB24=\"\",\"\",作業用!AB24)","v":""},{"$f":"IF(作業用!AC24=\"\",\"\",作業用!AC24)","v":""},null,{"$f":"IF(作業用!S33=\"\",\"\",作業用!S33)","v":""},{"$f":"IF(作業用!T33=\"\",\"\",作業用!T33)","v":""},{"$f":"IF(作業用!U33=\"\",\"\",作業用!U33)","v":""},{"$f":"IF(作業用!V33=\"\",\"\",作業用!V33)","v":""},{"$f":"IF(作業用!W33=\"\",\"\",作業用!W33)","v":""},{"$f":"IF(作業用!X33=\"\",\"\",作業用!X33)","v":""},{"$f":"IF(作業用!Y33=\"\",\"\",作業用!Y33)","v":""},{"$f":"IF(作業用!Z33=\"\",\"\",作業用!Z33)","v":""},{"$f":"IF(作業用!AA33=\"\",\"\",作業用!AA33)","v":""},{"$f":"IF(作業用!AB33=\"\",\"\",作業用!AB33)","v":""},{"$f":"IF(作業用!AC33=\"\",\"\",作業用!AC33)","v":""}]
[{"$f":"作業用!A6","v":""},{"$f":"作業用!B6","v":""},{"$f":"作業用!C6","v":""},{"$f":"作業用!D6","v":""},{"$f":"作業用!E6","v":""},{"$f":"作業用!G6","v":""},{"$f":"作業用!F6","v":""},{"$f":"作業用!H6&\" \"&作業用!J6","v":" "},{"$f":"作業用!K6&\" \"&作業用!M6","v":" "},null,null,{"$f":"IF(作業用!S7=\"\",\"\",作業用!S7)","v":""},{"$f":"IF(作業用!T7=\"\",\"\",作業用!T7)","v":""},{"$f":"IF(作業用!U7=\"\",\"\",作業用!U7)","v":""},{"$f":"IF(作業用!V7=\"\",\"\",作業用!V7)","v":""},{"$f":"IF(作業用!W7=\"\",\"\",作業用!W7)","v":""},{"$f":"IF(作業用!X7=\"\",\"\",作業用!X7)","v":""},{"$f":"IF(作業用!Y7=\"\",\"\",作業用!Y7)","v":""},{"$f":"IF(作業用!Z7=\"\",\"\",作業用!Z7)","v":""},{"$f":"IF(作業用!AA7=\"\",\"\",作業用!AA7)","v":""},{"$f":"IF(作業用!AB7=\"\",\"\",作業用!AB7)","v":""},{"$f":"IF(作業用!AC7=\"\",\"\",作業用!AC7)","v":""},null,{"$f":"IF(作業用!S16=\"\",\"\",作業用!S16)","v":""},{"$f":"IF(作業用!T16=\"\",\"\",作業用!T16)","v":""},{"$f":"IF(作業用!U16=\"\",\"\",作業用!U16)","v":""},{"$f":"IF(作業用!V16=\"\",\"\",作業用!V16)","v":""},{"$f":"IF(作業用!W16=\"\",\"\",作業用!W16)","v":""},{"$f":"IF(作業用!X16=\"\",\"\",作業用!X16)","v":""},{"$f":"IF(作業用!Y16=\"\",\"\",作業用!Y16)","v":""},{"$f":"IF(作業用!Z16=\"\",\"\",作業用!Z16)","v":""},{"$f":"IF(作業用!AA16=\"\",\"\",作業用!AA16)","v":""},{"$f":"IF(作業用!AB16=\"\",\"\",作業用!AB16)","v":""},{"$f":"IF(作業用!AC16=\"\",\"\",作業用!AC16)","v":""},null,{"$f":"IF(作業用!S25=\"\",\"\",作業用!S25)","v":""},{"$f":"IF(作業用!T25=\"\",\"\",作業用!T25)","v":""},{"$f":"IF(作業用!U25=\"\",\"\",作業用!U25)","v":""},{"$f":"IF(作業用!V25=\"\",\"\",作業用!V25)","v":""},{"$f":"IF(作業用!W25=\"\",\"\",作業用!W25)","v":""},{"$f":"IF(作業用!X25=\"\",\"\",作業用!X25)","v":""},{"$f":"IF(作業用!Y25=\"\",\"\",作業用!Y25)","v":""},{"$f":"IF(作業用!Z25=\"\",\"\",作業用!Z25)","v":""},{"$f":"IF(作業用!AA25=\"\",\"\",作業用!AA25)","v":""},{"$f":"IF(作業用!AB25=\"\",\"\",作業用!AB25)","v":""},{"$f":"IF(作業用!AC25=\"\",\"\",作業用!AC25)","v":""},null,{"$f":"IF(作業用!S34=\"\",\"\",作業用!S34)","v":""},{"$f":"IF(作業用!T34=\"\",\"\",作業用!T34)","v":""},{"$f":"IF(作業用!U34=\"\",\"\",作業用!U34)","v":""},{"$f":"IF(作業用!V34=\"\",\"\",作業用!V34)","v":""},{"$f":"IF(作業用!W34=\"\",\"\",作業用!W34)","v":""},{"$f":"IF(作業用!X34=\"\",\"\",作業用!X34)","v":""},{"$f":"IF(作業用!Y34=\"\",\"\",作業用!Y34)","v":""},{"$f":"IF(作業用!Z34=\"\",\"\",作業用!Z34)","v":""},{"$f":"IF(作業用!AA34=\"\",\"\",作業用!AA34)","v":""},{"$f":"IF(作業用!AB34=\"\",\"\",作業用!AB34)","v":""},{"$f":"IF(作業用!AC34=\"\",\"\",作業用!AC34)","v":""}]
[{"$f":"作業用!A7","v":""},{"$f":"作業用!B7","v":""},{"$f":"作業用!C7","v":""},{"$f":"作業用!D7","v":""},{"$f":"作業用!E7","v":""},{"$f":"作業用!G7","v":""},{"$f":"作業用!F7","v":""},{"$f":"作業用!H7&\" \"&作業用!J7","v":" "},{"$f":"作業用!K7&\" \"&作業用!M7","v":" "},null,null,{"$f":"IF(作業用!S8=\"\",\"\",作業用!S8)","v":""},{"$f":"IF(作業用!T8=\"\",\"\",作業用!T8)","v":""},{"$f":"IF(作業用!U8=\"\",\"\",作業用!U8)","v":""},{"$f":"IF(作業用!V8=\"\",\"\",作業用!V8)","v":""},{"$f":"IF(作業用!W8=\"\",\"\",作業用!W8)","v":""},{"$f":"IF(作業用!X8=\"\",\"\",作業用!X8)","v":""},{"$f":"IF(作業用!Y8=\"\",\"\",作業用!Y8)","v":""},{"$f":"IF(作業用!Z8=\"\",\"\",作業用!Z8)","v":""},{"$f":"IF(作業用!AA8=\"\",\"\",作業用!AA8)","v":""},{"$f":"IF(作業用!AB8=\"\",\"\",作業用!AB8)","v":""},{"$f":"IF(作業用!AC8=\"\",\"\",作業用!AC8)","v":""},null,{"$f":"IF(作業用!S17=\"\",\"\",作業用!S17)","v":""},{"$f":"IF(作業用!T17=\"\",\"\",作業用!T17)","v":""},{"$f":"IF(作業用!U17=\"\",\"\",作業用!U17)","v":""},{"$f":"IF(作業用!V17=\"\",\"\",作業用!V17)","v":""},{"$f":"IF(作業用!W17=\"\",\"\",作業用!W17)","v":""},{"$f":"IF(作業用!X17=\"\",\"\",作業用!X17)","v":""},{"$f":"IF(作業用!Y17=\"\",\"\",作業用!Y17)","v":""},{"$f":"IF(作業用!Z17=\"\",\"\",作業用!Z17)","v":""},{"$f":"IF(作業用!AA17=\"\",\"\",作業用!AA17)","v":""},{"$f":"IF(作業用!AB17=\"\",\"\",作業用!AB17)","v":""},{"$f":"IF(作業用!AC17=\"\",\"\",作業用!AC17)","v":""},null,{"$f":"IF(作業用!S26=\"\",\"\",作業用!S26)","v":""},{"$f":"IF(作業用!T26=\"\",\"\",作業用!T26)","v":""},{"$f":"IF(作業用!U26=\"\",\"\",作業用!U26)","v":""},{"$f":"IF(作業用!V26=\"\",\"\",作業用!V26)","v":""},{"$f":"IF(作業用!W26=\"\",\"\",作業用!W26)","v":""},{"$f":"IF(作業用!X26=\"\",\"\",作業用!X26)","v":""},{"$f":"IF(作業用!Y26=\"\",\"\",作業用!Y26)","v":""},{"$f":"IF(作業用!Z26=\"\",\"\",作業用!Z26)","v":""},{"$f":"IF(作業用!AA26=\"\",\"\",作業用!AA26)","v":""},{"$f":"IF(作業用!AB26=\"\",\"\",作業用!AB26)","v":""},{"$f":"IF(作業用!AC26=\"\",\"\",作業用!AC26)","v":""},null,{"$f":"IF(作業用!S35=\"\",\"\",作業用!S35)","v":""},{"$f":"IF(作業用!T35=\"\",\"\",作業用!T35)","v":""},{"$f":"IF(作業用!U35=\"\",\"\",作業用!U35)","v":""},{"$f":"IF(作業用!V35=\"\",\"\",作業用!V35)","v":""},{"$f":"IF(作業用!W35=\"\",\"\",作業用!W35)","v":""},{"$f":"IF(作業用!X35=\"\",\"\",作業用!X35)","v":""},{"$f":"IF(作業用!Y35=\"\",\"\",作業用!Y35)","v":""},{"$f":"IF(作業用!Z35=\"\",\"\",作業用!Z35)","v":""},{"$f":"IF(作業用!AA35=\"\",\"\",作業用!AA35)","v":""},{"$f":"IF(作業用!AB35=\"\",\"\",作業用!AB35)","v":""},{"$f":"IF(作業用!AC35=\"\",\"\",作業用!AC35)","v":""}]
[{"$f":"作業用!A8","v":""},{"$f":"作業用!B8","v":""},{"$f":"作業用!C8","v":""},{"$f":"作業用!D8","v":""},{"$f":"作業用!E8","v":""},{"$f":"作業用!G8","v":""},{"$f":"作業用!F8","v":""},{"$f":"作業用!H8&\" \"&作業用!J8","v":" "},{"$f":"作業用!K8&\" \"&作業用!M8","v":" "}]
[{"$f":"作業用!A9","v":""},{"$f":"作業用!B9","v":""},{"$f":"作業用!C9","v":""},{"$f":"作業用!D9","v":""},{"$f":"作業用!E9","v":""},{"$f":"作業用!G9","v":""},{"$f":"作業用!F9","v":""},{"$f":"作業用!H9&\" \"&作業用!J9","v":" "},{"$f":"作業用!K9&\" \"&作業用!M9","v":" "}]
[{"$f":"作業用!A10","v":""},{"$f":"作業用!B10","v":""},{"$f":"作業用!C10","v":""},{"$f":"作業用!D10","v":""},{"$f":"作業用!E10","v":""},{"$f":"作業用!G10","v":""},{"$f":"作業用!F10","v":""},{"$f":"作業用!H10&\" \"&作業用!J10","v":" "},{"$f":"作業用!K10&\" \"&作業用!M10","v":" "}]
[{"$f":"作業用!A11","v":""},{"$f":"作業用!B11","v":""},{"$f":"作業用!C11","v":""},{"$f":"作業用!D11","v":""},{"$f":"作業用!E11","v":""},{"$f":"作業用!G11","v":""},{"$f":"作業用!F11","v":""},{"$f":"作業用!H11&\" \"&作業用!J11","v":" "},{"$f":"作業用!K11&\" \"&作業用!M11","v":" "}]
[{"$f":"作業用!A12","v":""},{"$f":"作業用!B12","v":""},{"$f":"作業用!C12","v":""},{"$f":"作業用!D12","v":""},{"$f":"作業用!E12","v":""},{"$f":"作業用!G12","v":""},{"$f":"作業用!F12","v":""},{"$f":"作業用!H12&\" \"&作業用!J12","v":" "},{"$f":"作業用!K12&\" \"&作業用!M12","v":" "}]
[{"$f":"作業用!A13","v":""},{"$f":"作業用!B13","v":""},{"$f":"作業用!C13","v":""},{"$f":"作業用!D13","v":""},{"$f":"作業用!E13","v":""},{"$f":"作業用!G13","v":""},{"$f":"作業用!F13","v":""},{"$f":"作業用!H13&\" \"&作業用!J13","v":" "},{"$f":"作業用!K13&\" \"&作業用!M13","v":" "}]
[{"$f":"作業用!A14","v":""},{"$f":"作業用!B14","v":""},{"$f":"作業用!C14","v":""},{"$f":"作業用!D14","v":""},{"$f":"作業用!E14","v":""},{"$f":"作業用!G14","v":""},{"$f":"作業用!F14","v":""},{"$f":"作業用!H14&\" \"&作業用!J14","v":" "},{"$f":"作業用!K14&\" \"&作業用!M14","v":" "}]
[{"$f":"作業用!A15","v":""},{"$f":"作業用!B15","v":""},{"$f":"作業用!C15","v":""},{"$f":"作業用!D15","v":""},{"$f":"作業用!E15","v":""},{"$f":"作業用!G15","v":""},{"$f":"作業用!F15","v":""},{"$f":"作業用!H15&\" \"&作業用!J15","v":" "},{"$f":"作業用!K15&\" \"&作業用!M15","v":" "}]
[{"$f":"作業用!A16","v":""},{"$f":"作業用!B16","v":""},{"$f":"作業用!C16","v":""},{"$f":"作業用!D16","v":""},{"$f":"作業用!E16","v":""},{"$f":"作業用!G16","v":""},{"$f":"作業用!F16","v":""},{"$f":"作業用!H16&\" \"&作業用!J16","v":" "},{"$f":"作業用!K16&\" \"&作業用!M16","v":" "}]
[{"$f":"作業用!A17","v":""},{"$f":"作業用!B17","v":""},{"$f":"作業用!C17","v":""},{"$f":"作業用!D17","v":""},{"$f":"作業用!E17","v":""},{"$f":"作業用!G17","v":""},{"$f":"作業用!F17","v":""},{"$f":"作業用!H17&\" \"&作業用!J17","v":" "},{"$f":"作業用!K17&\" \"&作業用!M17","v":" "}]
[{"$f":"作業用!A18","v":""},{"$f":"作業用!B18","v":""},{"$f":"作業用!C18","v":""},{"$f":"作業用!D18","v":""},{"$f":"作業用!E18","v":""},{"$f":"作業用!G18","v":""},{"$f":"作業用!F18","v":""},{"$f":"作業用!H18&\" \"&作業用!J18","v":" "},{"$f":"作業用!K18&\" \"&作業用!M18","v":" "}]
[{"$f":"作業用!A19","v":""},{"$f":"作業用!B19","v":""},{"$f":"作業用!C19","v":""},{"$f":"作業用!D19","v":""},{"$f":"作業用!E19","v":""},{"$f":"作業用!G19","v":""},{"$f":"作業用!F19","v":""},{"$f":"作業用!H19&\" \"&作業用!J19","v":" "},{"$f":"作業用!K19&\" \"&作業用!M19","v":" "}]
[{"$f":"作業用!A20","v":""},{"$f":"作業用!B20","v":""},{"$f":"作業用!C20","v":""},{"$f":"作業用!D20","v":""},{"$f":"作業用!E20","v":""},{"$f":"作業用!G20","v":""},{"$f":"作業用!F20","v":""},{"$f":"作業用!H20&\" \"&作業用!J20","v":" "},{"$f":"作業用!K20&\" \"&作業用!M20","v":" "}]
[{"$f":"作業用!A21","v":""},{"$f":"作業用!B21","v":""},{"$f":"作業用!C21","v":""},{"$f":"作業用!D21","v":""},{"$f":"作業用!E21","v":""},{"$f":"作業用!G21","v":""},{"$f":"作業用!F21","v":""},{"$f":"作業用!H21&\" \"&作業用!J21","v":" "},{"$f":"作業用!K21&\" \"&作業用!M21","v":" "}]
[{"$f":"作業用!A22","v":""},{"$f":"作業用!B22","v":""},{"$f":"作業用!C22","v":""},{"$f":"作業用!D22","v":""},{"$f":"作業用!E22","v":""},{"$f":"作業用!G22","v":""},{"$f":"作業用!F22","v":""},{"$f":"作業用!H22&\" \"&作業用!J22","v":" "},{"$f":"作業用!K22&\" \"&作業用!M22","v":" "}]
[{"$f":"作業用!A23","v":""},{"$f":"作業用!B23","v":""},{"$f":"作業用!C23","v":""},{"$f":"作業用!D23","v":""},{"$f":"作業用!E23","v":""},{"$f":"作業用!G23","v":""},{"$f":"作業用!F23","v":""},{"$f":"作業用!H23&\" \"&作業用!J23","v":" "},{"$f":"作業用!K23&\" \"&作業用!M23","v":" "}]
[{"$f":"作業用!A24","v":""},{"$f":"作業用!B24","v":""},{"$f":"作業用!C24","v":""},{"$f":"作業用!D24","v":""},{"$f":"作業用!E24","v":""},{"$f":"作業用!G24","v":""},{"$f":"作業用!F24","v":""},{"$f":"作業用!H24&\" \"&作業用!J24","v":" "},{"$f":"作業用!K24&\" \"&作業用!M24","v":" "}]
[{"$f":"作業用!A25","v":""},{"$f":"作業用!B25","v":""},{"$f":"作業用!C25","v":""},{"$f":"作業用!D25","v":""},{"$f":"作業用!E25","v":""},{"$f":"作業用!G25","v":""},{"$f":"作業用!F25","v":""},{"$f":"作業用!H25&\" \"&作業用!J25","v":" "},{"$f":"作業用!K25&\" \"&作業用!M25","v":" "}]
[{"$f":"作業用!A26","v":""},{"$f":"作業用!B26","v":""},{"$f":"作業用!C26","v":""},{"$f":"作業用!D26","v":""},{"$f":"作業用!E26","v":""},{"$f":"作業用!G26","v":""},{"$f":"作業用!F26","v":""},{"$f":"作業用!H26&\" \"&作業用!J26","v":" "},{"$f":"作業用!K26&\" \"&作業用!M26","v":" "}]
[{"$f":"作業用!A27","v":""},{"$f":"作業用!B27","v":""},{"$f":"作業用!C27","v":""},{"$f":"作業用!D27","v":""},{"$f":"作業用!E27","v":""},{"$f":"作業用!G27","v":""},{"$f":"作業用!F27","v":""},{"$f":"作業用!H27&\" \"&作業用!J27","v":" "},{"$f":"作業用!K27&\" \"&作業用!M27","v":" "}]
[{"$f":"作業用!A28","v":""},{"$f":"作業用!B28","v":""},{"$f":"作業用!C28","v":""},{"$f":"作業用!D28","v":""},{"$f":"作業用!E28","v":""},{"$f":"作業用!G28","v":""},{"$f":"作業用!F28","v":""},{"$f":"作業用!H28&\" \"&作業用!J28","v":" "},{"$f":"作業用!K28&\" \"&作業用!M28","v":" "}]
[{"$f":"作業用!A29","v":""},{"$f":"作業用!B29","v":""},{"$f":"作業用!C29","v":""},{"$f":"作業用!D29","v":""},{"$f":"作業用!E29","v":""},{"$f":"作業用!G29","v":""},{"$f":"作業用!F29","v":""},{"$f":"作業用!H29&\" \"&作業用!J29","v":" "},{"$f":"作業用!K29&\" \"&作業用!M29","v":" "}]
[{"$f":"作業用!A30","v":""},{"$f":"作業用!B30","v":""},{"$f":"作業用!C30","v":""},{"$f":"作業用!D30","v":""},{"$f":"作業用!E30","v":""},{"$f":"作業用!G30","v":""},{"$f":"作業用!F30","v":""},{"$f":"作業用!H30&\" \"&作業用!J30","v":" "},{"$f":"作業用!K30&\" \"&作業用!M30","v":" "}]
[{"$f":"作業用!A31","v":""},{"$f":"作業用!B31","v":""},{"$f":"作業用!C31","v":""},{"$f":"作業用!D31","v":""},{"$f":"作業用!E31","v":""},{"$f":"作業用!G31","v":""},{"$f":"作業用!F31","v":""},{"$f":"作業用!H31&\" \"&作業用!J31","v":" "},{"$f":"作業用!K31&\" \"&作業用!M31","v":" "}]
[{"$f":"作業用!A32","v":""},{"$f":"作業用!B32","v":""},{"$f":"作業用!C32","v":""},{"$f":"作業用!D32","v":""},{"$f":"作業用!E32","v":""},{"$f":"作業用!G32","v":""},{"$f":"作業用!F32","v":""},{"$f":"作業用!H32&\" \"&作業用!J32","v":" "},{"$f":"作業用!K32&\" \"&作業用!M32","v":" "}]
[{"$f":"作業用!A33","v":""},{"$f":"作業用!B33","v":""},{"$f":"作業用!C33","v":""},{"$f":"作業用!D33","v":""},{"$f":"作業用!E33","v":""},{"$f":"作業用!G33","v":""},{"$f":"作業用!F33","v":""},{"$f":"作業用!H33&\" \"&作業用!J33","v":" "},{"$f":"作業用!K33&\" \"&作業用!M33","v":" "}]
[{"$f":"作業用!A34","v":""},{"$f":"作業用!B34","v":""},{"$f":"作業用!C34","v":""},{"$f":"作業用!D34","v":""},{"$f":"作業用!E34","v":""},{"$f":"作業用!G34","v":""},{"$f":"作業用!F34","v":""},{"$f":"作業用!H34&\" \"&作業用!J34","v":" "},{"$f":"作業用!K34&\" \"&作業用!M34","v":" "}]
[{"$f":"作業用!A35","v":""},{"$f":"作業用!B35","v":""},{"$f":"作業用!C35","v":""},{"$f":"作業用!D35","v":""},{"$f":"作業用!E35","v":""},{"$f":"作業用!G35","v":""},{"$f":"作業用!F35","v":""},{"$f":"作業用!H35&\" \"&作業用!J35","v":" "},{"$f":"作業用!K35&\" \"&作業用!M35","v":" "}]
[{"$f":"作業用!A36","v":""},{"$f":"作業用!B36","v":""},{"$f":"作業用!C36","v":""},{"$f":"作業用!D36","v":""},{"$f":"作業用!E36","v":""},{"$f":"作業用!G36","v":""},{"$f":"作業用!F36","v":""},{"$f":"作業用!H36&\" \"&作業用!J36","v":" "},{"$f":"作業用!K36&\" \"&作業用!M36","v":" "}]
[{"$f":"作業用!A37","v":""},{"$f":"作業用!B37","v":""},{"$f":"作業用!C37","v":""},{"$f":"作業用!D37","v":""},{"$f":"作業用!E37","v":""},{"$f":"作業用!G37","v":""},{"$f":"作業用!F37","v":""},{"$f":"作業用!H37&\" \"&作業用!J37","v":" "},{"$f":"作業用!K37&\" \"&作業用!M37","v":" "}]
[{"$f":"作業用!A38","v":""},{"$f":"作業用!B38","v":""},{"$f":"作業用!C38","v":""},{"$f":"作業用!D38","v":""},{"$f":"作業用!E38","v":""},{"$f":"作業用!G38","v":""},{"$f":"作業用!F38","v":""},{"$f":"作業用!H38&\" \"&作業用!J38","v":" "},{"$f":"作業用!K38&\" \"&作業用!M38","v":" "}]
[{"$f":"作業用!A39","v":""},{"$f":"作業用!B39","v":""},{"$f":"作業用!C39","v":""},{"$f":"作業用!D39","v":""},{"$f":"作業用!E39","v":""},{"$f":"作業用!G39","v":""},{"$f":"作業用!F39","v":""},{"$f":"作業用!H39&\" \"&作業用!J39","v":" "},{"$f":"作業用!K39&\" \"&作業用!M39","v":" "}]
[{"$f":"作業用!A40","v":""},{"$f":"作業用!B40","v":""},{"$f":"作業用!C40","v":""},{"$f":"作業用!D40","v":""},{"$f":"作業用!E40","v":""},{"$f":"作業用!G40","v":""},{"$f":"作業用!F40","v":""},{"$f":"作業用!H40&\" \"&作業用!J40","v":" "},{"$f":"作業用!K40&\" \"&作業用!M40","v":" "}]
[{"$f":"作業用!A41","v":""},{"$f":"作業用!B41","v":""},{"$f":"作業用!C41","v":""},{"$f":"作業用!D41","v":""},{"$f":"作業用!E41","v":""},{"$f":"作業用!G41","v":""},{"$f":"作業用!F41","v":""},{"$f":"作業用!H41&\" \"&作業用!J41","v":" "},{"$f":"作業用!K41&\" \"&作業用!M41","v":" "}]
[{"$f":"作業用!A42","v":""},{"$f":"作業用!B42","v":""},{"$f":"作業用!C42","v":""},{"$f":"作業用!D42","v":""},{"$f":"作業用!E42","v":""},{"$f":"作業用!G42","v":""},{"$f":"作業用!F42","v":""},{"$f":"作業用!H42&\" \"&作業用!J42","v":" "},{"$f":"作業用!K42&\" \"&作業用!M42","v":" "}]
[{"$f":"作業用!A43","v":""},{"$f":"作業用!B43","v":""},{"$f":"作業用!C43","v":""},{"$f":"作業用!D43","v":""},{"$f":"作業用!E43","v":""},{"$f":"作業用!G43","v":""},{"$f":"作業用!F43","v":""},{"$f":"作業用!H43&\" \"&作業用!J43","v":" "},{"$f":"作業用!K43&\" \"&作業用!M43","v":" "}]
[{"$f":"作業用!A44","v":""},{"$f":"作業用!B44","v":""},{"$f":"作業用!C44","v":""},{"$f":"作業用!D44","v":""},{"$f":"作業用!E44","v":""},{"$f":"作業用!G44","v":""},{"$f":"作業用!F44","v":""},{"$f":"作業用!H44&\" \"&作業用!J44","v":" "},{"$f":"作業用!K44&\" \"&作業用!M44","v":" "}]
[{"$f":"作業用!A45","v":""},{"$f":"作業用!B45","v":""},{"$f":"作業用!C45","v":""},{"$f":"作業用!D45","v":""},{"$f":"作業用!E45","v":""},{"$f":"作業用!G45","v":""},{"$f":"作業用!F45","v":""},{"$f":"作業用!H45&\" \"&作業用!J45","v":" "},{"$f":"作業用!K45&\" \"&作業用!M45","v":" "}]
[{"$f":"作業用!A46","v":""},{"$f":"作業用!B46","v":""},{"$f":"作業用!C46","v":""},{"$f":"作業用!D46","v":""},{"$f":"作業用!E46","v":""},{"$f":"作業用!G46","v":""},{"$f":"作業用!F46","v":""},{"$f":"作業用!H46&\" \"&作業用!J46","v":" "},{"$f":"作業用!K46&\" \"&作業用!M46","v":" "}]
[{"$f":"作業用!A47","v":""},{"$f":"作業用!B47","v":""},{"$f":"作業用!C47","v":""},{"$f":"作業用!D47","v":""},{"$f":"作業用!E47","v":""},{"$f":"作業用!G47","v":""},{"$f":"作業用!F47","v":""},{"$f":"作業用!H47&\" \"&作業用!J47","v":" "},{"$f":"作業用!K47&\" \"&作業用!M47","v":" "}]
[{"$f":"作業用!A48","v":""},{"$f":"作業用!B48","v":""},{"$f":"作業用!C48","v":""},{"$f":"作業用!D48","v":""},{"$f":"作業用!E48","v":""},{"$f":"作業用!G48","v":""},{"$f":"作業用!F48","v":""},{"$f":"作業用!H48&\" \"&作業用!J48","v":" "},{"$f":"作業用!K48&\" \"&作業用!M48","v":" "}]
[{"$f":"作業用!A49","v":""},{"$f":"作業用!B49","v":""},{"$f":"作業用!C49","v":""},{"$f":"作業用!D49","v":""},{"$f":"作業用!E49","v":""},{"$f":"作業用!G49","v":""},{"$f":"作業用!F49","v":""},{"$f":"作業用!H49&\" \"&作業用!J49","v":" "},{"$f":"作業用!K49&\" \"&作業用!M49","v":" "}]
[{"$f":"作業用!A50","v":""},{"$f":"作業用!B50","v":""},{"$f":"作業用!C50","v":""},{"$f":"作業用!D50","v":""},{"$f":"作業用!E50","v":""},{"$f":"作業用!G50","v":""},{"$f":"作業用!F50","v":""},{"$f":"作業用!H50&\" \"&作業用!J50","v":" "},{"$f":"作業用!K50&\" \"&作業用!M50","v":" "}]
[{"$f":"作業用!A51","v":""},{"$f":"作業用!B51","v":""},{"$f":"作業用!C51","v":""},{"$f":"作業用!D51","v":""},{"$f":"作業用!E51","v":""},{"$f":"作業用!G51","v":""},{"$f":"作業用!F51","v":""},{"$f":"作業用!H51&\" \"&作業用!J51","v":" "},{"$f":"作業用!K51&\" \"&作業用!M51","v":" "}]
[{"$f":"作業用!A52","v":""},{"$f":"作業用!B52","v":""},{"$f":"作業用!C52","v":""},{"$f":"作業用!D52","v":""},{"$f":"作業用!E52","v":""},{"$f":"作業用!G52","v":""},{"$f":"作業用!F52","v":""},{"$f":"作業用!H52&\" \"&作業用!J52","v":" "},{"$f":"作業用!K52&\" \"&作業用!M52","v":" "}]
[{"$f":"作業用!A53","v":""},{"$f":"作業用!B53","v":""},{"$f":"作業用!C53","v":""},{"$f":"作業用!D53","v":""},{"$f":"作業用!E53","v":""},{"$f":"作業用!G53","v":""},{"$f":"作業用!F53","v":""},{"$f":"作業用!H53&\" \"&作業用!J53","v":" "},{"$f":"作業用!K53&\" \"&作業用!M53","v":" "}]
[{"$f":"作業用!A54","v":""},{"$f":"作業用!B54","v":""},{"$f":"作業用!C54","v":""},{"$f":"作業用!D54","v":""},{"$f":"作業用!E54","v":""},{"$f":"作業用!G54","v":""},{"$f":"作業用!F54","v":""},{"$f":"作業用!H54&\" \"&作業用!J54","v":" "},{"$f":"作業用!K54&\" \"&作業用!M54","v":" "}]
[{"$f":"作業用!A55","v":""},{"$f":"作業用!B55","v":""},{"$f":"作業用!C55","v":""},{"$f":"作業用!D55","v":""},{"$f":"作業用!E55","v":""},{"$f":"作業用!G55","v":""},{"$f":"作業用!F55","v":""},{"$f":"作業用!H55&\" \"&作業用!J55","v":" "},{"$f":"作業用!K55&\" \"&作業用!M55","v":" "}]
[{"$f":"作業用!A56","v":""},{"$f":"作業用!B56","v":""},{"$f":"作業用!C56","v":""},{"$f":"作業用!D56","v":""},{"$f":"作業用!E56","v":""},{"$f":"作業用!G56","v":""},{"$f":"作業用!F56","v":""},{"$f":"作業用!H56&\" \"&作業用!J56","v":" "},{"$f":"作業用!K56&\" \"&作業用!M56","v":" "}]
[{"$f":"作業用!A57","v":""},{"$f":"作業用!B57","v":""},{"$f":"作業用!C57","v":""},{"$f":"作業用!D57","v":""},{"$f":"作業用!E57","v":""},{"$f":"作業用!G57","v":""},{"$f":"作業用!F57","v":""},{"$f":"作業用!H57&\" \"&作業用!J57","v":" "},{"$f":"作業用!K57&\" \"&作業用!M57","v":" "}]
[{"$f":"作業用!A58","v":""},{"$f":"作業用!B58","v":""},{"$f":"作業用!C58","v":""},{"$f":"作業用!D58","v":""},{"$f":"作業用!E58","v":""},{"$f":"作業用!G58","v":""},{"$f":"作業用!F58","v":""},{"$f":"作業用!H58&\" \"&作業用!J58","v":" "},{"$f":"作業用!K58&\" \"&作業用!M58","v":" "}]
[{"$f":"作業用!A59","v":""},{"$f":"作業用!B59","v":""},{"$f":"作業用!C59","v":""},{"$f":"作業用!D59","v":""},{"$f":"作業用!E59","v":""},{"$f":"作業用!G59","v":""},{"$f":"作業用!F59","v":""},{"$f":"作業用!H59&\" \"&作業用!J59","v":" "},{"$f":"作業用!K59&\" \"&作業用!M59","v":" "}]
[{"$f":"作業用!A60","v":""},{"$f":"作業用!B60","v":""},{"$f":"作業用!C60","v":""},{"$f":"作業用!D60","v":""},{"$f":"作業用!E60","v":""},{"$f":"作業用!G60","v":""},{"$f":"作業用!F60","v":""},{"$f":"作業用!H60&\" \"&作業用!J60","v":" "},{"$f":"作業用!K60&\" \"&作業用!M60","v":" "}]
[{"$f":"作業用!A61","v":""},{"$f":"作業用!B61","v":""},{"$f":"作業用!C61","v":""},{"$f":"作業用!D61","v":""},{"$f":"作業用!E61","v":""},{"$f":"作業用!G61","v":""},{"$f":"作業用!F61","v":""},{"$f":"作業用!H61&\" \"&作業用!J61","v":" "},{"$f":"作業用!K61&\" \"&作業用!M61","v":" "}]
[{"$f":"作業用!A62","v":""},{"$f":"作業用!B62","v":""},{"$f":"作業用!C62","v":""},{"$f":"作業用!D62","v":""},{"$f":"作業用!E62","v":""},{"$f":"作業用!G62","v":""},{"$f":"作業用!F62","v":""},{"$f":"作業用!H62&\" \"&作業用!J62","v":" "},{"$f":"作業用!K62&\" \"&作業用!M62","v":" "}]
[{"$f":"作業用!A63","v":""},{"$f":"作業用!B63","v":""},{"$f":"作業用!C63","v":""},{"$f":"作業用!D63","v":""},{"$f":"作業用!E63","v":""},{"$f":"作業用!G63","v":""},{"$f":"作業用!F63","v":""},{"$f":"作業用!H63&\" \"&作業用!J63","v":" "},{"$f":"作業用!K63&\" \"&作業用!M63","v":" "}]
[{"$f":"作業用!A64","v":""},{"$f":"作業用!B64","v":""},{"$f":"作業用!C64","v":""},{"$f":"作業用!D64","v":""},{"$f":"作業用!E64","v":""},{"$f":"作業用!G64","v":""},{"$f":"作業用!F64","v":""},{"$f":"作業用!H64&\" \"&作業用!J64","v":" "},{"$f":"作業用!K64&\" \"&作業用!M64","v":" "}]
[{"$f":"作業用!A65","v":""},{"$f":"作業用!B65","v":""},{"$f":"作業用!C65","v":""},{"$f":"作業用!D65","v":""},{"$f":"作業用!E65","v":""},{"$f":"作業用!G65","v":""},{"$f":"作業用!F65","v":""},{"$f":"作業用!H65&\" \"&作業用!J65","v":" "},{"$f":"作業用!K65&\" \"&作業用!M65","v":" "}]
[{"$f":"作業用!A66","v":""},{"$f":"作業用!B66","v":""},{"$f":"作業用!C66","v":""},{"$f":"作業用!D66","v":""},{"$f":"作業用!E66","v":""},{"$f":"作業用!G66","v":""},{"$f":"作業用!F66","v":""},{"$f":"作業用!H66&\" \"&作業用!J66","v":" "},{"$f":"作業用!K66&\" \"&作業用!M66","v":" "}]
[{"$f":"作業用!A67","v":""},{"$f":"作業用!B67","v":""},{"$f":"作業用!C67","v":""},{"$f":"作業用!D67","v":""},{"$f":"作業用!E67","v":""},{"$f":"作業用!G67","v":""},{"$f":"作業用!F67","v":""},{"$f":"作業用!H67&\" \"&作業用!J67","v":" "},{"$f":"作業用!K67&\" \"&作業用!M67","v":" "}]
[{"$f":"作業用!A68","v":""},{"$f":"作業用!B68","v":""},{"$f":"作業用!C68","v":""},{"$f":"作業用!D68","v":""},{"$f":"作業用!E68","v":""},{"$f":"作業用!G68","v":""},{"$f":"作業用!F68","v":""},{"$f":"作業用!H68&\" \"&作業用!J68","v":" "},{"$f":"作業用!K68&\" \"&作業用!M68","v":" "}]
[{"$f":"作業用!A69","v":""},{"$f":"作業用!B69","v":""},{"$f":"作業用!C69","v":""},{"$f":"作業用!D69","v":""},{"$f":"作業用!E69","v":""},{"$f":"作業用!G69","v":""},{"$f":"作業用!F69","v":""},{"$f":"作業用!H69&\" \"&作業用!J69","v":" "},{"$f":"作業用!K69&\" \"&作業用!M69","v":" "}]
[{"$f":"作業用!A70","v":""},{"$f":"作業用!B70","v":""},{"$f":"作業用!C70","v":""},{"$f":"作業用!D70","v":""},{"$f":"作業用!E70","v":""},{"$f":"作業用!G70","v":""},{"$f":"作業用!F70","v":""},{"$f":"作業用!H70&\" \"&作業用!J70","v":" "},{"$f":"作業用!K70&\" \"&作業用!M70","v":" "}]
[{"$f":"作業用!A71","v":""},{"$f":"作業用!B71","v":""},{"$f":"作業用!C71","v":""},{"$f":"作業用!D71","v":""},{"$f":"作業用!E71","v":""},{"$f":"作業用!G71","v":""},{"$f":"作業用!F71","v":""},{"$f":"作業用!H71&\" \"&作業用!J71","v":" "},{"$f":"作業用!K71&\" \"&作業用!M71","v":" "}]
[{"$f":"作業用!A72","v":""},{"$f":"作業用!B72","v":""},{"$f":"作業用!C72","v":""},{"$f":"作業用!D72","v":""},{"$f":"作業用!E72","v":""},{"$f":"作業用!G72","v":""},{"$f":"作業用!F72","v":""},{"$f":"作業用!H72&\" \"&作業用!J72","v":" "},{"$f":"作業用!K72&\" \"&作業用!M72","v":" "}]
[{"$f":"作業用!A73","v":""},{"$f":"作業用!B73","v":""},{"$f":"作業用!C73","v":""},{"$f":"作業用!D73","v":""},{"$f":"作業用!E73","v":""},{"$f":"作業用!G73","v":""},{"$f":"作業用!F73","v":""},{"$f":"作業用!H73&\" \"&作業用!J73","v":" "},{"$f":"作業用!K73&\" \"&作業用!M73","v":" "}]
[{"$f":"作業用!A74","v":""},{"$f":"作業用!B74","v":""},{"$f":"作業用!C74","v":""},{"$f":"作業用!D74","v":""},{"$f":"作業用!E74","v":""},{"$f":"作業用!G74","v":""},{"$f":"作業用!F74","v":""},{"$f":"作業用!H74&\" \"&作業用!J74","v":" "},{"$f":"作業用!K74&\" \"&作業用!M74","v":" "}]
[{"$f":"作業用!A75","v":""},{"$f":"作業用!B75","v":""},{"$f":"作業用!C75","v":""},{"$f":"作業用!D75","v":""},{"$f":"作業用!E75","v":""},{"$f":"作業用!G75","v":""},{"$f":"作業用!F75","v":""},{"$f":"作業用!H75&\" \"&作業用!J75","v":" "},{"$f":"作業用!K75&\" \"&作業用!M75","v":" "}]
[{"$f":"作業用!A76","v":""},{"$f":"作業用!B76","v":""},{"$f":"作業用!C76","v":""},{"$f":"作業用!D76","v":""},{"$f":"作業用!E76","v":""},{"$f":"作業用!G76","v":""},{"$f":"作業用!F76","v":""},{"$f":"作業用!H76&\" \"&作業用!J76","v":" "},{"$f":"作業用!K76&\" \"&作業用!M76","v":" "}]
[{"$f":"作業用!A77","v":""},{"$f":"作業用!B77","v":""},{"$f":"作業用!C77","v":""},{"$f":"作業用!D77","v":""},{"$f":"作業用!E77","v":""},{"$f":"作業用!G77","v":""},{"$f":"作業用!F77","v":""},{"$f":"作業用!H77&\" \"&作業用!J77","v":" "},{"$f":"作業用!K77&\" \"&作業用!M77","v":" "}]
[{"$f":"作業用!A78","v":""},{"$f":"作業用!B78","v":""},{"$f":"作業用!C78","v":""},{"$f":"作業用!D78","v":""},{"$f":"作業用!E78","v":""},{"$f":"作業用!G78","v":""},{"$f":"作業用!F78","v":""},{"$f":"作業用!H78&\" \"&作業用!J78","v":" "},{"$f":"作業用!K78&\" \"&作業用!M78","v":" "}]
[{"$f":"作業用!A79","v":""},{"$f":"作業用!B79","v":""},{"$f":"作業用!C79","v":""},{"$f":"作業用!D79","v":""},{"$f":"作業用!E79","v":""},{"$f":"作業用!G79","v":""},{"$f":"作業用!F79","v":""},{"$f":"作業用!H79&\" \"&作業用!J79","v":" "},{"$f":"作業用!K79&\" \"&作業用!M79","v":" "}]
[{"$f":"作業用!A80","v":""},{"$f":"作業用!B80","v":""},{"$f":"作業用!C80","v":""},{"$f":"作業用!D80","v":""},{"$f":"作業用!E80","v":""},{"$f":"作業用!G80","v":""},{"$f":"作業用!F80","v":""},{"$f":"作業用!H80&\" \"&作業用!J80","v":" "},{"$f":"作業用!K80&\" \"&作業用!M80","v":" "}]
[{"$f":"作業用!A81","v":""},{"$f":"作業用!B81","v":""},{"$f":"作業用!C81","v":""},{"$f":"作業用!D81","v":""},{"$f":"作業用!E81","v":""},{"$f":"作業用!G81","v":""},{"$f":"作業用!F81","v":""},{"$f":"作業用!H81&\" \"&作業用!J81","v":" "},{"$f":"作業用!K81&\" \"&作業用!M81","v":" "}]
[{"$f":"作業用!A82","v":""},{"$f":"作業用!B82","v":""},{"$f":"作業用!C82","v":""},{"$f":"作業用!D82","v":""},{"$f":"作業用!E82","v":""},{"$f":"作業用!G82","v":""},{"$f":"作業用!F82","v":""},{"$f":"作業用!H82&\" \"&作業用!J82","v":" "},{"$f":"作業用!K82&\" \"&作業用!M82","v":" "}]
[{"$f":"作業用!A83","v":""},{"$f":"作業用!B83","v":""},{"$f":"作業用!C83","v":""},{"$f":"作業用!D83","v":""},{"$f":"作業用!E83","v":""},{"$f":"作業用!G83","v":""},{"$f":"作業用!F83","v":""},{"$f":"作業用!H83&\" \"&作業用!J83","v":" "},{"$f":"作業用!K83&\" \"&作業用!M83","v":" "}]
[{"$f":"作業用!A84","v":""},{"$f":"作業用!B84","v":""},{"$f":"作業用!C84","v":""},{"$f":"作業用!D84","v":""},{"$f":"作業用!E84","v":""},{"$f":"作業用!G84","v":""},{"$f":"作業用!F84","v":""},{"$f":"作業用!H84&\" \"&作業用!J84","v":" "},{"$f":"作業用!K84&\" \"&作業用!M84","v":" "}]
[{"$f":"作業用!A85","v":""},{"$f":"作業用!B85","v":""},{"$f":"作業用!C85","v":""},{"$f":"作業用!D85","v":""},{"$f":"作業用!E85","v":""},{"$f":"作業用!G85","v":""},{"$f":"作業用!F85","v":""},{"$f":"作業用!H85&\" \"&作業用!J85","v":" "},{"$f":"作業用!K85&\" \"&作業用!M85","v":" "}]
[{"$f":"作業用!A86","v":""},{"$f":"作業用!B86","v":""},{"$f":"作業用!C86","v":""},{"$f":"作業用!D86","v":""},{"$f":"作業用!E86","v":""},{"$f":"作業用!G86","v":""},{"$f":"作業用!F86","v":""},{"$f":"作業用!H86&\" \"&作業用!J86","v":" "},{"$f":"作業用!K86&\" \"&作業用!M86","v":" "}]
[{"$f":"作業用!A87","v":""},{"$f":"作業用!B87","v":""},{"$f":"作業用!C87","v":""},{"$f":"作業用!D87","v":""},{"$f":"作業用!E87","v":""},{"$f":"作業用!G87","v":""},{"$f":"作業用!F87","v":""},{"$f":"作業用!H87&\" \"&作業用!J87","v":" "},{"$f":"作業用!K87&\" \"&作業用!M87","v":" "}]
[{"$f":"作業用!A88","v":""},{"$f":"作業用!B88","v":""},{"$f":"作業用!C88","v":""},{"$f":"作業用!D88","v":""},{"$f":"作業用!E88","v":""},{"$f":"作業用!G88","v":""},{"$f":"作業用!F88","v":""},{"$f":"作業用!H88&\" \"&作業用!J88","v":" "},{"$f":"作業用!K88&\" \"&作業用!M88","v":" "}]
[{"$f":"作業用!A89","v":""},{"$f":"作業用!B89","v":""},{"$f":"作業用!C89","v":""},{"$f":"作業用!D89","v":""},{"$f":"作業用!E89","v":""},{"$f":"作業用!G89","v":""},{"$f":"作業用!F89","v":""},{"$f":"作業用!H89&\" \"&作業用!J89","v":" "},{"$f":"作業用!K89&\" \"&作業用!M89","v":" "}]
[{"$f":"作業用!A90","v":""},{"$f":"作業用!B90","v":""},{"$f":"作業用!C90","v":""},{"$f":"作業用!D90","v":""},{"$f":"作業用!E90","v":""},{"$f":"作業用!G90","v":""},{"$f":"作業用!F90","v":""},{"$f":"作業用!H90&\" \"&作業用!J90","v":" "},{"$f":"作業用!K90&\" \"&作業用!M90","v":" "}]
[{"$f":"作業用!A91","v":""},{"$f":"作業用!B91","v":""},{"$f":"作業用!C91","v":""},{"$f":"作業用!D91","v":""},{"$f":"作業用!E91","v":""},{"$f":"作業用!G91","v":""},{"$f":"作業用!F91","v":""},{"$f":"作業用!H91&\" \"&作業用!J91","v":" "},{"$f":"作業用!K91&\" \"&作業用!M91","v":" "}]
[{"$f":"作業用!A92","v":""},{"$f":"作業用!B92","v":""},{"$f":"作業用!C92","v":""},{"$f":"作業用!D92","v":""},{"$f":"作業用!E92","v":""},{"$f":"作業用!G92","v":""},{"$f":"作業用!F92","v":""},{"$f":"作業用!H92&\" \"&作業用!J92","v":" "},{"$f":"作業用!K92&\" \"&作業用!M92","v":" "}]
[{"$f":"作業用!A93","v":""},{"$f":"作業用!B93","v":""},{"$f":"作業用!C93","v":""},{"$f":"作業用!D93","v":""},{"$f":"作業用!E93","v":""},{"$f":"作業用!G93","v":""},{"$f":"作業用!F93","v":""},{"$f":"作業用!H93&\" \"&作業用!J93","v":" "},{"$f":"作業用!K93&\" \"&作業用!M93","v":" "}]
[{"$f":"作業用!A94","v":""},{"$f":"作業用!B94","v":""},{"$f":"作業用!C94","v":""},{"$f":"作業用!D94","v":""},{"$f":"作業用!E94","v":""},{"$f":"作業用!G94","v":""},{"$f":"作業用!F94","v":""},{"$f":"作業用!H94&\" \"&作業用!J94","v":" "},{"$f":"作業用!K94&\" \"&作業用!M94","v":" "}]
[{"$f":"作業用!A95","v":""},{"$f":"作業用!B95","v":""},{"$f":"作業用!C95","v":""},{"$f":"作業用!D95","v":""},{"$f":"作業用!E95","v":""},{"$f":"作業用!G95","v":""},{"$f":"作業用!F95","v":""},{"$f":"作業用!H95&\" \"&作業用!J95","v":" "},{"$f":"作業用!K95&\" \"&作業用!M95","v":" "}]
[{"$f":"作業用!A96","v":""},{"$f":"作業用!B96","v":""},{"$f":"作業用!C96","v":""},{"$f":"作業用!D96","v":""},{"$f":"作業用!E96","v":""},{"$f":"作業用!G96","v":""},{"$f":"作業用!F96","v":""},{"$f":"作業用!H96&\" \"&作業用!J96","v":" "},{"$f":"作業用!K96&\" \"&作業用!M96","v":" "}]
[{"$f":"作業用!A97","v":""},{"$f":"作業用!B97","v":""},{"$f":"作業用!C97","v":""},{"$f":"作業用!D97","v":""},{"$f":"作業用!E97","v":""},{"$f":"作業用!G97","v":""},{"$f":"作業用!F97","v":""},{"$f":"作業用!H97&\" \"&作業用!J97","v":" "},{"$f":"作業用!K97&\" \"&作業用!M97","v":" "}]
[{"$f":"作業用!A98","v":""},{"$f":"作業用!B98","v":""},{"$f":"作業用!C98","v":""},{"$f":"作業用!D98","v":""},{"$f":"作業用!E98","v":""},{"$f":"作業用!G98","v":""},{"$f":"作業用!F98","v":""},{"$f":"作業用!H98&\" \"&作業用!J98","v":" "},{"$f":"作業用!K98&\" \"&作業用!M98","v":" "}]
[{"$f":"作業用!A99","v":""},{"$f":"作業用!B99","v":""},{"$f":"作業用!C99","v":""},{"$f":"作業用!D99","v":""},{"$f":"作業用!E99","v":""},{"$f":"作業用!G99","v":""},{"$f":"作業用!F99","v":""},{"$f":"作業用!H99&\" \"&作業用!J99","v":" "},{"$f":"作業用!K99&\" \"&作業用!M99","v":" "}]
[{"$f":"作業用!A100","v":""},{"$f":"作業用!B100","v":""},{"$f":"作業用!C100","v":""},{"$f":"作業用!D100","v":""},{"$f":"作業用!E100","v":""},{"$f":"作業用!G100","v":""},{"$f":"作業用!F100","v":""},{"$f":"作業用!H100&\" \"&作業用!J100","v":" "},{"$f":"作業用!K100&\" \"&作業用!M100","v":" "}]

{"sheet":"作業領域","index":11,"n_rows":151,"n_cols":9,"rows_kept":151,"cut":false,"hidden":true,"merged":[]}
[]
[{"$f":"入力!A2","v":0},{"$f":"CONCATENATE(入力!F2,入力!E2)","v":""},{"$f":"CONCATENATE(入力!H2,入力!E2)","v":""},"100m",{"$f":"CONCATENATE(D2,\"男\")","v":"100m男"},{"$f":"CONCATENATE(D2,\"女\")","v":"100m女"},null,"4×100R男A","4×400R男A"]
[{"$f":"入力!A3","v":0},{"$f":"CONCATENATE(入力!F3,入力!E3)","v":""},{"$f":"CONCATENATE(入力!H3,入力!E3)","v":""},"200m",{"$f":"CONCATENATE(D3,\"男\")","v":"200m男"},{"$f":"CONCATENATE(D3,\"女\")","v":"200m女"},null,"4×100R男B","4×400R男B"]
[{"$f":"入力!A4","v":0},{"$f":"CONCATENATE(入力!F4,入力!E4)","v":""},{"$f":"CONCATENATE(入力!H4,入力!E4)","v":""},"400m",{"$f":"CONCATENATE(D4,\"男\")","v":"400m男"},"400m女",null,"4×100R男C","4×400R男C"]
[{"$f":"入力!A5","v":0},{"$f":"CONCATENATE(入力!F5,入力!E5)","v":""},{"$f":"CONCATENATE(入力!H5,入力!E5)","v":""},"800m","800m男","800m女",null,"4×100R男D","4×400R男D"]
[{"$f":"入力!A6","v":0},{"$f":"CONCATENATE(入力!F6,入力!E6)","v":""},{"$f":"CONCATENATE(入力!H6,入力!E6)","v":""},"1500m","1500m男","1500m女",null,"4×100R男E","4×400R男E"]
[{"$f":"入力!A7","v":0},{"$f":"CONCATENATE(入力!F7,入力!E7)","v":""},{"$f":"CONCATENATE(入力!H7,入力!E7)","v":""},"3000m","3000m男","3000m女",null,"4×100R女A","4×400R女A"]
[{"$f":"入力!A8","v":0},{"$f":"CONCATENATE(入力!F8,入力!E8)","v":""},{"$f":"CONCATENATE(入力!H8,入力!E8)","v":""},"5000m","5000m男","5000m女",null,"4×100R女B","4×400R女B"]
[{"$f":"入力!A9","v":0},{"$f":"CONCATENATE(入力!F9,入力!E9)","v":""},{"$f":"CONCATENATE(入力!H9,入力!E9)","v":""},"100mH","100mH男","100mH女",null,"4×100R女C","4×400R女C"]
[{"$f":"入力!A10","v":0},{"$f":"CONCATENATE(入力!F10,入力!E10)","v":""},{"$f":"CONCATENATE(入力!H10,入力!E10)","v":""},"110mH","110mH男","110mH女",null,"4×100R女D","4×400R女D"]
[{"$f":"入力!A11","v":0},{"$f":"CONCATENATE(入力!F11,入力!E11)","v":""},{"$f":"CONCATENATE(入力!H11,入力!E11)","v":""},"400mH","400mH男","400mH女",null,"4×100R女E","4×400R女E"]
[{"$f":"入力!A12","v":0},{"$f":"CONCATENATE(入力!F12,入力!E12)","v":""},{"$f":"CONCATENATE(入力!H12,入力!E12)","v":""},"3000mSC","3000mSC男","3000mSC女"]
[{"$f":"入力!A13","v":0},{"$f":"CONCATENATE(入力!F13,入力!E13)","v":""},{"$f":"CONCATENATE(入力!H13,入力!E13)","v":""},"5000mW","5000mW男","5000mW女"]
[{"$f":"入力!A14","v":0},{"$f":"CONCATENATE(入力!F14,入力!E14)","v":""},{"$f":"CONCATENATE(入力!H14,入力!E14)","v":""},"棒高跳","棒高跳男","棒高跳女"]
[{"$f":"入力!A15","v":0},{"$f":"CONCATENATE(入力!F15,入力!E15)","v":""},{"$f":"CONCATENATE(入力!H15,入力!E15)","v":""},"走高跳","走高跳男","走高跳女"]
[{"$f":"入力!A16","v":0},{"$f":"CONCATENATE(入力!F16,入力!E16)","v":""},{"$f":"CONCATENATE(入力!H16,入力!E16)","v":""},"走幅跳","走幅跳男","走幅跳女"]
[{"$f":"入力!A17","v":0},{"$f":"CONCATENATE(入力!F17,入力!E17)","v":""},{"$f":"CONCATENATE(入力!H17,入力!E17)","v":""},"三段跳","三段跳男","三段跳女"]
[{"$f":"入力!A18","v":0},{"$f":"CONCATENATE(入力!F18,入力!E18)","v":""},{"$f":"CONCATENATE(入力!H18,入力!E18)","v":""},"砲丸投","砲丸投男","砲丸投女"]
[{"$f":"入力!A19","v":0},{"$f":"CONCATENATE(入力!F19,入力!E19)","v":""},{"$f":"CONCATENATE(入力!H19,入力!E19)","v":""},"円盤投","円盤投男","円盤投女"]
[{"$f":"入力!A20","v":0},{"$f":"CONCATENATE(入力!F20,入力!E20)","v":""},{"$f":"CONCATENATE(入力!H20,入力!E20)","v":""},"ﾊﾝﾏｰ投","ﾊﾝﾏｰ投男","ﾊﾝﾏｰ投女"]
[{"$f":"入力!A21","v":0},{"$f":"CONCATENATE(入力!F21,入力!E21)","v":""},{"$f":"CONCATENATE(入力!H21,入力!E21)","v":""},"やり投","やり投男","やり投女"]
[{"$f":"入力!A22","v":0},{"$f":"CONCATENATE(入力!F22,入力!E22)","v":""},{"$f":"CONCATENATE(入力!H22,入力!E22)","v":""}]
[{"$f":"入力!A23","v":0},{"$f":"CONCATENATE(入力!F23,入力!E23)","v":""},{"$f":"CONCATENATE(入力!H23,入力!E23)","v":""}]
[{"$f":"入力!A24","v":0},{"$f":"CONCATENATE(入力!F24,入力!E24)","v":""},{"$f":"CONCATENATE(入力!H24,入力!E24)","v":""}]
[{"$f":"入力!A25","v":0},{"$f":"CONCATENATE(入力!F25,入力!E25)","v":""},{"$f":"CONCATENATE(入力!H25,入力!E25)","v":""}]
[{"$f":"入力!A26","v":0},{"$f":"CONCATENATE(入力!F26,入力!E26)","v":""},{"$f":"CONCATENATE(入力!H26,入力!E26)","v":""}]
[{"$f":"入力!A27","v":0},{"$f":"CONCATENATE(入力!F27,入力!E27)","v":""},{"$f":"CONCATENATE(入力!H27,入力!E27)","v":""}]
[{"$f":"入力!A28","v":0},{"$f":"CONCATENATE(入力!F28,入力!E28)","v":""},{"$f":"CONCATENATE(入力!H28,入力!E28)","v":""}]
[{"$f":"入力!A29","v":0},{"$f":"CONCATENATE(入力!F29,入力!E29)","v":""},{"$f":"CONCATENATE(入力!H29,入力!E29)","v":""}]
[{"$f":"入力!A30","v":0},{"$f":"CONCATENATE(入力!F30,入力!E30)","v":""},{"$f":"CONCATENATE(入力!H30,入力!E30)","v":""}]
[{"$f":"入力!A31","v":0},{"$f":"CONCATENATE(入力!F31,入力!E31)","v":" "},{"$f":"CONCATENATE(入力!H31,入力!E31)","v":" "}]
[{"$f":"入力!A32","v":0},{"$f":"CONCATENATE(入力!F32,入力!E32)","v":" "},{"$f":"CONCATENATE(入力!H32,入力!E32)","v":" "}]
[{"$f":"入力!A33","v":0},{"$f":"CONCATENATE(入力!F33,入力!E33)","v":"  "},{"$f":"CONCATENATE(入力!H33,入力!E33)","v":"  "}]
[{"$f":"入力!A34","v":0},{"$f":"CONCATENATE(入力!F34,入力!E34)","v":"  "},{"$f":"CONCATENATE(入力!H34,入力!E34)","v":"  "}]
[{"$f":"入力!A35","v":0},{"$f":"CONCATENATE(入力!F35,入力!E35)","v":"  "},{"$f":"CONCATENATE(入力!H35,入力!E35)","v":"  "}]
[{"$f":"入力!A36","v":0},{"$f":"CONCATENATE(入力!F36,入力!E36)","v":"  "},{"$f":"CONCATENATE(入力!H36,入力!E36)","v":"  "}]
[{"$f":"入力!A37","v":0},{"$f":"CONCATENATE(入力!F37,入力!E37)","v":"  "},{"$f":"CONCATENATE(入力!H37,入力!E37)","v":"  "}]
[{"$f":"入力!A38","v":0},{"$f":"CONCATENATE(入力!F38,入力!E38)","v":"  "},{"$f":"CONCATENATE(入力!H38,入力!E38)","v":"  "}]
[{"$f":"入力!A39","v":0},{"$f":"CONCATENATE(入力!F39,入力!E39)","v":"  "},{"$f":"CONCATENATE(入力!H39,入力!E39)","v":"  "}]
[{"$f":"入力!A40","v":0},{"$f":"CONCATENATE(入力!F40,入力!E40)","v":"  "},{"$f":"CONCATENATE(入力!H40,入力!E40)","v":"  "}]
[{"$f":"入力!A41","v":0},{"$f":"CONCATENATE(入力!F41,入力!E41)","v":"  "},{"$f":"CONCATENATE(入力!H41,入力!E41)","v":"  "}]
[{"$f":"入力!A42","v":0},{"$f":"CONCATENATE(入力!F42,入力!E42)","v":"  "},{"$f":"CONCATENATE(入力!H42,入力!E42)","v":"  "}]
[{"$f":"入力!A43","v":0},{"$f":"CONCATENATE(入力!F43,入力!E43)","v":"  "},{"$f":"CONCATENATE(入力!H43,入力!E43)","v":"  "}]
[{"$f":"入力!A44","v":0},{"$f":"CONCATENATE(入力!F44,入力!E44)","v":"  "},{"$f":"CONCATENATE(入力!H44,入力!E44)","v":"  "}]
[{"$f":"入力!A45","v":0},{"$f":"CONCATENATE(入力!F45,入力!E45)","v":"  "},{"$f":"CONCATENATE(入力!H45,入力!E45)","v":"  "}]
[{"$f":"入力!A46","v":0},{"$f":"CONCATENATE(入力!F46,入力!E46)","v":"  "},{"$f":"CONCATENATE(入力!H46,入力!E46)","v":"  "}]
[{"$f":"入力!A47","v":0},{"$f":"CONCATENATE(入力!F47,入力!E47)","v":"  "},{"$f":"CONCATENATE(入力!H47,入力!E47)","v":"  "}]
[{"$f":"入力!A48","v":0},{"$f":"CONCATENATE(入力!F48,入力!E48)","v":"  "},{"$f":"CONCATENATE(入力!H48,入力!E48)","v":"  "}]
[{"$f":"入力!A49","v":0},{"$f":"CONCATENATE(入力!F49,入力!E49)","v":"  "},{"$f":"CONCATENATE(入力!H49,入力!E49)","v":"  "}]
[{"$f":"入力!A50","v":0},{"$f":"CONCATENATE(入力!F50,入力!E50)","v":"  "},{"$f":"CONCATENATE(入力!H50,入力!E50)","v":"  "}]
[{"$f":"入力!A51","v":0},{"$f":"CONCATENATE(入力!F51,入力!E51)","v":"  "},{"$f":"CONCATENATE(入力!H51,入力!E51)","v":"  "}]
[{"$f":"入力!A52","v":0},{"$f":"CONCATENATE(入力!F52,入力!E52)","v":"  "},{"$f":"CONCATENATE(入力!H52,入力!E52)","v":"  "}]
[{"$f":"入力!A53","v":0},{"$f":"CONCATENATE(入力!F53,入力!E53)","v":"  "},{"$f":"CONCATENATE(入力!H53,入力!E53)","v":"  "}]
[{"$f":"入力!A54","v":0},{"$f":"CONCATENATE(入力!F54,入力!E54)","v":"  "},{"$f":"CONCATENATE(入力!H54,入力!E54)","v":"  "}]
[{"$f":"入力!A55","v":0},{"$f":"CONCATENATE(入力!F55,入力!E55)","v":"  "},{"$f":"CONCATENATE(入力!H55,入力!E55)","v":"  "}]
[{"$f":"入力!A56","v":0},{"$f":"CONCATENATE(入力!F56,入力!E56)","v":"  "},{"$f":"CONCATENATE(入力!H56,入力!E56)","v":"  "}]
[{"$f":"入力!A57","v":0},{"$f":"CONCATENATE(入力!F57,入力!E57)","v":"  "},{"$f":"CONCATENATE(入力!H57,入力!E57)","v":"  "}]
[{"$f":"入力!A58","v":0},{"$f":"CONCATENATE(入力!F58,入力!E58)","v":"  "},{"$f":"CONCATENATE(入力!H58,入力!E58)","v":"  "}]
[{"$f":"入力!A59","v":0},{"$f":"CONCATENATE(入力!F59,入力!E59)","v":"  "},{"$f":"CONCATENATE(入力!H59,入力!E59)","v":"  "}]
[{"$f":"入力!A60","v":0},{"$f":"CONCATENATE(入力!F60,入力!E60)","v":"  "},{"$f":"CONCATENATE(入力!H60,入力!E60)","v":"  "}]
[{"$f":"入力!A61","v":0},{"$f":"CONCATENATE(入力!F61,入力!E61)","v":"  "},{"$f":"CONCATENATE(入力!H61,入力!E61)","v":"  "}]
[{"$f":"入力!A62","v":0},{"$f":"CONCATENATE(入力!F62,入力!E62)","v":"  "},{"$f":"CONCATENATE(入力!H62,入力!E62)","v":"  "}]
[{"$f":"入力!A63","v":0},{"$f":"CONCATENATE(入力!F63,入力!E63)","v":"  "},{"$f":"CONCATENATE(入力!H63,入力!E63)","v":"  "}]
[{"$f":"入力!A64","v":0},{"$f":"CONCATENATE(入力!F64,入力!E64)","v":"  "},{"$f":"CONCATENATE(入力!H64,入力!E64)","v":"  "}]
[{"$f":"入力!A65","v":0},{"$f":"CONCATENATE(入力!F65,入力!E65)","v":"  "},{"$f":"CONCATENATE(入力!H65,入力!E65)","v":"  "}]
[{"$f":"入力!A66","v":0},{"$f":"CONCATENATE(入力!F66,入力!E66)","v":"  "},{"$f":"CONCATENATE(入力!H66,入力!E66)","v":"  "}]
[{"$f":"入力!A67","v":0},{"$f":"CONCATENATE(入力!F67,入力!E67)","v":"  "},{"$f":"CONCATENATE(入力!H67,入力!E67)","v":"  "}]
[{"$f":"入力!A68","v":0},{"$f":"CONCATENATE(入力!F68,入力!E68)","v":"  "},{"$f":"CONCATENATE(入力!H68,入力!E68)","v":"  "}]
[{"$f":"入力!A69","v":0},{"$f":"CONCATENATE(入力!F69,入力!E69)","v":"  "},{"$f":"CONCATENATE(入力!H69,入力!E69)","v":"  "}]
[{"$f":"入力!A70","v":0},{"$f":"CONCATENATE(入力!F70,入力!E70)","v":"  "},{"$f":"CONCATENATE(入力!H70,入力!E70)","v":"  "}]
[{"$f":"入力!A71","v":0},{"$f":"CONCATENATE(入力!F71,入力!E71)","v":"  "},{"$f":"CONCATENATE(入力!H71,入力!E71)","v":"  "}]
[{"$f":"入力!A72","v":0},{"$f":"CONCATENATE(入力!F72,入力!E72)","v":"  "},{"$f":"CONCATENATE(入力!H72,入力!E72)","v":"  "}]
[{"$f":"入力!A73","v":0},{"$f":"CONCATENATE(入力!F73,入力!E73)","v":"  "},{"$f":"CONCATENATE(入力!H73,入力!E73)","v":"  "}]
[{"$f":"入力!A74","v":0},{"$f":"CONCATENATE(入力!F74,入力!E74)","v":"  "},{"$f":"CONCATENATE(入力!H74,入力!E74)","v":"  "}]
[{"$f":"入力!A75","v":0},{"$f":"CONCATENATE(入力!F75,入力!E75)","v":"  "},{"$f":"CONCATENATE(入力!H75,入力!E75)","v":"  "}]
[{"$f":"入力!A76","v":0},{"$f":"CONCATENATE(入力!F76,入力!E76)","v":"  "},{"$f":"CONCATENATE(入力!H76,入力!E76)","v":"  "}]
[{"$f":"入力!A77","v":0},{"$f":"CONCATENATE(入力!F77,入力!E77)","v":"  "},{"$f":"CONCATENATE(入力!H77,入力!E77)","v":"  "}]
[{"$f":"入力!A78","v":0},{"$f":"CONCATENATE(入力!F78,入力!E78)","v":"  "},{"$f":"CONCATENATE(入力!H78,入力!E78)","v":"  "}]
[{"$f":"入力!A79","v":0},{"$f":"CONCATENATE(入力!F79,入力!E79)","v":"  "},{"$f":"CONCATENATE(入力!H79,入力!E79)","v":"  "}]
[{"$f":"入力!A80","v":0},{"$f":"CONCATENATE(入力!F80,入力!E80)","v":"  "},{"$f":"CONCATENATE(入力!H80,入力!E80)","v":"  "}]
[{"$f":"入力!A81","v":0},{"$f":"CONCATENATE(入力!F81,入力!E81)","v":"  "},{"$f":"CONCATENATE(入力!H81,入力!E81)","v":"  "}]
[{"$f":"入力!A82","v":0},{"$f":"CONCATENATE(入力!F82,入力!E82)","v":"  "},{"$f":"CONCATENATE(入力!H82,入力!E82)","v":"  "}]
[{"$f":"入力!A83","v":0},{"$f":"CONCATENATE(入力!F83,入力!E83)","v":"  "},{"$f":"CONCATENATE(入力!H83,入力!E83)","v":"  "}]
[{"$f":"入力!A84","v":0},{"$f":"CONCATENATE(入力!F84,入力!E84)","v":"  "},{"$f":"CONCATENATE(入力!H84,入力!E84)","v":"  "}]
[{"$f":"入力!A85","v":0},{"$f":"CONCATENATE(入力!F85,入力!E85)","v":"  "},{"$f":"CONCATENATE(入力!H85,入力!E85)","v":"  "}]
[{"$f":"入力!A86","v":0},{"$f":"CONCATENATE(入力!F86,入力!E86)","v":"  "},{"$f":"CONCATENATE(入力!H86,入力!E86)","v":"  "}]
[{"$f":"入力!A87","v":0},{"$f":"CONCATENATE(入力!F87,入力!E87)","v":"  "},{"$f":"CONCATENATE(入力!H87,入力!E87)","v":"  "}]
[{"$f":"入力!A88","v":0},{"$f":"CONCATENATE(入力!F88,入力!E88)","v":"  "},{"$f":"CONCATENATE(入力!H88,入力!E88)","v":"  "}]
[{"$f":"入力!A89","v":0},{"$f":"CONCATENATE(入力!F89,入力!E89)","v":"  "},{"$f":"CONCATENATE(入力!H89,入力!E89)","v":"  "}]
[{"$f":"入力!A90","v":0},{"$f":"CONCATENATE(入力!F90,入力!E90)","v":"  "},{"$f":"CONCATENATE(入力!H90,入力!E90)","v":"  "}]
[{"$f":"入力!A91","v":0},{"$f":"CONCATENATE(入力!F91,入力!E91)","v":"  "},{"$f":"CONCATENATE(入力!H91,入力!E91)","v":"  "}]
[{"$f":"入力!A92","v":0},{"$f":"CONCATENATE(入力!F92,入力!E92)","v":"  "},{"$f":"CONCATENATE(入力!H92,入力!E92)","v":"  "}]
[{"$f":"入力!A93","v":0},{"$f":"CONCATENATE(入力!F93,入力!E93)","v":"  "},{"$f":"CONCATENATE(入力!H93,入力!E93)","v":"  "}]
[{"$f":"入力!A94","v":0},{"$f":"CONCATENATE(入力!F94,入力!E94)","v":"  "},{"$f":"CONCATENATE(入力!H94,入力!E94)","v":"  "}]
[{"$f":"入力!A95","v":0},{"$f":"CONCATENATE(入力!F95,入力!E95)","v":"  "},{"$f":"CONCATENATE(入力!H95,入力!E95)","v":"  "}]
[{"$f":"入力!A96","v":0},{"$f":"CONCATENATE(入力!F96,入力!E96)","v":"  "},{"$f":"CONCATENATE(入力!H96,入力!E96)","v":"  "}]
[{"$f":"入力!A97","v":0},{"$f":"CONCATENATE(入力!F97,入力!E97)","v":"  "},{"$f":"CONCATENATE(入力!H97,入力!E97)","v":"  "}]
[{"$f":"入力!A98","v":0},{"$f":"CONCATENATE(入力!F98,入力!E98)","v":"  "},{"$f":"CONCATENATE(入力!H98,入力!E98)","v":"  "}]
[{"$f":"入力!A99","v":0},{"$f":"CONCATENATE(入力!F99,入力!E99)","v":"  "},{"$f":"CONCATENATE(入力!H99,入力!E99)","v":"  "}]
[{"$f":"入力!A100","v":0},{"$f":"CONCATENATE(入力!F100,入力!E100)","v":"  "},{"$f":"CONCATENATE(入力!H100,入力!E100)","v":"  "}]
[{"$f":"入力!A101","v":0},{"$f":"CONCATENATE(入力!F101,入力!E101)","v":"  "},{"$f":"CONCATENATE(入力!H101,入力!E101)","v":"  "}]
[{"$f":"入力!A102","v":0},{"$f":"CONCATENATE(入力!F102,入力!E102)","v":"  "},{"$f":"CONCATENATE(入力!H102,入力!E102)","v":"  "}]
[{"$f":"入力!A103","v":0},{"$f":"CONCATENATE(入力!F103,入力!E103)","v":"  "},{"$f":"CONCATENATE(入力!H103,入力!E103)","v":"  "}]
[{"$f":"入力!A104","v":0},{"$f":"CONCATENATE(入力!F104,入力!E104)","v":"  "},{"$f":"CONCATENATE(入力!H104,入力!E104)","v":"  "}]
[{"$f":"入力!A105","v":0},{"$f":"CONCATENATE(入力!F105,入力!E105)","v":"  "},{"$f":"CONCATENATE(入力!H105,入力!E105)","v":"  "}]
[{"$f":"入力!A106","v":0},{"$f":"CONCATENATE(入力!F106,入力!E106)","v":"  "},{"$f":"CONCATENATE(入力!H106,入力!E106)","v":"  "}]
[{"$f":"入力!A107","v":0},{"$f":"CONCATENATE(入力!F107,入力!E107)","v":"  "},{"$f":"CONCATENATE(入力!H107,入力!E107)","v":"  "}]
[{"$f":"入力!A108","v":0},{"$f":"CONCATENATE(入力!F108,入力!E108)","v":"  "},{"$f":"CONCATENATE(入力!H108,入力!E108)","v":"  "}]
[{"$f":"入力!A109","v":0},{"$f":"CONCATENATE(入力!F109,入力!E109)","v":"  "},{"$f":"CONCATENATE(入力!H109,入力!E109)","v":"  "}]
[{"$f":"入力!A110","v":0},{"$f":"CONCATENATE(入力!F110,入力!E110)","v":"  "},{"$f":"CONCATENATE(入力!H110,入力!E110)","v":"  "}]
[{"$f":"入力!A111","v":0},{"$f":"CONCATENATE(入力!F111,入力!E111)","v":"  "},{"$f":"CONCATENATE(入力!H111,入力!E111)","v":"  "}]
[{"$f":"入力!A112","v":0},{"$f":"CONCATENATE(入力!F112,入力!E112)","v":"  "},{"$f":"CONCATENATE(入力!H112,入力!E112)","v":"  "}]
[{"$f":"入力!A113","v":0},{"$f":"CONCATENATE(入力!F113,入力!E113)","v":"  "},{"$f":"CONCATENATE(入力!H113,入力!E113)","v":"  "}]
[{"$f":"入力!A114","v":0},{"$f":"CONCATENATE(入力!F114,入力!E114)","v":"  "},{"$f":"CONCATENATE(入力!H114,入力!E114)","v":"  "}]
[{"$f":"入力!A115","v":0},{"$f":"CONCATENATE(入力!F115,入力!E115)","v":"  "},{"$f":"CONCATENATE(入力!H115,入力!E115)","v":"  "}]
[{"$f":"入力!A116","v":0},{"$f":"CONCATENATE(入力!F116,入力!E116)","v":"  "},{"$f":"CONCATENATE(入力!H116,入力!E116)","v":"  "}]
[{"$f":"入力!A117","v":0},{"$f":"CONCATENATE(入力!F117,入力!E117)","v":"  "},{"$f":"CONCATENATE(入力!H117,入力!E117)","v":"  "}]
[{"$f":"入力!A118","v":0},{"$f":"CONCATENATE(入力!F118,入力!E118)","v":"  "},{"$f":"CONCATENATE(入力!H118,入力!E118)","v":"  "}]
[{"$f":"入力!A119","v":0},{"$f":"CONCATENATE(入力!F119,入力!E119)","v":"  "},{"$f":"CONCATENATE(入力!H119,入力!E119)","v":"  "}]
[{"$f":"入力!A120","v":0},{"$f":"CONCATENATE(入力!F120,入力!E120)","v":"  "},{"$f":"CONCATENATE(入力!H120,入力!E120)","v":"  "}]
[{"$f":"入力!A121","v":0},{"$f":"CONCATENATE(入力!F121,入力!E121)","v":"  "},{"$f":"CONCATENATE(入力!H121,入力!E121)","v":"  "}]
[{"$f":"入力!A122","v":0},{"$f":"CONCATENATE(入力!F122,入力!E122)","v":"  "},{"$f":"CONCATENATE(入力!H122,入力!E122)","v":"  "}]
[{"$f":"入力!A123","v":0},{"$f":"CONCATENATE(入力!F123,入力!E123)","v":"  "},{"$f":"CONCATENATE(入力!H123,入力!E123)","v":"  "}]
[{"$f":"入力!A124","v":0},{"$f":"CONCATENATE(入力!F124,入力!E124)","v":"  "},{"$f":"CONCATENATE(入力!H124,入力!E124)","v":"  "}]
[{"$f":"入力!A125","v":0},{"$f":"CONCATENATE(入力!F125,入力!E125)","v":"  "},{"$f":"CONCATENATE(入力!H125,入力!E125)","v":"  "}]
[{"$f":"入力!A126","v":0},{"$f":"CONCATENATE(入力!F126,入力!E126)","v":"  "},{"$f":"CONCATENATE(入力!H126,入力!E126)","v":"  "}]
[{"$f":"入力!A127","v":0},{"$f":"CONCATENATE(入力!F127,入力!E127)","v":"  "},{"$f":"CONCATENATE(入力!H127,入力!E127)","v":"  "}]
[{"$f":"入力!A128","v":0},{"$f":"CONCATENATE(入力!F128,入力!E128)","v":"  "},{"$f":"CONCATENATE(入力!H128,入力!E128)","v":"  "}]
[{"$f":"入力!A129","v":0},{"$f":"CONCATENATE(入力!F129,入力!E129)","v":"  "},{"$f":"CONCATENATE(入力!H129,入力!E129)","v":"  "}]
[{"$f":"入力!A130","v":0},{"$f":"CONCATENATE(入力!F130,入力!E130)","v":"  "},{"$f":"CONCATENATE(入力!H130,入力!E130)","v":"  "}]
[{"$f":"入力!A131","v":0},{"$f":"CONCATENATE(入力!F131,入力!E131)","v":"  "},{"$f":"CONCATENATE(入力!H131,入力!E131)","v":"  "}]
[{"$f":"入力!A132","v":0},{"$f":"CONCATENATE(入力!F132,入力!E132)","v":"  "},{"$f":"CONCATENATE(入力!H132,入力!E132)","v":"  "}]
[{"$f":"入力!A133","v":0},{"$f":"CONCATENATE(入力!F133,入力!E133)","v":"  "},{"$f":"CONCATENATE(入力!H133,入力!E133)","v":"  "}]
[{"$f":"入力!A134","v":0},{"$f":"CONCATENATE(入力!F134,入力!E134)","v":"  "},{"$f":"CONCATENATE(入力!H134,入力!E134)","v":"  "}]
[{"$f":"入力!A135","v":0},{"$f":"CONCATENATE(入力!F135,入力!E135)","v":"  "},{"$f":"CONCATENATE(入力!H135,入力!E135)","v":"  "}]
[{"$f":"入力!A136","v":0},{"$f":"CONCATENATE(入力!F136,入力!E136)","v":"  "},{"$f":"CONCATENATE(入力!H136,入力!E136)","v":"  "}]
[{"$f":"入力!A137","v":0},{"$f":"CONCATENATE(入力!F137,入力!E137)","v":"  "},{"$f":"CONCATENATE(入力!H137,入力!E137)","v":"  "}]
[{"$f":"入力!A138","v":0},{"$f":"CONCATENATE(入力!F138,入力!E138)","v":"  "},{"$f":"CONCATENATE(入力!H138,入力!E138)","v":"  "}]
[{"$f":"入力!A139","v":0},{"$f":"CONCATENATE(入力!F139,入力!E139)","v":"  "},{"$f":"CONCATENATE(入力!H139,入力!E139)","v":"  "}]
[{"$f":"入力!A140","v":0},{"$f":"CONCATENATE(入力!F140,入力!E140)","v":"  "},{"$f":"CONCATENATE(入力!H140,入力!E140)","v":"  "}]
[{"$f":"入力!A141","v":0},{"$f":"CONCATENATE(入力!F141,入力!E141)","v":"  "},{"$f":"CONCATENATE(入力!H141,入力!E141)","v":"  "}]
[{"$f":"入力!A142","v":0},{"$f":"CONCATENATE(入力!F142,入力!E142)","v":"  "},{"$f":"CONCATENATE(入力!H142,入力!E142)","v":"  "}]
[{"$f":"入力!A143","v":0},{"$f":"CONCATENATE(入力!F143,入力!E143)","v":"  "},{"$f":"CONCATENATE(入力!H143,入力!E143)","v":"  "}]
[{"$f":"入力!A144","v":0},{"$f":"CONCATENATE(入力!F144,入力!E144)","v":"  "},{"$f":"CONCATENATE(入力!H144,入力!E144)","v":"  "}]
[{"$f":"入力!A145","v":0},{"$f":"CONCATENATE(入力!F145,入力!E145)","v":"  "},{"$f":"CONCATENATE(入力!H145,入力!E145)","v":"  "}]
[{"$f":"入力!A146","v":0},{"$f":"CONCATENATE(入力!F146,入力!E146)","v":"  "},{"$f":"CONCATENATE(入力!H146,入力!E146)","v":"  "}]
[{"$f":"入力!A147","v":0},{"$f":"CONCATENATE(入力!F147,入力!E147)","v":"  "},{"$f":"CONCATENATE(入力!H147,入力!E147)","v":"  "}]
[{"$f":"入力!A148","v":0},{"$f":"CONCATENATE(入力!F148,入力!E148)","v":"  "},{"$f":"CONCATENATE(入力!H148,入力!E148)","v":"  "}]
[{"$f":"入力!A149","v":0},{"$f":"CONCATENATE(入力!F149,入力!E149)","v":"  "},{"$f":"CONCATENATE(入力!H149,入力!E149)","v":"  "}]
[{"$f":"入力!A150","v":0},{"$f":"CONCATENATE(入力!F150,入力!E150)","v":"  "},{"$f":"CONCATENATE(入力!H150,入力!E150)","v":"  "}]
[{"$f":"入力!A151","v":0},{"$f":"CONCATENATE(入力!F151,入力!E151)","v":""},{"$f":"CONCATENATE(入力!H151,入力!E151)","v":""}]