Workbook

Sheet はじめに
A1: 2026年度神戸市民総合スポーツ大会秋季大会 兼 神戸リレーカーニバル 申込ファイル（小学用）
A2: １ 作業は「手順１」から「手順５」まであります。
B3: 「手順１」では団体情報，競技役員情報、選手名簿 を作成します。
B4: ※「手順１」で作成した選手名簿は神戸市陸協主催の他の大会申込ファイル作成時にも使えます。
B5: 「手順２」では男子選手の出場種目情報を作成します。
B6: 「手順３」では女子選手の出場種目情報を作成します。
B7: 「手順４」では入力データの簡易確認を行います。
B8: 「手順５」ではデータの保存を行います。
A9: ２ 「手順１」から「手順５」シートを順に選択して、作業を進めてください。
A10: ３ 「切り取り」＆「貼り付け」は絶対に行わないでください。「コピー」＆「貼り付け」は可能です。
A11: ４ 印刷範囲外（グレーの欄）や上記以外のシートには管理者用の数式等が入っています。変更を加えないでください。

Sheet 手順1
B1: 手順１（団体情報等の入力 選手名簿の作成）
B2: 手順１では １団体情報 ２推薦審判情報 ３男子選手名簿 ４女子選手名簿を作成します。
B3: 入力・チェックが完了したら、「手順２」シートへ進んでください。
B5: ナンバーカードについての注意事項
B6: 【大学生】「6-****」は「****」部分のみを入力してください。
B7: 【中学生】学校番号（３ケタ）＋校内の番号（２ケタ）を入力してください。 (例）向洋中「200」のゼッケン「12」の場合→「20012」
B8: 【小学生】1,2,3…のように整数を1から順にナンバーカード欄に入力してください。
B10: １ 団体情報 | J10: ２ 推薦審判情報 | N10: 公認審判のみ入力
B11: 学校名（団体名） | E11: 選択して下さい | K11: 名前 | M11: 希望部署 | N11: 兵庫陸協 登録番号 | O11: 審判 資格
B12: 申込区分 | E12: 小学 | J12: 1
B13: 申込責任者名 | J13: 2
B14: 緊急連絡先（携帯番号等） | J14: 3
J15: 4 | X15: 所属団体リスト | Y15: 申込区分リスト | AA15: 審判資格リスト
B16: ３ 男子選手名簿 | J16: ４ 女子選手名簿 | X16: 選択して下さい | Y16: 選択して下さい | Z16: 4 | AA16: S
B17: ﾅﾝﾊﾞｰ ｶｰﾄﾞ | C17: 名前 | E17: ﾌﾘｶﾞﾅ | G17: 学年 | J17: ﾅﾝﾊﾞｰ ｶｰﾄﾞ | K17: 名前 | M17: ﾌﾘｶﾞﾅ | O17: 学年 | R17: 男子 | T17: 女子 | X17: 286001 神大住吉小 | Y17: 【申込区分】 | Z17: 4 | AA17: A
C18: 姓 | D18: 名 | E18: 姓ﾌﾘｶﾞﾅ | F18: 名ﾌﾘｶﾞﾅ | K18: 姓 | L18: 名 | M18: 姓ﾌﾘｶﾞﾅ | N18: 名ﾌﾘｶﾞﾅ | R18: ﾅﾝﾊﾞｰ | S18: ｶﾅ | T18: ﾅﾝﾊﾞｰ | U18: ｶﾅ | X18: 286002 神大明石小 | Y18: 一般・高校 | Z18: 1 | AA18: B
R19: =LENB(B19)-LEN(B19) -> 0 | S19: =LENB(E19)+LENB(F19)-LEN(E19)-LEN(F19) -> 0 | T19: =LENB(J19)-LEN(J19) -> 0 | U19: =LENB(M19)+LENB(N19)-LEN(M19)-LEN(N19) -> 0 | X19: 286101 東灘小 | Y19: 中学 | Z19: 2 | AA19: ﾅｼ
R20: =LENB(B20)-LEN(B20) -> 0 | S20: =LENB(E20)+LENB(F20)-LEN(E20)-LEN(F20) -> 0 | T20: =LENB(J20)-LEN(J20) -> 0 | U20: =LENB(M20)+LENB(N20)-LEN(M20)-LEN(N20) -> 0 | X20: 286102 本庄小 | Y20: 小学 | Z20: 3
R21: =LENB(B21)-LEN(B21) -> 0 | S21: =LENB(E21)+LENB(F21)-LEN(E21)-LEN(F21) -> 0 | T21: =LENB(J21)-LEN(J21) -> 0 | U21: =LENB(M21)+LENB(N21)-LEN(M21)-LEN(N21) -> 0 | X21: 286103 本山南小 | Z21: 4
R22: =LENB(B22)-LEN(B22) -> 0 | S22: =LENB(E22)+LENB(F22)-LEN(E22)-LEN(F22) -> 0 | T22: =LENB(J22)-LEN(J22) -> 0 | U22: =LENB(M22)+LENB(N22)-LEN(M22)-LEN(N22) -> 0 | X22: 286104 福池小
R23: =LENB(B23)-LEN(B23) -> 0 | S23: =LENB(E23)+LENB(F23)-LEN(E23)-LEN(F23) -> 0 | T23: =LENB(J23)-LEN(J23) -> 0 | U23: =LENB(M23)+LENB(N23)-LEN(M23)-LEN(N23) -> 0 | X23: 286105 魚崎小
R24: =LENB(B24)-LEN(B24) -> 0 | S24: =LENB(E24)+LENB(F24)-LEN(E24)-LEN(F24) -> 0 | T24: =LENB(J24)-LEN(J24) -> 0 | U24: =LENB(M24)+LENB(N24)-LEN(M24)-LEN(N24) -> 0 | X24: 286106 本山第一小
R25: =LENB(B25)-LEN(B25) -> 0 | S25: =LENB(E25)+LENB(F25)-LEN(E25)-LEN(F25) -> 0 | T25: =LENB(J25)-LEN(J25) -> 0 | U25: =LENB(M25)+LENB(N25)-LEN(M25)-LEN(N25) -> 0 | X25: 286107 本山第二小
R26: =LENB(B26)-LEN(B26) -> 0 | S26: =LENB(E26)+LENB(F26)-LEN(E26)-LEN(F26) -> 0 | T26: =LENB(J26)-LEN(J26) -> 0 | U26: =LENB(M26)+LENB(N26)-LEN(M26)-LEN(N26) -> 0 | X26: 286108 本山第三小
R27: =LENB(B27)-LEN(B27) -> 0 | S27: =LENB(E27)+LENB(F27)-LEN(E27)-LEN(F27) -> 0 | T27: =LENB(J27)-LEN(J27) -> 0 | U27: =LENB(M27)+LENB(N27)-LEN(M27)-LEN(N27) -> 0 | X27: 286109 住吉小
R28: =LENB(B28)-LEN(B28) -> 0 | S28: =LENB(E28)+LENB(F28)-LEN(E28)-LEN(F28) -> 0 | T28: =LENB(J28)-LEN(J28) -> 0 | U28: =LENB(M28)+LENB(N28)-LEN(M28)-LEN(N28) -> 0 | X28: 286110 御影小
R29: =LENB(B29)-LEN(B29) -> 0 | S29: =LENB(E29)+LENB(F29)-LEN(E29)-LEN(F29) -> 0 | T29: =LENB(J29)-LEN(J29) -> 0 | U29: =LENB(M29)+LENB(N29)-LEN(M29)-LEN(N29) -> 0 | X29: 286111 渦が森小
R30: =LENB(B30)-LEN(B30) -> 0 | S30: =LENB(E30)+LENB(F30)-LEN(E30)-LEN(F30) -> 0 | T30: =LENB(J30)-LEN(J30) -> 0 | U30: =LENB(M30)+LENB(N30)-LEN(M30)-LEN(N30) -> 0 | X30: 286112 御影北小
R31: =LENB(B31)-LEN(B31) -> 0 | S31: =LENB(E31)+LENB(F31)-LEN(E31)-LEN(F31) -> 0 | T31: =LENB(J31)-LEN(J31) -> 0 | U31: =LENB(M31)+LENB(N31)-LEN(M31)-LEN(N31) -> 0 | X31: 286113 六甲アイ小
R32: =LENB(B32)-LEN(B32) -> 0 | S32: =LENB(E32)+LENB(F32)-LEN(E32)-LEN(F32) -> 0 | T32: =LENB(J32)-LEN(J32) -> 0 | U32: =LENB(M32)+LENB(N32)-LEN(M32)-LEN(N32) -> 0 | X32: 286114 向洋小
R33: =LENB(B33)-LEN(B33) -> 0 | S33: =LENB(E33)+LENB(F33)-LEN(E33)-LEN(F33) -> 0 | T33: =LENB(J33)-LEN(J33) -> 0 | U33: =LENB(M33)+LENB(N33)-LEN(M33)-LEN(N33) -> 0 | X33: 286201 成徳小
... R105: =LENB(B105)-LEN(B105) -> 0 | S105: =LENB(E105)+LENB(F105)-LEN(E105)-LEN(F105) -> 0 | T105: =LENB(J105)-LEN(J105) -> 0 | U105: =LENB(M105)+LENB(N105)-LEN(M105)-LEN(N105) -> 0 | X105: 286606 池田小
X106: 286607 蓮池小
X107: 286608 長田小
X108: 286609 五位の池小
X109: 286610 御蔵小
X110: 286611 真野小
X111: 286612 長田南小
X112: 286613 真陽小
X113: 286614 駒ケ林小
...

Sheet 手順2
B1: 手順２（男子選手 出場種目入力）
B2: 手順２では男子選手の出場種目情報を作成します。
B3: １ ナンバーカード欄に手順１で入力した選手のナンバーを入力してください。名前等は自動で入力されます。
B4: ２ 「種目１」「種目２」欄に種目と記録を選択または入力してください。12秒10の場合の1/100欄は「10」12秒01の場合の1/100欄は「1」
B5: ３ 4×100ｍＲに出場する学校は、6名以内のﾘﾚﾒﾝ欄の「男A」「男B」を選択して、リレーの記録を入力してください。
B6: ４ 下表の一番上の行（１２行）から順に行を空けることなく情報を入力してください。
B7: ５ 入力・チェックが完了したら、「手順３」シートへ進んでください。
B9: 男子選手 出場種目情報 | Q9: 7 | Z9: =IF(Z10>0,1,0) -> 0 | AA9: =IF(AA10>0,1,0) -> 0
B10: ﾅﾝﾊﾞｰ ｶｰﾄﾞ | C10: 名前 | E10: ﾌﾘｶﾞﾅ | G10: 学年 | H10: 性別 | I10: 種目１ | M10: 4*200mR | O10: 4*100mR記録 | X10: =MAX(X12:X107)-COUNT(X12:X107) -> 0 | Y10: =MAX(Y12:Y107) -> 0 | Z10: =Z12 -> 0 | AA10: =AA12 -> 0 | AB10: =COUNTA(I12:I107)-AB12 -> 0 | AC10: =MAX(AC13:AC16,AC19:AC25) -> 0
C11: 姓 | D11: 名 | E11: 姓ﾌﾘｶﾞﾅ | F11: 名ﾌﾘｶﾞﾅ | I11: 種目 | J11: 分 | K11: 秒 m | L11: 1/100 cm | M11: ﾘﾚﾒﾝ | O11: 分 | P11: 秒 | Q11: 100/1 | X11: 通し番号 | Y11: 重複 | Z11: A | AA11: B | AB11: 種目 | AC11: =MAX(AC14:AC20) -> 0 | AD11: 実施種目（種目情報シートで編集すること！）
A12: =IF(B12="","",W12) | C12: =IF($B12="","",VLOOKUP($B12,手順1!$B$19:$G$105,2,FALSE)) | D12: =IF($B12="","",VLOOKUP($B12,手順1!$B$19:$G$105,3,FALSE)) | E12: =IF($B12="","",VLOOKUP($B12,手順1!$B$19:$G$105,4,FALSE)) | F12: =IF($B12="","",VLOOKUP($B12,手順1!$B$19:$G$105,5,FALSE)) | G12: =IF($B12="","",VLOOKUP($B12,手順1!$B$19:$G$105,6,FALSE)) | H12: =IF(B12="","","男") | N12: A | W12: 1 | X12: =IF(B12="","",W12) | Y12: =COUNTIF(B$12:B$107,B12) -> 0 | Z12: =COUNTIF(M$12:M$107,$AH$13) -> 0 | AA12: =COUNTIF(M$12:M$107,$AH$14) -> 0 | AB12: =SUM(AB13:AB107) -> 0 | AH12: 【ﾘﾚﾒﾝ】
A13: =IF(B13="","",W13) | C13: =IF($B13="","",VLOOKUP($B13,手順1!$B$19:$G$105,2,FALSE)) | D13: =IF($B13="","",VLOOKUP($B13,手順1!$B$19:$G$105,3,FALSE)) | E13: =IF($B13="","",VLOOKUP($B13,手順1!$B$19:$G$105,4,FALSE)) | F13: =IF($B13="","",VLOOKUP($B13,手順1!$B$19:$G$105,5,FALSE)) | G13: =IF($B13="","",VLOOKUP($B13,手順1!$B$19:$G$105,6,FALSE)) | H13: =IF(B13="","","男") | N13: B | W13: 2 | X13: =IF(B13="","",W13) | Y13: =COUNTIF(B$12:B$107,B13) -> 0 | AB13: =IF(AD13="","",COUNTIF(I$12:I$107,AD13)) -> 0 | AC13: =COUNTIF($I$12:$I$107,AD13) -> 0 | AD13: =種目情報!A2 -> 男1500ｍｵｰﾌﾟﾝ | AE13: =種目情報!B2 -> 00826 0 | AF13: =種目情報!C2 -> 8 | AH13: 男A
A14: =IF(B14="","",W14) | C14: =IF($B14="","",VLOOKUP($B14,手順1!$B$19:$G$105,2,FALSE)) | D14: =IF($B14="","",VLOOKUP($B14,手順1!$B$19:$G$105,3,FALSE)) | E14: =IF($B14="","",VLOOKUP($B14,手順1!$B$19:$G$105,4,FALSE)) | F14: =IF($B14="","",VLOOKUP($B14,手順1!$B$19:$G$105,5,FALSE)) | G14: =IF($B14="","",VLOOKUP($B14,手順1!$B$19:$G$105,6,FALSE)) | H14: =IF(B14="","","男") | W14: 3 | X14: =IF(B14="","",W14) | Y14: =COUNTIF(B$12:B$107,B14) -> 0 | AB14: =IF(AD14="","",COUNTIF(I$12:I$107,AD14)) | AC14: =COUNTIF($I$12:$I$107,AD14) -> 0 | AH14: 男B
A15: =IF(B15="","",W15) | C15: =IF($B15="","",VLOOKUP($B15,手順1!$B$19:$G$105,2,FALSE)) | D15: =IF($B15="","",VLOOKUP($B15,手順1!$B$19:$G$105,3,FALSE)) | E15: =IF($B15="","",VLOOKUP($B15,手順1!$B$19:$G$105,4,FALSE)) | F15: =IF($B15="","",VLOOKUP($B15,手順1!$B$19:$G$105,5,FALSE)) | G15: =IF($B15="","",VLOOKUP($B15,手順1!$B$19:$G$105,6,FALSE)) | H15: =IF(B15="","","男") | W15: 4 | X15: =IF(B15="","",W15) | Y15: =COUNTIF(B$12:B$107,B15) -> 0 | AB15: =IF(AD15="","",COUNTIF(I$12:I$107,AD15)) | AC15: =COUNTIF($I$12:$I$107,AD15) -> 0
A16: =IF(B16="","",W16) | C16: =IF($B16="","",VLOOKUP($B16,手順1!$B$19:$G$105,2,FALSE)) | D16: =IF($B16="","",VLOOKUP($B16,手順1!$B$19:$G$105,3,FALSE)) | E16: =IF($B16="","",VLOOKUP($B16,手順1!$B$19:$G$105,4,FALSE)) | F16: =IF($B16="","",VLOOKUP($B16,手順1!$B$19:$G$105,5,FALSE)) | G16: =IF($B16="","",VLOOKUP($B16,手順1!$B$19:$G$105,6,FALSE)) | H16: =IF(B16="","","男") | W16: 5 | X16: =IF(B16="","",W16) | Y16: =COUNTIF(B$12:B$107,B16) -> 0 | AB16: =IF(AD16="","",COUNTIF(I$12:I$107,AD16)) | AC16: =COUNTIF($I$12:$I$107,AD16) -> 0
A17: =IF(B17="","",W17) | C17: =IF($B17="","",VLOOKUP($B17,手順1!$B$19:$G$105,2,FALSE)) | D17: =IF($B17="","",VLOOKUP($B17,手順1!$B$19:$G$105,3,FALSE)) | E17: =IF($B17="","",VLOOKUP($B17,手順1!$B$19:$G$105,4,FALSE)) | F17: =IF($B17="","",VLOOKUP($B17,手順1!$B$19:$G$105,5,FALSE)) | G17: =IF($B17="","",VLOOKUP($B17,手順1!$B$19:$G$105,6,FALSE)) | H17: =IF(B17="","","男") | W17: 6 | X17: =IF(B17="","",W17) | Y17: =COUNTIF(B$12:B$107,B17) -> 0 | AB17: =IF(AD17="","",COUNTIF(I$12:I$107,AD17)) | AC17: =COUNTIF($I$12:$I$107,AD17) -> 0
A18: =IF(B18="","",W18) | C18: =IF($B18="","",VLOOKUP($B18,手順1!$B$19:$G$105,2,FALSE)) | D18: =IF($B18="","",VLOOKUP($B18,手順1!$B$19:$G$105,3,FALSE)) | E18: =IF($B18="","",VLOOKUP($B18,手順1!$B$19:$G$105,4,FALSE)) | F18: =IF($B18="","",VLOOKUP($B18,手順1!$B$19:$G$105,5,FALSE)) | G18: =IF($B18="","",VLOOKUP($B18,手順1!$B$19:$G$105,6,FALSE)) | H18: =IF(B18="","","男") | W18: 7 | X18: =IF(B18="","",W18) | Y18: =COUNTIF(B$12:B$107,B18) -> 0 | AB18: =IF(AD18="","",COUNTIF(I$12:I$107,AD18)) | AC18: =COUNTIF($I$12:$I$107,AD18) -> 0
A19: =IF(B19="","",W19) | C19: =IF($B19="","",VLOOKUP($B19,手順1!$B$19:$G$105,2,FALSE)) | D19: =IF($B19="","",VLOOKUP($B19,手順1!$B$19:$G$105,3,FALSE)) | E19: =IF($B19="","",VLOOKUP($B19,手順1!$B$19:$G$105,4,FALSE)) | F19: =IF($B19="","",VLOOKUP($B19,手順1!$B$19:$G$105,5,FALSE)) | G19: =IF($B19="","",VLOOKUP($B19,手順1!$B$19:$G$105,6,FALSE)) | H19: =IF(B19="","","男") | W19: 8 | X19: =IF(B19="","",W19) | Y19: =COUNTIF(B$12:B$107,B19) -> 0 | AB19: =IF(AD19="","",COUNTIF(I$12:I$107,AD19)) | AC19: =COUNTIF($I$12:$I$107,AD19) -> 0
A20: =IF(B20="","",W20) | C20: =IF($B20="","",VLOOKUP($B20,手順1!$B$19:$G$105,2,FALSE)) | D20: =IF($B20="","",VLOOKUP($B20,手順1!$B$19:$G$105,3,FALSE)) | E20: =IF($B20="","",VLOOKUP($B20,手順1!$B$19:$G$105,4,FALSE)) | F20: =IF($B20="","",VLOOKUP($B20,手順1!$B$19:$G$105,5,FALSE)) | G20: =IF($B20="","",VLOOKUP($B20,手順1!$B$19:$G$105,6,FALSE)) | H20: =IF(B20="","","男") | W20: 9 | X20: =IF(B20="","",W20) | Y20: =COUNTIF(B$12:B$107,B20) -> 0 | AB20: =IF(AD20="","",COUNTIF(I$12:I$107,AD20)) | AC20: =COUNTIF($I$12:$I$107,AD20) -> 0
A21: =IF(B21="","",W21) | C21: =IF($B21="","",VLOOKUP($B21,手順1!$B$19:$G$105,2,FALSE)) | D21: =IF($B21="","",VLOOKUP($B21,手順1!$B$19:$G$105,3,FALSE)) | E21: =IF($B21="","",VLOOKUP($B21,手順1!$B$19:$G$105,4,FALSE)) | F21: =IF($B21="","",VLOOKUP($B21,手順1!$B$19:$G$105,5,FALSE)) | G21: =IF($B21="","",VLOOKUP($B21,手順1!$B$19:$G$105,6,FALSE)) | H21: =IF(B21="","","男") | W21: 10 | X21: =IF(B21="","",W21) | Y21: =COUNTIF(B$12:B$107,B21) -> 0 | AB21: =IF(AD21="","",COUNTIF(I$12:I$107,AD21)) | AC21: =COUNTIF($I$12:$I$107,AD21) -> 0
A22: =IF(B22="","",W22) | C22: =IF($B22="","",VLOOKUP($B22,手順1!$B$19:$G$105,2,FALSE)) | D22: =IF($B22="","",VLOOKUP($B22,手順1!$B$19:$G$105,3,FALSE)) | E22: =IF($B22="","",VLOOKUP($B22,手順1!$B$19:$G$105,4,FALSE)) | F22: =IF($B22="","",VLOOKUP($B22,手順1!$B$19:$G$105,5,FALSE)) | G22: =IF($B22="","",VLOOKUP($B22,手順1!$B$19:$G$105,6,FALSE)) | H22: =IF(B22="","","男") | W22: 11 | X22: =IF(B22="","",W22) | Y22: =COUNTIF(B$12:B$107,B22) -> 0 | AB22: =IF(AD22="","",COUNTIF(I$12:I$107,AD22)) | AC22: =COUNTIF($I$12:$I$107,AD22) -> 0
A23: =IF(B23="","",W23) | C23: =IF($B23="","",VLOOKUP($B23,手順1!$B$19:$G$105,2,FALSE)) | D23: =IF($B23="","",VLOOKUP($B23,手順1!$B$19:$G$105,3,FALSE)) | E23: =IF($B23="","",VLOOKUP($B23,手順1!$B$19:$G$105,4,FALSE)) | F23: =IF($B23="","",VLOOKUP($B23,手順1!$B$19:$G$105,5,FALSE)) | G23: =IF($B23="","",VLOOKUP($B23,手順1!$B$19:$G$105,6,FALSE)) | H23: =IF(B23="","","男") | W23: 12 | X23: =IF(B23="","",W23) | Y23: =COUNTIF(B$12:B$107,B23) -> 0 | AB23: =IF(AD23="","",COUNTIF(I$12:I$107,AD23)) | AC23: =COUNTIF($I$12:$I$107,AD23) -> 0
A24: =IF(B24="","",W24) | C24: =IF($B24="","",VLOOKUP($B24,手順1!$B$19:$G$105,2,FALSE)) | D24: =IF($B24="","",VLOOKUP($B24,手順1!$B$19:$G$105,3,FALSE)) | E24: =IF($B24="","",VLOOKUP($B24,手順1!$B$19:$G$105,4,FALSE)) | F24: =IF($B24="","",VLOOKUP($B24,手順1!$B$19:$G$105,5,FALSE)) | G24: =IF($B24="","",VLOOKUP($B24,手順1!$B$19:$G$105,6,FALSE)) | H24: =IF(B24="","","男") | W24: 13 | X24: =IF(B24="","",W24) | Y24: =COUNTIF(B$12:B$107,B24) -> 0 | AB24: =IF(AD24="","",COUNTIF(I$12:I$107,AD24)) | AC24: =COUNTIF($I$12:$I$107,AD24) -> 0
A25: =IF(B25="","",W25) | C25: =IF($B25="","",VLOOKUP($B25,手順1!$B$19:$G$105,2,FALSE)) | D25: =IF($B25="","",VLOOKUP($B25,手順1!$B$19:$G$105,3,FALSE)) | E25: =IF($B25="","",VLOOKUP($B25,手順1!$B$19:$G$105,4,FALSE)) | F25: =IF($B25="","",VLOOKUP($B25,手順1!$B$19:$G$105,5,FALSE)) | G25: =IF($B25="","",VLOOKUP($B25,手順1!$B$19:$G$105,6,FALSE)) | H25: =IF(B25="","","男") | W25: 14 | X25: =IF(B25="","",W25) | Y25: =COUNTIF(B$12:B$107,B25) -> 0 | AB25: =IF(AD25="","",COUNTIF(I$12:I$107,AD25)) | AC25: =COUNTIF($I$12:$I$107,AD25) -> 0
A26: =IF(B26="","",W26) | C26: =IF($B26="","",VLOOKUP($B26,手順1!$B$19:$G$105,2,FALSE)) | D26: =IF($B26="","",VLOOKUP($B26,手順1!$B$19:$G$105,3,FALSE)) | E26: =IF($B26="","",VLOOKUP($B26,手順1!$B$19:$G$105,4,FALSE)) | F26: =IF($B26="","",VLOOKUP($B26,手順1!$B$19:$G$105,5,FALSE)) | G26: =IF($B26="","",VLOOKUP($B26,手順1!$B$19:$G$105,6,FALSE)) | H26: =IF(B26="","","男") | W26: 15 | X26: =IF(B26="","",W26) | Y26: =COUNTIF(B$12:B$107,B26) -> 0 | AB26: =IF(AD26="","",COUNTIF(I$12:I$107,AD26)) | AC26: =COUNTIF($I$12:$I$107,AD26) -> 0
... A107: =IF(B107="","",W107) | C107: =IF($B107="","",VLOOKUP($B107,手順1!$B$19:$G$105,2,FALSE)) | D107: =IF($B107="","",VLOOKUP($B107,手順1!$B$19:$G$105,3,FALSE)) | E107: =IF($B107="","",VLOOKUP($B107,手順1!$B$19:$G$105,4,FALSE)) | F107: =IF($B107="","",VLOOKUP($B107,手順1!$B$19:$G$105,5,FALSE)) | G107: =IF($B107="","",VLOOKUP($B107,手順1!$B$19:$G$105,6,FALSE)) | H107: =IF(B107="","","男") | W107: 96 | X107: =IF(B107="","",W107) | Y107: =COUNTIF(B$12:B$107,B107) -> 0 | AB107: =IF(AD107="","",COUNTIF(I$12:I$107,AD107)) | AC107: =COUNTIF($I$12:$I$107,AD107) -> 0

Sheet 手順3
B1: 手順３（女子選手 出場種目入力）
B2: 手順２では女子選手の出場種目情報を作成します。
B3: １ ナンバーカード欄に手順１で入力した選手のナンバーを入力してください。名前等は自動で入力されます。
B4: ２ 「種目１」「種目２」欄に種目と記録を選択または入力してください。12秒10の場合の1/100欄は「10」12秒01の場合の1/100欄は「1」
B5: ３ 4×100ｍＲに出場する学校は、6名以内のﾘﾚﾒﾝ欄の「女A」「女B」を選択して、リレーの記録を入力してください。
B6: ４ 下表の一番上の行（１２行）から順に行を空けることなく情報を入力してください。
B7: ５ 入力・チェックが完了したら、「手順３」シートへ進んでください。
B9: 女子選手 出場種目情報 | Q9: 7 | Z9: =IF(Z10>0,1,0) -> 0 | AA9: =IF(AA10>0,1,0) -> 0
B10: ﾅﾝﾊﾞｰ ｶｰﾄﾞ | C10: 名前 | E10: ﾌﾘｶﾞﾅ | G10: 学年 | H10: 性別 | I10: 種目１ | M10: 4*100mR | O10: 4*100mR記録 | X10: =MAX(X12:X107)-COUNT(X12:X107)-100 -> -100 | Y10: =MAX(Y12:Y107) -> 0 | Z10: =Z12 -> 0 | AA10: =AA12 -> 0 | AB10: =COUNTA(I12:I107)-AB12 -> 0 | AC10: =MAX(AC13:AC14,AC17:AC21) -> 0
A11: =MAX(A12:A107) -> 0 | C11: 姓 | D11: 名 | E11: 姓ﾌﾘｶﾞﾅ | F11: 名ﾌﾘｶﾞﾅ | I11: 種目 | J11: 分 | K11: 秒 m | L11: 1/100 cm | M11: ﾘﾚﾒﾝ | O11: 分 | P11: 秒 | Q11: 100/1 | X11: 通し番号 | Y11: 重複 | Z11: A | AA11: B | AB11: 種目 | AC11: =MAX(AC14:AC20) -> 0 | AD11: 実施種目（種目情報シートで編集すること！）
A12: =IF(B12="","",W12) | C12: =IF($B12="","",VLOOKUP($B12,手順1!$J$19:$O$105,2,FALSE)) | D12: =IF($B12="","",VLOOKUP($B12,手順1!$J$19:$O$105,3,FALSE)) | E12: =IF($B12="","",VLOOKUP($B12,手順1!$J$19:$O$105,4,FALSE)) | F12: =IF($B12="","",VLOOKUP($B12,手順1!$J$19:$O$105,5,FALSE)) | G12: =IF($B12="","",VLOOKUP($B12,手順1!$J$19:$O$105,6,FALSE)) | H12: =IF(B12="","","女") | N12: A | W12: 101 | X12: =IF(B12="","",W12) | Y12: =COUNTIF(B$12:B$107,B12) -> 0 | Z12: =COUNTIF(M$12:M$107,$AH$13) -> 0 | AA12: =COUNTIF(M$12:M$107,$AH$14) -> 0 | AB12: =SUM(AB13:AB107) -> 0 | AH12: 【ﾘﾚﾒﾝ】
A13: =IF(B13="","",W13) | C13: =IF($B13="","",VLOOKUP($B13,手順1!$J$19:$O$105,2,FALSE)) | D13: =IF($B13="","",VLOOKUP($B13,手順1!$J$19:$O$105,3,FALSE)) | E13: =IF($B13="","",VLOOKUP($B13,手順1!$J$19:$O$105,4,FALSE)) | F13: =IF($B13="","",VLOOKUP($B13,手順1!$J$19:$O$105,5,FALSE)) | G13: =IF($B13="","",VLOOKUP($B13,手順1!$J$19:$O$105,6,FALSE)) | H13: =IF(B13="","","女") | N13: B | W13: 102 | X13: =IF(B13="","",W13) | Y13: =COUNTIF(B$12:B$107,B13) -> 0 | AB13: =IF(AD13="","",COUNTIF(I$12:I$107,AD13)) -> 0 | AC13: =COUNTIF($I$12:$I$107,AD13) -> 0 | AD13: =種目情報!A1 -> 女800ｍｵｰﾌﾟﾝ | AE13: =種目情報!B1 -> 00626 0 | AF13: =種目情報!C1 -> 6 | AH13: 女A
A14: =IF(B14="","",W14) | C14: =IF($B14="","",VLOOKUP($B14,手順1!$J$19:$O$105,2,FALSE)) | D14: =IF($B14="","",VLOOKUP($B14,手順1!$J$19:$O$105,3,FALSE)) | E14: =IF($B14="","",VLOOKUP($B14,手順1!$J$19:$O$105,4,FALSE)) | F14: =IF($B14="","",VLOOKUP($B14,手順1!$J$19:$O$105,5,FALSE)) | G14: =IF($B14="","",VLOOKUP($B14,手順1!$J$19:$O$105,6,FALSE)) | H14: =IF(B14="","","女") | W14: 103 | X14: =IF(B14="","",W14) | Y14: =COUNTIF(B$12:B$107,B14) -> 0 | AB14: =IF(AD14="","",COUNTIF(I$12:I$107,AD14)) | AC14: =COUNTIF($I$12:$I$107,AD14) -> 0 | AH14: 女B
A15: =IF(B15="","",W15) | C15: =IF($B15="","",VLOOKUP($B15,手順1!$J$19:$O$105,2,FALSE)) | D15: =IF($B15="","",VLOOKUP($B15,手順1!$J$19:$O$105,3,FALSE)) | E15: =IF($B15="","",VLOOKUP($B15,手順1!$J$19:$O$105,4,FALSE)) | F15: =IF($B15="","",VLOOKUP($B15,手順1!$J$19:$O$105,5,FALSE)) | G15: =IF($B15="","",VLOOKUP($B15,手順1!$J$19:$O$105,6,FALSE)) | H15: =IF(B15="","","女") | W15: 104 | X15: =IF(B15="","",W15) | Y15: =COUNTIF(B$12:B$107,B15) -> 0 | AB15: =IF(AD15="","",COUNTIF(I$12:I$107,AD15)) | AC15: =COUNTIF($I$12:$I$107,AD15) -> 0
A16: =IF(B16="","",W16) | C16: =IF($B16="","",VLOOKUP($B16,手順1!$J$19:$O$105,2,FALSE)) | D16: =IF($B16="","",VLOOKUP($B16,手順1!$J$19:$O$105,3,FALSE)) | E16: =IF($B16="","",VLOOKUP($B16,手順1!$J$19:$O$105,4,FALSE)) | F16: =IF($B16="","",VLOOKUP($B16,手順1!$J$19:$O$105,5,FALSE)) | G16: =IF($B16="","",VLOOKUP($B16,手順1!$J$19:$O$105,6,FALSE)) | H16: =IF(B16="","","女") | W16: 105 | X16: =IF(B16="","",W16) | Y16: =COUNTIF(B$12:B$107,B16) -> 0 | AB16: =IF(AD16="","",COUNTIF(I$12:I$107,AD16)) | AC16: =COUNTIF($I$12:$I$107,AD16) -> 0
A17: =IF(B17="","",W17) | C17: =IF($B17="","",VLOOKUP($B17,手順1!$J$19:$O$105,2,FALSE)) | D17: =IF($B17="","",VLOOKUP($B17,手順1!$J$19:$O$105,3,FALSE)) | E17: =IF($B17="","",VLOOKUP($B17,手順1!$J$19:$O$105,4,FALSE)) | F17: =IF($B17="","",VLOOKUP($B17,手順1!$J$19:$O$105,5,FALSE)) | G17: =IF($B17="","",VLOOKUP($B17,手順1!$J$19:$O$105,6,FALSE)) | H17: =IF(B17="","","女") | W17: 106 | X17: =IF(B17="","",W17) | Y17: =COUNTIF(B$12:B$107,B17) -> 0 | AB17: =IF(AD17="","",COUNTIF(I$12:I$107,AD17)) | AC17: =COUNTIF($I$12:$I$107,AD17) -> 0
A18: =IF(B18="","",W18) | C18: =IF($B18="","",VLOOKUP($B18,手順1!$J$19:$O$105,2,FALSE)) | D18: =IF($B18="","",VLOOKUP($B18,手順1!$J$19:$O$105,3,FALSE)) | E18: =IF($B18="","",VLOOKUP($B18,手順1!$J$19:$O$105,4,FALSE)) | F18: =IF($B18="","",VLOOKUP($B18,手順1!$J$19:$O$105,5,FALSE)) | G18: =IF($B18="","",VLOOKUP($B18,手順1!$J$19:$O$105,6,FALSE)) | H18: =IF(B18="","","女") | W18: 107 | X18: =IF(B18="","",W18) | Y18: =COUNTIF(B$12:B$107,B18) -> 0 | AB18: =IF(AD18="","",COUNTIF(I$12:I$107,AD18)) | AC18: =COUNTIF($I$12:$I$107,AD18) -> 0
A19: =IF(B19="","",W19) | C19: =IF($B19="","",VLOOKUP($B19,手順1!$J$19:$O$105,2,FALSE)) | D19: =IF($B19="","",VLOOKUP($B19,手順1!$J$19:$O$105,3,FALSE)) | E19: =IF($B19="","",VLOOKUP($B19,手順1!$J$19:$O$105,4,FALSE)) | F19: =IF($B19="","",VLOOKUP($B19,手順1!$J$19:$O$105,5,FALSE)) | G19: =IF($B19="","",VLOOKUP($B19,手順1!$J$19:$O$105,6,FALSE)) | H19: =IF(B19="","","女") | W19: 108 | X19: =IF(B19="","",W19) | Y19: =COUNTIF(B$12:B$107,B19) -> 0 | AB19: =IF(AD19="","",COUNTIF(I$12:I$107,AD19)) | AC19: =COUNTIF($I$12:$I$107,AD19) -> 0
A20: =IF(B20="","",W20) | C20: =IF($B20="","",VLOOKUP($B20,手順1!$J$19:$O$105,2,FALSE)) | D20: =IF($B20="","",VLOOKUP($B20,手順1!$J$19:$O$105,3,FALSE)) | E20: =IF($B20="","",VLOOKUP($B20,手順1!$J$19:$O$105,4,FALSE)) | F20: =IF($B20="","",VLOOKUP($B20,手順1!$J$19:$O$105,5,FALSE)) | G20: =IF($B20="","",VLOOKUP($B20,手順1!$J$19:$O$105,6,FALSE)) | H20: =IF(B20="","","女") | W20: 109 | X20: =IF(B20="","",W20) | Y20: =COUNTIF(B$12:B$107,B20) -> 0 | AB20: =IF(AD20="","",COUNTIF(I$12:I$107,AD20)) | AC20: =COUNTIF($I$12:$I$107,AD20) -> 0
A21: =IF(B21="","",W21) | C21: =IF($B21="","",VLOOKUP($B21,手順1!$J$19:$O$105,2,FALSE)) | D21: =IF($B21="","",VLOOKUP($B21,手順1!$J$19:$O$105,3,FALSE)) | E21: =IF($B21="","",VLOOKUP($B21,手順1!$J$19:$O$105,4,FALSE)) | F21: =IF($B21="","",VLOOKUP($B21,手順1!$J$19:$O$105,5,FALSE)) | G21: =IF($B21="","",VLOOKUP($B21,手順1!$J$19:$O$105,6,FALSE)) | H21: =IF(B21="","","女") | W21: 110 | X21: =IF(B21="","",W21) | Y21: =COUNTIF(B$12:B$107,B21) -> 0 | AB21: =IF(AD21="","",COUNTIF(I$12:I$107,AD21)) | AC21: =COUNTIF($I$12:$I$107,AD21) -> 0
A22: =IF(B22="","",W22) | C22: =IF($B22="","",VLOOKUP($B22,手順1!$J$19:$O$105,2,FALSE)) | D22: =IF($B22="","",VLOOKUP($B22,手順1!$J$19:$O$105,3,FALSE)) | E22: =IF($B22="","",VLOOKUP($B22,手順1!$J$19:$O$105,4,FALSE)) | F22: =IF($B22="","",VLOOKUP($B22,手順1!$J$19:$O$105,5,FALSE)) | G22: =IF($B22="","",VLOOKUP($B22,手順1!$J$19:$O$105,6,FALSE)) | H22: =IF(B22="","","女") | W22: 111 | X22: =IF(B22="","",W22) | Y22: =COUNTIF(B$12:B$107,B22) -> 0 | AB22: =IF(AD22="","",COUNTIF(I$12:I$107,AD22)) | AC22: =COUNTIF($I$12:$I$107,AD22) -> 0
A23: =IF(B23="","",W23) | C23: =IF($B23="","",VLOOKUP($B23,手順1!$J$19:$O$105,2,FALSE)) | D23: =IF($B23="","",VLOOKUP($B23,手順1!$J$19:$O$105,3,FALSE)) | E23: =IF($B23="","",VLOOKUP($B23,手順1!$J$19:$O$105,4,FALSE)) | F23: =IF($B23="","",VLOOKUP($B23,手順1!$J$19:$O$105,5,FALSE)) | G23: =IF($B23="","",VLOOKUP($B23,手順1!$J$19:$O$105,6,FALSE)) | H23: =IF(B23="","","女") | W23: 112 | X23: =IF(B23="","",W23) | Y23: =COUNTIF(B$12:B$107,B23) -> 0 | AB23: =IF(AD23="","",COUNTIF(I$12:I$107,AD23)) | AC23: =COUNTIF($I$12:$I$107,AD23) -> 0
A24: =IF(B24="","",W24) | C24: =IF($B24="","",VLOOKUP($B24,手順1!$J$19:$O$105,2,FALSE)) | D24: =IF($B24="","",VLOOKUP($B24,手順1!$J$19:$O$105,3,FALSE)) | E24: =IF($B24="","",VLOOKUP($B24,手順1!$J$19:$O$105,4,FALSE)) | F24: =IF($B24="","",VLOOKUP($B24,手順1!$J$19:$O$105,5,FALSE)) | G24: =IF($B24="","",VLOOKUP($B24,手順1!$J$19:$O$105,6,FALSE)) | H24: =IF(B24="","","女") | W24: 113 | X24: =IF(B24="","",W24) | Y24: =COUNTIF(B$12:B$107,B24) -> 0 | AB24: =IF(AD24="","",COUNTIF(I$12:I$107,AD24)) | AC24: =COUNTIF($I$12:$I$107,AD24) -> 0
A25: =IF(B25="","",W25) | C25: =IF($B25="","",VLOOKUP($B25,手順1!$J$19:$O$105,2,FALSE)) | D25: =IF($B25="","",VLOOKUP($B25,手順1!$J$19:$O$105,3,FALSE)) | E25: =IF($B25="","",VLOOKUP($B25,手順1!$J$19:$O$105,4,FALSE)) | F25: =IF($B25="","",VLOOKUP($B25,手順1!$J$19:$O$105,5,FALSE)) | G25: =IF($B25="","",VLOOKUP($B25,手順1!$J$19:$O$105,6,FALSE)) | H25: =IF(B25="","","女") | W25: 114 | X25: =IF(B25="","",W25) | Y25: =COUNTIF(B$12:B$107,B25) -> 0 | AB25: =IF(AD25="","",COUNTIF(I$12:I$107,AD25)) | AC25: =COUNTIF($I$12:$I$107,AD25) -> 0
A26: =IF(B26="","",W26) | C26: =IF($B26="","",VLOOKUP($B26,手順1!$J$19:$O$105,2,FALSE)) | D26: =IF($B26="","",VLOOKUP($B26,手順1!$J$19:$O$105,3,FALSE)) | E26: =IF($B26="","",VLOOKUP($B26,手順1!$J$19:$O$105,4,FALSE)) | F26: =IF($B26="","",VLOOKUP($B26,手順1!$J$19:$O$105,5,FALSE)) | G26: =IF($B26="","",VLOOKUP($B26,手順1!$J$19:$O$105,6,FALSE)) | H26: =IF(B26="","","女") | W26: 115 | X26: =IF(B26="","",W26) | Y26: =COUNTIF(B$12:B$107,B26) -> 0 | AB26: =IF(AD26="","",COUNTIF(I$12:I$107,AD26)) | AC26: =COUNTIF($I$12:$I$107,AD26) -> 0
... A50: =IF(B50="","",W50) | C50: =IF($B50="","",VLOOKUP($B50,手順1!$J$19:$O$105,2,FALSE)) | D50: =IF($B50="","",VLOOKUP($B50,手順1!$J$19:$O$105,3,FALSE)) | E50: =IF($B50="","",VLOOKUP($B50,手順1!$J$19:$O$105,4,FALSE)) | F50: =IF($B50="","",VLOOKUP($B50,手順1!$J$19:$O$105,5,FALSE)) | G50: =IF($B50="","",VLOOKUP($B50,手順1!$J$19:$O$105,6,FALSE)) | H50: =IF(B50="","","女") | W50: 139 | X50: =IF(B50="","",W50) | Y50: =COUNTIF(B$12:B$107,B50) -> 0 | AB50: =IF(AD50="","",COUNTIF(I$12:I$107,AD50)) | AC50: =COUNTIF($I$12:$I$107,AD50) -> 0
A51: =IF(B51="","",W51) | C51: =IF($B51="","",VLOOKUP($B51,手順1!$J$19:$O$105,2,FALSE)) | D51: =IF($B51="","",VLOOKUP($B51,手順1!$J$19:$O$105,3,FALSE)) | E51: =IF($B51="","",VLOOKUP($B51,手順1!$J$19:$O$105,4,FALSE)) | F51: =IF($B51="","",VLOOKUP($B51,手順1!$J$19:$O$105,5,FALSE)) | G51: =IF($B51="","",VLOOKUP($B51,手順1!$J$19:$O$105,6,FALSE)) | H51: =IF(B51="","","女") | W51: 140 | X51: =IF(B51="","",W51) | Y51: =COUNTIF(B$12:B$107,B51) -> 0 | AB51: =IF(AD51="","",COUNTIF(I$12:I$107,AD51))
A52: =IF(B52="","",W52) | C52: =IF($B52="","",VLOOKUP($B52,手順1!$J$19:$O$105,2,FALSE)) | D52: =IF($B52="","",VLOOKUP($B52,手順1!$J$19:$O$105,3,FALSE)) | E52: =IF($B52="","",VLOOKUP($B52,手順1!$J$19:$O$105,4,FALSE)) | F52: =IF($B52="","",VLOOKUP($B52,手順1!$J$19:$O$105,5,FALSE)) | G52: =IF($B52="","",VLOOKUP($B52,手順1!$J$19:$O$105,6,FALSE)) | H52: =IF(B52="","","女") | W52: 141 | X52: =IF(B52="","",W52) | Y52: =COUNTIF(B$12:B$107,B52) -> 0 | AB52: =IF(AD52="","",COUNTIF(I$12:I$107,AD52))
A53: =IF(B53="","",W53) | C53: =IF($B53="","",VLOOKUP($B53,手順1!$J$19:$O$105,2,FALSE)) | D53: =IF($B53="","",VLOOKUP($B53,手順1!$J$19:$O$105,3,FALSE)) | E53: =IF($B53="","",VLOOKUP($B53,手順1!$J$19:$O$105,4,FALSE)) | F53: =IF($B53="","",VLOOKUP($B53,手順1!$J$19:$O$105,5,FALSE)) | G53: =IF($B53="","",VLOOKUP($B53,手順1!$J$19:$O$105,6,FALSE)) | H53: =IF(B53="","","女") | W53: 142 | X53: =IF(B53="","",W53) | Y53: =COUNTIF(B$12:B$107,B53) -> 0 | AB53: =IF(AD53="","",COUNTIF(I$12:I$107,AD53))
A54: =IF(B54="","",W54) | C54: =IF($B54="","",VLOOKUP($B54,手順1!$J$19:$O$105,2,FALSE)) | D54: =IF($B54="","",VLOOKUP($B54,手順1!$J$19:$O$105,3,FALSE)) | E54: =IF($B54="","",VLOOKUP($B54,手順1!$J$19:$O$105,4,FALSE)) | F54: =IF($B54="","",VLOOKUP($B54,手順1!$J$19:$O$105,5,FALSE)) | G54: =IF($B54="","",VLOOKUP($B54,手順1!$J$19:$O$105,6,FALSE)) | H54: =IF(B54="","","女") | W54: 143 | X54: =IF(B54="","",W54) | Y54: =COUNTIF(B$12:B$107,B54) -> 0 | AB54: =IF(AD54="","",COUNTIF(I$12:I$107,AD54))
A55: =IF(B55="","",W55) | C55: =IF($B55="","",VLOOKUP($B55,手順1!$J$19:$O$105,2,FALSE)) | D55: =IF($B55="","",VLOOKUP($B55,手順1!$J$19:$O$105,3,FALSE)) | E55: =IF($B55="","",VLOOKUP($B55,手順1!$J$19:$O$105,4,FALSE)) | F55: =IF($B55="","",VLOOKUP($B55,手順1!$J$19:$O$105,5,FALSE)) | G55: =IF($B55="","",VLOOKUP($B55,手順1!$J$19:$O$105,6,FALSE)) | H55: =IF(B55="","","女") | W55: 144 | X55: =IF(B55="","",W55) | Y55: =COUNTIF(B$12:B$107,B55) -> 0 | AB55: =IF(AD55="","",COUNTIF(I$12:I$107,AD55))
A56: =IF(B56="","",W56) | C56: =IF($B56="","",VLOOKUP($B56,手順1!$J$19:$O$105,2,FALSE)) | D56: =IF($B56="","",VLOOKUP($B56,手順1!$J$19:$O$105,3,FALSE)) | E56: =IF($B56="","",VLOOKUP($B56,手順1!$J$19:$O$105,4,FALSE)) | F56: =IF($B56="","",VLOOKUP($B56,手順1!$J$19:$O$105,5,FALSE)) | G56: =IF($B56="","",VLOOKUP($B56,手順1!$J$19:$O$105,6,FALSE)) | H56: =IF(B56="","","女") | W56: 145 | X56: =IF(B56="","",W56) | Y56: =COUNTIF(B$12:B$107,B56) -> 0 | AB56: =IF(AD56="","",COUNTIF(I$12:I$107,AD56))
A57: =IF(B57="","",W57) | C57: =IF($B57="","",VLOOKUP($B57,手順1!$J$19:$O$105,2,FALSE)) | D57: =IF($B57="","",VLOOKUP($B57,手順1!$J$19:$O$105,3,FALSE)) | E57: =IF($B57="","",VLOOKUP($B57,手順1!$J$19:$O$105,4,FALSE)) | F57: =IF($B57="","",VLOOKUP($B57,手順1!$J$19:$O$105,5,FALSE)) | G57: =IF($B57="","",VLOOKUP($B57,手順1!$J$19:$O$105,6,FALSE)) | H57: =IF(B57="","","女") | W57: 146 | X57: =IF(B57="","",W57) | Y57: =COUNTIF(B$12:B$107,B57) -> 0 | AB57: =IF(AD57="","",COUNTIF(I$12:I$107,AD57))
A58: =IF(B58="","",W58) | C58: =IF($B58="","",VLOOKUP($B58,手順1!$J$19:$O$105,2,FALSE)) | D58: =IF($B58="","",VLOOKUP($B58,手順1!$J$19:$O$105,3,FALSE)) | E58: =IF($B58="","",VLOOKUP($B58,手順1!$J$19:$O$105,4,FALSE)) | F58: =IF($B58="","",VLOOKUP($B58,手順1!$J$19:$O$105,5,FALSE)) | G58: =IF($B58="","",VLOOKUP($B58,手順1!$J$19:$O$105,6,FALSE)) | H58: =IF(B58="","","女") | W58: 147 | X58: =IF(B58="","",W58) | Y58: =COUNTIF(B$12:B$107,B58) -> 0 | AB58: =IF(AD58="","",COUNTIF(I$12:I$107,AD58))
A59: =IF(B59="","",W59) | C59: =IF($B59="","",VLOOKUP($B59,手順1!$J$19:$O$105,2,FALSE)) | D59: =IF($B59="","",VLOOKUP($B59,手順1!$J$19:$O$105,3,FALSE)) | E59: =IF($B59="","",VLOOKUP($B59,手順1!$J$19:$O$105,4,FALSE)) | F59: =IF($B59="","",VLOOKUP($B59,手順1!$J$19:$O$105,5,FALSE)) | G59: =IF($B59="","",VLOOKUP($B59,手順1!$J$19:$O$105,6,FALSE)) | H59: =IF(B59="","","女") | W59: 148 | X59: =IF(B59="","",W59) | Y59: =COUNTIF(B$12:B$107,B59) -> 0 | AB59: =IF(AD59="","",COUNTIF(I$12:I$107,AD59))
A60: =IF(B60="","",W60) | C60: =IF($B60="","",VLOOKUP($B60,手順1!$J$19:$O$105,2,FALSE)) | D60: =IF($B60="","",VLOOKUP($B60,手順1!$J$19:$O$105,3,FALSE)) | E60: =IF($B60="","",VLOOKUP($B60,手順1!$J$19:$O$105,4,FALSE)) | F60: =IF($B60="","",VLOOKUP($B60,手順1!$J$19:$O$105,5,FALSE)) | G60: =IF($B60="","",VLOOKUP($B60,手順1!$J$19:$O$105,6,FALSE)) | H60: =IF(B60="","","女") | W60: 149 | X60: =IF(B60="","",W60) | Y60: =COUNTIF(B$12:B$107,B60) -> 0 | AB60: =IF(AD60="","",COUNTIF(I$12:I$107,AD60))
A61: =IF(B61="","",W61) | C61: =IF($B61="","",VLOOKUP($B61,手順1!$J$19:$O$105,2,FALSE)) | D61: =IF($B61="","",VLOOKUP($B61,手順1!$J$19:$O$105,3,FALSE)) | E61: =IF($B61="","",VLOOKUP($B61,手順1!$J$19:$O$105,4,FALSE)) | F61: =IF($B61="","",VLOOKUP($B61,手順1!$J$19:$O$105,5,FALSE)) | G61: =IF($B61="","",VLOOKUP($B61,手順1!$J$19:$O$105,6,FALSE)) | H61: =IF(B61="","","女") | W61: 150 | X61: =IF(B61="","",W61) | Y61: =COUNTIF(B$12:B$107,B61) -> 0 | AB61: =IF(AD61="","",COUNTIF(I$12:I$107,AD61))
A62: =IF(B62="","",W62) | C62: =IF($B62="","",VLOOKUP($B62,手順1!$J$19:$O$105,2,FALSE)) | D62: =IF($B62="","",VLOOKUP($B62,手順1!$J$19:$O$105,3,FALSE)) | E62: =IF($B62="","",VLOOKUP($B62,手順1!$J$19:$O$105,4,FALSE)) | F62: =IF($B62="","",VLOOKUP($B62,手順1!$J$19:$O$105,5,FALSE)) | G62: =IF($B62="","",VLOOKUP($B62,手順1!$J$19:$O$105,6,FALSE)) | H62: =IF(B62="","","女") | W62: 151 | X62: =IF(B62="","",W62) | Y62: =COUNTIF(B$12:B$107,B62) -> 0 | AB62: =IF(AD62="","",COUNTIF(I$12:I$107,AD62))
... A107: =IF(B107="","",W107) | C107: =IF($B107="","",VLOOKUP($B107,手順1!$J$19:$O$105,2,FALSE)) | D107: =IF($B107="","",VLOOKUP($B107,手順1!$J$19:$O$105,3,FALSE)) | E107: =IF($B107="","",VLOOKUP($B107,手順1!$J$19:$O$105,4,FALSE)) | F107: =IF($B107="","",VLOOKUP($B107,手順1!$J$19:$O$105,5,FALSE)) | G107: =IF($B107="","",VLOOKUP($B107,手順1!$J$19:$O$105,6,FALSE)) | H107: =IF(B107="","","女") | W107: 196 | X107: =IF(B107="","",W107) | Y107: =COUNTIF(B$12:B$107,B107) -> 0 | AB107: =IF(AD107="","",COUNTIF(I$12:I$107,AD107))

Sheet 手順４
A1: 手順４ 入力データの簡易確認
A2: 手順４では入力データの簡易確認を行います。
A3: １ 以下のチェック項目のすべてが「●完了」となっていれば「手順５」シートに進んでください。
A4: ２ 「●完了」となっていない項目がれば、その手順に戻って入力内容を確認してください。
A6: 手順 | B6: 団体名の選択 | C6: =IF(手順1!E11="選択して下さい",1,0) -> 1 | E6: =IF(C6=1,"〇未完了 手順１シートの「団体名欄」を選択してください","●完了") -> 〇未完了 手順１シートの「団体名欄」を選択してください
A7: 1 | B7: 団体区分の選択 | C7: =IF(手順1!E12="選択して下さい",1,0) -> 0 | E7: =IF(C7=1,"〇未完了 手順１シートの「団体区分欄」を選択してください","●完了") -> ●完了
B8: 男子の選手登録 | C8: =手順2!Y10 -> 0 | E8: =IF(C8>=2,"〇未完了 手順２シートの選手に重複があります","●完了") -> ●完了
A9: 手順 | B9: 男子の選手登録 | C9: =手順2!X10 -> 0 | E9: =IF(C9>=1,"〇未完了 手順２シートの選手は上から詰めて入力してください（空白行が途中に入らないように）","●完了") -> ●完了
A10: 2 | B10: 男子のリレーメンバー | C10: =MAX(手順2!Z10,手順2!AA10) -> 0 | E10: =IF(C10>=7,"〇未完了 手順２シートのリレーメンバーが多過ぎます","●完了") -> ●完了
B11: 男子のリレー記録 | C11: =手順2!Z10 -> 0 | D11: =手順2!AA10 -> 0 | E11: =IF(C11=0,"●完了",IF(C11>=1,IF(手順2!P12&手順2!Q12="","〇未完了 手順２シートのリレー記録が未入力です",IF(D11=0,"●完了",IF(D11>=1,IF(手順2!P13&手順2!Q13="","〇未完了 手順２シートのリレー記録が未入力です","●完了"),"●完了"))))) -> ●完了
B12: 男子の種目選択 | C12: =手順2!AB10 -> 0 | E12: =IF(C12>=1,"〇未完了 手順２シートの種目に誤りがあります","●完了") -> ●完了
B13: 女子の選手登録 | C13: =手順3!Y10 -> 0 | E13: =IF(C13>=2,"〇未完了 手順３シートに選手の重複があります","●完了") -> ●完了
A14: 手順 | B14: 女子の選手登録 | C14: =手順3!X10 -> -100 | E14: =IF(C14>=1,"〇未完了 手順３シートの選手は上から詰めて入力してください（空白行が途中に入らないように）","●完了") -> ●完了
A15: 3 | B15: 女子のリレーメンバー | C15: =MAX(手順3!Z10,手順3!AA10) -> 0 | E15: =IF(C15>=7,"〇未完了 手順３シートのリレーメンバーが多過ぎます","●完了") -> ●完了
B16: 女子のリレー記録 | C16: =手順3!Z10 -> 0 | D16: =手順3!AA10 -> 0 | E16: =IF(C16=0,"●完了",IF(C16>=1,IF(手順3!P12&手順3!Q12="","〇未完了 手順３シートのリレー記録が未入力です",IF(D16=0,"●完了",IF(D16>=1,IF(手順3!P13&手順3!Q13="","〇未完了 手順３シートのリレー記録が未入力です","●完了")))))) -> ●完了
B17: 女子の種目選択 | C17: =手順3!AB10 -> 0 | E17: =IF(C17>=1,"〇未完了 手順３シートの種目に誤りがあります","●完了") -> ●完了

Sheet 手順５
C1: 2 | D1: =C1+1 -> 3 | E1: =D1+1 -> 4 | F1: =E1+1 -> 5 | G1: =F1+1 -> 6 | H1: =G1+1 -> 7 | I1: =H1+1 -> 8 | J1: =I1+1 -> 9 | K1: =J1+1 -> 10 | ... U1: =T1+1 -> 20
C2: 手順５ 保存
C3: 手順５では申込用紙の印刷とデータの保存を行います。
C4: このシートを印刷して、「学校番号_学校名」または「団体名」の名前をつけて保存をしてください。
C5: 用紙の郵送は不要です。
C7: 小学用／神戸市総合スポーツ大会 兼 神戸リレーカーニバル 申込用紙（保存・印刷用）
C8: 団体情報 | J8: 推薦審判員 | Q8: 参加料 | AB8: 参加料リスト
C9: 団体名 | F9: =IF(手順1!E11="","",手順1!E11) -> 選択して下さい | J9: 1 | K9: =IF(手順1!K12="","",手順1!K12) | N9: =IF(手順1!M12="","",手順1!M12) | S9: 種目数 | T9: 単価 | U9: 合計 | AB9: 一般・高校 | AC9: 500
C10: 申込区分 | F10: =IF(手順1!E12="","",手順1!E12) -> 小学 | J10: 2 | K10: =IF(手順1!K13="","",手順1!K13) | N10: =IF(手順1!M13="","",手順1!M13) | P10: =COUNTA(手順2!$B12:$B107) -> 0 | Q10: 男子 | S10: =COUNTA(手順2!I$12:I$107) -> 0 | T10: =IFERROR(VLOOKUP(F10,AB9:AC12,2,FALSE),"") -> 100 | U10: =IF(P10=0,0,T10*S10) -> 0 | AB10: 中学 | AC10: 400
C11: 申込責任者名 | F11: =IF(手順1!E13="","",手順1!E13) | J11: 3 | K11: =IF(手順1!K14="","",手順1!K14) | N11: =IF(手順1!M14="","",手順1!M14) | P11: =COUNTA(手順3!$B12:$B107) -> 0 | Q11: 女子 | S11: =COUNTA(手順3!I$12:I$107) -> 0 | T11: =IFERROR(VLOOKUP(F10,AB9:AC12,2,FALSE),"") -> 100 | U11: =IF(P11=0,0,T11*S11) -> 0 | AB11: 小学 | AC11: 100
C12: 緊急連絡先（携帯番号等） | F12: =IF(手順1!E14="","",手順1!E14) | J12: 4 | K12: =IF(手順1!K15="","",手順1!K15) | N12: =IF(手順1!M15="","",手順1!M15) | Q12: リレー | S12: =COUNTIF(手順2!Z10:'手順2'!AA10,">"&0)+COUNTIF(手順3!Z10:'手順3'!AA10,">"&0) -> 0 | T12: =AC12 -> 400 | U12: =T12*S12 -> 0 | AB12: リレー | AC12: 400
P13: =SUM(P10:P11) -> 0 | Q13: 合計金額 | S13: =SUM(U10:U12) -> 0 | AB13: プログラム | AC13: 500
C15: 選手情報
C16: ﾅﾝﾊﾞｰ ｶｰﾄﾞ | D16: 名前 | F16: ﾌﾘｶﾞﾅ | H16: 学年 | I16: 性別 | J16: 種目１ | N16: 4*100R | P16: 男子4*100R記録
D17: 姓 | E17: 名 | F17: 姓ﾌﾘｶﾞﾅ | G17: 名ﾌﾘｶﾞﾅ | J17: 種目 | K17: 分 | L17: 秒 m | M17: 1/100 cm | N17: ﾘﾚﾒﾝ | P17: 分 | Q17: 秒 | R17: 100/1 | W17: 男A | X17: 男B | Y17: 女A | Z17: 女B | AA17: 団体名 | AB17: DB | AC17: N1 | AD17: N2 | AE17: SX | AF17: KC | AG17: MC | AH17: ZK | AI17: S1 | AK17: Relay | AM17: S1 S2 作成用種目リスト（編集は種目情報シートで！）
A18: 1 | B18: =IF(手順2!A12=手順５!A18,手順５!A18,手順3!A12) | C18: =IFERROR(VLOOKUP($B18,手順2!$A$12:$P$107,C$1,FALSE),"")&IFERROR(VLOOKUP($B18,手順3!$A$12:$Q$107,C$1,FALSE),"") | D18: =IFERROR(VLOOKUP($B18,手順2!$A$12:$P$107,D$1,FALSE),"")&IFERROR(VLOOKUP($B18,手順3!$A$12:$Q$107,D$1,FALSE),"") | E18: =IFERROR(VLOOKUP($B18,手順2!$A$12:$P$107,E$1,FALSE),"")&IFERROR(VLOOKUP($B18,手順3!$A$12:$Q$107,E$1,FALSE),"") | F18: =IFERROR(VLOOKUP($B18,手順2!$A$12:$P$107,F$1,FALSE),"")&IFERROR(VLOOKUP($B18,手順3!$A$12:$Q$107,F$1,FALSE),"") | G18: =IFERROR(VLOOKUP($B18,手順2!$A$12:$P$107,G$1,FALSE),"")&IFERROR(VLOOKUP($B18,手順3!$A$12:$Q$107,G$1,FALSE),"") | H18: =IFERROR(VLOOKUP($B18,手順2!$A$12:$P$107,H$1,FALSE),"")&IFERROR(VLOOKUP($B18,手順3!$A$12:$Q$107,H$1,FALSE),"") | I18: =IFERROR(VLOOKUP($B18,手順2!$A$12:$P$107,I$1,FALSE),"")&IFERROR(VLOOKUP($B18,手順3!$A$12:$Q$107,I$1,FALSE),"") | J18: =IFERROR(VLOOKUP($B18,手順2!$A$12:$P$107,J$1,FALSE),"")&IFERROR(VLOOKUP($B18,手順3!$A$12:$Q$107,J$1,FALSE),"") | K18: =IF(J18="","",IF(IFERROR(VLOOKUP($B18,手順2!$A$12:$P$107,K$1,FALSE),"")&IFERROR(VLOOKUP($B18,手順3!$A$12:$Q$107,K$1,FALSE),"")="",0,IFERROR(VLOOKUP($B18,手順2!$A$12:$P$107,K$1,FALSE),"")&IFERROR(VLOOKUP($B18,手順3!$A$12:$Q$107,K$1,FALSE),""))) | L18: =IF(J18="","",IF(IFERROR(VLOOKUP($B18,手順2!$A$12:$P$107,L$1,FALSE),"")&IFERROR(VLOOKUP($B18,手順3!$A$12:$Q$107,L$1,FALSE),"")="",0,IFERROR(VLOOKUP($B18,手順2!$A$12:$P$107,L$1,FALSE),"")&IFERROR(VLOOKUP($B18,手順3!$A$12:$Q$107,L$1,FALSE),""))) | M18: =IF(J18="","",IF(IFERROR(VLOOKUP($B18,手順2!$A$12:$P$107,M$1,FALSE),"")&IFERROR(VLOOKUP($B18,手順3!$A$12:$Q$107,M$1,FALSE),"")="",0,IFERROR(VLOOKUP($B18,手順2!$A$12:$P$107,M$1,FALSE),"")&IFERROR(VLOOKUP($B18,手順3!$A$12:$Q$107,M$1,FALSE),""))) | N18: =IFERROR(VLOOKUP($B18,手順2!$A$12:$P$107,N$1,FALSE),"")&IFERROR(VLOOKUP($B18,手順3!$A$12:$Q$107,N$1,FALSE),"") | O18: A | P18: =IF(手順2!P12="","",IF(手順2!O12="",0,手順2!O12)) | Q18: =IF(手順2!P12="","",手順2!P12) | R18: =IF(手順2!Q12="","",手順2!Q12) | W18: =IF($AA18="","",COUNTIF($AK$18:$AK18,W$17)) | X18: =IF($AA18="","",COUNTIF($AK$18:$AK18,X$17)) | Y18: =IF($AA18="","",COUNTIF($AK$18:$AK18,Y$17)) | Z18: =IF($AA18="","",COUNTIF($AK$18:$AK18,Z$17)) | AA18: =IF(C18="","",$F$9) | AB18: =IF(AA18="","",AE18*100000000+AG18*100+RIGHT(AH18,2)) | AC18: =IF(C18="","",IF(LEN(D18)+LEN(E18)<4,D18&" "&E18&"("&H18&")",IF(LEN(D18)+LEN(E18)>4,D18&E18&"("&H18&")",D18&" "&E18&"("&H18&")"))) | AD18: =IF(C18="","",F18&" "&G18) | AE18: =IF(C18="","",IF(I18="男",1,2)) | AF18: =IF(C18="","",28) | AG18: =IF(C18="","",LEFT(AA18,6)) | AH18: =IF(C18="","",C18) | AI18: =IF(J18="","",IF(VLOOKUP(J18,$AM$18:$AO$102,3,FALSE)>=71,VLOOKUP(J18,$AM$18:$AO$102,2,FALSE)&TEXT(L18,"00")&TEXT(M18,"00"),VLOOKUP(J18,$AM$18:$AO$102,2,FALSE)&TEXT(K18,"00")&TEXT(L18,"00")&TEXT(M18,"00"))) | AK18: =IF(N18="","",N18) | AM18: =種目情報!A1 -> 女800ｍｵｰﾌﾟﾝ | AN18: =種目情報!B1 -> 00626 0 | AO18: =種目情報!C1 -> 6
A19: 2 | B19: =IFERROR(IF(B18=手順3!$A$11,"",IF(B18<=100,IF(手順2!A13=手順５!A19,手順５!A19,手順3!$A$12),B18+1)),"") | C19: =IFERROR(VLOOKUP($B19,手順2!$A$12:$P$107,C$1,FALSE),"")&IFERROR(VLOOKUP($B19,手順3!$A$12:$Q$107,C$1,FALSE),"") | D19: =IFERROR(VLOOKUP($B19,手順2!$A$12:$P$107,D$1,FALSE),"")&IFERROR(VLOOKUP($B19,手順3!$A$12:$Q$107,D$1,FALSE),"") | E19: =IFERROR(VLOOKUP($B19,手順2!$A$12:$P$107,E$1,FALSE),"")&IFERROR(VLOOKUP($B19,手順3!$A$12:$Q$107,E$1,FALSE),"") | F19: =IFERROR(VLOOKUP($B19,手順2!$A$12:$P$107,F$1,FALSE),"")&IFERROR(VLOOKUP($B19,手順3!$A$12:$Q$107,F$1,FALSE),"") | G19: =IFERROR(VLOOKUP($B19,手順2!$A$12:$P$107,G$1,FALSE),"")&IFERROR(VLOOKUP($B19,手順3!$A$12:$Q$107,G$1,FALSE),"") | H19: =IFERROR(VLOOKUP($B19,手順2!$A$12:$P$107,H$1,FALSE),"")&IFERROR(VLOOKUP($B19,手順3!$A$12:$Q$107,H$1,FALSE),"") | I19: =IFERROR(VLOOKUP($B19,手順2!$A$12:$P$107,I$1,FALSE),"")&IFERROR(VLOOKUP($B19,手順3!$A$12:$Q$107,I$1,FALSE),"") | J19: =IFERROR(VLOOKUP($B19,手順2!$A$12:$P$107,J$1,FALSE),"")&IFERROR(VLOOKUP($B19,手順3!$A$12:$Q$107,J$1,FALSE),"") | K19: =IF(J19="","",IF(IFERROR(VLOOKUP($B19,手順2!$A$12:$P$107,K$1,FALSE),"")&IFERROR(VLOOKUP($B19,手順3!$A$12:$Q$107,K$1,FALSE),"")="",0,IFERROR(VLOOKUP($B19,手順2!$A$12:$P$107,K$1,FALSE),"")&IFERROR(VLOOKUP($B19,手順3!$A$12:$Q$107,K$1,FALSE),""))) | L19: =IF(J19="","",IF(IFERROR(VLOOKUP($B19,手順2!$A$12:$P$107,L$1,FALSE),"")&IFERROR(VLOOKUP($B19,手順3!$A$12:$Q$107,L$1,FALSE),"")="",0,IFERROR(VLOOKUP($B19,手順2!$A$12:$P$107,L$1,FALSE),"")&IFERROR(VLOOKUP($B19,手順3!$A$12:$Q$107,L$1,FALSE),""))) | M19: =IF(J19="","",IF(IFERROR(VLOOKUP($B19,手順2!$A$12:$P$107,M$1,FALSE),"")&IFERROR(VLOOKUP($B19,手順3!$A$12:$Q$107,M$1,FALSE),"")="",0,IFERROR(VLOOKUP($B19,手順2!$A$12:$P$107,M$1,FALSE),"")&IFERROR(VLOOKUP($B19,手順3!$A$12:$Q$107,M$1,FALSE),""))) | N19: =IFERROR(VLOOKUP($B19,手順2!$A$12:$P$107,N$1,FALSE),"")&IFERROR(VLOOKUP($B19,手順3!$A$12:$Q$107,N$1,FALSE),"") | O19: B | P19: =IF(手順2!P13="","",IF(手順2!O13="",0,手順2!O13)) | Q19: =IF(手順2!P13="","",手順2!P13) | R19: =IF(手順2!Q13="","",手順2!Q13) | W19: =IF($AA19="","",COUNTIF($AK$18:$AK19,W$17)) | X19: =IF($AA19="","",COUNTIF($AK$18:$AK19,X$17)) | Y19: =IF($AA19="","",COUNTIF($AK$18:$AK19,Y$17)) | Z19: =IF($AA19="","",COUNTIF($AK$18:$AK19,Z$17)) | AA19: =IF(C19="","",$F$9) | AB19: =IF(AA19="","",AE19*100000000+AG19*100+RIGHT(AH19,2)) | AC19: =IF(C19="","",IF(LEN(D19)+LEN(E19)<4,D19&" "&E19&"("&H19&")",IF(LEN(D19)+LEN(E19)>4,D19&E19&"("&H19&")",D19&" "&E19&"("&H19&")"))) | AD19: =IF(C19="","",F19&" "&G19) | AE19: =IF(C19="","",IF(I19="男",1,2)) | AF19: =IF(C19="","",28) | AG19: =IF(C19="","",LEFT(AA19,6)) | AH19: =IF(C19="","",C19) | AI19: =IF(J19="","",IF(VLOOKUP(J19,$AM$18:$AO$102,3,FALSE)>=71,VLOOKUP(J19,$AM$18:$AO$102,2,FALSE)&TEXT(L19,"00")&TEXT(M19,"00"),VLOOKUP(J19,$AM$18:$AO$102,2,FALSE)&TEXT(K19,"00")&TEXT(L19,"00")&TEXT(M19,"00"))) | AK19: =IF(N19="","",N19) | AM19: =種目情報!A2 -> 男1500ｍｵｰﾌﾟﾝ | AN19: =種目情報!B2 -> 00826 0 | AO19: =種目情報!C2 -> 8
A20: 3 | B20: =IFERROR(IF(B19=手順3!$A$11,"",IF(B19<=100,IF(手順2!A14=手順５!A20,手順５!A20,手順3!$A$12),B19+1)),"") | C20: =IFERROR(VLOOKUP($B20,手順2!$A$12:$P$107,C$1,FALSE),"")&IFERROR(VLOOKUP($B20,手順3!$A$12:$Q$107,C$1,FALSE),"") | D20: =IFERROR(VLOOKUP($B20,手順2!$A$12:$P$107,D$1,FALSE),"")&IFERROR(VLOOKUP($B20,手順3!$A$12:$Q$107,D$1,FALSE),"") | E20: =IFERROR(VLOOKUP($B20,手順2!$A$12:$P$107,E$1,FALSE),"")&IFERROR(VLOOKUP($B20,手順3!$A$12:$Q$107,E$1,FALSE),"") | F20: =IFERROR(VLOOKUP($B20,手順2!$A$12:$P$107,F$1,FALSE),"")&IFERROR(VLOOKUP($B20,手順3!$A$12:$Q$107,F$1,FALSE),"") | G20: =IFERROR(VLOOKUP($B20,手順2!$A$12:$P$107,G$1,FALSE),"")&IFERROR(VLOOKUP($B20,手順3!$A$12:$Q$107,G$1,FALSE),"") | H20: =IFERROR(VLOOKUP($B20,手順2!$A$12:$P$107,H$1,FALSE),"")&IFERROR(VLOOKUP($B20,手順3!$A$12:$Q$107,H$1,FALSE),"") | I20: =IFERROR(VLOOKUP($B20,手順2!$A$12:$P$107,I$1,FALSE),"")&IFERROR(VLOOKUP($B20,手順3!$A$12:$Q$107,I$1,FALSE),"") | J20: =IFERROR(VLOOKUP($B20,手順2!$A$12:$P$107,J$1,FALSE),"")&IFERROR(VLOOKUP($B20,手順3!$A$12:$Q$107,J$1,FALSE),"") | K20: =IF(J20="","",IF(IFERROR(VLOOKUP($B20,手順2!$A$12:$P$107,K$1,FALSE),"")&IFERROR(VLOOKUP($B20,手順3!$A$12:$Q$107,K$1,FALSE),"")="",0,IFERROR(VLOOKUP($B20,手順2!$A$12:$P$107,K$1,FALSE),"")&IFERROR(VLOOKUP($B20,手順3!$A$12:$Q$107,K$1,FALSE),""))) | L20: =IF(J20="","",IF(IFERROR(VLOOKUP($B20,手順2!$A$12:$P$107,L$1,FALSE),"")&IFERROR(VLOOKUP($B20,手順3!$A$12:$Q$107,L$1,FALSE),"")="",0,IFERROR(VLOOKUP($B20,手順2!$A$12:$P$107,L$1,FALSE),"")&IFERROR(VLOOKUP($B20,手順3!$A$12:$Q$107,L$1,FALSE),""))) | M20: =IF(J20="","",IF(IFERROR(VLOOKUP($B20,手順2!$A$12:$P$107,M$1,FALSE),"")&IFERROR(VLOOKUP($B20,手順3!$A$12:$Q$107,M$1,FALSE),"")="",0,IFERROR(VLOOKUP($B20,手順2!$A$12:$P$107,M$1,FALSE),"")&IFERROR(VLOOKUP($B20,手順3!$A$12:$Q$107,M$1,FALSE),""))) | N20: =IFERROR(VLOOKUP($B20,手順2!$A$12:$P$107,N$1,FALSE),"")&IFERROR(VLOOKUP($B20,手順3!$A$12:$Q$107,N$1,FALSE),"") | P20: 女子4*100R記録 | W20: =IF($AA20="","",COUNTIF($AK$18:$AK20,W$17)) | X20: =IF($AA20="","",COUNTIF($AK$18:$AK20,X$17)) | Y20: =IF($AA20="","",COUNTIF($AK$18:$AK20,Y$17)) | Z20: =IF($AA20="","",COUNTIF($AK$18:$AK20,Z$17)) | AA20: =IF(C20="","",$F$9) | AB20: =IF(AA20="","",AE20*100000000+AG20*100+RIGHT(AH20,2)) | AC20: =IF(C20="","",IF(LEN(D20)+LEN(E20)<4,D20&" "&E20&"("&H20&")",IF(LEN(D20)+LEN(E20)>4,D20&E20&"("&H20&")",D20&" "&E20&"("&H20&")"))) | AD20: =IF(C20="","",F20&" "&G20) | AE20: =IF(C20="","",IF(I20="男",1,2)) | AF20: =IF(C20="","",28) | AG20: =IF(C20="","",LEFT(AA20,6)) | AH20: =IF(C20="","",C20) | AI20: =IF(J20="","",IF(VLOOKUP(J20,$AM$18:$AO$102,3,FALSE)>=71,VLOOKUP(J20,$AM$18:$AO$102,2,FALSE)&TEXT(L20,"00")&TEXT(M20,"00"),VLOOKUP(J20,$AM$18:$AO$102,2,FALSE)&TEXT(K20,"00")&TEXT(L20,"00")&TEXT(M20,"00"))) | AK20: =IF(N20="","",N20) | AM20: =種目情報!A3 -> 0 | AN20: =種目情報!B3 -> 0 | AO20: =種目情報!C3 -> 0
A21: 4 | B21: =IFERROR(IF(B20=手順3!$A$11,"",IF(B20<=100,IF(手順2!A15=手順５!A21,手順５!A21,手順3!$A$12),B20+1)),"") | C21: =IFERROR(VLOOKUP($B21,手順2!$A$12:$P$107,C$1,FALSE),"")&IFERROR(VLOOKUP($B21,手順3!$A$12:$Q$107,C$1,FALSE),"") | D21: =IFERROR(VLOOKUP($B21,手順2!$A$12:$P$107,D$1,FALSE),"")&IFERROR(VLOOKUP($B21,手順3!$A$12:$Q$107,D$1,FALSE),"") | E21: =IFERROR(VLOOKUP($B21,手順2!$A$12:$P$107,E$1,FALSE),"")&IFERROR(VLOOKUP($B21,手順3!$A$12:$Q$107,E$1,FALSE),"") | F21: =IFERROR(VLOOKUP($B21,手順2!$A$12:$P$107,F$1,FALSE),"")&IFERROR(VLOOKUP($B21,手順3!$A$12:$Q$107,F$1,FALSE),"") | G21: =IFERROR(VLOOKUP($B21,手順2!$A$12:$P$107,G$1,FALSE),"")&IFERROR(VLOOKUP($B21,手順3!$A$12:$Q$107,G$1,FALSE),"") | H21: =IFERROR(VLOOKUP($B21,手順2!$A$12:$P$107,H$1,FALSE),"")&IFERROR(VLOOKUP($B21,手順3!$A$12:$Q$107,H$1,FALSE),"") | I21: =IFERROR(VLOOKUP($B21,手順2!$A$12:$P$107,I$1,FALSE),"")&IFERROR(VLOOKUP($B21,手順3!$A$12:$Q$107,I$1,FALSE),"") | J21: =IFERROR(VLOOKUP($B21,手順2!$A$12:$P$107,J$1,FALSE),"")&IFERROR(VLOOKUP($B21,手順3!$A$12:$Q$107,J$1,FALSE),"") | K21: =IF(J21="","",IF(IFERROR(VLOOKUP($B21,手順2!$A$12:$P$107,K$1,FALSE),"")&IFERROR(VLOOKUP($B21,手順3!$A$12:$Q$107,K$1,FALSE),"")="",0,IFERROR(VLOOKUP($B21,手順2!$A$12:$P$107,K$1,FALSE),"")&IFERROR(VLOOKUP($B21,手順3!$A$12:$Q$107,K$1,FALSE),""))) | L21: =IF(J21="","",IF(IFERROR(VLOOKUP($B21,手順2!$A$12:$P$107,L$1,FALSE),"")&IFERROR(VLOOKUP($B21,手順3!$A$12:$Q$107,L$1,FALSE),"")="",0,IFERROR(VLOOKUP($B21,手順2!$A$12:$P$107,L$1,FALSE),"")&IFERROR(VLOOKUP($B21,手順3!$A$12:$Q$107,L$1,FALSE),""))) | M21: =IF(J21="","",IF(IFERROR(VLOOKUP($B21,手順2!$A$12:$P$107,M$1,FALSE),"")&IFERROR(VLOOKUP($B21,手順3!$A$12:$Q$107,M$1,FALSE),"")="",0,IFERROR(VLOOKUP($B21,手順2!$A$12:$P$107,M$1,FALSE),"")&IFERROR(VLOOKUP($B21,手順3!$A$12:$Q$107,M$1,FALSE),""))) | N21: =IFERROR(VLOOKUP($B21,手順2!$A$12:$P$107,N$1,FALSE),"")&IFERROR(VLOOKUP($B21,手順3!$A$12:$Q$107,N$1,FALSE),"") | O21: A | P21: =IF(手順3!P12="","",IF(手順3!O12="",0,手順3!O12)) | Q21: =IF(手順3!P12="","",手順3!P12) | R21: =IF(手順3!Q12="","",手順3!Q12) | W21: =IF($AA21="","",COUNTIF($AK$18:$AK21,W$17)) | X21: =IF($AA21="","",COUNTIF($AK$18:$AK21,X$17)) | Y21: =IF($AA21="","",COUNTIF($AK$18:$AK21,Y$17)) | Z21: =IF($AA21="","",COUNTIF($AK$18:$AK21,Z$17)) | AA21: =IF(C21="","",$F$9) | AB21: =IF(AA21="","",AE21*100000000+AG21*100+RIGHT(AH21,2)) | AC21: =IF(C21="","",IF(LEN(D21)+LEN(E21)<4,D21&" "&E21&"("&H21&")",IF(LEN(D21)+LEN(E21)>4,D21&E21&"("&H21&")",D21&" "&E21&"("&H21&")"))) | AD21: =IF(C21="","",F21&" "&G21) | AE21: =IF(C21="","",IF(I21="男",1,2)) | AF21: =IF(C21="","",28) | AG21: =IF(C21="","",LEFT(AA21,6)) | AH21: =IF(C21="","",C21) | AI21: =IF(J21="","",IF(VLOOKUP(J21,$AM$18:$AO$102,3,FALSE)>=71,VLOOKUP(J21,$AM$18:$AO$102,2,FALSE)&TEXT(L21,"00")&TEXT(M21,"00"),VLOOKUP(J21,$AM$18:$AO$102,2,FALSE)&TEXT(K21,"00")&TEXT(L21,"00")&TEXT(M21,"00"))) | AK21: =IF(N21="","",N21) | AM21: =種目情報!A4 -> 0 | AN21: =種目情報!B4 -> 0 | AO21: =種目情報!C4 -> 0
A22: 5 | B22: =IFERROR(IF(B21=手順3!$A$11,"",IF(B21<=100,IF(手順2!A16=手順５!A22,手順５!A22,手順3!$A$12),B21+1)),"") | C22: =IFERROR(VLOOKUP($B22,手順2!$A$12:$P$107,C$1,FALSE),"")&IFERROR(VLOOKUP($B22,手順3!$A$12:$Q$107,C$1,FALSE),"") | D22: =IFERROR(VLOOKUP($B22,手順2!$A$12:$P$107,D$1,FALSE),"")&IFERROR(VLOOKUP($B22,手順3!$A$12:$Q$107,D$1,FALSE),"") | E22: =IFERROR(VLOOKUP($B22,手順2!$A$12:$P$107,E$1,FALSE),"")&IFERROR(VLOOKUP($B22,手順3!$A$12:$Q$107,E$1,FALSE),"") | F22: =IFERROR(VLOOKUP($B22,手順2!$A$12:$P$107,F$1,FALSE),"")&IFERROR(VLOOKUP($B22,手順3!$A$12:$Q$107,F$1,FALSE),"") | G22: =IFERROR(VLOOKUP($B22,手順2!$A$12:$P$107,G$1,FALSE),"")&IFERROR(VLOOKUP($B22,手順3!$A$12:$Q$107,G$1,FALSE),"") | H22: =IFERROR(VLOOKUP($B22,手順2!$A$12:$P$107,H$1,FALSE),"")&IFERROR(VLOOKUP($B22,手順3!$A$12:$Q$107,H$1,FALSE),"") | I22: =IFERROR(VLOOKUP($B22,手順2!$A$12:$P$107,I$1,FALSE),"")&IFERROR(VLOOKUP($B22,手順3!$A$12:$Q$107,I$1,FALSE),"") | J22: =IFERROR(VLOOKUP($B22,手順2!$A$12:$P$107,J$1,FALSE),"")&IFERROR(VLOOKUP($B22,手順3!$A$12:$Q$107,J$1,FALSE),"") | K22: =IF(J22="","",IF(IFERROR(VLOOKUP($B22,手順2!$A$12:$P$107,K$1,FALSE),"")&IFERROR(VLOOKUP($B22,手順3!$A$12:$Q$107,K$1,FALSE),"")="",0,IFERROR(VLOOKUP($B22,手順2!$A$12:$P$107,K$1,FALSE),"")&IFERROR(VLOOKUP($B22,手順3!$A$12:$Q$107,K$1,FALSE),""))) | L22: =IF(J22="","",IF(IFERROR(VLOOKUP($B22,手順2!$A$12:$P$107,L$1,FALSE),"")&IFERROR(VLOOKUP($B22,手順3!$A$12:$Q$107,L$1,FALSE),"")="",0,IFERROR(VLOOKUP($B22,手順2!$A$12:$P$107,L$1,FALSE),"")&IFERROR(VLOOKUP($B22,手順3!$A$12:$Q$107,L$1,FALSE),""))) | M22: =IF(J22="","",IF(IFERROR(VLOOKUP($B22,手順2!$A$12:$P$107,M$1,FALSE),"")&IFERROR(VLOOKUP($B22,手順3!$A$12:$Q$107,M$1,FALSE),"")="",0,IFERROR(VLOOKUP($B22,手順2!$A$12:$P$107,M$1,FALSE),"")&IFERROR(VLOOKUP($B22,手順3!$A$12:$Q$107,M$1,FALSE),""))) | N22: =IFERROR(VLOOKUP($B22,手順2!$A$12:$P$107,N$1,FALSE),"")&IFERROR(VLOOKUP($B22,手順3!$A$12:$Q$107,N$1,FALSE),"") | O22: B | P22: =IF(手順3!P13="","",IF(手順3!O13="",0,手順3!O13)) | Q22: =IF(手順3!P13="","",手順3!P13) | R22: =IF(手順3!Q13="","",手順3!Q13) | W22: =IF($AA22="","",COUNTIF($AK$18:$AK22,W$17)) | X22: =IF($AA22="","",COUNTIF($AK$18:$AK22,X$17)) | Y22: =IF($AA22="","",COUNTIF($AK$18:$AK22,Y$17)) | Z22: =IF($AA22="","",COUNTIF($AK$18:$AK22,Z$17)) | AA22: =IF(C22="","",$F$9) | AB22: =IF(AA22="","",AE22*100000000+AG22*100+RIGHT(AH22,2)) | AC22: =IF(C22="","",IF(LEN(D22)+LEN(E22)<4,D22&" "&E22&"("&H22&")",IF(LEN(D22)+LEN(E22)>4,D22&E22&"("&H22&")",D22&" "&E22&"("&H22&")"))) | AD22: =IF(C22="","",F22&" "&G22) | AE22: =IF(C22="","",IF(I22="男",1,2)) | AF22: =IF(C22="","",28) | AG22: =IF(C22="","",LEFT(AA22,6)) | AH22: =IF(C22="","",C22) | AI22: =IF(J22="","",IF(VLOOKUP(J22,$AM$18:$AO$102,3,FALSE)>=71,VLOOKUP(J22,$AM$18:$AO$102,2,FALSE)&TEXT(L22,"00")&TEXT(M22,"00"),VLOOKUP(J22,$AM$18:$AO$102,2,FALSE)&TEXT(K22,"00")&TEXT(L22,"00")&TEXT(M22,"00"))) | AK22: =IF(N22="","",N22) | AM22: =種目情報!A5 -> 0 | AN22: =種目情報!B5 -> 0 | AO22: =種目情報!C5 -> 0
A23: 6 | B23: =IFERROR(IF(B22=手順3!$A$11,"",IF(B22<=100,IF(手順2!A17=手順５!A23,手順５!A23,手順3!$A$12),B22+1)),"") | C23: =IFERROR(VLOOKUP($B23,手順2!$A$12:$P$107,C$1,FALSE),"")&IFERROR(VLOOKUP($B23,手順3!$A$12:$Q$107,C$1,FALSE),"") | D23: =IFERROR(VLOOKUP($B23,手順2!$A$12:$P$107,D$1,FALSE),"")&IFERROR(VLOOKUP($B23,手順3!$A$12:$Q$107,D$1,FALSE),"") | E23: =IFERROR(VLOOKUP($B23,手順2!$A$12:$P$107,E$1,FALSE),"")&IFERROR(VLOOKUP($B23,手順3!$A$12:$Q$107,E$1,FALSE),"") | F23: =IFERROR(VLOOKUP($B23,手順2!$A$12:$P$107,F$1,FALSE),"")&IFERROR(VLOOKUP($B23,手順3!$A$12:$Q$107,F$1,FALSE),"") | G23: =IFERROR(VLOOKUP($B23,手順2!$A$12:$P$107,G$1,FALSE),"")&IFERROR(VLOOKUP($B23,手順3!$A$12:$Q$107,G$1,FALSE),"") | H23: =IFERROR(VLOOKUP($B23,手順2!$A$12:$P$107,H$1,FALSE),"")&IFERROR(VLOOKUP($B23,手順3!$A$12:$Q$107,H$1,FALSE),"") | I23: =IFERROR(VLOOKUP($B23,手順2!$A$12:$P$107,I$1,FALSE),"")&IFERROR(VLOOKUP($B23,手順3!$A$12:$Q$107,I$1,FALSE),"") | J23: =IFERROR(VLOOKUP($B23,手順2!$A$12:$P$107,J$1,FALSE),"")&IFERROR(VLOOKUP($B23,手順3!$A$12:$Q$107,J$1,FALSE),"") | K23: =IF(J23="","",IF(IFERROR(VLOOKUP($B23,手順2!$A$12:$P$107,K$1,FALSE),"")&IFERROR(VLOOKUP($B23,手順3!$A$12:$Q$107,K$1,FALSE),"")="",0,IFERROR(VLOOKUP($B23,手順2!$A$12:$P$107,K$1,FALSE),"")&IFERROR(VLOOKUP($B23,手順3!$A$12:$Q$107,K$1,FALSE),""))) | L23: =IF(J23="","",IF(IFERROR(VLOOKUP($B23,手順2!$A$12:$P$107,L$1,FALSE),"")&IFERROR(VLOOKUP($B23,手順3!$A$12:$Q$107,L$1,FALSE),"")="",0,IFERROR(VLOOKUP($B23,手順2!$A$12:$P$107,L$1,FALSE),"")&IFERROR(VLOOKUP($B23,手順3!$A$12:$Q$107,L$1,FALSE),""))) | M23: =IF(J23="","",IF(IFERROR(VLOOKUP($B23,手順2!$A$12:$P$107,M$1,FALSE),"")&IFERROR(VLOOKUP($B23,手順3!$A$12:$Q$107,M$1,FALSE),"")="",0,IFERROR(VLOOKUP($B23,手順2!$A$12:$P$107,M$1,FALSE),"")&IFERROR(VLOOKUP($B23,手順3!$A$12:$Q$107,M$1,FALSE),""))) | N23: =IFERROR(VLOOKUP($B23,手順2!$A$12:$P$107,N$1,FALSE),"")&IFERROR(VLOOKUP($B23,手順3!$A$12:$Q$107,N$1,FALSE),"") | W23: =IF($AA23="","",COUNTIF($AK$18:$AK23,W$17)) | X23: =IF($AA23="","",COUNTIF($AK$18:$AK23,X$17)) | Y23: =IF($AA23="","",COUNTIF($AK$18:$AK23,Y$17)) | Z23: =IF($AA23="","",COUNTIF($AK$18:$AK23,Z$17)) | AA23: =IF(C23="","",$F$9) | AB23: =IF(AA23="","",AE23*100000000+AG23*100+RIGHT(AH23,2)) | AC23: =IF(C23="","",IF(LEN(D23)+LEN(E23)<4,D23&" "&E23&"("&H23&")",IF(LEN(D23)+LEN(E23)>4,D23&E23&"("&H23&")",D23&" "&E23&"("&H23&")"))) | AD23: =IF(C23="","",F23&" "&G23) | AE23: =IF(C23="","",IF(I23="男",1,2)) | AF23: =IF(C23="","",28) | AG23: =IF(C23="","",LEFT(AA23,6)) | AH23: =IF(C23="","",C23) | AI23: =IF(J23="","",IF(VLOOKUP(J23,$AM$18:$AO$102,3,FALSE)>=71,VLOOKUP(J23,$AM$18:$AO$102,2,FALSE)&TEXT(L23,"00")&TEXT(M23,"00"),VLOOKUP(J23,$AM$18:$AO$102,2,FALSE)&TEXT(K23,"00")&TEXT(L23,"00")&TEXT(M23,"00"))) | AK23: =IF(N23="","",N23) | AM23: =種目情報!A6 -> 0 | AN23: =種目情報!B6 -> 0 | AO23: =種目情報!C6 -> 0
A24: 7 | B24: =IFERROR(IF(B23=手順3!$A$11,"",IF(B23<=100,IF(手順2!A18=手順５!A24,手順５!A24,手順3!$A$12),B23+1)),"") | C24: =IFERROR(VLOOKUP($B24,手順2!$A$12:$P$107,C$1,FALSE),"")&IFERROR(VLOOKUP($B24,手順3!$A$12:$Q$107,C$1,FALSE),"") | D24: =IFERROR(VLOOKUP($B24,手順2!$A$12:$P$107,D$1,FALSE),"")&IFERROR(VLOOKUP($B24,手順3!$A$12:$Q$107,D$1,FALSE),"") | E24: =IFERROR(VLOOKUP($B24,手順2!$A$12:$P$107,E$1,FALSE),"")&IFERROR(VLOOKUP($B24,手順3!$A$12:$Q$107,E$1,FALSE),"") | F24: =IFERROR(VLOOKUP($B24,手順2!$A$12:$P$107,F$1,FALSE),"")&IFERROR(VLOOKUP($B24,手順3!$A$12:$Q$107,F$1,FALSE),"") | G24: =IFERROR(VLOOKUP($B24,手順2!$A$12:$P$107,G$1,FALSE),"")&IFERROR(VLOOKUP($B24,手順3!$A$12:$Q$107,G$1,FALSE),"") | H24: =IFERROR(VLOOKUP($B24,手順2!$A$12:$P$107,H$1,FALSE),"")&IFERROR(VLOOKUP($B24,手順3!$A$12:$Q$107,H$1,FALSE),"") | I24: =IFERROR(VLOOKUP($B24,手順2!$A$12:$P$107,I$1,FALSE),"")&IFERROR(VLOOKUP($B24,手順3!$A$12:$Q$107,I$1,FALSE),"") | J24: =IFERROR(VLOOKUP($B24,手順2!$A$12:$P$107,J$1,FALSE),"")&IFERROR(VLOOKUP($B24,手順3!$A$12:$Q$107,J$1,FALSE),"") | K24: =IF(J24="","",IF(IFERROR(VLOOKUP($B24,手順2!$A$12:$P$107,K$1,FALSE),"")&IFERROR(VLOOKUP($B24,手順3!$A$12:$Q$107,K$1,FALSE),"")="",0,IFERROR(VLOOKUP($B24,手順2!$A$12:$P$107,K$1,FALSE),"")&IFERROR(VLOOKUP($B24,手順3!$A$12:$Q$107,K$1,FALSE),""))) | L24: =IF(J24="","",IF(IFERROR(VLOOKUP($B24,手順2!$A$12:$P$107,L$1,FALSE),"")&IFERROR(VLOOKUP($B24,手順3!$A$12:$Q$107,L$1,FALSE),"")="",0,IFERROR(VLOOKUP($B24,手順2!$A$12:$P$107,L$1,FALSE),"")&IFERROR(VLOOKUP($B24,手順3!$A$12:$Q$107,L$1,FALSE),""))) | M24: =IF(J24="","",IF(IFERROR(VLOOKUP($B24,手順2!$A$12:$P$107,M$1,FALSE),"")&IFERROR(VLOOKUP($B24,手順3!$A$12:$Q$107,M$1,FALSE),"")="",0,IFERROR(VLOOKUP($B24,手順2!$A$12:$P$107,M$1,FALSE),"")&IFERROR(VLOOKUP($B24,手順3!$A$12:$Q$107,M$1,FALSE),""))) | N24: =IFERROR(VLOOKUP($B24,手順2!$A$12:$P$107,N$1,FALSE),"")&IFERROR(VLOOKUP($B24,手順3!$A$12:$Q$107,N$1,FALSE),"") | W24: =IF($AA24="","",COUNTIF($AK$18:$AK24,W$17)) | X24: =IF($AA24="","",COUNTIF($AK$18:$AK24,X$17)) | Y24: =IF($AA24="","",COUNTIF($AK$18:$AK24,Y$17)) | Z24: =IF($AA24="","",COUNTIF($AK$18:$AK24,Z$17)) | AA24: =IF(C24="","",$F$9) | AB24: =IF(AA24="","",AE24*100000000+AG24*100+RIGHT(AH24,2)) | AC24: =IF(C24="","",IF(LEN(D24)+LEN(E24)<4,D24&" "&E24&"("&H24&")",IF(LEN(D24)+LEN(E24)>4,D24&E24&"("&H24&")",D24&" "&E24&"("&H24&")"))) | AD24: =IF(C24="","",F24&" "&G24) | AE24: =IF(C24="","",IF(I24="男",1,2)) | AF24: =IF(C24="","",28) | AG24: =IF(C24="","",LEFT(AA24,6)) | AH24: =IF(C24="","",C24) | AI24: =IF(J24="","",IF(VLOOKUP(J24,$AM$18:$AO$102,3,FALSE)>=71,VLOOKUP(J24,$AM$18:$AO$102,2,FALSE)&TEXT(L24,"00")&TEXT(M24,"00"),VLOOKUP(J24,$AM$18:$AO$102,2,FALSE)&TEXT(K24,"00")&TEXT(L24,"00")&TEXT(M24,"00"))) | AK24: =IF(N24="","",N24) | AM24: =種目情報!A7 -> 0 | AN24: =種目情報!B7 -> 0 | AO24: =種目情報!C7 -> 0
A25: 8 | B25: =IFERROR(IF(B24=手順3!$A$11,"",IF(B24<=100,IF(手順2!A19=手順５!A25,手順５!A25,手順3!$A$12),B24+1)),"") | C25: =IFERROR(VLOOKUP($B25,手順2!$A$12:$P$107,C$1,FALSE),"")&IFERROR(VLOOKUP($B25,手順3!$A$12:$Q$107,C$1,FALSE),"") | D25: =IFERROR(VLOOKUP($B25,手順2!$A$12:$P$107,D$1,FALSE),"")&IFERROR(VLOOKUP($B25,手順3!$A$12:$Q$107,D$1,FALSE),"") | E25: =IFERROR(VLOOKUP($B25,手順2!$A$12:$P$107,E$1,FALSE),"")&IFERROR(VLOOKUP($B25,手順3!$A$12:$Q$107,E$1,FALSE),"") | F25: =IFERROR(VLOOKUP($B25,手順2!$A$12:$P$107,F$1,FALSE),"")&IFERROR(VLOOKUP($B25,手順3!$A$12:$Q$107,F$1,FALSE),"") | G25: =IFERROR(VLOOKUP($B25,手順2!$A$12:$P$107,G$1,FALSE),"")&IFERROR(VLOOKUP($B25,手順3!$A$12:$Q$107,G$1,FALSE),"") | H25: =IFERROR(VLOOKUP($B25,手順2!$A$12:$P$107,H$1,FALSE),"")&IFERROR(VLOOKUP($B25,手順3!$A$12:$Q$107,H$1,FALSE),"") | I25: =IFERROR(VLOOKUP($B25,手順2!$A$12:$P$107,I$1,FALSE),"")&IFERROR(VLOOKUP($B25,手順3!$A$12:$Q$107,I$1,FALSE),"") | J25: =IFERROR(VLOOKUP($B25,手順2!$A$12:$P$107,J$1,FALSE),"")&IFERROR(VLOOKUP($B25,手順3!$A$12:$Q$107,J$1,FALSE),"") | K25: =IF(J25="","",IF(IFERROR(VLOOKUP($B25,手順2!$A$12:$P$107,K$1,FALSE),"")&IFERROR(VLOOKUP($B25,手順3!$A$12:$Q$107,K$1,FALSE),"")="",0,IFERROR(VLOOKUP($B25,手順2!$A$12:$P$107,K$1,FALSE),"")&IFERROR(VLOOKUP($B25,手順3!$A$12:$Q$107,K$1,FALSE),""))) | L25: =IF(J25="","",IF(IFERROR(VLOOKUP($B25,手順2!$A$12:$P$107,L$1,FALSE),"")&IFERROR(VLOOKUP($B25,手順3!$A$12:$Q$107,L$1,FALSE),"")="",0,IFERROR(VLOOKUP($B25,手順2!$A$12:$P$107,L$1,FALSE),"")&IFERROR(VLOOKUP($B25,手順3!$A$12:$Q$107,L$1,FALSE),""))) | M25: =IF(J25="","",IF(IFERROR(VLOOKUP($B25,手順2!$A$12:$P$107,M$1,FALSE),"")&IFERROR(VLOOKUP($B25,手順3!$A$12:$Q$107,M$1,FALSE),"")="",0,IFERROR(VLOOKUP($B25,手順2!$A$12:$P$107,M$1,FALSE),"")&IFERROR(VLOOKUP($B25,手順3!$A$12:$Q$107,M$1,FALSE),""))) | N25: =IFERROR(VLOOKUP($B25,手順2!$A$12:$P$107,N$1,FALSE),"")&IFERROR(VLOOKUP($B25,手順3!$A$12:$Q$107,N$1,FALSE),"") | W25: =IF($AA25="","",COUNTIF($AK$18:$AK25,W$17)) | X25: =IF($AA25="","",COUNTIF($AK$18:$AK25,X$17)) | Y25: =IF($AA25="","",COUNTIF($AK$18:$AK25,Y$17)) | Z25: =IF($AA25="","",COUNTIF($AK$18:$AK25,Z$17)) | AA25: =IF(C25="","",$F$9) | AB25: =IF(AA25="","",AE25*100000000+AG25*100+RIGHT(AH25,2)) | AC25: =IF(C25="","",IF(LEN(D25)+LEN(E25)<4,D25&" "&E25&"("&H25&")",IF(LEN(D25)+LEN(E25)>4,D25&E25&"("&H25&")",D25&" "&E25&"("&H25&")"))) | AD25: =IF(C25="","",F25&" "&G25) | AE25: =IF(C25="","",IF(I25="男",1,2)) | AF25: =IF(C25="","",28) | AG25: =IF(C25="","",LEFT(AA25,6)) | AH25: =IF(C25="","",C25) | AI25: =IF(J25="","",IF(VLOOKUP(J25,$AM$18:$AO$102,3,FALSE)>=71,VLOOKUP(J25,$AM$18:$AO$102,2,FALSE)&TEXT(L25,"00")&TEXT(M25,"00"),VLOOKUP(J25,$AM$18:$AO$102,2,FALSE)&TEXT(K25,"00")&TEXT(L25,"00")&TEXT(M25,"00"))) | AK25: =IF(N25="","",N25) | AM25: =種目情報!A8 -> 0 | AN25: =種目情報!B8 -> 0 | AO25: =種目情報!C8 -> 0
A26: 9 | B26: =IFERROR(IF(B25=手順3!$A$11,"",IF(B25<=100,IF(手順2!A20=手順５!A26,手順５!A26,手順3!$A$12),B25+1)),"") | C26: =IFERROR(VLOOKUP($B26,手順2!$A$12:$P$107,C$1,FALSE),"")&IFERROR(VLOOKUP($B26,手順3!$A$12:$Q$107,C$1,FALSE),"") | D26: =IFERROR(VLOOKUP($B26,手順2!$A$12:$P$107,D$1,FALSE),"")&IFERROR(VLOOKUP($B26,手順3!$A$12:$Q$107,D$1,FALSE),"") | E26: =IFERROR(VLOOKUP($B26,手順2!$A$12:$P$107,E$1,FALSE),"")&IFERROR(VLOOKUP($B26,手順3!$A$12:$Q$107,E$1,FALSE),"") | F26: =IFERROR(VLOOKUP($B26,手順2!$A$12:$P$107,F$1,FALSE),"")&IFERROR(VLOOKUP($B26,手順3!$A$12:$Q$107,F$1,FALSE),"") | G26: =IFERROR(VLOOKUP($B26,手順2!$A$12:$P$107,G$1,FALSE),"")&IFERROR(VLOOKUP($B26,手順3!$A$12:$Q$107,G$1,FALSE),"") | H26: =IFERROR(VLOOKUP($B26,手順2!$A$12:$P$107,H$1,FALSE),"")&IFERROR(VLOOKUP($B26,手順3!$A$12:$Q$107,H$1,FALSE),"") | I26: =IFERROR(VLOOKUP($B26,手順2!$A$12:$P$107,I$1,FALSE),"")&IFERROR(VLOOKUP($B26,手順3!$A$12:$Q$107,I$1,FALSE),"") | J26: =IFERROR(VLOOKUP($B26,手順2!$A$12:$P$107,J$1,FALSE),"")&IFERROR(VLOOKUP($B26,手順3!$A$12:$Q$107,J$1,FALSE),"") | K26: =IF(J26="","",IF(IFERROR(VLOOKUP($B26,手順2!$A$12:$P$107,K$1,FALSE),"")&IFERROR(VLOOKUP($B26,手順3!$A$12:$Q$107,K$1,FALSE),"")="",0,IFERROR(VLOOKUP($B26,手順2!$A$12:$P$107,K$1,FALSE),"")&IFERROR(VLOOKUP($B26,手順3!$A$12:$Q$107,K$1,FALSE),""))) | L26: =IF(J26="","",IF(IFERROR(VLOOKUP($B26,手順2!$A$12:$P$107,L$1,FALSE),"")&IFERROR(VLOOKUP($B26,手順3!$A$12:$Q$107,L$1,FALSE),"")="",0,IFERROR(VLOOKUP($B26,手順2!$A$12:$P$107,L$1,FALSE),"")&IFERROR(VLOOKUP($B26,手順3!$A$12:$Q$107,L$1,FALSE),""))) | M26: =IF(J26="","",IF(IFERROR(VLOOKUP($B26,手順2!$A$12:$P$107,M$1,FALSE),"")&IFERROR(VLOOKUP($B26,手順3!$A$12:$Q$107,M$1,FALSE),"")="",0,IFERROR(VLOOKUP($B26,手順2!$A$12:$P$107,M$1,FALSE),"")&IFERROR(VLOOKUP($B26,手順3!$A$12:$Q$107,M$1,FALSE),""))) | N26: =IFERROR(VLOOKUP($B26,手順2!$A$12:$P$107,N$1,FALSE),"")&IFERROR(VLOOKUP($B26,手順3!$A$12:$Q$107,N$1,FALSE),"") | W26: =IF($AA26="","",COUNTIF($AK$18:$AK26,W$17)) | X26: =IF($AA26="","",COUNTIF($AK$18:$AK26,X$17)) | Y26: =IF($AA26="","",COUNTIF($AK$18:$AK26,Y$17)) | Z26: =IF($AA26="","",COUNTIF($AK$18:$AK26,Z$17)) | AA26: =IF(C26="","",$F$9) | AB26: =IF(AA26="","",AE26*100000000+AG26*100+RIGHT(AH26,2)) | AC26: =IF(C26="","",IF(LEN(D26)+LEN(E26)<4,D26&" "&E26&"("&H26&")",IF(LEN(D26)+LEN(E26)>4,D26&E26&"("&H26&")",D26&" "&E26&"("&H26&")"))) | AD26: =IF(C26="","",F26&" "&G26) | AE26: =IF(C26="","",IF(I26="男",1,2)) | AF26: =IF(C26="","",28) | AG26: =IF(C26="","",LEFT(AA26,6)) | AH26: =IF(C26="","",C26) | AI26: =IF(J26="","",IF(VLOOKUP(J26,$AM$18:$AO$102,3,FALSE)>=71,VLOOKUP(J26,$AM$18:$AO$102,2,FALSE)&TEXT(L26,"00")&TEXT(M26,"00"),VLOOKUP(J26,$AM$18:$AO$102,2,FALSE)&TEXT(K26,"00")&TEXT(L26,"00")&TEXT(M26,"00"))) | AK26: =IF(N26="","",N26) | AM26: =種目情報!A9 -> 0 | AN26: =種目情報!B9 -> 0 | AO26: =種目情報!C9 -> 0
